{"text_format":"1","workbook":"xlsx","n_sheets":24,"sheets":["Summary","Sum of Scores","Hacker_Cup_Standings","HC History","Sum of W_T_L","Daviero","Daviero_V","Fusco_D","Fusco_S","Hobbs","Kreig","Linton","McLaughlin","Michalski_P","Michalski_S","Mohsinger_B","Mohsinger_T","Palmerino","Rusnak","Taylor","Templeton","SUBx","Set Up Template","Player_Template"],"not_rendered":{"charts":2,"images":0,"macros":1,"external_links":0,"defined_names":7,"comments":0,"pivot_tables":0},"unopened":[],"bounds":{"document_bytes":16777216,"sheet_cells":100000,"rows_first":2000,"rows_last":500,"rows_between":2000,"halvings":0,"cell_chars":16384,"cell_head_chars":4096},"cells_cut":0,"cells_raw":0,"read":"whole","date_system":"1900"}

{"sheet":"Summary","index":0,"n_rows":141,"n_cols":26,"rows_kept":141,"cut":false,"hidden":false,"merged":[[0,0,0,5],[1,0,1,5],[3,19,3,21],[3,22,3,24]]}
["2025 Hackers Golf League"]
["Standings"]
[]
[null,null,null,null,"Best 10",null,null,null,null,null,null,"Average per round",null,null,null,null,null,null,null,"Best",null,null,"Worst",null,null,"Difference"]
["Position","Name","Matches\nUsed","Matches\nPlayed","Points","Average","Previous",null,"Eagle","Birdie","Par","Bogey","D Bogey","Other","Avg over","Rounded",null,null,null,"Front","Back","Total","Front","Back","Total"]
[null,{"$f":"INDIRECT(CONCATENATE(S6,\"!A1\"))","v":"Andy Linton"},{"$f":"D6","v":0},{"$f":"IFERROR(INDIRECT(CONCATENATE(S6,\"!e44\")),0)","v":0},{"$f":"IFERROR(INDIRECT(CONCATENATE(S6,\"!D44\")),0)","v":0},{"$f":"IFERROR(E6/C6,0)","v":0},null,null,{"$f":"IFERROR(INDIRECT(CONCATENATE(S6,\"!C47\"))/D6,0)","v":0},{"$f":"IFERROR(INDIRECT(CONCATENATE(S6,\"!C48\"))/D6,0)","v":0},{"$f":"IFERROR(INDIRECT(CONCATENATE(S6,\"!C49\"))/D6,0)","v":0},{"$f":"IFERROR(INDIRECT(CONCATENATE(S6,\"!C50\"))/C6,0)","v":0},{"$f":"IFERROR(INDIRECT(CONCATENATE(S6,\"!C51\"))/D6,0)","v":0},{"$f":"IFERROR(INDIRECT(CONCATENATE(S6,\"!C52\"))/D6,0)","v":0},{"$f":"L6+(M6*2)+(N6*3)-J6","v":0},{"$f":"ROUND(O6,0)","v":0},{"$f":"B6","v":"Andy Linton"},{"$f":"FIND(\" \",Q6)","v":5},"Linton",{"$f":"INDIRECT(CONCATENATE(S6,\"!k38\"))","v":0},{"$f":"INDIRECT(CONCATENATE(S6,\"!k49\"))","v":0},{"$f":"SUM(T6:U6)","v":0},{"$f":"INDIRECT(CONCATENATE(S6,\"!l38\"))","v":0},{"$f":"INDIRECT(CONCATENATE(S6,\"!l49\"))","v":0},{"$f":"SUM(W6:X6)","v":0},{"$f":"+Y6-V6","v":0}]
[null,{"$f":"INDIRECT(CONCATENATE(S7,\"!A1\"))","v":"Bette Mohsinger"},{"$f":"D7","v":0},{"$f":"IFERROR(INDIRECT(CONCATENATE(S7,\"!e44\")),0)","v":0},{"$f":"IFERROR(INDIRECT(CONCATENATE(S7,\"!D44\")),0)","v":0},{"$f":"IFERROR(E7/C7,0)","v":0},null,null,{"$f":"IFERROR(INDIRECT(CONCATENATE(S7,\"!C47\"))/D7,0)","v":0},{"$f":"IFERROR(INDIRECT(CONCATENATE(S7,\"!C48\"))/D7,0)","v":0},{"$f":"IFERROR(INDIRECT(CONCATENATE(S7,\"!C49\"))/D7,0)","v":0},{"$f":"IFERROR(INDIRECT(CONCATENATE(S7,\"!C50\"))/C7,0)","v":0},{"$f":"IFERROR(INDIRECT(CONCATENATE(S7,\"!C51\"))/D7,0)","v":0},{"$f":"IFERROR(INDIRECT(CONCATENATE(S7,\"!C52\"))/D7,0)","v":0},{"$f":"L7+(M7*2)+(N7*3)-J7","v":0},{"$f":"ROUND(O7,0)","v":0},{"$f":"B7","v":"Bette Mohsinger"},{"$f":"FIND(\" \",Q7)","v":6},"Mohsinger_B",{"$f":"INDIRECT(CONCATENATE(S7,\"!k38\"))","v":0},{"$f":"INDIRECT(CONCATENATE(S7,\"!k49\"))","v":0},{"$f":"SUM(T7:U7)","v":0},{"$f":"INDIRECT(CONCATENATE(S7,\"!l38\"))","v":0},{"$f":"INDIRECT(CONCATENATE(S7,\"!l49\"))","v":0},{"$f":"SUM(W7:X7)","v":0},{"$f":"+Y7-V7","v":0}]
[null,{"$f":"INDIRECT(CONCATENATE(S8,\"!A1\"))","v":"Bob Templeton"},{"$f":"D8","v":0},{"$f":"IFERROR(INDIRECT(CONCATENATE(S8,\"!e44\")),0)","v":0},{"$f":"IFERROR(INDIRECT(CONCATENATE(S8,\"!D44\")),0)","v":0},{"$f":"IFERROR(E8/C8,0)","v":0},null,null,{"$f":"IFERROR(INDIRECT(CONCATENATE(S8,\"!C47\"))/D8,0)","v":0},{"$f":"IFERROR(INDIRECT(CONCATENATE(S8,\"!C48\"))/D8,0)","v":0},{"$f":"IFERROR(INDIRECT(CONCATENATE(S8,\"!C49\"))/D8,0)","v":0},{"$f":"IFERROR(INDIRECT(CONCATENATE(S8,\"!C50\"))/C8,0)","v":0},{"$f":"IFERROR(INDIRECT(CONCATENATE(S8,\"!C51\"))/D8,0)","v":0},{"$f":"IFERROR(INDIRECT(CONCATENATE(S8,\"!C52\"))/D8,0)","v":0},{"$f":"L8+(M8*2)+(N8*3)-J8","v":0},{"$f":"ROUND(O8,0)","v":0},{"$f":"B8","v":"Bob Templeton"},{"$f":"FIND(\" \",Q8)","v":4},"Templeton",{"$f":"INDIRECT(CONCATENATE(S8,\"!k38\"))","v":0},{"$f":"INDIRECT(CONCATENATE(S8,\"!k49\"))","v":0},{"$f":"SUM(T8:U8)","v":0},{"$f":"INDIRECT(CONCATENATE(S8,\"!l38\"))","v":0},{"$f":"INDIRECT(CONCATENATE(S8,\"!l49\"))","v":0},{"$f":"SUM(W8:X8)","v":0},{"$f":"+Y8-V8","v":0}]
[null,{"$f":"INDIRECT(CONCATENATE(S9,\"!A1\"))","v":"Brian McGlaughlin"},{"$f":"D9","v":0},{"$f":"IFERROR(INDIRECT(CONCATENATE(S9,\"!e44\")),0)","v":0},{"$f":"IFERROR(INDIRECT(CONCATENATE(S9,\"!D44\")),0)","v":0},{"$f":"IFERROR(E9/C9,0)","v":0},null,null,{"$f":"IFERROR(INDIRECT(CONCATENATE(S9,\"!C47\"))/D9,0)","v":0},{"$f":"IFERROR(INDIRECT(CONCATENATE(S9,\"!C48\"))/D9,0)","v":0},{"$f":"IFERROR(INDIRECT(CONCATENATE(S9,\"!C49\"))/D9,0)","v":0},{"$f":"IFERROR(INDIRECT(CONCATENATE(S9,\"!C50\"))/C9,0)","v":0},{"$f":"IFERROR(INDIRECT(CONCATENATE(S9,\"!C51\"))/D9,0)","v":0},{"$f":"IFERROR(INDIRECT(CONCATENATE(S9,\"!C52\"))/D9,0)","v":0},{"$f":"L9+(M9*2)+(N9*3)-J9","v":0},{"$f":"ROUND(O9,0)","v":0},{"$f":"B9","v":"Brian McGlaughlin"},{"$f":"FIND(\" \",Q9)","v":6},"McLaughlin",{"$f":"INDIRECT(CONCATENATE(S9,\"!k38\"))","v":0},{"$f":"INDIRECT(CONCATENATE(S9,\"!k49\"))","v":0},{"$f":"SUM(T9:U9)","v":0},{"$f":"INDIRECT(CONCATENATE(S9,\"!l38\"))","v":0},{"$f":"INDIRECT(CONCATENATE(S9,\"!l49\"))","v":0},{"$f":"SUM(W9:X9)","v":0},{"$f":"+Y9-V9","v":0}]
[null,{"$f":"INDIRECT(CONCATENATE(S10,\"!A1\"))","v":"Dan Fusco"},{"$f":"D10","v":0},{"$f":"IFERROR(INDIRECT(CONCATENATE(S10,\"!e44\")),0)","v":0},{"$f":"IFERROR(INDIRECT(CONCATENATE(S10,\"!D44\")),0)","v":0},{"$f":"IFERROR(E10/C10,0)","v":0},null,null,{"$f":"IFERROR(INDIRECT(CONCATENATE(S10,\"!C47\"))/D10,0)","v":0},{"$f":"IFERROR(INDIRECT(CONCATENATE(S10,\"!C48\"))/D10,0)","v":0},{"$f":"IFERROR(INDIRECT(CONCATENATE(S10,\"!C49\"))/D10,0)","v":0},{"$f":"IFERROR(INDIRECT(CONCATENATE(S10,\"!C50\"))/C10,0)","v":0},{"$f":"IFERROR(INDIRECT(CONCATENATE(S10,\"!C51\"))/D10,0)","v":0},{"$f":"IFERROR(INDIRECT(CONCATENATE(S10,\"!C52\"))/D10,0)","v":0},{"$f":"L10+(M10*2)+(N10*3)-J10","v":0},{"$f":"ROUND(O10,0)","v":0},{"$f":"B10","v":"Dan Fusco"},{"$f":"FIND(\" \",Q10)","v":4},"Fusco_D",{"$f":"INDIRECT(CONCATENATE(S10,\"!k38\"))","v":0},{"$f":"INDIRECT(CONCATENATE(S10,\"!k49\"))","v":0},{"$f":"SUM(T10:U10)","v":0},{"$f":"INDIRECT(CONCATENATE(S10,\"!l38\"))","v":0},{"$f":"INDIRECT(CONCATENATE(S10,\"!l49\"))","v":0},{"$f":"SUM(W10:X10)","v":0},{"$f":"+Y10-V10","v":0}]
[null,{"$f":"INDIRECT(CONCATENATE(S11,\"!A1\"))","v":"Dan Palmerino"},{"$f":"D11","v":0},{"$f":"IFERROR(INDIRECT(CONCATENATE(S11,\"!e44\")),0)","v":0},{"$f":"IFERROR(INDIRECT(CONCATENATE(S11,\"!D44\")),0)","v":0},{"$f":"IFERROR(E11/C11,0)","v":0},null,null,{"$f":"IFERROR(INDIRECT(CONCATENATE(S11,\"!C47\"))/D11,0)","v":0},{"$f":"IFERROR(INDIRECT(CONCATENATE(S11,\"!C48\"))/D11,0)","v":0},{"$f":"IFERROR(INDIRECT(CONCATENATE(S11,\"!C49\"))/D11,0)","v":0},{"$f":"IFERROR(INDIRECT(CONCATENATE(S11,\"!C50\"))/C11,0)","v":0},{"$f":"IFERROR(INDIRECT(CONCATENATE(S11,\"!C51\"))/D11,0)","v":0},{"$f":"IFERROR(INDIRECT(CONCATENATE(S11,\"!C52\"))/D11,0)","v":0},{"$f":"L11+(M11*2)+(N11*3)-J11","v":0},{"$f":"ROUND(O11,0)","v":0},{"$f":"B11","v":"Dan Palmerino"},{"$f":"FIND(\" \",Q11)","v":4},"Palmerino",{"$f":"INDIRECT(CONCATENATE(S11,\"!k38\"))","v":0},{"$f":"INDIRECT(CONCATENATE(S11,\"!k49\"))","v":0},{"$f":"SUM(T11:U11)","v":0},{"$f":"INDIRECT(CONCATENATE(S11,\"!l38\"))","v":0},{"$f":"INDIRECT(CONCATENATE(S11,\"!l49\"))","v":0},{"$f":"SUM(W11:X11)","v":0},{"$f":"+Y11-V11","v":0}]
[null,{"$f":"INDIRECT(CONCATENATE(S12,\"!A1\"))","v":"Dave Taylor"},{"$f":"D12","v":0},{"$f":"IFERROR(INDIRECT(CONCATENATE(S12,\"!e44\")),0)","v":0},{"$f":"IFERROR(INDIRECT(CONCATENATE(S12,\"!D44\")),0)","v":0},{"$f":"IFERROR(E12/C12,0)","v":0},null,null,{"$f":"IFERROR(INDIRECT(CONCATENATE(S12,\"!C47\"))/D12,0)","v":0},{"$f":"IFERROR(INDIRECT(CONCATENATE(S12,\"!C48\"))/D12,0)","v":0},{"$f":"IFERROR(INDIRECT(CONCATENATE(S12,\"!C49\"))/D12,0)","v":0},{"$f":"IFERROR(INDIRECT(CONCATENATE(S12,\"!C50\"))/C12,0)","v":0},{"$f":"IFERROR(INDIRECT(CONCATENATE(S12,\"!C51\"))/D12,0)","v":0},{"$f":"IFERROR(INDIRECT(CONCATENATE(S12,\"!C52\"))/D12,0)","v":0},{"$f":"L12+(M12*2)+(N12*3)-J12","v":0},{"$f":"ROUND(O12,0)","v":0},{"$f":"B12","v":"Dave Taylor"},{"$f":"FIND(\" \",Q12)","v":5},"Taylor",{"$f":"INDIRECT(CONCATENATE(S12,\"!k38\"))","v":0},{"$f":"INDIRECT(CONCATENATE(S12,\"!k49\"))","v":0},{"$f":"SUM(T12:U12)","v":0},{"$f":"INDIRECT(CONCATENATE(S12,\"!l38\"))","v":0},{"$f":"INDIRECT(CONCATENATE(S12,\"!l49\"))","v":0},{"$f":"SUM(W12:X12)","v":0},{"$f":"+Y12-V12","v":0}]
[null,{"$f":"INDIRECT(CONCATENATE(S13,\"!A1\"))","v":"Glenn Kreig"},{"$f":"D13","v":0},{"$f":"IFERROR(INDIRECT(CONCATENATE(S13,\"!e44\")),0)","v":0},{"$f":"IFERROR(INDIRECT(CONCATENATE(S13,\"!D44\")),0)","v":0},{"$f":"IFERROR(E13/C13,0)","v":0},null,null,{"$f":"IFERROR(INDIRECT(CONCATENATE(S13,\"!C47\"))/D13,0)","v":0},{"$f":"IFERROR(INDIRECT(CONCATENATE(S13,\"!C48\"))/D13,0)","v":0},{"$f":"IFERROR(INDIRECT(CONCATENATE(S13,\"!C49\"))/D13,0)","v":0},{"$f":"IFERROR(INDIRECT(CONCATENATE(S13,\"!C50\"))/C13,0)","v":0},{"$f":"IFERROR(INDIRECT(CONCATENATE(S13,\"!C51\"))/D13,0)","v":0},{"$f":"IFERROR(INDIRECT(CONCATENATE(S13,\"!C52\"))/D13,0)","v":0},{"$f":"L13+(M13*2)+(N13*3)-J13","v":0},{"$f":"ROUND(O13,0)","v":0},{"$f":"B13","v":"Glenn Kreig"},{"$f":"FIND(\" \",Q13)","v":6},"Kreig",{"$f":"INDIRECT(CONCATENATE(S13,\"!k38\"))","v":0},{"$f":"INDIRECT(CONCATENATE(S13,\"!k49\"))","v":0},{"$f":"SUM(T13:U13)","v":0},{"$f":"INDIRECT(CONCATENATE(S13,\"!l38\"))","v":0},{"$f":"INDIRECT(CONCATENATE(S13,\"!l49\"))","v":0},{"$f":"SUM(W13:X13)","v":0},{"$f":"+Y13-V13","v":0}]
[null,{"$f":"INDIRECT(CONCATENATE(S14,\"!A1\"))","v":"Jim Daviero"},{"$f":"D14","v":0},{"$f":"IFERROR(INDIRECT(CONCATENATE(S14,\"!e44\")),0)","v":0},{"$f":"IFERROR(INDIRECT(CONCATENATE(S14,\"!D44\")),0)","v":0},{"$f":"IFERROR(E14/C14,0)","v":0},null,null,{"$f":"IFERROR(INDIRECT(CONCATENATE(S14,\"!C47\"))/D14,0)","v":0},{"$f":"IFERROR(INDIRECT(CONCATENATE(S14,\"!C48\"))/D14,0)","v":0},{"$f":"IFERROR(INDIRECT(CONCATENATE(S14,\"!C49\"))/D14,0)","v":0},{"$f":"IFERROR(INDIRECT(CONCATENATE(S14,\"!C50\"))/C14,0)","v":0},{"$f":"IFERROR(INDIRECT(CONCATENATE(S14,\"!C51\"))/D14,0)","v":0},{"$f":"IFERROR(INDIRECT(CONCATENATE(S14,\"!C52\"))/D14,0)","v":0},{"$f":"L14+(M14*2)+(N14*3)-J14","v":0},{"$f":"ROUND(O14,0)","v":0},{"$f":"B14","v":"Jim Daviero"},{"$f":"FIND(\" \",Q14)","v":4},"Daviero",{"$f":"INDIRECT(CONCATENATE(S14,\"!k38\"))","v":0},{"$f":"INDIRECT(CONCATENATE(S14,\"!k49\"))","v":0},{"$f":"SUM(T14:U14)","v":0},{"$f":"INDIRECT(CONCATENATE(S14,\"!l38\"))","v":0},{"$f":"INDIRECT(CONCATENATE(S14,\"!l49\"))","v":0},{"$f":"SUM(W14:X14)","v":0},{"$f":"+Y14-V14","v":0}]
[null,{"$f":"INDIRECT(CONCATENATE(S15,\"!A1\"))","v":"Mark Rusnak"},{"$f":"D15","v":0},{"$f":"IFERROR(INDIRECT(CONCATENATE(S15,\"!e44\")),0)","v":0},{"$f":"IFERROR(INDIRECT(CONCATENATE(S15,\"!D44\")),0)","v":0},{"$f":"IFERROR(E15/C15,0)","v":0},null,null,{"$f":"IFERROR(INDIRECT(CONCATENATE(S15,\"!C47\"))/D15,0)","v":0},{"$f":"IFERROR(INDIRECT(CONCATENATE(S15,\"!C48\"))/D15,0)","v":0},{"$f":"IFERROR(INDIRECT(CONCATENATE(S15,\"!C49\"))/D15,0)","v":0},{"$f":"IFERROR(INDIRECT(CONCATENATE(S15,\"!C50\"))/C15,0)","v":0},{"$f":"IFERROR(INDIRECT(CONCATENATE(S15,\"!C51\"))/D15,0)","v":0},{"$f":"IFERROR(INDIRECT(CONCATENATE(S15,\"!C52\"))/D15,0)","v":0},{"$f":"L15+(M15*2)+(N15*3)-J15","v":0},{"$f":"ROUND(O15,0)","v":0},{"$f":"B15","v":"Mark Rusnak"},{"$f":"FIND(\" \",Q15)","v":5},"Rusnak",{"$f":"INDIRECT(CONCATENATE(S15,\"!k38\"))","v":0},{"$f":"INDIRECT(CONCATENATE(S15,\"!k49\"))","v":0},{"$f":"SUM(T15:U15)","v":0},{"$f":"INDIRECT(CONCATENATE(S15,\"!l38\"))","v":0},{"$f":"INDIRECT(CONCATENATE(S15,\"!l49\"))","v":0},{"$f":"SUM(W15:X15)","v":0},{"$f":"+Y15-V15","v":0}]
[null,{"$f":"INDIRECT(CONCATENATE(S16,\"!A1\"))","v":"Pete Michalski"},{"$f":"D16","v":0},{"$f":"IFERROR(INDIRECT(CONCATENATE(S16,\"!e44\")),0)","v":0},{"$f":"IFERROR(INDIRECT(CONCATENATE(S16,\"!D44\")),0)","v":0},{"$f":"IFERROR(E16/C16,0)","v":0},null,null,{"$f":"IFERROR(INDIRECT(CONCATENATE(S16,\"!C47\"))/D16,0)","v":0},{"$f":"IFERROR(INDIRECT(CONCATENATE(S16,\"!C48\"))/D16,0)","v":0},{"$f":"IFERROR(INDIRECT(CONCATENATE(S16,\"!C49\"))/D16,0)","v":0},{"$f":"IFERROR(INDIRECT(CONCATENATE(S16,\"!C50\"))/C16,0)","v":0},{"$f":"IFERROR(INDIRECT(CONCATENATE(S16,\"!C51\"))/D16,0)","v":0},{"$f":"IFERROR(INDIRECT(CONCATENATE(S16,\"!C52\"))/D16,0)","v":0},{"$f":"L16+(M16*2)+(N16*3)-J16","v":0},{"$f":"ROUND(O16,0)","v":0},{"$f":"B16","v":"Pete Michalski"},{"$f":"FIND(\" \",Q16)","v":5},"Michalski_P",{"$f":"INDIRECT(CONCATENATE(S16,\"!k38\"))","v":0},{"$f":"INDIRECT(CONCATENATE(S16,\"!k49\"))","v":0},{"$f":"SUM(T16:U16)","v":0},{"$f":"INDIRECT(CONCATENATE(S16,\"!l38\"))","v":0},{"$f":"INDIRECT(CONCATENATE(S16,\"!l49\"))","v":0},{"$f":"SUM(W16:X16)","v":0},{"$f":"+Y16-V16","v":0}]
[null,{"$f":"INDIRECT(CONCATENATE(S17,\"!A1\"))","v":"Steve Fusco"},{"$f":"D17","v":0},{"$f":"IFERROR(INDIRECT(CONCATENATE(S17,\"!e44\")),0)","v":0},{"$f":"IFERROR(INDIRECT(CONCATENATE(S17,\"!D44\")),0)","v":0},{"$f":"IFERROR(E17/C17,0)","v":0},null,null,{"$f":"IFERROR(INDIRECT(CONCATENATE(S17,\"!C47\"))/D17,0)","v":0},{"$f":"IFERROR(INDIRECT(CONCATENATE(S17,\"!C48\"))/D17,0)","v":0},{"$f":"IFERROR(INDIRECT(CONCATENATE(S17,\"!C49\"))/D17,0)","v":0},{"$f":"IFERROR(INDIRECT(CONCATENATE(S17,\"!C50\"))/C17,0)","v":0},{"$f":"IFERROR(INDIRECT(CONCATENATE(S17,\"!C51\"))/D17,0)","v":0},{"$f":"IFERROR(INDIRECT(CONCATENATE(S17,\"!C52\"))/D17,0)","v":0},{"$f":"L17+(M17*2)+(N17*3)-J17","v":0},{"$f":"ROUND(O17,0)","v":0},{"$f":"B17","v":"Steve Fusco"},{"$f":"FIND(\" \",Q17)","v":6},"Fusco_S",{"$f":"INDIRECT(CONCATENATE(S17,\"!k38\"))","v":0},{"$f":"INDIRECT(CONCATENATE(S17,\"!k49\"))","v":0},{"$f":"SUM(T17:U17)","v":0},{"$f":"INDIRECT(CONCATENATE(S17,\"!l38\"))","v":0},{"$f":"INDIRECT(CONCATENATE(S17,\"!l49\"))","v":0},{"$f":"SUM(W17:X17)","v":0},{"$f":"+Y17-V17","v":0}]
[null,{"$f":"INDIRECT(CONCATENATE(S18,\"!A1\"))","v":"Sue Michalski"},{"$f":"D18","v":0},{"$f":"IFERROR(INDIRECT(CONCATENATE(S18,\"!e44\")),0)","v":0},{"$f":"IFERROR(INDIRECT(CONCATENATE(S18,\"!D44\")),0)","v":0},{"$f":"IFERROR(E18/C18,0)","v":0},null,null,{"$f":"IFERROR(INDIRECT(CONCATENATE(S18,\"!C47\"))/D18,0)","v":0},{"$f":"IFERROR(INDIRECT(CONCATENATE(S18,\"!C48\"))/D18,0)","v":0},{"$f":"IFERROR(INDIRECT(CONCATENATE(S18,\"!C49\"))/D18,0)","v":0},{"$f":"IFERROR(INDIRECT(CONCATENATE(S18,\"!C50\"))/C18,0)","v":0},{"$f":"IFERROR(INDIRECT(CONCATENATE(S18,\"!C51\"))/D18,0)","v":0},{"$f":"IFERROR(INDIRECT(CONCATENATE(S18,\"!C52\"))/D18,0)","v":0},{"$f":"L18+(M18*2)+(N18*3)-J18","v":0},{"$f":"ROUND(O18,0)","v":0},{"$f":"B18","v":"Sue Michalski"},{"$f":"FIND(\" \",Q18)","v":4},"Michalski_S",{"$f":"INDIRECT(CONCATENATE(S18,\"!k38\"))","v":0},{"$f":"INDIRECT(CONCATENATE(S18,\"!k49\"))","v":0},{"$f":"SUM(T18:U18)","v":0},{"$f":"INDIRECT(CONCATENATE(S18,\"!l38\"))","v":0},{"$f":"INDIRECT(CONCATENATE(S18,\"!l49\"))","v":0},{"$f":"SUM(W18:X18)","v":0},{"$f":"+Y18-V18","v":0}]
[null,{"$f":"INDIRECT(CONCATENATE(S19,\"!A1\"))","v":"Tim Hobbs"},{"$f":"D19","v":0},{"$f":"IFERROR(INDIRECT(CONCATENATE(S19,\"!e44\")),0)","v":0},{"$f":"IFERROR(INDIRECT(CONCATENATE(S19,\"!D44\")),0)","v":0},{"$f":"IFERROR(E19/C19,0)","v":0},null,null,{"$f":"IFERROR(INDIRECT(CONCATENATE(S19,\"!C47\"))/D19,0)","v":0},{"$f":"IFERROR(INDIRECT(CONCATENATE(S19,\"!C48\"))/D19,0)","v":0},{"$f":"IFERROR(INDIRECT(CONCATENATE(S19,\"!C49\"))/D19,0)","v":0},{"$f":"IFERROR(INDIRECT(CONCATENATE(S19,\"!C50\"))/C19,0)","v":0},{"$f":"IFERROR(INDIRECT(CONCATENATE(S19,\"!C51\"))/D19,0)","v":0},{"$f":"IFERROR(INDIRECT(CONCATENATE(S19,\"!C52\"))/D19,0)","v":0},{"$f":"L19+(M19*2)+(N19*3)-J19","v":0},{"$f":"ROUND(O19,0)","v":0},{"$f":"B19","v":"Tim Hobbs"},{"$f":"FIND(\" \",Q19)","v":4},"Hobbs",{"$f":"INDIRECT(CONCATENATE(S19,\"!k38\"))","v":0},{"$f":"INDIRECT(CONCATENATE(S19,\"!k49\"))","v":0},{"$f":"SUM(T19:U19)","v":0},{"$f":"INDIRECT(CONCATENATE(S19,\"!l38\"))","v":0},{"$f":"INDIRECT(CONCATENATE(S19,\"!l49\"))","v":0},{"$f":"SUM(W19:X19)","v":0},{"$f":"+Y19-V19","v":0}]
[null,{"$f":"INDIRECT(CONCATENATE(S20,\"!A1\"))","v":"Tom Mohsinger"},{"$f":"D20","v":0},{"$f":"IFERROR(INDIRECT(CONCATENATE(S20,\"!e44\")),0)","v":0},{"$f":"IFERROR(INDIRECT(CONCATENATE(S20,\"!D44\")),0)","v":0},{"$f":"IFERROR(E20/C20,0)","v":0},null,null,{"$f":"IFERROR(INDIRECT(CONCATENATE(S20,\"!C47\"))/D20,0)","v":0},{"$f":"IFERROR(INDIRECT(CONCATENATE(S20,\"!C48\"))/D20,0)","v":0},{"$f":"IFERROR(INDIRECT(CONCATENATE(S20,\"!C49\"))/D20,0)","v":0},{"$f":"IFERROR(INDIRECT(CONCATENATE(S20,\"!C50\"))/C20,0)","v":0},{"$f":"IFERROR(INDIRECT(CONCATENATE(S20,\"!C51\"))/D20,0)","v":0},{"$f":"IFERROR(INDIRECT(CONCATENATE(S20,\"!C52\"))/D20,0)","v":0},{"$f":"L20+(M20*2)+(N20*3)-J20","v":0},{"$f":"ROUND(O20,0)","v":0},{"$f":"B20","v":"Tom Mohsinger"},{"$f":"FIND(\" \",Q20)","v":4},"Mohsinger_T",{"$f":"INDIRECT(CONCATENATE(S20,\"!k38\"))","v":0},{"$f":"INDIRECT(CONCATENATE(S20,\"!k49\"))","v":0},{"$f":"SUM(T20:U20)","v":0},{"$f":"INDIRECT(CONCATENATE(S20,\"!l38\"))","v":0},{"$f":"INDIRECT(CONCATENATE(S20,\"!l49\"))","v":0},{"$f":"SUM(W20:X20)","v":0},{"$f":"+Y20-V20","v":0}]
[null,{"$f":"INDIRECT(CONCATENATE(S21,\"!A1\"))","v":"Vincent Daviero"},{"$f":"D21","v":0},{"$f":"IFERROR(INDIRECT(CONCATENATE(S21,\"!e44\")),0)","v":0},{"$f":"IFERROR(INDIRECT(CONCATENATE(S21,\"!D44\")),0)","v":0},{"$f":"IFERROR(E21/C21,0)","v":0},null,null,{"$f":"IFERROR(INDIRECT(CONCATENATE(S21,\"!C47\"))/D21,0)","v":0},{"$f":"IFERROR(INDIRECT(CONCATENATE(S21,\"!C48\"))/D21,0)","v":0},{"$f":"IFERROR(INDIRECT(CONCATENATE(S21,\"!C49\"))/D21,0)","v":0},{"$f":"IFERROR(INDIRECT(CONCATENATE(S21,\"!C50\"))/C21,0)","v":0},{"$f":"IFERROR(INDIRECT(CONCATENATE(S21,\"!C51\"))/D21,0)","v":0},{"$f":"IFERROR(INDIRECT(CONCATENATE(S21,\"!C52\"))/D21,0)","v":0},{"$f":"L21+(M21*2)+(N21*3)-J21","v":0},{"$f":"ROUND(O21,0)","v":0},{"$f":"B21","v":"Vincent Daviero"},{"$f":"FIND(\" \",Q21)","v":8},"daviero_v",{"$f":"INDIRECT(CONCATENATE(S21,\"!k38\"))","v":0},{"$f":"INDIRECT(CONCATENATE(S21,\"!k49\"))","v":0},{"$f":"SUM(T21:U21)","v":0},{"$f":"INDIRECT(CONCATENATE(S21,\"!l38\"))","v":0},{"$f":"INDIRECT(CONCATENATE(S21,\"!l49\"))","v":0},{"$f":"SUM(W21:X21)","v":0},{"$f":"+Y21-V21","v":0}]
[]
[null,null,null,null,null,null,null,null,{"$f":"AVERAGE(I6:I21)","v":0},0,0,0,0,0,{"$f":"L23+(M23*2)+(N23*3)-J23","v":0},{"$f":"ROUND(O23,0)","v":0}]
[]
[]
[]
[]
[null,null,null,null,{"$f":"SUM(E6:E25)","v":0}]
[]
[]
[null,"Good Lists and Bad Lists"]
[null,null,null,null,null,null,null,null,"Eagles"]
[]
[]
[null,null,null,null,null,null,null,null,"Birdies"]
[null,"Andy Linton",null,null,null,null,null,null,0]
[null,"Bette Mohsinger",null,null,null,null,null,null,0]
[null,"Bob Templeton",null,null,null,null,null,null,0]
[null,"Brian McGlaughlin",null,null,null,null,null,null,0]
[null,"Dan Fusco",null,null,null,null,null,null,0]
[null,"Dan Palmerino",null,null,null,null,null,null,0]
[null,"Dave Taylor",null,null,null,null,null,null,0]
[null,"Glenn Kreig",null,null,null,null,null,null,0]
[null,"Jim Daviero",null,null,null,null,null,null,0]
[null,"Mark Rusnak",null,null,null,null,null,null,0]
[null,"Pete Michalski",null,null,null,null,null,null,0]
[null,"Steve Fusco",null,null,null,null,null,null,0]
[null,"Sue Michalski",null,null,null,null,null,null,0]
[null,"Tim Hobbs",null,null,null,null,null,null,0]
[null,"Tom Mohsinger",null,null,null,null,null,null,0]
[null,"Vincent Daviero",null,null,null,null,null,null,0]
[]
[null,null,null,null,null,null,null,null,"Pars"]
[null,"Andy Linton",null,null,null,null,null,null,0]
[null,"Bette Mohsinger",null,null,null,null,null,null,0]
[null,"Bob Templeton",null,null,null,null,null,null,0]
[null,"Brian McGlaughlin",null,null,null,null,null,null,0]
[null,"Dan Fusco",null,null,null,null,null,null,0]
[null,"Dan Palmerino",null,null,null,null,null,null,0]
[null,"Dave Taylor",null,null,null,null,null,null,0]
[null,"Glenn Kreig",null,null,null,null,null,null,0]
[null,"Jim Daviero",null,null,null,null,null,null,0]
[null,"Mark Rusnak",null,null,null,null,null,null,0]
[null,"Pete Michalski",null,null,null,null,null,null,0]
[null,"Steve Fusco",null,null,null,null,null,null,0]
[null,"Sue Michalski",null,null,null,null,null,null,0]
[null,"Tim Hobbs",null,null,null,null,null,null,0]
[null,"Tom Mohsinger",null,null,null,null,null,null,0]
[null,"Vincent Daviero",null,null,null,null,null,null,0]
[]
[null,null,null,null,null,null,null,null,"Bogeys"]
[null,"Andy Linton",null,null,null,null,null,null,0]
[null,"Bette Mohsinger",null,null,null,null,null,null,0]
[null,"Bob Templeton",null,null,null,null,null,null,0]
[null,"Brian McGlaughlin",null,null,null,null,null,null,0]
[null,"Dan Fusco",null,null,null,null,null,null,0]
[null,"Dan Palmerino",null,null,null,null,null,null,0]
[null,"Dave Taylor",null,null,null,null,null,null,0]
[null,"Glenn Kreig",null,null,null,null,null,null,0]
[null,"Jim Daviero",null,null,null,null,null,null,0]
[null,"Mark Rusnak",null,null,null,null,null,null,0]
[null,"Pete Michalski",null,null,null,null,null,null,0]
[null,"Steve Fusco",null,null,null,null,null,null,0]
[null,"Sue Michalski",null,null,null,null,null,null,0]
[null,"Tim Hobbs",null,null,null,null,null,null,0]
[null,"Tom Mohsinger",null,null,null,null,null,null,0]
[null,"Vincent Daviero",null,null,null,null,null,null,0]
[]
[null,null,null,null,null,null,null,null,"Dbl Bogeys"]
[null,"Andy Linton",null,null,null,null,null,null,0]
[null,"Bette Mohsinger",null,null,null,null,null,null,0]
[null,"Bob Templeton",null,null,null,null,null,null,0]
[null,"Brian McGlaughlin",null,null,null,null,null,null,0]
[null,"Dan Fusco",null,null,null,null,null,null,0]
[null,"Dan Palmerino",null,null,null,null,null,null,0]
[null,"Dave Taylor",null,null,null,null,null,null,0]
[null,"Glenn Kreig",null,null,null,null,null,null,0]
[null,"Jim Daviero",null,null,null,null,null,null,0]
[null,"Mark Rusnak",null,null,null,null,null,null,0]
[null,"Pete Michalski",null,null,null,null,null,null,0]
[null,"Steve Fusco",null,null,null,null,null,null,0]
[null,"Sue Michalski",null,null,null,null,null,null,0]
[null,"Tim Hobbs",null,null,null,null,null,null,0]
[null,"Tom Mohsinger",null,null,null,null,null,null,0]
[null,"Vincent Daviero",null,null,null,null,null,null,0]
[]
[null,null,null,null,null,null,null,null,"Others"]
[null,"Andy Linton",null,null,null,null,null,null,0]
[null,"Bette Mohsinger",null,null,null,null,null,null,0]
[null,"Bob Templeton",null,null,null,null,null,null,0]
[null,"Brian McGlaughlin",null,null,null,null,null,null,0]
[null,"Dan Fusco",null,null,null,null,null,null,0]
[null,"Dan Palmerino",null,null,null,null,null,null,0]
[null,"Dave Taylor",null,null,null,null,null,null,0]
[null,"Glenn Kreig",null,null,null,null,null,null,0]
[null,"Jim Daviero",null,null,null,null,null,null,0]
[null,"Mark Rusnak",null,null,null,null,null,null,0]
[null,"Pete Michalski",null,null,null,null,null,null,0]
[null,"Steve Fusco",null,null,null,null,null,null,0]
[null,"Sue Michalski",null,null,null,null,null,null,0]
[null,"Tim Hobbs",null,null,null,null,null,null,0]
[null,"Tom Mohsinger",null,null,null,null,null,null,0]
[null,"Vincent Daviero",null,null,null,null,null,null,0]
[]
[null,null,null,null,null,null,null,null,"Avg over Par",null,"Rounded"]
[null,"Andy Linton",null,null,null,null,null,null,0,null,0]
[null,"Bette Mohsinger",null,null,null,null,null,null,0,null,0]
[null,"Bob Templeton",null,null,null,null,null,null,0,null,0]
[null,"Brian McGlaughlin",null,null,null,null,null,null,0,null,0]
[null,"Dan Fusco",null,null,null,null,null,null,0,null,0]
[null,"Dan Palmerino",null,null,null,null,null,null,0,null,0]
[null,"Dave Taylor",null,null,null,null,null,null,0,null,0]
[null,"Glenn Kreig",null,null,null,null,null,null,0,null,0]
[null,"Jim Daviero",null,null,null,null,null,null,0,null,0]
[null,"Mark Rusnak",null,null,null,null,null,null,0,null,0]
[null,"Pete Michalski",null,null,null,null,null,null,0,null,0]
[null,"Steve Fusco",null,null,null,null,null,null,0,null,0]
[null,"Sue Michalski",null,null,null,null,null,null,0,null,0]
[null,"Tim Hobbs",null,null,null,null,null,null,0,null,0]
[null,"Tom Mohsinger",null,null,null,null,null,null,0,null,0]
[null,"Vincent Daviero",null,null,null,null,null,null,0,null,0]

{"sheet":"Sum of Scores","index":1,"n_rows":42,"n_cols":84,"rows_kept":42,"cut":false,"hidden":false,"merged":[[2,1,2,4],[0,78,0,80],[0,81,0,83]]}
["Summary of Scores",null,null,null,null,null,"d16",null,null,null,"j16",null,null,null,"p16",null,null,null,"v16",null,null,null,"ab16",null,null,null,"ah16",null,null,null,"an16",null,null,null,"at16",null,null,null,"az16",null,null,null,"bf16",null,null,null,"bl16",null,null,null,"br16",null,null,null,"bx16",null,null,null,"cd16",null,null,null,"cj16",null,null,null,null,null,null,null,null,null,null,null,null,null,null,null,"Lows",null,null,"Highs"]
[null,null,null,null,null,null,null,null,null,null,null,null,null,null,null,null,null,null,null,null,null,null,null,null,null,null,null,null,null,null,null,null,null,null,null,null,null,null,null,null,null,null,null,null,null,null,null,null,null,null,null,null,null,null,null,null,null,null,null,null,null,null,null,null,null,null,"Bonus",null,"Match ",null,"Total"]
[null,"Current Week",null,null,null,null,"Week #1",null,"Week #1",null,"Week #2",null,"Week #2",null,"Week #3",null,"Week #3",null,"Week #4",null,"Week #4",null,"Week #5",null,"Week #5",null,"Week #6",null,"Week #6",null,"Week #7",null,"Week #7",null,"Week #8",null,"Week #8",null,"Week #9",null,"Week #9",null,"Week #10",null,"Week #10",null,"Week #11",null,"Week #11",null,"Week #12",null,"Week #12",null,"Week #13",null,"Week #13",null,"Week #14",null,"Week #14",null,"Week #15",null,"Week #15",null,"Points",null,"Points",null,"Points","Matches","Average"]
[null,"Gross","Handicap","Net","Cup",null,"Gross","Handicap","Net",null,"Gross","Handicap","Net",null,"Gross","Handicap","Net",null,"Gross","Handicap","Net",null,"Gross","Handicap","Net",null,"Gross","Handicap","Net",null,"Gross","Handicap","Net",null,"Gross","Handicap","Net",null,"Gross","Handicap","Net",null,"Gross","Handicap","Net",null,"Gross","Handicap","Net",null,"Gross","Handicap","Net",null,"Gross","Handicap","Net",null,"Gross","Handicap","Net",null,"Gross","Handicap","Net"]
[{"$f":"INDIRECT(CONCATENATE(BY5,\"!A1\"))","v":"Andy Linton"},null,null,null,null,800,{"$f":"INDIRECT(CONCATENATE($BY5,\"!\",G$1))","v":0},{"$f":"LOOKUP($BY5,HandicapLookup)","v":5},{"$f":"G5-H5","v":-5},null,{"$f":"INDIRECT(CONCATENATE($BY5,\"!\",K$1))","v":0},{"$f":"LOOKUP($BY5,HandicapLookup)","v":5},{"$f":"K5-L5","v":-5},null,{"$f":"INDIRECT(CONCATENATE($BY5,\"!\",O$1))","v":0},{"$f":"LOOKUP($BY5,HandicapLookup)","v":5},{"$f":"O5-P5","v":-5},null,{"$f":"INDIRECT(CONCATENATE($BY5,\"!\",S$1))","v":0},{"$f":"LOOKUP($BY5,HandicapLookup)","v":5},{"$f":"S5-T5","v":-5},null,{"$f":"INDIRECT(CONCATENATE($BY5,\"!\",W$1))","v":0},{"$f":"LOOKUP($BY5,HandicapLookup)","v":5},{"$f":"W5-X5","v":-5},null,{"$f":"INDIRECT(CONCATENATE($BY5,\"!\",AA$1))","v":0},{"$f":"LOOKUP($BY5,HandicapLookup)","v":5},{"$f":"AA5-AB5","v":-5},null,{"$f":"INDIRECT(CONCATENATE($BY5,\"!\",AE$1))","v":0},{"$f":"LOOKUP($BY5,HandicapLookup)","v":5},{"$f":"AE5-AF5","v":-5},null,{"$f":"INDIRECT(CONCATENATE($BY5,\"!\",AI$1))","v":0},{"$f":"LOOKUP($BY5,HandicapLookup)","v":5},{"$f":"AI5-AJ5","v":-5},null,{"$f":"INDIRECT(CONCATENATE($BY5,\"!\",AM$1))","v":0},{"$f":"LOOKUP($BY5,HandicapLookup)","v":5},{"$f":"AM5-AN5","v":-5},null,{"$f":"INDIRECT(CONCATENATE($BY5,\"!\",AQ$1))","v":0},{"$f":"LOOKUP($BY5,HandicapLookup)","v":5},{"$f":"AQ5-AR5","v":-5},null,{"$f":"INDIRECT(CONCATENATE($BY5,\"!\",AU$1))","v":0},{"$f":"LOOKUP($BY5,HandicapLookup)","v":5},{"$f":"AU5-AV5","v":-5},null,{"$f":"INDIRECT(CONCATENATE($BY5,\"!\",AY$1))","v":0},{"$f":"LOOKUP($BY5,HandicapLookup)","v":5},{"$f":"AY5-AZ5","v":-5},null,{"$f":"INDIRECT(CONCATENATE($BY5,\"!\",BC$1))","v":0},{"$f":"LOOKUP($BY5,HandicapLookup)","v":5},{"$f":"BC5-BD5","v":-5},null,{"$f":"INDIRECT(CONCATENATE($BY5,\"!\",BG$1))","v":0},{"$f":"LOOKUP($BY5,HandicapLookup)","v":5},{"$f":"BG5-BH5","v":-5},null,{"$f":"INDIRECT(CONCATENATE($BY5,\"!\",BK$1))","v":0},{"$f":"LOOKUP($BY5,HandicapLookup)","v":5},{"$f":"BK5-BL5","v":-5},null,{"$f":"J5+N5+R5+V5+Z5+AD5+AH5+AL5+AP5+AT5+AX5+BB5+BF5+BJ5+BN5","v":0},null,{"$f":"Linton!C44","v":0},null,{"$f":"BO5+BQ5","v":0},{"$f":"Linton!E44","v":0},{"$f":"IFERROR((BO5+BQ5)/BT5,0)","v":0},{"$f":"A5","v":"Andy Linton"},{"$f":"FIND(\" \",BV5)","v":5},{"$f":"MID(BV5,BW5,99)","v":" Linton"},"linton",null,{"$f":"MIN(G5,K5,O5,S5,W5,AA5,AE5,AI5,AM5,AQ5,AU5,AY5,BC5,BG5,BK5)","v":0},{"$f":"MIN(H5,L5,P5,T5,X5,AB5,AF5,AJ5,AN5,AR5,AV5,AZ5,BD5,BH5,BL5)","v":5},{"$f":"MIN(I5,M5,Q5,U5,Y5,AC5,AG5,AK5,AO5,AS5,AW5,BA5,BE5,BI5,BM5)","v":-5},{"$f":"MAX(G5,K5,O5,S5,W5,AA5,AE5,AI5,AM5,AQ5,AU5,AY5,BC5,BG5,BK5)","v":0},{"$f":"MAX(H5,L5,P5,T5,X5,AB5,AF5,AJ5,AN5,AR5,AV5,AZ5,BD5,BH5,BL5)","v":5},{"$f":"MAX(I5,M5,Q5,U5,Y5,AC5,AG5,AK5,AO5,AS5,AW5,BA5,BE5,BI5,BM5)","v":-5}]
[{"$f":"INDIRECT(CONCATENATE(BY6,\"!A1\"))","v":"Bette Mohsinger"},null,null,null,null,3000,{"$f":"INDIRECT(CONCATENATE($BY6,\"!\",G$1))","v":0},{"$f":"LOOKUP($BY6,HandicapLookup)","v":12},{"$f":"G6-H6","v":-12},null,{"$f":"INDIRECT(CONCATENATE($BY6,\"!\",K$1))","v":0},{"$f":"LOOKUP($BY6,HandicapLookup)","v":12},{"$f":"K6-L6","v":-12},null,{"$f":"INDIRECT(CONCATENATE($BY6,\"!\",O$1))","v":0},{"$f":"LOOKUP($BY6,HandicapLookup)","v":12},{"$f":"O6-P6","v":-12},null,{"$f":"INDIRECT(CONCATENATE($BY6,\"!\",S$1))","v":0},{"$f":"LOOKUP($BY6,HandicapLookup)","v":12},{"$f":"S6-T6","v":-12},null,{"$f":"INDIRECT(CONCATENATE($BY6,\"!\",W$1))","v":0},{"$f":"LOOKUP($BY6,HandicapLookup)","v":12},{"$f":"W6-X6","v":-12},null,{"$f":"INDIRECT(CONCATENATE($BY6,\"!\",AA$1))","v":0},{"$f":"LOOKUP($BY6,HandicapLookup)","v":12},{"$f":"AA6-AB6","v":-12},null,{"$f":"INDIRECT(CONCATENATE($BY6,\"!\",AE$1))","v":0},{"$f":"LOOKUP($BY6,HandicapLookup)","v":12},{"$f":"AE6-AF6","v":-12},null,{"$f":"INDIRECT(CONCATENATE($BY6,\"!\",AI$1))","v":0},{"$f":"LOOKUP($BY6,HandicapLookup)","v":12},{"$f":"AI6-AJ6","v":-12},null,{"$f":"INDIRECT(CONCATENATE($BY6,\"!\",AM$1))","v":0},{"$f":"LOOKUP($BY6,HandicapLookup)","v":12},{"$f":"AM6-AN6","v":-12},null,{"$f":"INDIRECT(CONCATENATE($BY6,\"!\",AQ$1))","v":0},{"$f":"LOOKUP($BY6,HandicapLookup)","v":12},{"$f":"AQ6-AR6","v":-12},null,{"$f":"INDIRECT(CONCATENATE($BY6,\"!\",AU$1))","v":0},{"$f":"LOOKUP($BY6,HandicapLookup)","v":12},{"$f":"AU6-AV6","v":-12},null,{"$f":"INDIRECT(CONCATENATE($BY6,\"!\",AY$1))","v":0},{"$f":"LOOKUP($BY6,HandicapLookup)","v":12},{"$f":"AY6-AZ6","v":-12},null,{"$f":"INDIRECT(CONCATENATE($BY6,\"!\",BC$1))","v":0},{"$f":"LOOKUP($BY6,HandicapLookup)","v":12},{"$f":"BC6-BD6","v":-12},null,{"$f":"INDIRECT(CONCATENATE($BY6,\"!\",BG$1))","v":0},{"$f":"LOOKUP($BY6,HandicapLookup)","v":12},{"$f":"BG6-BH6","v":-12},null,{"$f":"INDIRECT(CONCATENATE($BY6,\"!\",BK$1))","v":0},{"$f":"LOOKUP($BY6,HandicapLookup)","v":12},{"$f":"BK6-BL6","v":-12},null,{"$f":"J6+N6+R6+V6+Z6+AD6+AH6+AL6+AP6+AT6+AX6+BB6+BF6+BJ6+BN6","v":0},null,{"$f":"Mohsinger_T!C44","v":0},null,{"$f":"BO6+BQ6","v":0},{"$f":"Mohsinger_T!E44","v":0},{"$f":"IFERROR((BO6+BQ6)/BT6,0)","v":0},{"$f":"A6","v":"Bette Mohsinger"},{"$f":"FIND(\" \",BV6)","v":6},{"$f":"MID(BV6,BW6,99)","v":" Mohsinger"},"mohsinger_b",null,{"$f":"MIN(G6,K6,O6,S6,W6,AA6,AE6,AI6,AM6,AQ6,AU6,AY6,BC6,BG6,BK6)","v":0},{"$f":"MIN(H6,L6,P6,T6,X6,AB6,AF6,AJ6,AN6,AR6,AV6,AZ6,BD6,BH6,BL6)","v":12},{"$f":"MIN(I6,M6,Q6,U6,Y6,AC6,AG6,AK6,AO6,AS6,AW6,BA6,BE6,BI6,BM6)","v":-12},{"$f":"MAX(G6,K6,O6,S6,W6,AA6,AE6,AI6,AM6,AQ6,AU6,AY6,BC6,BG6,BK6)","v":0},{"$f":"MAX(H6,L6,P6,T6,X6,AB6,AF6,AJ6,AN6,AR6,AV6,AZ6,BD6,BH6,BL6)","v":12},{"$f":"MAX(I6,M6,Q6,U6,Y6,AC6,AG6,AK6,AO6,AS6,AW6,BA6,BE6,BI6,BM6)","v":-12}]
[{"$f":"INDIRECT(CONCATENATE(BY7,\"!A1\"))","v":"Bob Templeton"},null,null,null,null,1500,{"$f":"INDIRECT(CONCATENATE($BY7,\"!\",G$1))","v":0},{"$f":"LOOKUP($BY7,HandicapLookup)","v":20},{"$f":"G7-H7","v":-20},null,{"$f":"INDIRECT(CONCATENATE($BY7,\"!\",K$1))","v":0},{"$f":"LOOKUP($BY7,HandicapLookup)","v":20},{"$f":"K7-L7","v":-20},null,{"$f":"INDIRECT(CONCATENATE($BY7,\"!\",O$1))","v":0},{"$f":"LOOKUP($BY7,HandicapLookup)","v":20},{"$f":"O7-P7","v":-20},null,{"$f":"INDIRECT(CONCATENATE($BY7,\"!\",S$1))","v":0},{"$f":"LOOKUP($BY7,HandicapLookup)","v":20},{"$f":"S7-T7","v":-20},null,{"$f":"INDIRECT(CONCATENATE($BY7,\"!\",W$1))","v":0},{"$f":"LOOKUP($BY7,HandicapLookup)","v":20},{"$f":"W7-X7","v":-20},null,{"$f":"INDIRECT(CONCATENATE($BY7,\"!\",AA$1))","v":0},{"$f":"LOOKUP($BY7,HandicapLookup)","v":20},{"$f":"AA7-AB7","v":-20},null,{"$f":"INDIRECT(CONCATENATE($BY7,\"!\",AE$1))","v":0},{"$f":"LOOKUP($BY7,HandicapLookup)","v":20},{"$f":"AE7-AF7","v":-20},null,{"$f":"INDIRECT(CONCATENATE($BY7,\"!\",AI$1))","v":0},{"$f":"LOOKUP($BY7,HandicapLookup)","v":20},{"$f":"AI7-AJ7","v":-20},null,{"$f":"INDIRECT(CONCATENATE($BY7,\"!\",AM$1))","v":0},{"$f":"LOOKUP($BY7,HandicapLookup)","v":20},{"$f":"AM7-AN7","v":-20},null,{"$f":"INDIRECT(CONCATENATE($BY7,\"!\",AQ$1))","v":0},{"$f":"LOOKUP($BY7,HandicapLookup)","v":20},{"$f":"AQ7-AR7","v":-20},null,{"$f":"INDIRECT(CONCATENATE($BY7,\"!\",AU$1))","v":0},{"$f":"LOOKUP($BY7,HandicapLookup)","v":20},{"$f":"AU7-AV7","v":-20},null,{"$f":"INDIRECT(CONCATENATE($BY7,\"!\",AY$1))","v":0},{"$f":"LOOKUP($BY7,HandicapLookup)","v":20},{"$f":"AY7-AZ7","v":-20},null,{"$f":"INDIRECT(CONCATENATE($BY7,\"!\",BC$1))","v":0},{"$f":"LOOKUP($BY7,HandicapLookup)","v":20},{"$f":"BC7-BD7","v":-20},null,{"$f":"INDIRECT(CONCATENATE($BY7,\"!\",BG$1))","v":0},{"$f":"LOOKUP($BY7,HandicapLookup)","v":20},{"$f":"BG7-BH7","v":-20},null,{"$f":"INDIRECT(CONCATENATE($BY7,\"!\",BK$1))","v":0},{"$f":"LOOKUP($BY7,HandicapLookup)","v":20},{"$f":"BK7-BL7","v":-20},null,{"$f":"J7+N7+R7+V7+Z7+AD7+AH7+AL7+AP7+AT7+AX7+BB7+BF7+BJ7+BN7","v":0},null,{"$f":"Templeton!C44","v":0},null,{"$f":"BO7+BQ7","v":0},{"$f":"Templeton!E44","v":0},{"$f":"IFERROR((BO7+BQ7)/BT7,0)","v":0},{"$f":"A7","v":"Bob Templeton"},{"$f":"FIND(\" \",BV7)","v":4},{"$f":"MID(BV7,BW7,99)","v":" Templeton"},"templeton",null,{"$f":"MIN(G7,K7,O7,S7,W7,AA7,AE7,AI7,AM7,AQ7,AU7,AY7,BC7,BG7,BK7)","v":0},{"$f":"MIN(H7,L7,P7,T7,X7,AB7,AF7,AJ7,AN7,AR7,AV7,AZ7,BD7,BH7,BL7)","v":20},{"$f":"MIN(I7,M7,Q7,U7,Y7,AC7,AG7,AK7,AO7,AS7,AW7,BA7,BE7,BI7,BM7)","v":-20},{"$f":"MAX(G7,K7,O7,S7,W7,AA7,AE7,AI7,AM7,AQ7,AU7,AY7,BC7,BG7,BK7)","v":0},{"$f":"MAX(H7,L7,P7,T7,X7,AB7,AF7,AJ7,AN7,AR7,AV7,AZ7,BD7,BH7,BL7)","v":20},{"$f":"MAX(I7,M7,Q7,U7,Y7,AC7,AG7,AK7,AO7,AS7,AW7,BA7,BE7,BI7,BM7)","v":-20}]
[{"$f":"INDIRECT(CONCATENATE(BY8,\"!A1\"))","v":"Brian McGlaughlin"},null,null,null,null,2000,{"$f":"INDIRECT(CONCATENATE($BY8,\"!\",G$1))","v":0},{"$f":"LOOKUP($BY8,HandicapLookup)","v":12},{"$f":"G8-H8","v":-12},null,{"$f":"INDIRECT(CONCATENATE($BY8,\"!\",K$1))","v":0},{"$f":"LOOKUP($BY8,HandicapLookup)","v":12},{"$f":"K8-L8","v":-12},null,{"$f":"INDIRECT(CONCATENATE($BY8,\"!\",O$1))","v":0},{"$f":"LOOKUP($BY8,HandicapLookup)","v":12},{"$f":"O8-P8","v":-12},null,{"$f":"INDIRECT(CONCATENATE($BY8,\"!\",S$1))","v":0},{"$f":"LOOKUP($BY8,HandicapLookup)","v":12},{"$f":"S8-T8","v":-12},null,{"$f":"INDIRECT(CONCATENATE($BY8,\"!\",W$1))","v":0},{"$f":"LOOKUP($BY8,HandicapLookup)","v":12},{"$f":"W8-X8","v":-12},null,{"$f":"INDIRECT(CONCATENATE($BY8,\"!\",AA$1))","v":0},{"$f":"LOOKUP($BY8,HandicapLookup)","v":12},{"$f":"AA8-AB8","v":-12},null,{"$f":"INDIRECT(CONCATENATE($BY8,\"!\",AE$1))","v":0},{"$f":"LOOKUP($BY8,HandicapLookup)","v":12},{"$f":"AE8-AF8","v":-12},null,{"$f":"INDIRECT(CONCATENATE($BY8,\"!\",AI$1))","v":0},{"$f":"LOOKUP($BY8,HandicapLookup)","v":12},{"$f":"AI8-AJ8","v":-12},null,{"$f":"INDIRECT(CONCATENATE($BY8,\"!\",AM$1))","v":0},{"$f":"LOOKUP($BY8,HandicapLookup)","v":12},{"$f":"AM8-AN8","v":-12},null,{"$f":"INDIRECT(CONCATENATE($BY8,\"!\",AQ$1))","v":0},{"$f":"LOOKUP($BY8,HandicapLookup)","v":12},{"$f":"AQ8-AR8","v":-12},null,{"$f":"INDIRECT(CONCATENATE($BY8,\"!\",AU$1))","v":0},{"$f":"LOOKUP($BY8,HandicapLookup)","v":12},{"$f":"AU8-AV8","v":-12},null,{"$f":"INDIRECT(CONCATENATE($BY8,\"!\",AY$1))","v":0},{"$f":"LOOKUP($BY8,HandicapLookup)","v":12},{"$f":"AY8-AZ8","v":-12},null,{"$f":"INDIRECT(CONCATENATE($BY8,\"!\",BC$1))","v":0},{"$f":"LOOKUP($BY8,HandicapLookup)","v":12},{"$f":"BC8-BD8","v":-12},null,{"$f":"INDIRECT(CONCATENATE($BY8,\"!\",BG$1))","v":0},{"$f":"LOOKUP($BY8,HandicapLookup)","v":12},{"$f":"BG8-BH8","v":-12},null,{"$f":"INDIRECT(CONCATENATE($BY8,\"!\",BK$1))","v":0},{"$f":"LOOKUP($BY8,HandicapLookup)","v":12},{"$f":"BK8-BL8","v":-12},null,{"$f":"J8+N8+R8+V8+Z8+AD8+AH8+AL8+AP8+AT8+AX8+BB8+BF8+BJ8+BN8","v":0},null,{"$f":"McLaughlin!C44","v":0},null,{"$f":"BO8+BQ8","v":0},{"$f":"McLaughlin!E44","v":0},{"$f":"IFERROR((BO8+BQ8)/BT8,0)","v":0},{"$f":"A8","v":"Brian McGlaughlin"},{"$f":"FIND(\" \",BV8)","v":6},{"$f":"MID(BV8,BW8,99)","v":" McGlaughlin"},"mclaughlin",null,{"$f":"MIN(G8,K8,O8,S8,W8,AA8,AE8,AI8,AM8,AQ8,AU8,AY8,BC8,BG8,BK8)","v":0},{"$f":"MIN(H8,L8,P8,T8,X8,AB8,AF8,AJ8,AN8,AR8,AV8,AZ8,BD8,BH8,BL8)","v":12},{"$f":"MIN(I8,M8,Q8,U8,Y8,AC8,AG8,AK8,AO8,AS8,AW8,BA8,BE8,BI8,BM8)","v":-12},{"$f":"MAX(G8,K8,O8,S8,W8,AA8,AE8,AI8,AM8,AQ8,AU8,AY8,BC8,BG8,BK8)","v":0},{"$f":"MAX(H8,L8,P8,T8,X8,AB8,AF8,AJ8,AN8,AR8,AV8,AZ8,BD8,BH8,BL8)","v":12},{"$f":"MAX(I8,M8,Q8,U8,Y8,AC8,AG8,AK8,AO8,AS8,AW8,BA8,BE8,BI8,BM8)","v":-12}]
[{"$f":"INDIRECT(CONCATENATE(BY9,\"!A1\"))","v":"Dan Fusco"},null,null,null,null,600,{"$f":"INDIRECT(CONCATENATE($BY9,\"!\",G$1))","v":0},{"$f":"LOOKUP($BY9,HandicapLookup)","v":8},{"$f":"G9-H9","v":-8},null,{"$f":"INDIRECT(CONCATENATE($BY9,\"!\",K$1))","v":0},{"$f":"LOOKUP($BY9,HandicapLookup)","v":8},{"$f":"K9-L9","v":-8},null,{"$f":"INDIRECT(CONCATENATE($BY9,\"!\",O$1))","v":0},{"$f":"LOOKUP($BY9,HandicapLookup)","v":8},{"$f":"O9-P9","v":-8},null,{"$f":"INDIRECT(CONCATENATE($BY9,\"!\",S$1))","v":0},{"$f":"LOOKUP($BY9,HandicapLookup)","v":8},{"$f":"S9-T9","v":-8},null,{"$f":"INDIRECT(CONCATENATE($BY9,\"!\",W$1))","v":0},{"$f":"LOOKUP($BY9,HandicapLookup)","v":8},{"$f":"W9-X9","v":-8},null,{"$f":"INDIRECT(CONCATENATE($BY9,\"!\",AA$1))","v":0},{"$f":"LOOKUP($BY9,HandicapLookup)","v":8},{"$f":"AA9-AB9","v":-8},null,{"$f":"INDIRECT(CONCATENATE($BY9,\"!\",AE$1))","v":0},{"$f":"LOOKUP($BY9,HandicapLookup)","v":8},{"$f":"AE9-AF9","v":-8},null,{"$f":"INDIRECT(CONCATENATE($BY9,\"!\",AI$1))","v":0},{"$f":"LOOKUP($BY9,HandicapLookup)","v":8},{"$f":"AI9-AJ9","v":-8},null,{"$f":"INDIRECT(CONCATENATE($BY9,\"!\",AM$1))","v":0},{"$f":"LOOKUP($BY9,HandicapLookup)","v":8},{"$f":"AM9-AN9","v":-8},null,{"$f":"INDIRECT(CONCATENATE($BY9,\"!\",AQ$1))","v":0},{"$f":"LOOKUP($BY9,HandicapLookup)","v":8},{"$f":"AQ9-AR9","v":-8},null,{"$f":"INDIRECT(CONCATENATE($BY9,\"!\",AU$1))","v":0},{"$f":"LOOKUP($BY9,HandicapLookup)","v":8},{"$f":"AU9-AV9","v":-8},null,{"$f":"INDIRECT(CONCATENATE($BY9,\"!\",AY$1))","v":0},{"$f":"LOOKUP($BY9,HandicapLookup)","v":8},{"$f":"AY9-AZ9","v":-8},null,{"$f":"INDIRECT(CONCATENATE($BY9,\"!\",BC$1))","v":0},{"$f":"LOOKUP($BY9,HandicapLookup)","v":8},{"$f":"BC9-BD9","v":-8},null,{"$f":"INDIRECT(CONCATENATE($BY9,\"!\",BG$1))","v":0},{"$f":"LOOKUP($BY9,HandicapLookup)","v":8},{"$f":"BG9-BH9","v":-8},null,{"$f":"INDIRECT(CONCATENATE($BY9,\"!\",BK$1))","v":0},{"$f":"LOOKUP($BY9,HandicapLookup)","v":8},{"$f":"BK9-BL9","v":-8},null,{"$f":"J9+N9+R9+V9+Z9+AD9+AH9+AL9+AP9+AT9+AX9+BB9+BF9+BJ9+BN9","v":0},null,{"$f":"Fusco_D!C44","v":0},null,{"$f":"BO9+BQ9","v":0},{"$f":"Fusco_D!E44","v":0},{"$f":"IFERROR((BO9+BQ9)/BT9,0)","v":0},{"$f":"A9","v":"Dan Fusco"},{"$f":"FIND(\" \",BV9)","v":4},{"$f":"MID(BV9,BW9,99)","v":" Fusco"},"fusco_d",null,{"$f":"MIN(G9,K9,O9,S9,W9,AA9,AE9,AI9,AM9,AQ9,AU9,AY9,BC9,BG9,BK9)","v":0},{"$f":"MIN(H9,L9,P9,T9,X9,AB9,AF9,AJ9,AN9,AR9,AV9,AZ9,BD9,BH9,BL9)","v":8},{"$f":"MIN(I9,M9,Q9,U9,Y9,AC9,AG9,AK9,AO9,AS9,AW9,BA9,BE9,BI9,BM9)","v":-8},{"$f":"MAX(G9,K9,O9,S9,W9,AA9,AE9,AI9,AM9,AQ9,AU9,AY9,BC9,BG9,BK9)","v":0},{"$f":"MAX(H9,L9,P9,T9,X9,AB9,AF9,AJ9,AN9,AR9,AV9,AZ9,BD9,BH9,BL9)","v":8},{"$f":"MAX(I9,M9,Q9,U9,Y9,AC9,AG9,AK9,AO9,AS9,AW9,BA9,BE9,BI9,BM9)","v":-8}]
[{"$f":"INDIRECT(CONCATENATE(BY10,\"!A1\"))","v":"Dan Palmerino"},null,null,null,null,500,{"$f":"INDIRECT(CONCATENATE($BY10,\"!\",G$1))","v":0},{"$f":"LOOKUP($BY10,HandicapLookup)","v":8},{"$f":"G10-H10","v":-8},null,{"$f":"INDIRECT(CONCATENATE($BY10,\"!\",K$1))","v":0},{"$f":"LOOKUP($BY10,HandicapLookup)","v":8},{"$f":"K10-L10","v":-8},null,{"$f":"INDIRECT(CONCATENATE($BY10,\"!\",O$1))","v":0},{"$f":"LOOKUP($BY10,HandicapLookup)","v":8},{"$f":"O10-P10","v":-8},null,{"$f":"INDIRECT(CONCATENATE($BY10,\"!\",S$1))","v":0},{"$f":"LOOKUP($BY10,HandicapLookup)","v":8},{"$f":"S10-T10","v":-8},null,{"$f":"INDIRECT(CONCATENATE($BY10,\"!\",W$1))","v":0},{"$f":"LOOKUP($BY10,HandicapLookup)","v":8},{"$f":"W10-X10","v":-8},null,{"$f":"INDIRECT(CONCATENATE($BY10,\"!\",AA$1))","v":0},{"$f":"LOOKUP($BY10,HandicapLookup)","v":8},{"$f":"AA10-AB10","v":-8},null,{"$f":"INDIRECT(CONCATENATE($BY10,\"!\",AE$1))","v":0},{"$f":"LOOKUP($BY10,HandicapLookup)","v":8},{"$f":"AE10-AF10","v":-8},null,{"$f":"INDIRECT(CONCATENATE($BY10,\"!\",AI$1))","v":0},{"$f":"LOOKUP($BY10,HandicapLookup)","v":8},{"$f":"AI10-AJ10","v":-8},null,{"$f":"INDIRECT(CONCATENATE($BY10,\"!\",AM$1))","v":0},{"$f":"LOOKUP($BY10,HandicapLookup)","v":8},{"$f":"AM10-AN10","v":-8},null,{"$f":"INDIRECT(CONCATENATE($BY10,\"!\",AQ$1))","v":0},{"$f":"LOOKUP($BY10,HandicapLookup)","v":8},{"$f":"AQ10-AR10","v":-8},null,{"$f":"INDIRECT(CONCATENATE($BY10,\"!\",AU$1))","v":0},{"$f":"LOOKUP($BY10,HandicapLookup)","v":8},{"$f":"AU10-AV10","v":-8},null,{"$f":"INDIRECT(CONCATENATE($BY10,\"!\",AY$1))","v":0},{"$f":"LOOKUP($BY10,HandicapLookup)","v":8},{"$f":"AY10-AZ10","v":-8},null,{"$f":"INDIRECT(CONCATENATE($BY10,\"!\",BC$1))","v":0},{"$f":"LOOKUP($BY10,HandicapLookup)","v":8},{"$f":"BC10-BD10","v":-8},null,{"$f":"INDIRECT(CONCATENATE($BY10,\"!\",BG$1))","v":0},{"$f":"LOOKUP($BY10,HandicapLookup)","v":8},{"$f":"BG10-BH10","v":-8},null,{"$f":"INDIRECT(CONCATENATE($BY10,\"!\",BK$1))","v":0},{"$f":"LOOKUP($BY10,HandicapLookup)","v":8},{"$f":"BK10-BL10","v":-8},null,{"$f":"J10+N10+R10+V10+Z10+AD10+AH10+AL10+AP10+AT10+AX10+BB10+BF10+BJ10+BN10","v":0},null,{"$f":"Palmerino!C44","v":0},null,{"$f":"BO10+BQ10","v":0},{"$f":"Palmerino!E44","v":0},{"$f":"IFERROR((BO10+BQ10)/BT10,0)","v":0},{"$f":"A10","v":"Dan Palmerino"},{"$f":"FIND(\" \",BV10)","v":4},{"$f":"MID(BV10,BW10,99)","v":" Palmerino"},"palmerino",null,{"$f":"MIN(G10,K10,O10,S10,W10,AA10,AE10,AI10,AM10,AQ10,AU10,AY10,BC10,BG10,BK10)","v":0},{"$f":"MIN(H10,L10,P10,T10,X10,AB10,AF10,AJ10,AN10,AR10,AV10,AZ10,BD10,BH10,BL10)","v":8},{"$f":"MIN(I10,M10,Q10,U10,Y10,AC10,AG10,AK10,AO10,AS10,AW10,BA10,BE10,BI10,BM10)","v":-8},{"$f":"MAX(G10,K10,O10,S10,W10,AA10,AE10,AI10,AM10,AQ10,AU10,AY10,BC10,BG10,BK10)","v":0},{"$f":"MAX(H10,L10,P10,T10,X10,AB10,AF10,AJ10,AN10,AR10,AV10,AZ10,BD10,BH10,BL10)","v":8},{"$f":"MAX(I10,M10,Q10,U10,Y10,AC10,AG10,AK10,AO10,AS10,AW10,BA10,BE10,BI10,BM10)","v":-8}]
[{"$f":"INDIRECT(CONCATENATE(BY11,\"!A1\"))","v":"Dave Taylor"},null,null,null,null,450,{"$f":"INDIRECT(CONCATENATE($BY11,\"!\",G$1))","v":0},{"$f":"LOOKUP($BY11,HandicapLookup)","v":13},{"$f":"G11-H11","v":-13},null,{"$f":"INDIRECT(CONCATENATE($BY11,\"!\",K$1))","v":0},{"$f":"LOOKUP($BY11,HandicapLookup)","v":13},{"$f":"K11-L11","v":-13},null,{"$f":"INDIRECT(CONCATENATE($BY11,\"!\",O$1))","v":0},{"$f":"LOOKUP($BY11,HandicapLookup)","v":13},{"$f":"O11-P11","v":-13},null,{"$f":"INDIRECT(CONCATENATE($BY11,\"!\",S$1))","v":0},{"$f":"LOOKUP($BY11,HandicapLookup)","v":13},{"$f":"S11-T11","v":-13},null,{"$f":"INDIRECT(CONCATENATE($BY11,\"!\",W$1))","v":0},{"$f":"LOOKUP($BY11,HandicapLookup)","v":13},{"$f":"W11-X11","v":-13},null,{"$f":"INDIRECT(CONCATENATE($BY11,\"!\",AA$1))","v":0},{"$f":"LOOKUP($BY11,HandicapLookup)","v":13},{"$f":"AA11-AB11","v":-13},null,{"$f":"INDIRECT(CONCATENATE($BY11,\"!\",AE$1))","v":0},{"$f":"LOOKUP($BY11,HandicapLookup)","v":13},{"$f":"AE11-AF11","v":-13},null,{"$f":"INDIRECT(CONCATENATE($BY11,\"!\",AI$1))","v":0},{"$f":"LOOKUP($BY11,HandicapLookup)","v":13},{"$f":"AI11-AJ11","v":-13},null,{"$f":"INDIRECT(CONCATENATE($BY11,\"!\",AM$1))","v":0},{"$f":"LOOKUP($BY11,HandicapLookup)","v":13},{"$f":"AM11-AN11","v":-13},null,{"$f":"INDIRECT(CONCATENATE($BY11,\"!\",AQ$1))","v":0},{"$f":"LOOKUP($BY11,HandicapLookup)","v":13},{"$f":"AQ11-AR11","v":-13},null,{"$f":"INDIRECT(CONCATENATE($BY11,\"!\",AU$1))","v":0},{"$f":"LOOKUP($BY11,HandicapLookup)","v":13},{"$f":"AU11-AV11","v":-13},null,{"$f":"INDIRECT(CONCATENATE($BY11,\"!\",AY$1))","v":0},{"$f":"LOOKUP($BY11,HandicapLookup)","v":13},{"$f":"AY11-AZ11","v":-13},null,{"$f":"INDIRECT(CONCATENATE($BY11,\"!\",BC$1))","v":0},{"$f":"LOOKUP($BY11,HandicapLookup)","v":13},{"$f":"BC11-BD11","v":-13},null,{"$f":"INDIRECT(CONCATENATE($BY11,\"!\",BG$1))","v":0},{"$f":"LOOKUP($BY11,HandicapLookup)","v":13},{"$f":"BG11-BH11","v":-13},null,{"$f":"INDIRECT(CONCATENATE($BY11,\"!\",BK$1))","v":0},{"$f":"LOOKUP($BY11,HandicapLookup)","v":13},{"$f":"BK11-BL11","v":-13},null,{"$f":"J11+N11+R11+V11+Z11+AD11+AH11+AL11+AP11+AT11+AX11+BB11+BF11+BJ11+BN11","v":0},null,{"$f":"Taylor!C44","v":0},null,{"$f":"BO11+BQ11","v":0},{"$f":"Taylor!E44","v":0},{"$f":"IFERROR((BO11+BQ11)/BT11,0)","v":0},{"$f":"A11","v":"Dave Taylor"},{"$f":"FIND(\" \",BV11)","v":5},{"$f":"MID(BV11,BW11,99)","v":" Taylor"},"taylor",null,{"$f":"MIN(G11,K11,O11,S11,W11,AA11,AE11,AI11,AM11,AQ11,AU11,AY11,BC11,BG11,BK11)","v":0},{"$f":"MIN(H11,L11,P11,T11,X11,AB11,AF11,AJ11,AN11,AR11,AV11,AZ11,BD11,BH11,BL11)","v":13},{"$f":"MIN(I11,M11,Q11,U11,Y11,AC11,AG11,AK11,AO11,AS11,AW11,BA11,BE11,BI11,BM11)","v":-13},{"$f":"MAX(G11,K11,O11,S11,W11,AA11,AE11,AI11,AM11,AQ11,AU11,AY11,BC11,BG11,BK11)","v":0},{"$f":"MAX(H11,L11,P11,T11,X11,AB11,AF11,AJ11,AN11,AR11,AV11,AZ11,BD11,BH11,BL11)","v":13},{"$f":"MAX(I11,M11,Q11,U11,Y11,AC11,AG11,AK11,AO11,AS11,AW11,BA11,BE11,BI11,BM11)","v":-13}]
[{"$f":"INDIRECT(CONCATENATE(BY12,\"!A1\"))","v":"Glenn Kreig"},null,null,null,null,1000,{"$f":"INDIRECT(CONCATENATE($BY12,\"!\",G$1))","v":0},{"$f":"LOOKUP($BY12,HandicapLookup)","v":13},{"$f":"G12-H12","v":-13},null,{"$f":"INDIRECT(CONCATENATE($BY12,\"!\",K$1))","v":0},{"$f":"LOOKUP($BY12,HandicapLookup)","v":13},{"$f":"K12-L12","v":-13},null,{"$f":"INDIRECT(CONCATENATE($BY12,\"!\",O$1))","v":0},{"$f":"LOOKUP($BY12,HandicapLookup)","v":13},{"$f":"O12-P12","v":-13},null,{"$f":"INDIRECT(CONCATENATE($BY12,\"!\",S$1))","v":0},{"$f":"LOOKUP($BY12,HandicapLookup)","v":13},{"$f":"S12-T12","v":-13},null,{"$f":"INDIRECT(CONCATENATE($BY12,\"!\",W$1))","v":0},{"$f":"LOOKUP($BY12,HandicapLookup)","v":13},{"$f":"W12-X12","v":-13},null,{"$f":"INDIRECT(CONCATENATE($BY12,\"!\",AA$1))","v":0},{"$f":"LOOKUP($BY12,HandicapLookup)","v":13},{"$f":"AA12-AB12","v":-13},null,{"$f":"INDIRECT(CONCATENATE($BY12,\"!\",AE$1))","v":0},{"$f":"LOOKUP($BY12,HandicapLookup)","v":13},{"$f":"AE12-AF12","v":-13},null,{"$f":"INDIRECT(CONCATENATE($BY12,\"!\",AI$1))","v":0},{"$f":"LOOKUP($BY12,HandicapLookup)","v":13},{"$f":"AI12-AJ12","v":-13},null,{"$f":"INDIRECT(CONCATENATE($BY12,\"!\",AM$1))","v":0},{"$f":"LOOKUP($BY12,HandicapLookup)","v":13},{"$f":"AM12-AN12","v":-13},null,{"$f":"INDIRECT(CONCATENATE($BY12,\"!\",AQ$1))","v":0},{"$f":"LOOKUP($BY12,HandicapLookup)","v":13},{"$f":"AQ12-AR12","v":-13},null,{"$f":"INDIRECT(CONCATENATE($BY12,\"!\",AU$1))","v":0},{"$f":"LOOKUP($BY12,HandicapLookup)","v":13},{"$f":"AU12-AV12","v":-13},null,{"$f":"INDIRECT(CONCATENATE($BY12,\"!\",AY$1))","v":0},{"$f":"LOOKUP($BY12,HandicapLookup)","v":13},{"$f":"AY12-AZ12","v":-13},null,{"$f":"INDIRECT(CONCATENATE($BY12,\"!\",BC$1))","v":0},{"$f":"LOOKUP($BY12,HandicapLookup)","v":13},{"$f":"BC12-BD12","v":-13},null,{"$f":"INDIRECT(CONCATENATE($BY12,\"!\",BG$1))","v":0},{"$f":"LOOKUP($BY12,HandicapLookup)","v":13},{"$f":"BG12-BH12","v":-13},null,{"$f":"INDIRECT(CONCATENATE($BY12,\"!\",BK$1))","v":0},{"$f":"LOOKUP($BY12,HandicapLookup)","v":13},{"$f":"BK12-BL12","v":-13},null,{"$f":"J12+N12+R12+V12+Z12+AD12+AH12+AL12+AP12+AT12+AX12+BB12+BF12+BJ12+BN12","v":0},null,{"$f":"Kreig!C44","v":0},null,{"$f":"BO12+BQ12","v":0},{"$f":"Kreig!E44","v":0},{"$f":"IFERROR((BO12+BQ12)/BT12,0)","v":0},{"$f":"A12","v":"Glenn Kreig"},{"$f":"FIND(\" \",BV12)","v":6},{"$f":"MID(BV12,BW12,99)","v":" Kreig"},"kreig",null,{"$f":"MIN(G12,K12,O12,S12,W12,AA12,AE12,AI12,AM12,AQ12,AU12,AY12,BC12,BG12,BK12)","v":0},{"$f":"MIN(H12,L12,P12,T12,X12,AB12,AF12,AJ12,AN12,AR12,AV12,AZ12,BD12,BH12,BL12)","v":13},{"$f":"MIN(I12,M12,Q12,U12,Y12,AC12,AG12,AK12,AO12,AS12,AW12,BA12,BE12,BI12,BM12)","v":-13},{"$f":"MAX(G12,K12,O12,S12,W12,AA12,AE12,AI12,AM12,AQ12,AU12,AY12,BC12,BG12,BK12)","v":0},{"$f":"MAX(H12,L12,P12,T12,X12,AB12,AF12,AJ12,AN12,AR12,AV12,AZ12,BD12,BH12,BL12)","v":13},{"$f":"MAX(I12,M12,Q12,U12,Y12,AC12,AG12,AK12,AO12,AS12,AW12,BA12,BE12,BI12,BM12)","v":-13}]
[{"$f":"INDIRECT(CONCATENATE(BY13,\"!A1\"))","v":"Jim Daviero"},null,null,null,null,300,{"$f":"INDIRECT(CONCATENATE($BY13,\"!\",G$1))","v":0},{"$f":"LOOKUP($BY13,HandicapLookup)","v":9},{"$f":"G13-H13","v":-9},null,{"$f":"INDIRECT(CONCATENATE($BY13,\"!\",K$1))","v":0},{"$f":"LOOKUP($BY13,HandicapLookup)","v":9},{"$f":"K13-L13","v":-9},null,{"$f":"INDIRECT(CONCATENATE($BY13,\"!\",O$1))","v":0},{"$f":"LOOKUP($BY13,HandicapLookup)","v":9},{"$f":"O13-P13","v":-9},null,{"$f":"INDIRECT(CONCATENATE($BY13,\"!\",S$1))","v":0},{"$f":"LOOKUP($BY13,HandicapLookup)","v":9},{"$f":"S13-T13","v":-9},null,{"$f":"INDIRECT(CONCATENATE($BY13,\"!\",W$1))","v":0},{"$f":"LOOKUP($BY13,HandicapLookup)","v":9},{"$f":"W13-X13","v":-9},null,{"$f":"INDIRECT(CONCATENATE($BY13,\"!\",AA$1))","v":0},{"$f":"LOOKUP($BY13,HandicapLookup)","v":9},{"$f":"AA13-AB13","v":-9},null,{"$f":"INDIRECT(CONCATENATE($BY13,\"!\",AE$1))","v":0},{"$f":"LOOKUP($BY13,HandicapLookup)","v":9},{"$f":"AE13-AF13","v":-9},null,{"$f":"INDIRECT(CONCATENATE($BY13,\"!\",AI$1))","v":0},{"$f":"LOOKUP($BY13,HandicapLookup)","v":9},{"$f":"AI13-AJ13","v":-9},null,{"$f":"INDIRECT(CONCATENATE($BY13,\"!\",AM$1))","v":0},{"$f":"LOOKUP($BY13,HandicapLookup)","v":9},{"$f":"AM13-AN13","v":-9},null,{"$f":"INDIRECT(CONCATENATE($BY13,\"!\",AQ$1))","v":0},{"$f":"LOOKUP($BY13,HandicapLookup)","v":9},{"$f":"AQ13-AR13","v":-9},null,{"$f":"INDIRECT(CONCATENATE($BY13,\"!\",AU$1))","v":0},{"$f":"LOOKUP($BY13,HandicapLookup)","v":9},{"$f":"AU13-AV13","v":-9},null,{"$f":"INDIRECT(CONCATENATE($BY13,\"!\",AY$1))","v":0},{"$f":"LOOKUP($BY13,HandicapLookup)","v":9},{"$f":"AY13-AZ13","v":-9},null,{"$f":"INDIRECT(CONCATENATE($BY13,\"!\",BC$1))","v":0},{"$f":"LOOKUP($BY13,HandicapLookup)","v":9},{"$f":"BC13-BD13","v":-9},null,{"$f":"INDIRECT(CONCATENATE($BY13,\"!\",BG$1))","v":0},{"$f":"LOOKUP($BY13,HandicapLookup)","v":9},{"$f":"BG13-BH13","v":-9},null,{"$f":"INDIRECT(CONCATENATE($BY13,\"!\",BK$1))","v":0},{"$f":"LOOKUP($BY13,HandicapLookup)","v":9},{"$f":"BK13-BL13","v":-9},null,{"$f":"J13+N13+R13+V13+Z13+AD13+AH13+AL13+AP13+AT13+AX13+BB13+BF13+BJ13+BN13","v":0},null,{"$f":"Daviero!C44","v":0},null,{"$f":"BO13+BQ13","v":0},{"$f":"Daviero!E44","v":0},{"$f":"IFERROR((BO13+BQ13)/BT13,0)","v":0},{"$f":"A13","v":"Jim Daviero"},{"$f":"FIND(\" \",BV13)","v":4},{"$f":"MID(BV13,BW13,99)","v":" Daviero"},"daviero",null,{"$f":"MIN(G13,K13,O13,S13,W13,AA13,AE13,AI13,AM13,AQ13,AU13,AY13,BC13,BG13,BK13)","v":0},{"$f":"MIN(H13,L13,P13,T13,X13,AB13,AF13,AJ13,AN13,AR13,AV13,AZ13,BD13,BH13,BL13)","v":9},{"$f":"MIN(I13,M13,Q13,U13,Y13,AC13,AG13,AK13,AO13,AS13,AW13,BA13,BE13,BI13,BM13)","v":-9},{"$f":"MAX(G13,K13,O13,S13,W13,AA13,AE13,AI13,AM13,AQ13,AU13,AY13,BC13,BG13,BK13)","v":0},{"$f":"MAX(H13,L13,P13,T13,X13,AB13,AF13,AJ13,AN13,AR13,AV13,AZ13,BD13,BH13,BL13)","v":9},{"$f":"MAX(I13,M13,Q13,U13,Y13,AC13,AG13,AK13,AO13,AS13,AW13,BA13,BE13,BI13,BM13)","v":-9}]
[{"$f":"INDIRECT(CONCATENATE(BY14,\"!A1\"))","v":"Mark Rusnak"},null,null,null,null,2500,{"$f":"INDIRECT(CONCATENATE($BY14,\"!\",G$1))","v":0},{"$f":"LOOKUP($BY14,HandicapLookup)","v":3},{"$f":"G14-H14","v":-3},null,{"$f":"INDIRECT(CONCATENATE($BY14,\"!\",K$1))","v":0},{"$f":"LOOKUP($BY14,HandicapLookup)","v":3},{"$f":"K14-L14","v":-3},null,{"$f":"INDIRECT(CONCATENATE($BY14,\"!\",O$1))","v":0},{"$f":"LOOKUP($BY14,HandicapLookup)","v":3},{"$f":"O14-P14","v":-3},null,{"$f":"INDIRECT(CONCATENATE($BY14,\"!\",S$1))","v":0},{"$f":"LOOKUP($BY14,HandicapLookup)","v":3},{"$f":"S14-T14","v":-3},null,{"$f":"INDIRECT(CONCATENATE($BY14,\"!\",W$1))","v":0},{"$f":"LOOKUP($BY14,HandicapLookup)","v":3},{"$f":"W14-X14","v":-3},null,{"$f":"INDIRECT(CONCATENATE($BY14,\"!\",AA$1))","v":0},{"$f":"LOOKUP($BY14,HandicapLookup)","v":3},{"$f":"AA14-AB14","v":-3},null,{"$f":"INDIRECT(CONCATENATE($BY14,\"!\",AE$1))","v":0},{"$f":"LOOKUP($BY14,HandicapLookup)","v":3},{"$f":"AE14-AF14","v":-3},null,{"$f":"INDIRECT(CONCATENATE($BY14,\"!\",AI$1))","v":0},{"$f":"LOOKUP($BY14,HandicapLookup)","v":3},{"$f":"AI14-AJ14","v":-3},null,{"$f":"INDIRECT(CONCATENATE($BY14,\"!\",AM$1))","v":0},{"$f":"LOOKUP($BY14,HandicapLookup)","v":3},{"$f":"AM14-AN14","v":-3},null,{"$f":"INDIRECT(CONCATENATE($BY14,\"!\",AQ$1))","v":0},{"$f":"LOOKUP($BY14,HandicapLookup)","v":3},{"$f":"AQ14-AR14","v":-3},null,{"$f":"INDIRECT(CONCATENATE($BY14,\"!\",AU$1))","v":0},{"$f":"LOOKUP($BY14,HandicapLookup)","v":3},{"$f":"AU14-AV14","v":-3},null,{"$f":"INDIRECT(CONCATENATE($BY14,\"!\",AY$1))","v":0},{"$f":"LOOKUP($BY14,HandicapLookup)","v":3},{"$f":"AY14-AZ14","v":-3},null,{"$f":"INDIRECT(CONCATENATE($BY14,\"!\",BC$1))","v":0},{"$f":"LOOKUP($BY14,HandicapLookup)","v":3},{"$f":"BC14-BD14","v":-3},null,{"$f":"INDIRECT(CONCATENATE($BY14,\"!\",BG$1))","v":0},{"$f":"LOOKUP($BY14,HandicapLookup)","v":3},{"$f":"BG14-BH14","v":-3},null,{"$f":"INDIRECT(CONCATENATE($BY14,\"!\",BK$1))","v":0},{"$f":"LOOKUP($BY14,HandicapLookup)","v":3},{"$f":"BK14-BL14","v":-3},null,{"$f":"J14+N14+R14+V14+Z14+AD14+AH14+AL14+AP14+AT14+AX14+BB14+BF14+BJ14+BN14","v":0},null,{"$f":"Rusnak!C44","v":0},null,{"$f":"BO14+BQ14","v":0},{"$f":"Rusnak!E44","v":0},{"$f":"IFERROR((BO14+BQ14)/BT14,0)","v":0},{"$f":"A14","v":"Mark Rusnak"},{"$f":"FIND(\" \",BV14)","v":5},{"$f":"MID(BV14,BW14,99)","v":" Rusnak"},"rusnak",null,{"$f":"MIN(G14,K14,O14,S14,W14,AA14,AE14,AI14,AM14,AQ14,AU14,AY14,BC14,BG14,BK14)","v":0},{"$f":"MIN(H14,L14,P14,T14,X14,AB14,AF14,AJ14,AN14,AR14,AV14,AZ14,BD14,BH14,BL14)","v":3},{"$f":"MIN(I14,M14,Q14,U14,Y14,AC14,AG14,AK14,AO14,AS14,AW14,BA14,BE14,BI14,BM14)","v":-3},{"$f":"MAX(G14,K14,O14,S14,W14,AA14,AE14,AI14,AM14,AQ14,AU14,AY14,BC14,BG14,BK14)","v":0},{"$f":"MAX(H14,L14,P14,T14,X14,AB14,AF14,AJ14,AN14,AR14,AV14,AZ14,BD14,BH14,BL14)","v":3},{"$f":"MAX(I14,M14,Q14,U14,Y14,AC14,AG14,AK14,AO14,AS14,AW14,BA14,BE14,BI14,BM14)","v":-3}]
[{"$f":"INDIRECT(CONCATENATE(BY15,\"!A1\"))","v":"Pete Michalski"},null,null,null,null,250,{"$f":"INDIRECT(CONCATENATE($BY15,\"!\",G$1))","v":0},{"$f":"LOOKUP($BY15,HandicapLookup)","v":19},{"$f":"G15-H15","v":-19},null,{"$f":"INDIRECT(CONCATENATE($BY15,\"!\",K$1))","v":0},{"$f":"LOOKUP($BY15,HandicapLookup)","v":19},{"$f":"K15-L15","v":-19},null,{"$f":"INDIRECT(CONCATENATE($BY15,\"!\",O$1))","v":0},{"$f":"LOOKUP($BY15,HandicapLookup)","v":19},{"$f":"O15-P15","v":-19},null,{"$f":"INDIRECT(CONCATENATE($BY15,\"!\",S$1))","v":0},{"$f":"LOOKUP($BY15,HandicapLookup)","v":19},{"$f":"S15-T15","v":-19},null,{"$f":"INDIRECT(CONCATENATE($BY15,\"!\",W$1))","v":0},{"$f":"LOOKUP($BY15,HandicapLookup)","v":19},{"$f":"W15-X15","v":-19},null,{"$f":"INDIRECT(CONCATENATE($BY15,\"!\",AA$1))","v":0},{"$f":"LOOKUP($BY15,HandicapLookup)","v":19},{"$f":"AA15-AB15","v":-19},null,{"$f":"INDIRECT(CONCATENATE($BY15,\"!\",AE$1))","v":0},{"$f":"LOOKUP($BY15,HandicapLookup)","v":19},{"$f":"AE15-AF15","v":-19},null,{"$f":"INDIRECT(CONCATENATE($BY15,\"!\",AI$1))","v":0},{"$f":"LOOKUP($BY15,HandicapLookup)","v":19},{"$f":"AI15-AJ15","v":-19},null,{"$f":"INDIRECT(CONCATENATE($BY15,\"!\",AM$1))","v":0},{"$f":"LOOKUP($BY15,HandicapLookup)","v":19},{"$f":"AM15-AN15","v":-19},null,{"$f":"INDIRECT(CONCATENATE($BY15,\"!\",AQ$1))","v":0},{"$f":"LOOKUP($BY15,HandicapLookup)","v":19},{"$f":"AQ15-AR15","v":-19},null,{"$f":"INDIRECT(CONCATENATE($BY15,\"!\",AU$1))","v":0},{"$f":"LOOKUP($BY15,HandicapLookup)","v":19},{"$f":"AU15-AV15","v":-19},null,{"$f":"INDIRECT(CONCATENATE($BY15,\"!\",AY$1))","v":0},{"$f":"LOOKUP($BY15,HandicapLookup)","v":19},{"$f":"AY15-AZ15","v":-19},null,{"$f":"INDIRECT(CONCATENATE($BY15,\"!\",BC$1))","v":0},{"$f":"LOOKUP($BY15,HandicapLookup)","v":19},{"$f":"BC15-BD15","v":-19},null,{"$f":"INDIRECT(CONCATENATE($BY15,\"!\",BG$1))","v":0},{"$f":"LOOKUP($BY15,HandicapLookup)","v":19},{"$f":"BG15-BH15","v":-19},null,{"$f":"INDIRECT(CONCATENATE($BY15,\"!\",BK$1))","v":0},{"$f":"LOOKUP($BY15,HandicapLookup)","v":19},{"$f":"BK15-BL15","v":-19},null,{"$f":"J15+N15+R15+V15+Z15+AD15+AH15+AL15+AP15+AT15+AX15+BB15+BF15+BJ15+BN15","v":0},null,{"$f":"Michalski_P!C44","v":0},null,{"$f":"BO15+BQ15","v":0},{"$f":"Michalski_P!E44","v":0},{"$f":"IFERROR((BO15+BQ15)/BT15,0)","v":0},{"$f":"A15","v":"Pete Michalski"},{"$f":"FIND(\" \",BV15)","v":5},{"$f":"MID(BV15,BW15,99)","v":" Michalski"},"michalski_p",null,{"$f":"MIN(G15,K15,O15,S15,W15,AA15,AE15,AI15,AM15,AQ15,AU15,AY15,BC15,BG15,BK15)","v":0},{"$f":"MIN(H15,L15,P15,T15,X15,AB15,AF15,AJ15,AN15,AR15,AV15,AZ15,BD15,BH15,BL15)","v":19},{"$f":"MIN(I15,M15,Q15,U15,Y15,AC15,AG15,AK15,AO15,AS15,AW15,BA15,BE15,BI15,BM15)","v":-19},{"$f":"MAX(G15,K15,O15,S15,W15,AA15,AE15,AI15,AM15,AQ15,AU15,AY15,BC15,BG15,BK15)","v":0},{"$f":"MAX(H15,L15,P15,T15,X15,AB15,AF15,AJ15,AN15,AR15,AV15,AZ15,BD15,BH15,BL15)","v":19},{"$f":"MAX(I15,M15,Q15,U15,Y15,AC15,AG15,AK15,AO15,AS15,AW15,BA15,BE15,BI15,BM15)","v":-19}]
[{"$f":"INDIRECT(CONCATENATE(BY16,\"!A1\"))","v":"Steve Fusco"},null,null,null,null,700,{"$f":"INDIRECT(CONCATENATE($BY16,\"!\",G$1))","v":0},{"$f":"LOOKUP($BY16,HandicapLookup)","v":12},{"$f":"G16-H16","v":-12},null,{"$f":"INDIRECT(CONCATENATE($BY16,\"!\",K$1))","v":0},{"$f":"LOOKUP($BY16,HandicapLookup)","v":12},{"$f":"K16-L16","v":-12},null,{"$f":"INDIRECT(CONCATENATE($BY16,\"!\",O$1))","v":0},{"$f":"LOOKUP($BY16,HandicapLookup)","v":12},{"$f":"O16-P16","v":-12},null,{"$f":"INDIRECT(CONCATENATE($BY16,\"!\",S$1))","v":0},{"$f":"LOOKUP($BY16,HandicapLookup)","v":12},{"$f":"S16-T16","v":-12},null,{"$f":"INDIRECT(CONCATENATE($BY16,\"!\",W$1))","v":0},{"$f":"LOOKUP($BY16,HandicapLookup)","v":12},{"$f":"W16-X16","v":-12},null,{"$f":"INDIRECT(CONCATENATE($BY16,\"!\",AA$1))","v":0},{"$f":"LOOKUP($BY16,HandicapLookup)","v":12},{"$f":"AA16-AB16","v":-12},null,{"$f":"INDIRECT(CONCATENATE($BY16,\"!\",AE$1))","v":0},{"$f":"LOOKUP($BY16,HandicapLookup)","v":12},{"$f":"AE16-AF16","v":-12},null,{"$f":"INDIRECT(CONCATENATE($BY16,\"!\",AI$1))","v":0},{"$f":"LOOKUP($BY16,HandicapLookup)","v":12},{"$f":"AI16-AJ16","v":-12},null,{"$f":"INDIRECT(CONCATENATE($BY16,\"!\",AM$1))","v":0},{"$f":"LOOKUP($BY16,HandicapLookup)","v":12},{"$f":"AM16-AN16","v":-12},null,{"$f":"INDIRECT(CONCATENATE($BY16,\"!\",AQ$1))","v":0},{"$f":"LOOKUP($BY16,HandicapLookup)","v":12},{"$f":"AQ16-AR16","v":-12},null,{"$f":"INDIRECT(CONCATENATE($BY16,\"!\",AU$1))","v":0},{"$f":"LOOKUP($BY16,HandicapLookup)","v":12},{"$f":"AU16-AV16","v":-12},null,{"$f":"INDIRECT(CONCATENATE($BY16,\"!\",AY$1))","v":0},{"$f":"LOOKUP($BY16,HandicapLookup)","v":12},{"$f":"AY16-AZ16","v":-12},null,{"$f":"INDIRECT(CONCATENATE($BY16,\"!\",BC$1))","v":0},{"$f":"LOOKUP($BY16,HandicapLookup)","v":12},{"$f":"BC16-BD16","v":-12},null,{"$f":"INDIRECT(CONCATENATE($BY16,\"!\",BG$1))","v":0},{"$f":"LOOKUP($BY16,HandicapLookup)","v":12},{"$f":"BG16-BH16","v":-12},null,{"$f":"INDIRECT(CONCATENATE($BY16,\"!\",BK$1))","v":0},{"$f":"LOOKUP($BY16,HandicapLookup)","v":12},{"$f":"BK16-BL16","v":-12},null,{"$f":"J16+N16+R16+V16+Z16+AD16+AH16+AL16+AP16+AT16+AX16+BB16+BF16+BJ16+BN16","v":0},null,{"$f":"Fusco_S!C44","v":0},null,{"$f":"BO16+BQ16","v":0},{"$f":"Fusco_S!E44","v":0},{"$f":"IFERROR((BO16+BQ16)/BT16,0)","v":0},{"$f":"A16","v":"Steve Fusco"},{"$f":"FIND(\" \",BV16)","v":6},{"$f":"MID(BV16,BW16,99)","v":" Fusco"},"fusco_s",null,{"$f":"MIN(G16,K16,O16,S16,W16,AA16,AE16,AI16,AM16,AQ16,AU16,AY16,BC16,BG16,BK16)","v":0},{"$f":"MIN(H16,L16,P16,T16,X16,AB16,AF16,AJ16,AN16,AR16,AV16,AZ16,BD16,BH16,BL16)","v":12},{"$f":"MIN(I16,M16,Q16,U16,Y16,AC16,AG16,AK16,AO16,AS16,AW16,BA16,BE16,BI16,BM16)","v":-12},{"$f":"MAX(G16,K16,O16,S16,W16,AA16,AE16,AI16,AM16,AQ16,AU16,AY16,BC16,BG16,BK16)","v":0},{"$f":"MAX(H16,L16,P16,T16,X16,AB16,AF16,AJ16,AN16,AR16,AV16,AZ16,BD16,BH16,BL16)","v":12},{"$f":"MAX(I16,M16,Q16,U16,Y16,AC16,AG16,AK16,AO16,AS16,AW16,BA16,BE16,BI16,BM16)","v":-12}]
[{"$f":"INDIRECT(CONCATENATE(BY17,\"!A1\"))","v":"Sue Michalski"},null,null,null,null,200,{"$f":"INDIRECT(CONCATENATE($BY17,\"!\",G$1))","v":0},{"$f":"LOOKUP($BY17,HandicapLookup)","v":21},{"$f":"G17-H17","v":-21},null,{"$f":"INDIRECT(CONCATENATE($BY17,\"!\",K$1))","v":0},{"$f":"LOOKUP($BY17,HandicapLookup)","v":21},{"$f":"K17-L17","v":-21},null,{"$f":"INDIRECT(CONCATENATE($BY17,\"!\",O$1))","v":0},{"$f":"LOOKUP($BY17,HandicapLookup)","v":21},{"$f":"O17-P17","v":-21},null,{"$f":"INDIRECT(CONCATENATE($BY17,\"!\",S$1))","v":0},{"$f":"LOOKUP($BY17,HandicapLookup)","v":21},{"$f":"S17-T17","v":-21},null,{"$f":"INDIRECT(CONCATENATE($BY17,\"!\",W$1))","v":0},{"$f":"LOOKUP($BY17,HandicapLookup)","v":21},{"$f":"W17-X17","v":-21},null,{"$f":"INDIRECT(CONCATENATE($BY17,\"!\",AA$1))","v":0},{"$f":"LOOKUP($BY17,HandicapLookup)","v":21},{"$f":"AA17-AB17","v":-21},null,{"$f":"INDIRECT(CONCATENATE($BY17,\"!\",AE$1))","v":0},{"$f":"LOOKUP($BY17,HandicapLookup)","v":21},{"$f":"AE17-AF17","v":-21},null,{"$f":"INDIRECT(CONCATENATE($BY17,\"!\",AI$1))","v":0},{"$f":"LOOKUP($BY17,HandicapLookup)","v":21},{"$f":"AI17-AJ17","v":-21},null,{"$f":"INDIRECT(CONCATENATE($BY17,\"!\",AM$1))","v":0},{"$f":"LOOKUP($BY17,HandicapLookup)","v":21},{"$f":"AM17-AN17","v":-21},null,{"$f":"INDIRECT(CONCATENATE($BY17,\"!\",AQ$1))","v":0},{"$f":"LOOKUP($BY17,HandicapLookup)","v":21},{"$f":"AQ17-AR17","v":-21},null,{"$f":"INDIRECT(CONCATENATE($BY17,\"!\",AU$1))","v":0},{"$f":"LOOKUP($BY17,HandicapLookup)","v":21},{"$f":"AU17-AV17","v":-21},null,{"$f":"INDIRECT(CONCATENATE($BY17,\"!\",AY$1))","v":0},{"$f":"LOOKUP($BY17,HandicapLookup)","v":21},{"$f":"AY17-AZ17","v":-21},null,{"$f":"INDIRECT(CONCATENATE($BY17,\"!\",BC$1))","v":0},{"$f":"LOOKUP($BY17,HandicapLookup)","v":21},{"$f":"BC17-BD17","v":-21},null,{"$f":"INDIRECT(CONCATENATE($BY17,\"!\",BG$1))","v":0},{"$f":"LOOKUP($BY17,HandicapLookup)","v":21},{"$f":"BG17-BH17","v":-21},null,{"$f":"INDIRECT(CONCATENATE($BY17,\"!\",BK$1))","v":0},{"$f":"LOOKUP($BY17,HandicapLookup)","v":21},{"$f":"BK17-BL17","v":-21},null,{"$f":"J17+N17+R17+V17+Z17+AD17+AH17+AL17+AP17+AT17+AX17+BB17+BF17+BJ17+BN17","v":0},null,{"$f":"Michalski_S!C44","v":0},null,{"$f":"BO17+BQ17","v":0},{"$f":"Michalski_S!E44","v":0},{"$f":"IFERROR((BO17+BQ17)/BT17,0)","v":0},{"$f":"A17","v":"Sue Michalski"},{"$f":"FIND(\" \",BV17)","v":4},{"$f":"MID(BV17,BW17,99)","v":" Michalski"},"michalski_s",null,{"$f":"MIN(G17,K17,O17,S17,W17,AA17,AE17,AI17,AM17,AQ17,AU17,AY17,BC17,BG17,BK17)","v":0},{"$f":"MIN(H17,L17,P17,T17,X17,AB17,AF17,AJ17,AN17,AR17,AV17,AZ17,BD17,BH17,BL17)","v":21},{"$f":"MIN(I17,M17,Q17,U17,Y17,AC17,AG17,AK17,AO17,AS17,AW17,BA17,BE17,BI17,BM17)","v":-21},{"$f":"MAX(G17,K17,O17,S17,W17,AA17,AE17,AI17,AM17,AQ17,AU17,AY17,BC17,BG17,BK17)","v":0},{"$f":"MAX(H17,L17,P17,T17,X17,AB17,AF17,AJ17,AN17,AR17,AV17,AZ17,BD17,BH17,BL17)","v":21},{"$f":"MAX(I17,M17,Q17,U17,Y17,AC17,AG17,AK17,AO17,AS17,AW17,BA17,BE17,BI17,BM17)","v":-21}]
[{"$f":"INDIRECT(CONCATENATE(BY18,\"!A1\"))","v":"Tim Hobbs"},null,null,null,null,400,{"$f":"INDIRECT(CONCATENATE($BY18,\"!\",G$1))","v":0},{"$f":"LOOKUP($BY18,HandicapLookup)","v":11},{"$f":"G18-H18","v":-11},null,{"$f":"INDIRECT(CONCATENATE($BY18,\"!\",K$1))","v":0},{"$f":"LOOKUP($BY18,HandicapLookup)","v":11},{"$f":"K18-L18","v":-11},null,{"$f":"INDIRECT(CONCATENATE($BY18,\"!\",O$1))","v":0},{"$f":"LOOKUP($BY18,HandicapLookup)","v":11},{"$f":"O18-P18","v":-11},null,{"$f":"INDIRECT(CONCATENATE($BY18,\"!\",S$1))","v":0},{"$f":"LOOKUP($BY18,HandicapLookup)","v":11},{"$f":"S18-T18","v":-11},null,{"$f":"INDIRECT(CONCATENATE($BY18,\"!\",W$1))","v":0},{"$f":"LOOKUP($BY18,HandicapLookup)","v":11},{"$f":"W18-X18","v":-11},null,{"$f":"INDIRECT(CONCATENATE($BY18,\"!\",AA$1))","v":0},{"$f":"LOOKUP($BY18,HandicapLookup)","v":11},{"$f":"AA18-AB18","v":-11},null,{"$f":"INDIRECT(CONCATENATE($BY18,\"!\",AE$1))","v":0},{"$f":"LOOKUP($BY18,HandicapLookup)","v":11},{"$f":"AE18-AF18","v":-11},null,{"$f":"INDIRECT(CONCATENATE($BY18,\"!\",AI$1))","v":0},{"$f":"LOOKUP($BY18,HandicapLookup)","v":11},{"$f":"AI18-AJ18","v":-11},null,{"$f":"INDIRECT(CONCATENATE($BY18,\"!\",AM$1))","v":0},{"$f":"LOOKUP($BY18,HandicapLookup)","v":11},{"$f":"AM18-AN18","v":-11},null,{"$f":"INDIRECT(CONCATENATE($BY18,\"!\",AQ$1))","v":0},{"$f":"LOOKUP($BY18,HandicapLookup)","v":11},{"$f":"AQ18-AR18","v":-11},null,{"$f":"INDIRECT(CONCATENATE($BY18,\"!\",AU$1))","v":0},{"$f":"LOOKUP($BY18,HandicapLookup)","v":11},{"$f":"AU18-AV18","v":-11},null,{"$f":"INDIRECT(CONCATENATE($BY18,\"!\",AY$1))","v":0},{"$f":"LOOKUP($BY18,HandicapLookup)","v":11},{"$f":"AY18-AZ18","v":-11},null,{"$f":"INDIRECT(CONCATENATE($BY18,\"!\",BC$1))","v":0},{"$f":"LOOKUP($BY18,HandicapLookup)","v":11},{"$f":"BC18-BD18","v":-11},null,{"$f":"INDIRECT(CONCATENATE($BY18,\"!\",BG$1))","v":0},{"$f":"LOOKUP($BY18,HandicapLookup)","v":11},{"$f":"BG18-BH18","v":-11},null,{"$f":"INDIRECT(CONCATENATE($BY18,\"!\",BK$1))","v":0},{"$f":"LOOKUP($BY18,HandicapLookup)","v":11},{"$f":"BK18-BL18","v":-11},null,{"$f":"J18+N18+R18+V18+Z18+AD18+AH18+AL18+AP18+AT18+AX18+BB18+BF18+BJ18+BN18","v":0},null,{"$f":"Hobbs!C44","v":0},null,{"$f":"BO18+BQ18","v":0},{"$f":"Hobbs!E44","v":0},{"$f":"IFERROR((BO18+BQ18)/BT18,0)","v":0},{"$f":"A18","v":"Tim Hobbs"},{"$f":"FIND(\" \",BV18)","v":4},{"$f":"MID(BV18,BW18,99)","v":" Hobbs"},"hobbs",null,{"$f":"MIN(G18,K18,O18,S18,W18,AA18,AE18,AI18,AM18,AQ18,AU18,AY18,BC18,BG18,BK18)","v":0},{"$f":"MIN(H18,L18,P18,T18,X18,AB18,AF18,AJ18,AN18,AR18,AV18,AZ18,BD18,BH18,BL18)","v":11},{"$f":"MIN(I18,M18,Q18,U18,Y18,AC18,AG18,AK18,AO18,AS18,AW18,BA18,BE18,BI18,BM18)","v":-11},{"$f":"MAX(G18,K18,O18,S18,W18,AA18,AE18,AI18,AM18,AQ18,AU18,AY18,BC18,BG18,BK18)","v":0},{"$f":"MAX(H18,L18,P18,T18,X18,AB18,AF18,AJ18,AN18,AR18,AV18,AZ18,BD18,BH18,BL18)","v":11},{"$f":"MAX(I18,M18,Q18,U18,Y18,AC18,AG18,AK18,AO18,AS18,AW18,BA18,BE18,BI18,BM18)","v":-11}]
[{"$f":"INDIRECT(CONCATENATE(BY19,\"!A1\"))","v":"Tom Mohsinger"},null,null,null,null,900,{"$f":"INDIRECT(CONCATENATE($BY19,\"!\",G$1))","v":0},{"$f":"LOOKUP($BY19,HandicapLookup)","v":14},{"$f":"G19-H19","v":-14},null,{"$f":"INDIRECT(CONCATENATE($BY19,\"!\",K$1))","v":0},{"$f":"LOOKUP($BY19,HandicapLookup)","v":14},{"$f":"K19-L19","v":-14},null,{"$f":"INDIRECT(CONCATENATE($BY19,\"!\",O$1))","v":0},{"$f":"LOOKUP($BY19,HandicapLookup)","v":14},{"$f":"O19-P19","v":-14},null,{"$f":"INDIRECT(CONCATENATE($BY19,\"!\",S$1))","v":0},{"$f":"LOOKUP($BY19,HandicapLookup)","v":14},{"$f":"S19-T19","v":-14},null,{"$f":"INDIRECT(CONCATENATE($BY19,\"!\",W$1))","v":0},{"$f":"LOOKUP($BY19,HandicapLookup)","v":14},{"$f":"W19-X19","v":-14},null,{"$f":"INDIRECT(CONCATENATE($BY19,\"!\",AA$1))","v":0},{"$f":"LOOKUP($BY19,HandicapLookup)","v":14},{"$f":"AA19-AB19","v":-14},null,{"$f":"INDIRECT(CONCATENATE($BY19,\"!\",AE$1))","v":0},{"$f":"LOOKUP($BY19,HandicapLookup)","v":14},{"$f":"AE19-AF19","v":-14},null,{"$f":"INDIRECT(CONCATENATE($BY19,\"!\",AI$1))","v":0},{"$f":"LOOKUP($BY19,HandicapLookup)","v":14},{"$f":"AI19-AJ19","v":-14},null,{"$f":"INDIRECT(CONCATENATE($BY19,\"!\",AM$1))","v":0},{"$f":"LOOKUP($BY19,HandicapLookup)","v":14},{"$f":"AM19-AN19","v":-14},null,{"$f":"INDIRECT(CONCATENATE($BY19,\"!\",AQ$1))","v":0},{"$f":"LOOKUP($BY19,HandicapLookup)","v":14},{"$f":"AQ19-AR19","v":-14},null,{"$f":"INDIRECT(CONCATENATE($BY19,\"!\",AU$1))","v":0},{"$f":"LOOKUP($BY19,HandicapLookup)","v":14},{"$f":"AU19-AV19","v":-14},null,{"$f":"INDIRECT(CONCATENATE($BY19,\"!\",AY$1))","v":0},{"$f":"LOOKUP($BY19,HandicapLookup)","v":14},{"$f":"AY19-AZ19","v":-14},null,{"$f":"INDIRECT(CONCATENATE($BY19,\"!\",BC$1))","v":0},{"$f":"LOOKUP($BY19,HandicapLookup)","v":14},{"$f":"BC19-BD19","v":-14},null,{"$f":"INDIRECT(CONCATENATE($BY19,\"!\",BG$1))","v":0},{"$f":"LOOKUP($BY19,HandicapLookup)","v":14},{"$f":"BG19-BH19","v":-14},null,{"$f":"INDIRECT(CONCATENATE($BY19,\"!\",BK$1))","v":0},{"$f":"LOOKUP($BY19,HandicapLookup)","v":14},{"$f":"BK19-BL19","v":-14},null,{"$f":"J19+N19+R19+V19+Z19+AD19+AH19+AL19+AP19+AT19+AX19+BB19+BF19+BJ19+BN19","v":0},null,{"$f":"Mohsinger_B!C44","v":0},null,{"$f":"BO19+BQ19","v":0},{"$f":"Mohsinger_B!E44","v":0},{"$f":"IFERROR((BO19+BQ19)/BT19,0)","v":0},{"$f":"A19","v":"Tom Mohsinger"},{"$f":"FIND(\" \",BV19)","v":4},{"$f":"MID(BV19,BW19,99)","v":" Mohsinger"},"mohsinger_t",null,{"$f":"MIN(G19,K19,O19,S19,W19,AA19,AE19,AI19,AM19,AQ19,AU19,AY19,BC19,BG19,BK19)","v":0},{"$f":"MIN(H19,L19,P19,T19,X19,AB19,AF19,AJ19,AN19,AR19,AV19,AZ19,BD19,BH19,BL19)","v":14},{"$f":"MIN(I19,M19,Q19,U19,Y19,AC19,AG19,AK19,AO19,AS19,AW19,BA19,BE19,BI19,BM19)","v":-14},{"$f":"MAX(G19,K19,O19,S19,W19,AA19,AE19,AI19,AM19,AQ19,AU19,AY19,BC19,BG19,BK19)","v":0},{"$f":"MAX(H19,L19,P19,T19,X19,AB19,AF19,AJ19,AN19,AR19,AV19,AZ19,BD19,BH19,BL19)","v":14},{"$f":"MAX(I19,M19,Q19,U19,Y19,AC19,AG19,AK19,AO19,AS19,AW19,BA19,BE19,BI19,BM19)","v":-14}]
[{"$f":"INDIRECT(CONCATENATE(BY20,\"!A1\"))","v":"Vincent Daviero"},null,null,null,null,350,{"$f":"INDIRECT(CONCATENATE($BY20,\"!\",G$1))","v":0},{"$f":"LOOKUP($BY20,HandicapLookup)","v":9},{"$f":"G20-H20","v":-9},null,{"$f":"INDIRECT(CONCATENATE($BY20,\"!\",K$1))","v":0},{"$f":"LOOKUP($BY20,HandicapLookup)","v":9},{"$f":"K20-L20","v":-9},null,{"$f":"INDIRECT(CONCATENATE($BY20,\"!\",O$1))","v":0},{"$f":"LOOKUP($BY20,HandicapLookup)","v":9},{"$f":"O20-P20","v":-9},null,{"$f":"INDIRECT(CONCATENATE($BY20,\"!\",S$1))","v":0},{"$f":"LOOKUP($BY20,HandicapLookup)","v":9},{"$f":"S20-T20","v":-9},null,{"$f":"INDIRECT(CONCATENATE($BY20,\"!\",W$1))","v":0},{"$f":"LOOKUP($BY20,HandicapLookup)","v":9},{"$f":"W20-X20","v":-9},null,{"$f":"INDIRECT(CONCATENATE($BY20,\"!\",AA$1))","v":0},{"$f":"LOOKUP($BY20,HandicapLookup)","v":9},{"$f":"AA20-AB20","v":-9},null,{"$f":"INDIRECT(CONCATENATE($BY20,\"!\",AE$1))","v":0},{"$f":"LOOKUP($BY20,HandicapLookup)","v":9},{"$f":"AE20-AF20","v":-9},null,{"$f":"INDIRECT(CONCATENATE($BY20,\"!\",AI$1))","v":0},{"$f":"LOOKUP($BY20,HandicapLookup)","v":9},{"$f":"AI20-AJ20","v":-9},null,{"$f":"INDIRECT(CONCATENATE($BY20,\"!\",AM$1))","v":0},{"$f":"LOOKUP($BY20,HandicapLookup)","v":9},{"$f":"AM20-AN20","v":-9},null,{"$f":"INDIRECT(CONCATENATE($BY20,\"!\",AQ$1))","v":0},{"$f":"LOOKUP($BY20,HandicapLookup)","v":9},{"$f":"AQ20-AR20","v":-9},null,{"$f":"INDIRECT(CONCATENATE($BY20,\"!\",AU$1))","v":0},{"$f":"LOOKUP($BY20,HandicapLookup)","v":9},{"$f":"AU20-AV20","v":-9},null,{"$f":"INDIRECT(CONCATENATE($BY20,\"!\",AY$1))","v":0},{"$f":"LOOKUP($BY20,HandicapLookup)","v":9},{"$f":"AY20-AZ20","v":-9},null,{"$f":"INDIRECT(CONCATENATE($BY20,\"!\",BC$1))","v":0},{"$f":"LOOKUP($BY20,HandicapLookup)","v":9},{"$f":"BC20-BD20","v":-9},null,{"$f":"INDIRECT(CONCATENATE($BY20,\"!\",BG$1))","v":0},{"$f":"LOOKUP($BY20,HandicapLookup)","v":9},{"$f":"BG20-BH20","v":-9},null,{"$f":"INDIRECT(CONCATENATE($BY20,\"!\",BK$1))","v":0},{"$f":"LOOKUP($BY20,HandicapLookup)","v":9},{"$f":"BK20-BL20","v":-9},null,{"$f":"J20+N20+R20+V20+Z20+AD20+AH20+AL20+AP20+AT20+AX20+BB20+BF20+BJ20+BN20","v":0},null,{"$f":"Daviero_V!C44","v":0},null,{"$f":"BO20+BQ20","v":0},{"$f":"Daviero_V!E44","v":0},{"$f":"IFERROR((BO20+BQ20)/BT20,0)","v":0},{"$f":"A20","v":"Vincent Daviero"},{"$f":"FIND(\" \",BV20)","v":8},{"$f":"MID(BV20,BW20,99)","v":" Daviero"},"daviero_v",null,{"$f":"MIN(G20,K20,O20,S20,W20,AA20,AE20,AI20,AM20,AQ20,AU20,AY20,BC20,BG20,BK20)","v":0},{"$f":"MIN(H20,L20,P20,T20,X20,AB20,AF20,AJ20,AN20,AR20,AV20,AZ20,BD20,BH20,BL20)","v":9},{"$f":"MIN(I20,M20,Q20,U20,Y20,AC20,AG20,AK20,AO20,AS20,AW20,BA20,BE20,BI20,BM20)","v":-9},{"$f":"MAX(G20,K20,O20,S20,W20,AA20,AE20,AI20,AM20,AQ20,AU20,AY20,BC20,BG20,BK20)","v":0},{"$f":"MAX(H20,L20,P20,T20,X20,AB20,AF20,AJ20,AN20,AR20,AV20,AZ20,BD20,BH20,BL20)","v":9},{"$f":"MAX(I20,M20,Q20,U20,Y20,AC20,AG20,AK20,AO20,AS20,AW20,BA20,BE20,BI20,BM20)","v":-9}]
[]
["SUBS"]
[]
[]
[{"$f":"INDIRECT(CONCATENATE(BY25,\"!A1\"))","v":{"$error":"#REF!"}},null,null,null,null,null,null,null,null,null,null,null,null,null,null,null,null,null,null,null,null,null,null,null,null,null,null,null,null,null,null,null,null,null,null,null,null,null,null,null,null,null,null,null,null,null,null,null,null,null,null,null,null,null,null,null,null,null,null,null,null,null,null,null,null,null,null,null,null,null,null,null,null,{"$f":"A25","v":{"$error":"#REF!"}},{"$f":"FIND(\" \",BV25)","v":{"$error":"#REF!"}},{"$f":"MID(BV25,BW25,99)","v":{"$error":"#REF!"}},"sheridan"]
[{"$f":"INDIRECT(CONCATENATE(BY26,\"!A1\"))","v":{"$error":"#REF!"}},null,null,null,null,null,null,null,null,null,null,null,null,null,null,null,null,null,null,null,null,null,null,null,null,null,null,null,null,null,null,null,null,null,null,null,null,null,null,null,null,null,null,null,null,null,null,null,null,null,null,null,null,null,null,null,null,null,null,null,null,null,null,null,null,null,null,null,null,null,null,null,null,{"$f":"A26","v":{"$error":"#REF!"}},{"$f":"FIND(\" \",BV26)","v":{"$error":"#REF!"}},{"$f":"MID(BV26,BW26,99)","v":{"$error":"#REF!"}},"kauffman"]
[{"$f":"INDIRECT(CONCATENATE(BY27,\"!A1\"))","v":{"$error":"#REF!"}},null,null,null,null,null,null,null,null,null,null,null,null,null,null,null,null,null,null,null,null,null,null,null,null,null,null,null,null,null,null,null,null,null,null,null,null,null,null,null,null,null,null,null,null,null,null,null,null,null,null,null,null,null,null,null,null,null,null,null,null,null,null,null,null,null,null,null,null,null,null,null,null,{"$f":"A27","v":{"$error":"#REF!"}},{"$f":"FIND(\" \",BV27)","v":{"$error":"#REF!"}},{"$f":"MID(BV27,BW27,99)","v":{"$error":"#REF!"}},"richardson"]
[{"$f":"INDIRECT(CONCATENATE(BY28,\"!A1\"))","v":{"$error":"#REF!"}},null,null,null,null,null,null,null,null,null,null,null,null,null,null,null,null,null,null,null,null,null,null,null,null,null,null,null,null,null,null,null,null,null,null,null,null,null,null,null,null,null,null,null,null,null,null,null,null,null,null,null,null,null,null,null,null,null,null,null,null,null,null,null,null,null,null,null,null,null,null,null,null,{"$f":"A28","v":{"$error":"#REF!"}},{"$f":"FIND(\" \",BV28)","v":{"$error":"#REF!"}},{"$f":"MID(BV28,BW28,99)","v":{"$error":"#REF!"}},"archambault"]
[{"$f":"INDIRECT(CONCATENATE(BY29,\"!A1\"))","v":{"$error":"#REF!"}},null,null,null,null,null,null,null,null,null,null,null,null,null,null,null,null,null,null,null,null,null,null,null,null,null,null,null,null,null,null,null,null,null,null,null,null,null,null,null,null,null,null,null,null,null,null,null,null,null,null,null,null,null,null,null,null,null,null,null,null,null,null,null,null,null,null,null,null,null,null,null,null,{"$error":"#REF!"},{"$error":"#REF!"},{"$error":"#REF!"},"roschinsky"]
[{"$f":"INDIRECT(CONCATENATE(BY30,\"!A1\"))","v":{"$error":"#REF!"}},null,null,null,null,null,null,null,null,null,null,null,null,null,null,null,null,null,null,null,null,null,null,null,null,null,null,null,null,null,null,null,null,null,null,null,null,null,null,null,null,null,null,null,null,null,null,null,null,null,null,null,null,null,null,null,null,null,null,null,null,null,null,null,null,null,null,null,null,null,null,null,null,{"$f":"A30","v":{"$error":"#REF!"}},{"$error":"#REF!"},{"$error":"#REF!"},"palmerino_l"]
[{"$f":"INDIRECT(CONCATENATE(BY31,\"!A1\"))","v":"Glenn Kreig"},null,null,null,null,null,null,null,null,null,null,null,null,null,null,null,null,null,null,null,null,null,null,null,null,null,null,null,null,null,null,null,null,null,null,null,null,null,null,null,null,null,null,null,null,null,null,null,null,null,null,null,null,null,null,null,null,null,null,null,null,null,null,null,null,null,null,null,null,null,null,null,null,{"$f":"A31","v":"Glenn Kreig"},6," Kreig","kreig"]
[]
[]
[]
[]
[]
[]
[]
[]
[]
[]
["Average",{"$f":"AVERAGE(B5:B39)","v":{"$error":"#DIV/0!"}},{"$error":"#DIV/0!"},{"$error":"#DIV/0!"},null,null,0,11.8125,-11.8125,null,{"$f":"AVERAGE(K5:K39)","v":0},{"$f":"AVERAGE(L5:L39)","v":11.8125},{"$f":"AVERAGE(M5:M39)","v":-11.8125},null,{"$f":"AVERAGE(O5:O39)","v":0},{"$f":"AVERAGE(P5:P39)","v":11.8125},{"$f":"AVERAGE(Q5:Q39)","v":-11.8125},null,{"$f":"AVERAGE(S5:S39)","v":0},{"$f":"AVERAGE(T5:T39)","v":11.8125},{"$f":"AVERAGE(U5:U39)","v":-11.8125},null,{"$f":"AVERAGE(W5:W39)","v":0},{"$f":"AVERAGE(X5:X39)","v":11.8125},{"$f":"AVERAGE(Y5:Y39)","v":-11.8125},null,{"$f":"AVERAGE(AA5:AA39)","v":0},{"$f":"AVERAGE(AB5:AB39)","v":11.8125},{"$f":"AVERAGE(AC5:AC39)","v":-11.8125},null,{"$f":"AVERAGE(AE5:AE39)","v":0},{"$f":"AVERAGE(AF5:AF39)","v":11.8125},{"$f":"AVERAGE(AG5:AG39)","v":-11.8125},null,{"$f":"AVERAGE(AI5:AI39)","v":0},{"$f":"AVERAGE(AJ5:AJ39)","v":11.8125},{"$f":"AVERAGE(AK5:AK39)","v":-11.8125},null,{"$f":"AVERAGE(AM5:AM39)","v":0},{"$f":"AVERAGE(AN5:AN39)","v":11.8125},{"$f":"AVERAGE(AO5:AO39)","v":-11.8125},null,{"$f":"AVERAGE(AQ5:AQ39)","v":0},{"$f":"AVERAGE(AR5:AR39)","v":11.8125},{"$f":"AVERAGE(AS5:AS39)","v":-11.8125},null,{"$f":"AVERAGE(AU5:AU39)","v":0},{"$f":"AVERAGE(AV5:AV39)","v":11.8125},{"$f":"AVERAGE(AW5:AW39)","v":-11.8125},null,{"$f":"AVERAGE(AY5:AY39)","v":0},{"$f":"AVERAGE(AZ5:AZ39)","v":11.8125},{"$f":"AVERAGE(BA5:BA39)","v":-11.8125},null,{"$f":"AVERAGE(BC5:BC39)","v":0},{"$f":"AVERAGE(BD5:BD39)","v":11.8125},{"$f":"AVERAGE(BE5:BE39)","v":-11.8125},null,{"$f":"AVERAGE(BG5:BG39)","v":0},{"$f":"AVERAGE(BH5:BH39)","v":11.8125},{"$f":"AVERAGE(BI5:BI39)","v":-11.8125},null,{"$f":"AVERAGE(BK5:BK39)","v":0},{"$f":"AVERAGE(BL5:BL39)","v":11.8125},{"$f":"AVERAGE(BM5:BM39)","v":-11.8125}]

{"sheet":"Hacker_Cup_Standings","index":2,"n_rows":93,"n_cols":20,"rows_kept":93,"cut":false,"hidden":false,"merged":[]}
[null,"Week","Points Back","Playoffs"]
["Previous","Player",null,null,"Start",1,2,3,4,5]
[null,"Andy Linton",{"$f":"+D3-$D$3","v":0},{"$f":"SUM(E3:J3)-SUM(L3:M3)","v":0},0,0,0,0,0,0,null,{"$f":"IF(T3>1,M3,MIN(N3:R3))","v":0},{"$f":"MIN(F3:J3)","v":0},{"$f":"IF(F3=$M3,99999,F3)","v":99999},{"$f":"IF(G3=$M3,99999,G3)","v":99999},99999,99999,99999,null,{"$f":"COUNTIF(F3:J3,MIN(F3:J3))","v":5}]
[null,"Dan Fusco",0,{"$f":"SUM(E4:J4)-SUM(L4:M4)","v":0},0,0,0,0,0,0,null,{"$f":"IF(T4>1,M4,MIN(N4:R4))","v":0},{"$f":"MIN(F4:J4)","v":0},{"$f":"IF(F4=$M4,99999,F4)","v":99999},{"$f":"IF(G4=$M4,99999,G4)","v":99999},{"$f":"IF(H4=$M4,99999,H4)","v":99999},{"$f":"IF(I4=$M4,99999,I4)","v":99999},{"$f":"IF(J4=$M4,99999,J4)","v":99999},null,{"$f":"COUNTIF(F4:J4,MIN(F4:J4))","v":5}]
[null,"Dan Palmerino",0,0,0,0,0,0,0,0,null,0,0,99999,99999,99999,99999,99999,null,5]
[null,"Jim Daviero",0,0,0,0,0,0,0,0,null,0,0,99999,99999,99999,99999,99999,null,5]
[null,"Tim Hobbs",0,0,0,0,0,0,0,0,null,0,0,99999,99999,99999,99999,99999,null,5]
[null,"Steve Fusco",0,0,0,0,0,0,0,0,null,0,0,99999,99999,99999,99999,99999,null,5]
[null,"Bette Mohsinger",0,0,0,0,0,0,0,0,null,0,0,99999,99999,99999,99999,99999,null,5]
[null,"Dave Taylor",0,0,0,0,0,0,0,0,null,0,0,99999,99999,99999,99999,99999,null,5]
[null,"Brian McGlaughlin",0,0,0,0,0,0,0,0,null,0,0,99999,99999,99999,99999,99999,null,5]
[null,"Bob Templeton",0,0,0,0,0,0,0,0,null,0,0,99999,99999,99999,99999,99999,null,5]
[null,"Tom Mohsinger",0,0,0,0,0,0,0,0,null,0,0,99999,99999,99999,99999,99999,null,5]
[null,"Mark Rusnak",0,0,0,0,0,0,0,0,null,0,0,99999,99999,99999,99999,99999,null,5]
[null,"OPEN OPEN",0,0,0,0,0,0,0,0,null,0,0,99999,99999,99999,99999,99999,null,5]
[null,"Pete Michalski",0,0,0,0,0,0,0,0,null,0,0,99999,99999,99999,99999,99999,null,5]
[null,"Sue Michalski",0,0,0,0,0,0,0,0,null,0,0,99999,99999,99999,99999,99999,null,5]
[null,"Glenn Kreig",0,0,0,0,0,0,0,0,null,0,0,99999,99999,99999,99999,99999,null,5]
[]
[]
[]
[]
[]
[]
[]
[]
[]
[]
[]
[]
[]
[]
[]
[]
[]
[]
[]
[]
[]
[]
[]
[]
[]
["Previous","Week","Points Back","Regular\nSeason",1,2,3,4,5,6,7,8,9,10]
[null,"Player"]
[null,"Andy Linton",{"$f":"$D$46-D46","v":0},{"$f":"SUM(E46:N46)","v":0}]
[null,"Dan Fusco",0,{"$f":"SUM(E47:N47)","v":0}]
[null,"Dan Palmerino",0,0]
[null,"Jim Daviero",0,0]
[null,"Tim Hobbs",0,0]
[null,"Steve Fusco",0,0]
[null,"Bette Mohsinger",0,0]
[null,"Dave Taylor",0,0]
[null,"Brian McGlaughlin",0,0]
[null,"Bob Templeton",0,0]
[null,"Tom Mohsinger",0,0]
[null,"Mark Rusnak",0,0]
[null,"Vincent Daviero",0,0]
[null,"Pete Michalski",0,0]
[null,"Sue Michalski",0,0]
[null,"Glenn Kreig",0,0]
[]
[]
[]
[]
[]
[]
[]
[]
[]
[]
[]
[]
[]
[]
[null,null,null,"Playoffs","Seed",1,2,3,4]
[]
[null,"Andy Linton",null,{"$f":"SUM(E78:I78)","v":0}]
[null,"Bob Bush",null,0]
[null,"Mike Smith",null,0]
[null,"Marty Reed",null,0]
[null,"Randy Gauthier",null,0]
[null,"Tom Mohsinger",null,0]
[null,"Gloria Poston",null,0]
[null,"Steve Fusco",null,0]
[null,"Dan Richardson",null,0]
[null,"Ken Lakich",null,0]
[null,"Todd Templeton",null,0]
[null,"Matt Rielly",null,0]
[null,"George Calder",null,0]
[null,"Bob Templeton",null,0]
[null,"Dave Taylor",null,0]
[null,"Ev Kauffman",null,0]

{"sheet":"HC History","index":3,"n_rows":110,"n_cols":40,"rows_kept":110,"cut":false,"hidden":false,"merged":[[53,2,54,2],[55,2,56,2],[57,2,58,2],[75,2,76,2],[79,0,79,3],[59,2,60,2],[61,2,62,2],[63,2,64,2],[65,2,66,2],[73,2,74,2],[67,2,68,2],[69,2,70,2],[71,2,72,2],[13,2,14,2],[15,2,16,2],[17,2,18,2],[49,2,50,2],[51,2,52,2],[44,2,45,2],[29,2,30,2],[31,2,32,2],[33,2,34,2],[19,2,20,2],[21,2,22,2],[23,2,24,2],[25,2,26,2],[27,2,28,2],[11,2,12,2],[0,19,0,24],[3,2,4,2],[5,2,6,2],[7,2,8,2],[9,2,10,2],[0,3,0,17]]}
[null,null,"Season",2025,null,null,null,null,null,null,null,null,null,null,null,null,null,null,null,2024,null,null,null,null,null,null,null,null,null,null,null,null,null,null,null,null,null,"Rounded"]
[null,null,"Current",15,14,13,12,11,10,9,8,7,6,5,4,3,2,1,null,15,14,13,12,11,10,null,null,null,null,null,null,null,null,null,null,"Total","Handicap","at .5"]
["PLAYER"]
["Andy Linton","linton",{"$f":"MIN(AL5,25)","v":5},{"$f":"INDIRECT(CONCATENATE(B4,\"!CL22\"))","v":0},{"$f":"INDIRECT(CONCATENATE(B4,\"!CF22\"))","v":0},{"$f":"INDIRECT(CONCATENATE(B4,\"!BZ22\"))","v":0},{"$f":"INDIRECT(CONCATENATE(B4,\"!BT22\"))","v":0},{"$f":"INDIRECT(CONCATENATE(B4,\"!BN22\"))","v":0},{"$f":"INDIRECT(CONCATENATE(B4,\"!BH22\"))","v":0},{"$f":"INDIRECT(CONCATENATE(B4,\"!BB22\"))","v":0},{"$f":"INDIRECT(CONCATENATE(B4,\"!AV22\"))","v":0},{"$f":"INDIRECT(CONCATENATE(B4,\"!AP22\"))","v":0},{"$f":"INDIRECT(CONCATENATE(B4,\"!AJ22\"))","v":0},{"$f":"INDIRECT(CONCATENATE(B4,\"!AD22\"))","v":0},{"$f":"INDIRECT(CONCATENATE(B4,\"!X22\"))","v":0},{"$f":"INDIRECT(CONCATENATE(B4,\"!R22\"))","v":0},{"$f":"INDIRECT(CONCATENATE(B4,\"!L22\"))","v":0},{"$f":"INDIRECT(CONCATENATE(B4,\"!F22\"))","v":0},null,6,6,4,7,5,8,null,null,null,null,null,null,null,null,null,null,null,null,null,{"$f":"COUNT(C4:AI4)","v":22}]
[null,null,null,null,null,null,null,null,null,null,null,null,null,null,null,null,null,null,null,6,6,4,null,5,null,null,null,null,null,null,null,null,null,null,null,{"$f":"SUM(C5:AI5)","v":21},{"$f":"+AJ5/AM5","v":5.25},{"$f":"ROUND(SUM(AK5),0)","v":5},4]
["Bette Mohsinger","mohsinger_b",{"$f":"MIN(AL7,25)","v":12},{"$f":"INDIRECT(CONCATENATE(B6,\"!CL22\"))","v":0},{"$f":"INDIRECT(CONCATENATE(B6,\"!CF22\"))","v":0},{"$f":"INDIRECT(CONCATENATE(B6,\"!BZ22\"))","v":0},{"$f":"INDIRECT(CONCATENATE(B6,\"!BT22\"))","v":0},{"$f":"INDIRECT(CONCATENATE(B6,\"!BN22\"))","v":0},{"$f":"INDIRECT(CONCATENATE(B6,\"!BH22\"))","v":0},{"$f":"INDIRECT(CONCATENATE(B6,\"!BB22\"))","v":0},{"$f":"INDIRECT(CONCATENATE(B6,\"!AV22\"))","v":0},{"$f":"INDIRECT(CONCATENATE(B6,\"!AP22\"))","v":0},{"$f":"INDIRECT(CONCATENATE(B6,\"!AJ22\"))","v":0},{"$f":"INDIRECT(CONCATENATE(B6,\"!AD22\"))","v":0},{"$f":"INDIRECT(CONCATENATE(B6,\"!X22\"))","v":0},{"$f":"INDIRECT(CONCATENATE(B6,\"!R22\"))","v":0},{"$f":"INDIRECT(CONCATENATE(B6,\"!L22\"))","v":0},{"$f":"INDIRECT(CONCATENATE(B6,\"!F22\"))","v":0},null,13,10,18,12,20,11,null,null,null,null,null,null,null,null,null,null,null,null,null,22]
[null,null,null,null,null,null,null,null,null,null,null,null,null,null,null,null,null,null,null,13,10,null,12,null,11,null,null,null,null,null,null,null,null,null,null,{"$f":"SUM(C7:AI7)","v":46},{"$f":"+AJ7/AM7","v":11.5},{"$f":"ROUND(SUM(AK7),0)","v":12},4]
["Bob Templeton","templeton",{"$f":"MIN(AL9,25)","v":20},{"$f":"INDIRECT(CONCATENATE(B8,\"!CL22\"))","v":0},{"$f":"INDIRECT(CONCATENATE(B8,\"!CF22\"))","v":0},{"$f":"INDIRECT(CONCATENATE(B8,\"!BZ22\"))","v":0},{"$f":"INDIRECT(CONCATENATE(B8,\"!BT22\"))","v":0},{"$f":"INDIRECT(CONCATENATE(B8,\"!BN22\"))","v":0},{"$f":"INDIRECT(CONCATENATE(B8,\"!BH22\"))","v":0},{"$f":"INDIRECT(CONCATENATE(B8,\"!BB22\"))","v":0},{"$f":"INDIRECT(CONCATENATE(B8,\"!AV22\"))","v":0},{"$f":"INDIRECT(CONCATENATE(B8,\"!AP22\"))","v":0},{"$f":"INDIRECT(CONCATENATE(B8,\"!AJ22\"))","v":0},{"$f":"INDIRECT(CONCATENATE(B8,\"!AD22\"))","v":0},{"$f":"INDIRECT(CONCATENATE(B8,\"!X22\"))","v":0},{"$f":"INDIRECT(CONCATENATE(B8,\"!R22\"))","v":0},{"$f":"INDIRECT(CONCATENATE(B8,\"!L22\"))","v":0},{"$f":"INDIRECT(CONCATENATE(B8,\"!F22\"))","v":0},null,24,21,22,22,22,14,null,null,null,null,null,null,null,null,null,null,null,null,null,22]
[null,null,null,null,null,null,null,null,null,null,null,null,null,null,null,null,null,null,null,null,21,22,22,null,14,null,null,null,null,null,null,null,null,null,null,{"$f":"SUM(C9:AI9)","v":79},{"$f":"+AJ9/AM9","v":19.75},{"$f":"ROUND(SUM(AK9),0)","v":20},4]
["Brian McLaughlin","mclaughlin",{"$f":"MIN(AL11,25)","v":12},{"$f":"INDIRECT(CONCATENATE(B10,\"!CL22\"))","v":0},{"$f":"INDIRECT(CONCATENATE(B10,\"!CF22\"))","v":0},{"$f":"INDIRECT(CONCATENATE(B10,\"!BZ22\"))","v":0},{"$f":"INDIRECT(CONCATENATE(B10,\"!BT22\"))","v":0},{"$f":"INDIRECT(CONCATENATE(B10,\"!BN22\"))","v":0},{"$f":"INDIRECT(CONCATENATE(B10,\"!BH22\"))","v":0},{"$f":"INDIRECT(CONCATENATE(B10,\"!BB22\"))","v":0},{"$f":"INDIRECT(CONCATENATE(B10,\"!AV22\"))","v":0},{"$f":"INDIRECT(CONCATENATE(B10,\"!AP22\"))","v":0},{"$f":"INDIRECT(CONCATENATE(B10,\"!AJ22\"))","v":0},{"$f":"INDIRECT(CONCATENATE(B10,\"!AD22\"))","v":0},{"$f":"INDIRECT(CONCATENATE(B10,\"!X22\"))","v":0},{"$f":"INDIRECT(CONCATENATE(B10,\"!R22\"))","v":0},{"$f":"INDIRECT(CONCATENATE(B10,\"!L22\"))","v":0},{"$f":"INDIRECT(CONCATENATE(B10,\"!F22\"))","v":0},null,14,11,18,11,12,16,null,null,null,null,null,null,null,null,null,null,null,null,null,22]
[null,null,null,null,null,null,null,null,null,null,null,null,null,null,null,null,null,null,null,14,11,null,11,12,null,null,null,null,null,null,null,null,null,null,null,{"$f":"SUM(C11:AI11)","v":48},{"$f":"+AJ11/AM11","v":12},{"$f":"ROUND(SUM(AK11),0)","v":12},4]
["Dan Fusco","fusco_d",{"$f":"MIN(AL13,25)","v":8},{"$f":"INDIRECT(CONCATENATE(B12,\"!CL22\"))","v":0},{"$f":"INDIRECT(CONCATENATE(B12,\"!CF22\"))","v":0},{"$f":"INDIRECT(CONCATENATE(B12,\"!BZ22\"))","v":0},{"$f":"INDIRECT(CONCATENATE(B12,\"!BT22\"))","v":0},{"$f":"INDIRECT(CONCATENATE(B12,\"!BN22\"))","v":0},{"$f":"INDIRECT(CONCATENATE(B12,\"!BH22\"))","v":0},{"$f":"INDIRECT(CONCATENATE(B12,\"!BB22\"))","v":0},{"$f":"INDIRECT(CONCATENATE(B12,\"!AV22\"))","v":0},{"$f":"INDIRECT(CONCATENATE(B12,\"!AP22\"))","v":0},{"$f":"INDIRECT(CONCATENATE(B12,\"!AJ22\"))","v":0},{"$f":"INDIRECT(CONCATENATE(B12,\"!AD22\"))","v":0},{"$f":"INDIRECT(CONCATENATE(B12,\"!X22\"))","v":0},{"$f":"INDIRECT(CONCATENATE(B12,\"!R22\"))","v":0},{"$f":"INDIRECT(CONCATENATE(B12,\"!L22\"))","v":0},{"$f":"INDIRECT(CONCATENATE(B12,\"!F22\"))","v":0},null,11,9,6,8,9,10,null,null,null,null,null,null,null,null,null,null,null,null,null,22]
[null,null,null,null,null,null,null,null,null,null,null,null,null,null,null,null,null,null,null,null,9,6,8,9,null,null,null,null,null,null,null,null,null,null,null,{"$f":"SUM(C13:AI13)","v":32},{"$f":"+AJ13/AM13","v":8},{"$f":"ROUND(SUM(AK13),0)","v":8},4]
["Dan Palmerino","palmerino",{"$f":"MIN(AL15,25)","v":8},{"$f":"INDIRECT(CONCATENATE(B14,\"!CL22\"))","v":0},{"$f":"INDIRECT(CONCATENATE(B14,\"!CF22\"))","v":0},{"$f":"INDIRECT(CONCATENATE(B14,\"!BZ22\"))","v":0},{"$f":"INDIRECT(CONCATENATE(B14,\"!BT22\"))","v":0},{"$f":"INDIRECT(CONCATENATE(B14,\"!BN22\"))","v":0},{"$f":"INDIRECT(CONCATENATE(B14,\"!BH22\"))","v":0},{"$f":"INDIRECT(CONCATENATE(B14,\"!BB22\"))","v":0},{"$f":"INDIRECT(CONCATENATE(B14,\"!AV22\"))","v":0},{"$f":"INDIRECT(CONCATENATE(B14,\"!AP22\"))","v":0},{"$f":"INDIRECT(CONCATENATE(B14,\"!AJ22\"))","v":0},{"$f":"INDIRECT(CONCATENATE(B14,\"!AD22\"))","v":0},{"$f":"INDIRECT(CONCATENATE(B14,\"!X22\"))","v":0},{"$f":"INDIRECT(CONCATENATE(B14,\"!R22\"))","v":0},{"$f":"INDIRECT(CONCATENATE(B14,\"!L22\"))","v":0},{"$f":"INDIRECT(CONCATENATE(B14,\"!F22\"))","v":0},null,11,12,8,10,9,6,null,null,null,null,null,null,null,null,null,null,null,null,null,22]
[null,null,null,null,null,null,null,null,null,null,null,null,null,null,null,null,null,null,null,null,null,8,10,9,6,null,null,null,null,null,null,null,null,null,null,{"$f":"SUM(C15:AI15)","v":33},{"$f":"+AJ15/AM15","v":8.25},{"$f":"ROUND(SUM(AK15),0)","v":8},4]
["Dave Taylor","taylor",{"$f":"MIN(AL17,25)","v":13},{"$f":"INDIRECT(CONCATENATE(B16,\"!CL22\"))","v":0},{"$f":"INDIRECT(CONCATENATE(B16,\"!CF22\"))","v":0},{"$f":"INDIRECT(CONCATENATE(B16,\"!BZ22\"))","v":0},{"$f":"INDIRECT(CONCATENATE(B16,\"!BT22\"))","v":0},{"$f":"INDIRECT(CONCATENATE(B16,\"!BN22\"))","v":0},{"$f":"INDIRECT(CONCATENATE(B16,\"!BH22\"))","v":0},{"$f":"INDIRECT(CONCATENATE(B16,\"!BB22\"))","v":0},{"$f":"INDIRECT(CONCATENATE(B16,\"!AV22\"))","v":0},{"$f":"INDIRECT(CONCATENATE(B16,\"!AP22\"))","v":0},{"$f":"INDIRECT(CONCATENATE(B16,\"!AJ22\"))","v":0},{"$f":"INDIRECT(CONCATENATE(B16,\"!AD22\"))","v":0},{"$f":"INDIRECT(CONCATENATE(B16,\"!X22\"))","v":0},{"$f":"INDIRECT(CONCATENATE(B16,\"!R22\"))","v":0},{"$f":"INDIRECT(CONCATENATE(B16,\"!L22\"))","v":0},{"$f":"INDIRECT(CONCATENATE(B16,\"!F22\"))","v":0},null,16,17,13,13,11,17,null,null,null,null,null,null,null,null,null,null,null,null,null,22]
[null,null,null,null,null,null,null,null,null,null,null,null,null,null,null,null,null,null,null,16,null,13,13,11,null,null,null,null,null,null,null,null,null,null,null,{"$f":"SUM(C17:AI17)","v":53},{"$f":"+AJ17/AM17","v":13.25},{"$f":"ROUND(SUM(AK17),0)","v":13},4]
["Steve Fusco","fusco_s",{"$f":"MIN(AL19,25)","v":12},{"$f":"INDIRECT(CONCATENATE(B18,\"!CL22\"))","v":0},{"$f":"INDIRECT(CONCATENATE(B18,\"!CF22\"))","v":0},{"$f":"INDIRECT(CONCATENATE(B18,\"!BZ22\"))","v":0},{"$f":"INDIRECT(CONCATENATE(B18,\"!BT22\"))","v":0},{"$f":"INDIRECT(CONCATENATE(B18,\"!BN22\"))","v":0},{"$f":"INDIRECT(CONCATENATE(B18,\"!BH22\"))","v":0},{"$f":"INDIRECT(CONCATENATE(B18,\"!BB22\"))","v":0},{"$f":"INDIRECT(CONCATENATE(B18,\"!AV22\"))","v":0},{"$f":"INDIRECT(CONCATENATE(B18,\"!AP22\"))","v":0},{"$f":"INDIRECT(CONCATENATE(B18,\"!AJ22\"))","v":0},{"$f":"INDIRECT(CONCATENATE(B18,\"!AD22\"))","v":0},{"$f":"INDIRECT(CONCATENATE(B18,\"!X22\"))","v":0},{"$f":"INDIRECT(CONCATENATE(B18,\"!R22\"))","v":0},{"$f":"INDIRECT(CONCATENATE(B18,\"!L22\"))","v":0},{"$f":"INDIRECT(CONCATENATE(B18,\"!F22\"))","v":0},null,12,17,15,10,14,11,null,null,null,null,null,null,null,null,null,null,null,null,null,22]
[null,null,null,null,null,null,null,null,null,null,null,null,null,null,null,null,null,null,null,12,null,null,10,14,11,null,null,null,null,null,null,null,null,null,null,{"$f":"SUM(C19:AI19)","v":47},{"$f":"+AJ19/AM19","v":11.75},{"$f":"ROUND(SUM(AK19),0)","v":12},4]
["Jim Daviero","daviero",{"$f":"MIN(AL21,25)","v":9},{"$f":"INDIRECT(CONCATENATE(B20,\"!CL22\"))","v":0},{"$f":"INDIRECT(CONCATENATE(B20,\"!CF22\"))","v":0},{"$f":"INDIRECT(CONCATENATE(B20,\"!BZ22\"))","v":0},{"$f":"INDIRECT(CONCATENATE(B20,\"!BT22\"))","v":0},{"$f":"INDIRECT(CONCATENATE(B20,\"!BN22\"))","v":0},{"$f":"INDIRECT(CONCATENATE(B20,\"!BH22\"))","v":0},{"$f":"INDIRECT(CONCATENATE(B20,\"!BB22\"))","v":0},{"$f":"INDIRECT(CONCATENATE(B20,\"!AV22\"))","v":0},{"$f":"INDIRECT(CONCATENATE(B20,\"!AP22\"))","v":0},{"$f":"INDIRECT(CONCATENATE(B20,\"!AJ22\"))","v":0},{"$f":"INDIRECT(CONCATENATE(B20,\"!AD22\"))","v":0},{"$f":"INDIRECT(CONCATENATE(B20,\"!X22\"))","v":0},{"$f":"INDIRECT(CONCATENATE(B20,\"!R22\"))","v":0},{"$f":"INDIRECT(CONCATENATE(B20,\"!L22\"))","v":0},{"$f":"INDIRECT(CONCATENATE(B20,\"!F22\"))","v":0},null,10,11,9,9,9,7,null,null,null,null,null,null,null,null,null,null,null,null,null,22]
[null,null,null,null,null,null,null,null,null,null,null,null,null,null,null,null,null,null,null,null,null,9,9,9,7,null,null,null,null,null,null,null,null,null,null,{"$f":"SUM(C21:AI21)","v":34},{"$f":"+AJ21/AM21","v":8.5},{"$f":"ROUND(SUM(AK21),0)","v":9},4]
["Mark Rusnak","rusnak",{"$f":"MIN(AL23,25)","v":3},{"$f":"INDIRECT(CONCATENATE(B22,\"!CL22\"))","v":0},{"$f":"INDIRECT(CONCATENATE(B22,\"!CF22\"))","v":0},{"$f":"INDIRECT(CONCATENATE(B22,\"!BZ22\"))","v":0},{"$f":"INDIRECT(CONCATENATE(B22,\"!BT22\"))","v":0},{"$f":"INDIRECT(CONCATENATE(B22,\"!BN22\"))","v":0},{"$f":"INDIRECT(CONCATENATE(B22,\"!BH22\"))","v":0},{"$f":"INDIRECT(CONCATENATE(B22,\"!BB22\"))","v":0},{"$f":"INDIRECT(CONCATENATE(B22,\"!AV22\"))","v":0},{"$f":"INDIRECT(CONCATENATE(B22,\"!AP22\"))","v":0},{"$f":"INDIRECT(CONCATENATE(B22,\"!AJ22\"))","v":0},{"$f":"INDIRECT(CONCATENATE(B22,\"!AD22\"))","v":0},{"$f":"INDIRECT(CONCATENATE(B22,\"!X22\"))","v":0},{"$f":"INDIRECT(CONCATENATE(B22,\"!R22\"))","v":0},{"$f":"INDIRECT(CONCATENATE(B22,\"!L22\"))","v":0},{"$f":"INDIRECT(CONCATENATE(B22,\"!F22\"))","v":0},null,2,5,1,6,2,11,null,null,null,null,null,null,null,null,null,null,null,null,null,22]
[null,null,null,null,null,null,null,null,null,null,null,null,null,null,null,null,null,null,null,2,5,1,null,2,null,null,null,null,null,null,null,null,null,null,null,{"$f":"SUM(C23:AI23)","v":10},{"$f":"+AJ23/AM23","v":2.5},{"$f":"ROUND(SUM(AK23),0)","v":3},4]
["Glenn Kreig","kreig",{"$f":"MIN(AL25,25)","v":13},{"$f":"INDIRECT(CONCATENATE(B24,\"!CL22\"))","v":0},{"$f":"INDIRECT(CONCATENATE(B24,\"!CF22\"))","v":0},{"$f":"INDIRECT(CONCATENATE(B24,\"!BZ22\"))","v":0},{"$f":"INDIRECT(CONCATENATE(B24,\"!BT22\"))","v":0},{"$f":"INDIRECT(CONCATENATE(B24,\"!BN22\"))","v":0},{"$f":"INDIRECT(CONCATENATE(B24,\"!BH22\"))","v":0},{"$f":"INDIRECT(CONCATENATE(B24,\"!BB22\"))","v":0},{"$f":"INDIRECT(CONCATENATE(B24,\"!AV22\"))","v":0},{"$f":"INDIRECT(CONCATENATE(B24,\"!AP22\"))","v":0},{"$f":"INDIRECT(CONCATENATE(B24,\"!AJ22\"))","v":0},{"$f":"INDIRECT(CONCATENATE(B24,\"!AD22\"))","v":0},{"$f":"INDIRECT(CONCATENATE(B24,\"!X22\"))","v":0},{"$f":"INDIRECT(CONCATENATE(B24,\"!R22\"))","v":0},{"$f":"INDIRECT(CONCATENATE(B24,\"!L22\"))","v":0},{"$f":"INDIRECT(CONCATENATE(B24,\"!F22\"))","v":0},null,17,13,14,18,10,15,null,null,null,null,null,null,null,null,null," ",null,null,null,22]
[null,null,null,null,null,null,null,null,null,null,null,null,null,null,null,null,null,null,null,null,13,14,null,10,15,null,null,null,null,null,null,null,null,null,null,{"$f":"SUM(C25:AI25)","v":52},{"$f":"+AJ25/AM25","v":13},{"$f":"ROUND(SUM(AK25),0)","v":13},4]
["Vincent Daviero","daviero_v",{"$f":"MIN(AL27,25)","v":9},{"$f":"INDIRECT(CONCATENATE(B26,\"!CL22\"))","v":0},{"$f":"INDIRECT(CONCATENATE(B26,\"!CF22\"))","v":0},{"$f":"INDIRECT(CONCATENATE(B26,\"!BZ22\"))","v":0},{"$f":"INDIRECT(CONCATENATE(B26,\"!BT22\"))","v":0},{"$f":"INDIRECT(CONCATENATE(B26,\"!BN22\"))","v":0},{"$f":"INDIRECT(CONCATENATE(B26,\"!BH22\"))","v":0},{"$f":"INDIRECT(CONCATENATE(B26,\"!BB22\"))","v":0},{"$f":"INDIRECT(CONCATENATE(B26,\"!AV22\"))","v":0},{"$f":"INDIRECT(CONCATENATE(B26,\"!AP22\"))","v":0},{"$f":"INDIRECT(CONCATENATE(B26,\"!AJ22\"))","v":0},{"$f":"INDIRECT(CONCATENATE(B26,\"!AD22\"))","v":0},{"$f":"INDIRECT(CONCATENATE(B26,\"!X22\"))","v":0},{"$f":"INDIRECT(CONCATENATE(B26,\"!R22\"))","v":0},{"$f":"INDIRECT(CONCATENATE(B26,\"!L22\"))","v":0},{"$f":"INDIRECT(CONCATENATE(B26,\"!F22\"))","v":0},null,9,8,9,8,9,9,null,null,null,null,null,null,null,null,0,null,null,null,null,23]
[null,null,null,null,null,null,null,null,null,null,null,null,null,null,null,null,null,null,null,9,8,9,8,null,null,null,null,null,null,null,null,null,null,null,null,{"$f":"SUM(C27:AI27)","v":34},{"$f":"+AJ27/AM27","v":8.5},{"$f":"ROUND(SUM(AK27),0)","v":9},4]
["Pete Michalski","michalski_p",{"$f":"MIN(AL29,25)","v":19},{"$f":"INDIRECT(CONCATENATE(B28,\"!CL22\"))","v":0},{"$f":"INDIRECT(CONCATENATE(B28,\"!CF22\"))","v":0},{"$f":"INDIRECT(CONCATENATE(B28,\"!BZ22\"))","v":0},{"$f":"INDIRECT(CONCATENATE(B28,\"!BT22\"))","v":0},{"$f":"INDIRECT(CONCATENATE(B28,\"!BN22\"))","v":0},{"$f":"INDIRECT(CONCATENATE(B28,\"!BH22\"))","v":0},{"$f":"INDIRECT(CONCATENATE(B28,\"!BB22\"))","v":0},{"$f":"INDIRECT(CONCATENATE(B28,\"!AV22\"))","v":0},{"$f":"INDIRECT(CONCATENATE(B28,\"!AP22\"))","v":0},{"$f":"INDIRECT(CONCATENATE(B28,\"!AJ22\"))","v":0},{"$f":"INDIRECT(CONCATENATE(B28,\"!AD22\"))","v":0},{"$f":"INDIRECT(CONCATENATE(B28,\"!X22\"))","v":0},{"$f":"INDIRECT(CONCATENATE(B28,\"!R22\"))","v":0},{"$f":"INDIRECT(CONCATENATE(B28,\"!L22\"))","v":0},{"$f":"INDIRECT(CONCATENATE(B28,\"!F22\"))","v":0},null,25,19,19,18,20,19,null,null,null,null,null,null,null,null,null,null,null,null,null,22]
[null,null,null,null,null,null,null,null,null,null,null,null,null,null,null,null,null,null,null,null,19,19,18,null,19,null,null,null,null,null,null,null,null,null,null,{"$f":"SUM(C29:AI29)","v":75},{"$f":"+AJ29/AM29","v":18.75},{"$f":"ROUND(SUM(AK29),0)","v":19},4]
["Sue Michalski","michalski_s",{"$f":"MIN(AL31,25)","v":21},{"$f":"INDIRECT(CONCATENATE(B30,\"!CL22\"))","v":0},{"$f":"INDIRECT(CONCATENATE(B30,\"!CF22\"))","v":0},{"$f":"INDIRECT(CONCATENATE(B30,\"!BZ22\"))","v":0},{"$f":"INDIRECT(CONCATENATE(B30,\"!BT22\"))","v":0},{"$f":"INDIRECT(CONCATENATE(B30,\"!BN22\"))","v":0},{"$f":"INDIRECT(CONCATENATE(B30,\"!BH22\"))","v":0},{"$f":"INDIRECT(CONCATENATE(B30,\"!BB22\"))","v":0},{"$f":"INDIRECT(CONCATENATE(B30,\"!AV22\"))","v":0},{"$f":"INDIRECT(CONCATENATE(B30,\"!AP22\"))","v":0},{"$f":"INDIRECT(CONCATENATE(B30,\"!AJ22\"))","v":0},{"$f":"INDIRECT(CONCATENATE(B30,\"!AD22\"))","v":0},{"$f":"INDIRECT(CONCATENATE(B30,\"!X22\"))","v":0},{"$f":"INDIRECT(CONCATENATE(B30,\"!R22\"))","v":0},{"$f":"INDIRECT(CONCATENATE(B30,\"!L22\"))","v":0},{"$f":"INDIRECT(CONCATENATE(B30,\"!F22\"))","v":0},null,26,22,22,18,25,23,null,null,null,null,null,null,null,null,null,null,null,null,null,22]
[null,null,null,null,null,null,null,null,null,null,null,null,null,null,null,null,null,null,null,null,22,22,18,null,23,null,null,null,null,null,null,null,null,null,null,{"$f":"SUM(C31:AI31)","v":85},{"$f":"+AJ31/AM31","v":21.25},{"$f":"ROUND(SUM(AK31),0)","v":21},4]
["Tim Hobbs","hobbs",{"$f":"MIN(AL33,25)","v":11},{"$f":"INDIRECT(CONCATENATE(B32,\"!CL22\"))","v":0},{"$f":"INDIRECT(CONCATENATE(B32,\"!CF22\"))","v":0},{"$f":"INDIRECT(CONCATENATE(B32,\"!BZ22\"))","v":0},{"$f":"INDIRECT(CONCATENATE(B32,\"!BT22\"))","v":0},{"$f":"INDIRECT(CONCATENATE(B32,\"!BN22\"))","v":0},{"$f":"INDIRECT(CONCATENATE(B32,\"!BH22\"))","v":0},{"$f":"INDIRECT(CONCATENATE(B32,\"!BB22\"))","v":0},{"$f":"INDIRECT(CONCATENATE(B32,\"!AV22\"))","v":0},{"$f":"INDIRECT(CONCATENATE(B32,\"!AP22\"))","v":0},{"$f":"INDIRECT(CONCATENATE(B32,\"!AJ22\"))","v":0},{"$f":"INDIRECT(CONCATENATE(B32,\"!AD22\"))","v":0},{"$f":"INDIRECT(CONCATENATE(B32,\"!X22\"))","v":0},{"$f":"INDIRECT(CONCATENATE(B32,\"!R22\"))","v":0},{"$f":"INDIRECT(CONCATENATE(B32,\"!L22\"))","v":0},{"$f":"INDIRECT(CONCATENATE(B32,\"!F22\"))","v":0},null,7,17,12,12,19,13,null,null,null,null,null,null,null,null,null,null,null,null,null,22]
[null,null,null,null,null,null,null,null,null,null,null,null,null,null,null,null,null,null,null,7,null,12,12,null,13,null,null,null,null,null,null,null,null,null,null,{"$f":"SUM(C33:AI33)","v":44},{"$f":"+AJ33/AM33","v":11},{"$f":"ROUND(SUM(AK33),0)","v":11},4]
["Tom Mohsinger","mohsinger_t",{"$f":"MIN(AL35,25)","v":14},{"$f":"INDIRECT(CONCATENATE(B34,\"!CL22\"))","v":0},{"$f":"INDIRECT(CONCATENATE(B34,\"!CF22\"))","v":0},{"$f":"INDIRECT(CONCATENATE(B34,\"!BZ22\"))","v":0},{"$f":"INDIRECT(CONCATENATE(B34,\"!BT22\"))","v":0},{"$f":"INDIRECT(CONCATENATE(B34,\"!BN22\"))","v":0},{"$f":"INDIRECT(CONCATENATE(B34,\"!BH22\"))","v":0},{"$f":"INDIRECT(CONCATENATE(B34,\"!BB22\"))","v":0},{"$f":"INDIRECT(CONCATENATE(B34,\"!AV22\"))","v":0},{"$f":"INDIRECT(CONCATENATE(B34,\"!AP22\"))","v":0},{"$f":"INDIRECT(CONCATENATE(B34,\"!AJ22\"))","v":0},{"$f":"INDIRECT(CONCATENATE(B34,\"!AD22\"))","v":0},{"$f":"INDIRECT(CONCATENATE(B34,\"!X22\"))","v":0},{"$f":"INDIRECT(CONCATENATE(B34,\"!R22\"))","v":0},{"$f":"INDIRECT(CONCATENATE(B34,\"!L22\"))","v":0},{"$f":"INDIRECT(CONCATENATE(B34,\"!F22\"))","v":0},null,17,20,13,15,15,13,null,null,null,null,null,null,null,null,null,null,null,null,null,22]
[null,null,null,null,null,null,null,null,null,null,null,null,null,null,null,null,null,null,null,null,null,13,15,15,13,null,null,null,null,null,null,null,null,null,null,{"$f":"SUM(C35:AI35)","v":56},{"$f":"+AJ35/AM35","v":14},{"$f":"ROUND(SUM(AK35),0)","v":14},4]
[]
[]
[]
[]
[null,null,null,null,null,null,null,null,null,null,null,null,null,null,null,null,null,null,null,null,null,null,null,null,null,null,null,null,null,null,null,null,null,null,null,null,null,null,{"$f":"COUNT(C40:AI40)","v":0}]
[null,null,null,null,null,null,null,null,null,null,null,null,null,null,null,null,null,null,null,null,null,null,null,null,null,null,null,null,null,null,null,null,null,null,null,null,null,null,{"$f":"COUNT(C41:AI41)","v":0}]
[]
[]
[]
[null,null,null,null,null,null,null,null,null,null,null,null,null,null,null,null,null,null,null,null,null,null,null,null,null,null,null,null,null,null,null,null,null,null,null,null,null,null,0]
[null,null,null,null,null,null,null,null,null,null,null,null,null,null,null,null,null,null,null,null,null,null,null,null,null,null,null,null,null,null,null,null,null,null,null,null,null,null,0]
["Subs"]
[]
[]
["Sub","subx",{"$f":"MIN(AL51,25)","v":0},{"$f":"IFERROR(INDIRECT(CONCATENATE(B50,\"!CL22\")),0)","v":0},{"$f":"IFERROR(INDIRECT(CONCATENATE(B50,\"!CF22\")),0)","v":0},{"$f":"IFERROR(INDIRECT(CONCATENATE(B50,\"!BZ22\")),0)","v":0},{"$f":"IFERROR(INDIRECT(CONCATENATE(B50,\"!BT22\")),0)","v":0},{"$f":"IFERROR(INDIRECT(CONCATENATE(B50,\"!BN22\")),0)","v":0},{"$f":"IFERROR(INDIRECT(CONCATENATE(B50,\"!BH22\")),0)","v":0},{"$f":"IFERROR(INDIRECT(CONCATENATE(B50,\"!BB22\")),0)","v":0},{"$f":"IFERROR(INDIRECT(CONCATENATE(B50,\"!AV22\")),0)","v":0},{"$f":"IFERROR(INDIRECT(CONCATENATE(B50,\"!AP22\")),0)","v":0},{"$f":"IFERROR(INDIRECT(CONCATENATE(B50,\"!AJ22\")),0)","v":0},{"$f":"IFERROR(INDIRECT(CONCATENATE(B50,\"!AD22\")),0)","v":0},{"$f":"IFERROR(INDIRECT(CONCATENATE(B50,\"!X22\")),0)","v":0},{"$f":"IFERROR(INDIRECT(CONCATENATE(B50,\"!R22\")),0)","v":0},{"$f":"IFERROR(INDIRECT(CONCATENATE(B50,\"!L22\")),0)","v":0},{"$f":"IFERROR(INDIRECT(CONCATENATE(B50,\"!F22\")),0)","v":0},null,0,0,0,0,0,0,null,null,null,null,null,null,null,null,null,null,null,null,null,{"$f":"COUNT(C50:AI50)","v":22}]
[null,null,null,null,null,null,null,null,null,null,null,null,null,null,null,null,null,null,null,0,0,0,0,0,0,null,null,null,null,null,null,null,null,null,null,{"$f":"SUM(C51:AI51)","v":0},{"$f":"+AJ51/AM51","v":0},{"$f":"ROUND(SUM(AK51),0)","v":0},6]
["Ev Kauffman","kauffman",{"$f":"MIN(AL53,25)","v":14},{"$f":"IFERROR(INDIRECT(CONCATENATE(B52,\"!CL22\")),0)","v":0},{"$f":"IFERROR(INDIRECT(CONCATENATE(B52,\"!CF22\")),0)","v":0},{"$f":"IFERROR(INDIRECT(CONCATENATE(B52,\"!BZ22\")),0)","v":0},{"$f":"IFERROR(INDIRECT(CONCATENATE(B52,\"!BT22\")),0)","v":0},{"$f":"IFERROR(INDIRECT(CONCATENATE(B52,\"!BN22\")),0)","v":0},{"$f":"IFERROR(INDIRECT(CONCATENATE(B52,\"!BH22\")),0)","v":0},{"$f":"IFERROR(INDIRECT(CONCATENATE(B52,\"!BB22\")),0)","v":0},{"$f":"IFERROR(INDIRECT(CONCATENATE(B52,\"!AV22\")),0)","v":0},{"$f":"IFERROR(INDIRECT(CONCATENATE(B52,\"!AP22\")),0)","v":0},{"$f":"IFERROR(INDIRECT(CONCATENATE(B52,\"!AJ22\")),0)","v":0},{"$f":"IFERROR(INDIRECT(CONCATENATE(B52,\"!AD22\")),0)","v":0},{"$f":"IFERROR(INDIRECT(CONCATENATE(B52,\"!X22\")),0)","v":0},{"$f":"IFERROR(INDIRECT(CONCATENATE(B52,\"!R22\")),0)","v":0},{"$f":"IFERROR(INDIRECT(CONCATENATE(B52,\"!L22\")),0)","v":0},{"$f":"IFERROR(INDIRECT(CONCATENATE(B52,\"!F22\")),0)","v":0},null,16,20,8,17,16,21,null,null,null,null,null,null,null,null,null,null,null,null,null,22]
[null,null,null,null,null,null,null,null,null,null,null,null,null,null,null,null,null,null,null,16,null,8,17,16,null,null,null,null,null,null,null,null,null,null,null,{"$f":"SUM(C53:AI53)","v":57},{"$f":"+AJ53/AM53","v":14.25},{"$f":"ROUND(SUM(AK53),0)","v":14},4]
["Dick Vosko","vosko",{"$f":"MIN(AL55,25)","v":{"$error":"#DIV/0!"}},{"$f":"INDIRECT(CONCATENATE(B54,\"!CL22\"))","v":{"$error":"#REF!"}},{"$f":"INDIRECT(CONCATENATE(B54,\"!CF22\"))","v":{"$error":"#REF!"}},{"$f":"INDIRECT(CONCATENATE(B54,\"!BZ22\"))","v":{"$error":"#REF!"}},{"$f":"INDIRECT(CONCATENATE(B54,\"!BT22\"))","v":{"$error":"#REF!"}},{"$f":"INDIRECT(CONCATENATE(B54,\"!BN22\"))","v":{"$error":"#REF!"}},{"$f":"INDIRECT(CONCATENATE(B54,\"!BH22\"))","v":{"$error":"#REF!"}},{"$f":"INDIRECT(CONCATENATE(B54,\"!BB22\"))","v":{"$error":"#REF!"}},{"$f":"INDIRECT(CONCATENATE(B54,\"!AV22\"))","v":{"$error":"#REF!"}},{"$f":"INDIRECT(CONCATENATE(B54,\"!AP22\"))","v":{"$error":"#REF!"}},{"$f":"INDIRECT(CONCATENATE(B54,\"!AJ22\"))","v":{"$error":"#REF!"}},{"$f":"INDIRECT(CONCATENATE(B54,\"!AD22\"))","v":{"$error":"#REF!"}},{"$f":"INDIRECT(CONCATENATE(B54,\"!X22\"))","v":{"$error":"#REF!"}},{"$f":"INDIRECT(CONCATENATE(B54,\"!R22\"))","v":{"$error":"#REF!"}},{"$f":"INDIRECT(CONCATENATE(B54,\"!L22\"))","v":{"$error":"#REF!"}},{"$f":"INDIRECT(CONCATENATE(B54,\"!F22\"))","v":{"$error":"#REF!"}},null,null,null,null,null,null,null,null,null,null,null,null,null,null,null,null,null,null,null,null,0]
[null,null,null,null,null,null,null,null,null,null,null,null,null,null,null,null,null,null,null,null,null,null,null,null,null,null,null,null,null,null,null,null,null,null,null,{"$f":"SUM(C55:AI55)","v":0},{"$f":"+AJ55/AM55","v":{"$error":"#DIV/0!"}},{"$f":"ROUND(SUM(AK55),0)","v":{"$error":"#DIV/0!"}},0]
["Dan Richardson","richardson",{"$f":"MIN(AL57,25)","v":10},{"$f":"IFERROR(INDIRECT(CONCATENATE(B56,\"!CL22\")),0)","v":0},{"$f":"IFERROR(INDIRECT(CONCATENATE(B56,\"!CF22\")),0)","v":0},{"$f":"IFERROR(INDIRECT(CONCATENATE(B56,\"!BZ22\")),0)","v":0},{"$f":"IFERROR(INDIRECT(CONCATENATE(B56,\"!BT22\")),0)","v":0},{"$f":"IFERROR(INDIRECT(CONCATENATE(B56,\"!BN22\")),0)","v":0},{"$f":"IFERROR(INDIRECT(CONCATENATE(B56,\"!BH22\")),0)","v":0},{"$f":"IFERROR(INDIRECT(CONCATENATE(B56,\"!BB22\")),0)","v":0},{"$f":"IFERROR(INDIRECT(CONCATENATE(B56,\"!AV22\")),0)","v":0},{"$f":"IFERROR(INDIRECT(CONCATENATE(B56,\"!AP22\")),0)","v":0},{"$f":"IFERROR(INDIRECT(CONCATENATE(B56,\"!AJ22\")),0)","v":0},{"$f":"IFERROR(INDIRECT(CONCATENATE(B56,\"!AD22\")),0)","v":0},{"$f":"IFERROR(INDIRECT(CONCATENATE(B56,\"!X22\")),0)","v":0},{"$f":"IFERROR(INDIRECT(CONCATENATE(B56,\"!R22\")),0)","v":0},{"$f":"IFERROR(INDIRECT(CONCATENATE(B56,\"!L22\")),0)","v":0},{"$f":"IFERROR(INDIRECT(CONCATENATE(B56,\"!F22\")),0)","v":0},null,14,12,9,11,9,12,null,null,null,null,null,null,null,null,null,null,null,null,null,22]
[null,null,null,null,null,null,null,null,null,null,null,null,null,null,null,null,null,null,null,null,12,9,11,9,null,null,null,null,null,null,null,null,null,null,null,{"$f":"SUM(C57:AI57)","v":41},{"$f":"+AJ57/AM57","v":10.25},{"$f":"ROUND(SUM(AK57),0)","v":10},4]
["Joe Sheridan","sheridan",{"$f":"MIN(AL59,25)","v":5},{"$f":"IFERROR(INDIRECT(CONCATENATE(B58,\"!CL22\")),0)","v":0},{"$f":"IFERROR(INDIRECT(CONCATENATE(B58,\"!CF22\")),0)","v":0},{"$f":"IFERROR(INDIRECT(CONCATENATE(B58,\"!BZ22\")),0)","v":0},{"$f":"IFERROR(INDIRECT(CONCATENATE(B58,\"!BT22\")),0)","v":0},{"$f":"IFERROR(INDIRECT(CONCATENATE(B58,\"!BN22\")),0)","v":0},{"$f":"IFERROR(INDIRECT(CONCATENATE(B58,\"!BH22\")),0)","v":0},{"$f":"IFERROR(INDIRECT(CONCATENATE(B58,\"!BB22\")),0)","v":0},{"$f":"IFERROR(INDIRECT(CONCATENATE(B58,\"!AV22\")),0)","v":0},{"$f":"IFERROR(INDIRECT(CONCATENATE(B58,\"!AP22\")),0)","v":0},{"$f":"IFERROR(INDIRECT(CONCATENATE(B58,\"!AJ22\")),0)","v":0},{"$f":"IFERROR(INDIRECT(CONCATENATE(B58,\"!AD22\")),0)","v":0},{"$f":"IFERROR(INDIRECT(CONCATENATE(B58,\"!X22\")),0)","v":0},{"$f":"IFERROR(INDIRECT(CONCATENATE(B58,\"!R22\")),0)","v":0},{"$f":"IFERROR(INDIRECT(CONCATENATE(B58,\"!L22\")),0)","v":0},{"$f":"IFERROR(INDIRECT(CONCATENATE(B58,\"!F22\")),0)","v":0},null,5,5,2,8,14,11,null,null,null,null,null,null,null,null,null,null,null,null,null,22,"Scores are non-league but same course"]
[null,null,null,null,null,null,null,null,null,null,null,null,null,null,null,null,null,null,null,5,5,2,8,null,null,null,null,null,null,null,null,null,null,null,null,{"$f":"SUM(C59:AI59)","v":20},{"$f":"+AJ59/AM59","v":5},{"$f":"ROUND(SUM(AK59),0)","v":5},4]
["Bret Scott","scott",{"$f":"MIN(AL61,25)","v":18},{"$f":"IFERROR(INDIRECT(CONCATENATE(B60,\"!CL22\")),0)","v":0},{"$f":"IFERROR(INDIRECT(CONCATENATE(B60,\"!CF22\")),0)","v":0},{"$f":"IFERROR(INDIRECT(CONCATENATE(B60,\"!BZ22\")),0)","v":0},{"$f":"IFERROR(INDIRECT(CONCATENATE(B60,\"!BT22\")),0)","v":0},{"$f":"IFERROR(INDIRECT(CONCATENATE(B60,\"!BN22\")),0)","v":0},{"$f":"IFERROR(INDIRECT(CONCATENATE(B60,\"!BH22\")),0)","v":0},{"$f":"IFERROR(INDIRECT(CONCATENATE(B60,\"!BB22\")),0)","v":0},{"$f":"IFERROR(INDIRECT(CONCATENATE(B60,\"!AV22\")),0)","v":0},{"$f":"IFERROR(INDIRECT(CONCATENATE(B60,\"!AP22\")),0)","v":0},{"$f":"IFERROR(INDIRECT(CONCATENATE(B60,\"!AJ22\")),0)","v":0},{"$f":"IFERROR(INDIRECT(CONCATENATE(B60,\"!AD22\")),0)","v":0},{"$f":"IFERROR(INDIRECT(CONCATENATE(B60,\"!X22\")),0)","v":0},{"$f":"IFERROR(INDIRECT(CONCATENATE(B60,\"!R22\")),0)","v":0},{"$f":"IFERROR(INDIRECT(CONCATENATE(B60,\"!L22\")),0)","v":0},{"$f":"IFERROR(INDIRECT(CONCATENATE(B60,\"!F22\")),0)","v":0},null,21,19,13,18,18,19,null,null,null,null,null,null,null,null,null,null,null,null,null,22]
[null,null,null,null,null,null,null,null,null,null,null,null,null,null,null,null,null,null,null,21,19,13,18,null,null,null,null,null,null,null,null,null,null,null,null,{"$f":"SUM(C61:AI61)","v":71},{"$f":"+AJ61/AM61","v":17.75},{"$f":"ROUND(SUM(AK61),0)","v":18},4]
["Mark Roschinsky","roschinsky",{"$f":"MIN(AL63,25)","v":9},{"$f":"IFERROR(INDIRECT(CONCATENATE(B62,\"!CL22\")),0)","v":0},{"$f":"IFERROR(INDIRECT(CONCATENATE(B62,\"!CF22\")),0)","v":0},{"$f":"IFERROR(INDIRECT(CONCATENATE(B62,\"!BZ22\")),0)","v":0},{"$f":"IFERROR(INDIRECT(CONCATENATE(B62,\"!BT22\")),0)","v":0},{"$f":"IFERROR(INDIRECT(CONCATENATE(B62,\"!BN22\")),0)","v":0},{"$f":"IFERROR(INDIRECT(CONCATENATE(B62,\"!BH22\")),0)","v":0},{"$f":"IFERROR(INDIRECT(CONCATENATE(B62,\"!BB22\")),0)","v":0},{"$f":"IFERROR(INDIRECT(CONCATENATE(B62,\"!AV22\")),0)","v":0},{"$f":"IFERROR(INDIRECT(CONCATENATE(B62,\"!AP22\")),0)","v":0},{"$f":"IFERROR(INDIRECT(CONCATENATE(B62,\"!AJ22\")),0)","v":0},{"$f":"IFERROR(INDIRECT(CONCATENATE(B62,\"!AD22\")),0)","v":0},{"$f":"IFERROR(INDIRECT(CONCATENATE(B62,\"!X22\")),0)","v":0},{"$f":"IFERROR(INDIRECT(CONCATENATE(B62,\"!R22\")),0)","v":0},{"$f":"IFERROR(INDIRECT(CONCATENATE(B62,\"!L22\")),0)","v":0},{"$f":"IFERROR(INDIRECT(CONCATENATE(B62,\"!F22\")),0)","v":0},null,9,9,9,9,8,15,null,null,null,null,null,null,null,null,null,null,null,null,null,null,"Scores are non-league but same course"]
[null,null,null,null,null,null,null,null,null,null,null,null,null,null,null,null,null,null,null,9,9,9,null,8,null,null,null,null,null,null,null,null,null,null,null,{"$f":"SUM(C63:AI63)","v":35},{"$f":"+AJ63/AM63","v":8.75},{"$f":"ROUND(SUM(AK63),0)","v":9},4]
["Paul Archambault","archambault",{"$f":"MIN(AL65,25)","v":11},{"$f":"IFERROR(INDIRECT(CONCATENATE(B64,\"!CL22\")),0)","v":0},{"$f":"IFERROR(INDIRECT(CONCATENATE(B64,\"!CF22\")),0)","v":0},{"$f":"IFERROR(INDIRECT(CONCATENATE(B64,\"!BZ22\")),0)","v":0},{"$f":"IFERROR(INDIRECT(CONCATENATE(B64,\"!BT22\")),0)","v":0},{"$f":"IFERROR(INDIRECT(CONCATENATE(B64,\"!BN22\")),0)","v":0},{"$f":"IFERROR(INDIRECT(CONCATENATE(B64,\"!BH22\")),0)","v":0},{"$f":"IFERROR(INDIRECT(CONCATENATE(B64,\"!BB22\")),0)","v":0},{"$f":"IFERROR(INDIRECT(CONCATENATE(B64,\"!AV22\")),0)","v":0},{"$f":"IFERROR(INDIRECT(CONCATENATE(B64,\"!AP22\")),0)","v":0},{"$f":"IFERROR(INDIRECT(CONCATENATE(B64,\"!AJ22\")),0)","v":0},{"$f":"IFERROR(INDIRECT(CONCATENATE(B64,\"!AD22\")),0)","v":0},{"$f":"IFERROR(INDIRECT(CONCATENATE(B64,\"!X22\")),0)","v":0},{"$f":"IFERROR(INDIRECT(CONCATENATE(B64,\"!R22\")),0)","v":0},{"$f":"IFERROR(INDIRECT(CONCATENATE(B64,\"!L22\")),0)","v":0},{"$f":"IFERROR(INDIRECT(CONCATENATE(B64,\"!F22\")),0)","v":0},null,11,15,12,14,8,11,null,null,null,null,null,null,null,null,null,null,null,null,null,22]
[null,null,null,null,null,null,null,null,null,null,null,null,null,null,null,null,null,null,null,11,null,12,14,8,null,null,null,null,null,null,null,null,null,null,null,{"$f":"SUM(C65:AI65)","v":45},{"$f":"+AJ65/AM65","v":11.25},{"$f":"ROUND(SUM(AK65),0)","v":11},4]
["Lisa Palmerino","palmerino_l",{"$f":"MIN(AL67,25)","v":18},{"$f":"IFERROR(INDIRECT(CONCATENATE(B66,\"!CL22\")),0)","v":0},{"$f":"IFERROR(INDIRECT(CONCATENATE(B66,\"!CF22\")),0)","v":0},{"$f":"IFERROR(INDIRECT(CONCATENATE(B66,\"!BZ22\")),0)","v":0},{"$f":"IFERROR(INDIRECT(CONCATENATE(B66,\"!BT22\")),0)","v":0},{"$f":"IFERROR(INDIRECT(CONCATENATE(B66,\"!BN22\")),0)","v":0},{"$f":"IFERROR(INDIRECT(CONCATENATE(B66,\"!BH22\")),0)","v":0},{"$f":"IFERROR(INDIRECT(CONCATENATE(B66,\"!BB22\")),0)","v":0},{"$f":"IFERROR(INDIRECT(CONCATENATE(B66,\"!AV22\")),0)","v":0},{"$f":"IFERROR(INDIRECT(CONCATENATE(B66,\"!AP22\")),0)","v":0},{"$f":"IFERROR(INDIRECT(CONCATENATE(B66,\"!AJ22\")),0)","v":0},{"$f":"IFERROR(INDIRECT(CONCATENATE(B66,\"!AD22\")),0)","v":0},{"$f":"IFERROR(INDIRECT(CONCATENATE(B66,\"!X22\")),0)","v":0},{"$f":"IFERROR(INDIRECT(CONCATENATE(B66,\"!R22\")),0)","v":0},{"$f":"IFERROR(INDIRECT(CONCATENATE(B66,\"!L22\")),0)","v":0},{"$f":"IFERROR(INDIRECT(CONCATENATE(B66,\"!F22\")),0)","v":0},null,16,18,18,20,18,19]
[null,null,null,null,null,null,null,null,null,null,null,null,null,null,null,null,null,null,null,16,18,18,null,18,null,null,null,null,null,null,null,null,null,null,null,{"$f":"SUM(C67:AI67)","v":70},{"$f":"+AJ67/AM67","v":17.5},{"$f":"ROUND(SUM(AK67),0)","v":18},4]
["Marty Reed","reed",{"$f":"MIN(AL69,25)","v":5},{"$f":"IFERROR(INDIRECT(CONCATENATE(B68,\"!CL22\")),0)","v":0},{"$f":"IFERROR(INDIRECT(CONCATENATE(B68,\"!CF22\")),0)","v":0},{"$f":"IFERROR(INDIRECT(CONCATENATE(B68,\"!BZ22\")),0)","v":0},{"$f":"IFERROR(INDIRECT(CONCATENATE(B68,\"!BT22\")),0)","v":0},{"$f":"IFERROR(INDIRECT(CONCATENATE(B68,\"!BN22\")),0)","v":0},{"$f":"IFERROR(INDIRECT(CONCATENATE(B68,\"!BH22\")),0)","v":0},{"$f":"IFERROR(INDIRECT(CONCATENATE(B68,\"!BB22\")),0)","v":0},{"$f":"IFERROR(INDIRECT(CONCATENATE(B68,\"!AV22\")),0)","v":0},{"$f":"IFERROR(INDIRECT(CONCATENATE(B68,\"!AP22\")),0)","v":0},{"$f":"IFERROR(INDIRECT(CONCATENATE(B68,\"!AJ22\")),0)","v":0},{"$f":"IFERROR(INDIRECT(CONCATENATE(B68,\"!AD22\")),0)","v":0},{"$f":"IFERROR(INDIRECT(CONCATENATE(B68,\"!X22\")),0)","v":0},{"$f":"IFERROR(INDIRECT(CONCATENATE(B68,\"!R22\")),0)","v":0},{"$f":"IFERROR(INDIRECT(CONCATENATE(B68,\"!L22\")),0)","v":0},{"$f":"IFERROR(INDIRECT(CONCATENATE(B68,\"!F22\")),0)","v":0},null,11,2,4,9,7,7]
[null,null,null,null,null,null,null,null,null,null,null,null,null,null,null,null,null,null,null,null,2,4,null,7,7,null,null,null,null,null,null,null,null,null,null,{"$f":"SUM(C69:AI69)","v":20},{"$f":"+AJ69/AM69","v":5},{"$f":"ROUND(SUM(AK69),0)","v":5},4]
["Gloria Poston","poston",{"$f":"MIN(AL71,25)","v":12},{"$f":"IFERROR(INDIRECT(CONCATENATE(B70,\"!CL22\")),0)","v":0},{"$f":"IFERROR(INDIRECT(CONCATENATE(B70,\"!CF22\")),0)","v":0},{"$f":"IFERROR(INDIRECT(CONCATENATE(B70,\"!BZ22\")),0)","v":0},{"$f":"IFERROR(INDIRECT(CONCATENATE(B70,\"!BT22\")),0)","v":0},{"$f":"IFERROR(INDIRECT(CONCATENATE(B70,\"!BN22\")),0)","v":0},{"$f":"IFERROR(INDIRECT(CONCATENATE(B70,\"!BH22\")),0)","v":0},{"$f":"IFERROR(INDIRECT(CONCATENATE(B70,\"!BB22\")),0)","v":0},{"$f":"IFERROR(INDIRECT(CONCATENATE(B70,\"!AV22\")),0)","v":0},{"$f":"IFERROR(INDIRECT(CONCATENATE(B70,\"!AP22\")),0)","v":0},{"$f":"IFERROR(INDIRECT(CONCATENATE(B70,\"!AJ22\")),0)","v":0},{"$f":"IFERROR(INDIRECT(CONCATENATE(B70,\"!AD22\")),0)","v":0},{"$f":"IFERROR(INDIRECT(CONCATENATE(B70,\"!X22\")),0)","v":0},{"$f":"IFERROR(INDIRECT(CONCATENATE(B70,\"!R22\")),0)","v":0},{"$f":"IFERROR(INDIRECT(CONCATENATE(B70,\"!L22\")),0)","v":0},{"$f":"IFERROR(INDIRECT(CONCATENATE(B70,\"!F22\")),0)","v":0},null,12,17,15,10,14,11]
[null,null,null,null,null,null,null,null,null,null,null,null,null,null,null,null,null,null,null,12,null,null,10,14,11,null,null,null,null,null,null,null,null,null,null,{"$f":"SUM(C71:AI71)","v":47},{"$f":"+AJ71/AM71","v":11.75},{"$f":"ROUND(SUM(AK71),0)","v":12},{"$f":"COUNT(C71:AI71)","v":4}]
["Matt Nichols","nichols",{"$f":"MIN(AL73,25)","v":13},{"$f":"IFERROR(INDIRECT(CONCATENATE(B72,\"!CL22\")),0)","v":0},{"$f":"IFERROR(INDIRECT(CONCATENATE(B72,\"!CF22\")),0)","v":0},{"$f":"IFERROR(INDIRECT(CONCATENATE(B72,\"!BZ22\")),0)","v":0},{"$f":"IFERROR(INDIRECT(CONCATENATE(B72,\"!BT22\")),0)","v":0},{"$f":"IFERROR(INDIRECT(CONCATENATE(B72,\"!BN22\")),0)","v":0},{"$f":"IFERROR(INDIRECT(CONCATENATE(B72,\"!BH22\")),0)","v":0},{"$f":"IFERROR(INDIRECT(CONCATENATE(B72,\"!BB22\")),0)","v":0},{"$f":"IFERROR(INDIRECT(CONCATENATE(B72,\"!AV22\")),0)","v":0},{"$f":"IFERROR(INDIRECT(CONCATENATE(B72,\"!AP22\")),0)","v":0},{"$f":"IFERROR(INDIRECT(CONCATENATE(B72,\"!AJ22\")),0)","v":0},{"$f":"IFERROR(INDIRECT(CONCATENATE(B72,\"!AD22\")),0)","v":0},{"$f":"IFERROR(INDIRECT(CONCATENATE(B72,\"!X22\")),0)","v":0},{"$f":"IFERROR(INDIRECT(CONCATENATE(B72,\"!R22\")),0)","v":0},{"$f":"IFERROR(INDIRECT(CONCATENATE(B72,\"!L22\")),0)","v":0},{"$f":"IFERROR(INDIRECT(CONCATENATE(B72,\"!F22\")),0)","v":0},null,14,16,15,13,13,13]
[null,null,null,null,null,null,null,null,null,null,null,null,null,null,null,null,null,null,null,14,null,null,13,13,13,null,null,null,null,null,null,null,null,null,null,{"$f":"SUM(C73:AI73)","v":53},{"$f":"+AJ73/AM73","v":13.25},{"$f":"ROUND(SUM(AK73),0)","v":13},{"$f":"COUNT(C73:AI73)","v":4}]
["SUB","subx",{"$f":"MIN(AL75,25)","v":0},{"$f":"IFERROR(INDIRECT(CONCATENATE(B74,\"!CL22\")),0)","v":0},{"$f":"IFERROR(INDIRECT(CONCATENATE(B74,\"!CF22\")),0)","v":0},{"$f":"IFERROR(INDIRECT(CONCATENATE(B74,\"!BZ22\")),0)","v":0},{"$f":"IFERROR(INDIRECT(CONCATENATE(B74,\"!BT22\")),0)","v":0},{"$f":"IFERROR(INDIRECT(CONCATENATE(B74,\"!BN22\")),0)","v":0},{"$f":"IFERROR(INDIRECT(CONCATENATE(B74,\"!BH22\")),0)","v":0},{"$f":"IFERROR(INDIRECT(CONCATENATE(B74,\"!BB22\")),0)","v":0},{"$f":"IFERROR(INDIRECT(CONCATENATE(B74,\"!AV22\")),0)","v":0},{"$f":"IFERROR(INDIRECT(CONCATENATE(B74,\"!AP22\")),0)","v":0},{"$f":"IFERROR(INDIRECT(CONCATENATE(B74,\"!AJ22\")),0)","v":0},{"$f":"IFERROR(INDIRECT(CONCATENATE(B74,\"!AD22\")),0)","v":0},{"$f":"IFERROR(INDIRECT(CONCATENATE(B74,\"!X22\")),0)","v":0},{"$f":"IFERROR(INDIRECT(CONCATENATE(B74,\"!R22\")),0)","v":0},{"$f":"IFERROR(INDIRECT(CONCATENATE(B74,\"!L22\")),0)","v":0},{"$f":"IFERROR(INDIRECT(CONCATENATE(B74,\"!F22\")),0)","v":0},null,0,0,0,0,0,0]
[null,null,null,null,null,null,null,null,null,null,null,null,null,null,null,null,null,null,null,0,0,0,0,0,0,null,null,null,null,null,null,null,null,null,null,{"$f":"SUM(C75:AI75)","v":0},{"$f":"+AJ75/AM75","v":0},{"$f":"ROUND(SUM(AK75),0)","v":0},{"$f":"COUNT(C75:AI75)","v":6}]
["Jill Daviero","daviero_j",{"$f":"MIN(AL77,25)","v":24},{"$f":"IFERROR(INDIRECT(CONCATENATE(B76,\"!CL22\")),0)","v":0},{"$f":"IFERROR(INDIRECT(CONCATENATE(B76,\"!CF22\")),0)","v":0},{"$f":"IFERROR(INDIRECT(CONCATENATE(B76,\"!BZ22\")),0)","v":0},{"$f":"IFERROR(INDIRECT(CONCATENATE(B76,\"!BT22\")),0)","v":0},{"$f":"IFERROR(INDIRECT(CONCATENATE(B76,\"!BN22\")),0)","v":0},{"$f":"IFERROR(INDIRECT(CONCATENATE(B76,\"!BH22\")),0)","v":0},{"$f":"IFERROR(INDIRECT(CONCATENATE(B76,\"!BB22\")),0)","v":0},{"$f":"IFERROR(INDIRECT(CONCATENATE(B76,\"!AV22\")),0)","v":0},{"$f":"IFERROR(INDIRECT(CONCATENATE(B76,\"!AP22\")),0)","v":0},{"$f":"IFERROR(INDIRECT(CONCATENATE(B76,\"!AJ22\")),0)","v":0},{"$f":"IFERROR(INDIRECT(CONCATENATE(B76,\"!AD22\")),0)","v":0},{"$f":"IFERROR(INDIRECT(CONCATENATE(B76,\"!X22\")),0)","v":0},{"$f":"IFERROR(INDIRECT(CONCATENATE(B76,\"!R22\")),0)","v":0},{"$f":"IFERROR(INDIRECT(CONCATENATE(B76,\"!L22\")),0)","v":0},{"$f":"IFERROR(INDIRECT(CONCATENATE(B76,\"!F22\")),0)","v":0},null,19,25,25,25,25,25,null,null,null,null,null,null,null,null,null,null,null,null,null,22]
[null,null,null,null,null,null,null,null,null,null,null,null,null,null,null,null,null,null,null,19,25,25,25,null,null,null,null,null,null,null,null,null,null,null,null,{"$f":"SUM(C77:AI77)","v":94},{"$f":"+AJ77/AM77","v":23.5},{"$f":"ROUND(SUM(AK77),0)","v":24},4]
[]
[]
["Handicap lookup"]
[]
["Paul","archambault",{"$f":"C64","v":11},{"$f":"AK65","v":11.25}]
["Jim","daviero",{"$f":"C20","v":9},{"$f":"AK21","v":8.5}]
["Jill","daviero_j",{"$f":"C76","v":24},{"$f":"AK77","v":23.5}]
["Vincent","daviero_v",{"$f":"C26","v":9},{"$f":"AK27","v":8.5}]
["Dan","fusco_d",{"$f":"C12","v":8},{"$f":"AK13","v":8}]
["Mike","fusco_m",11]
["Steve","fusco_s",{"$f":"C18","v":12},{"$f":"AK19","v":11.75}]
["Jeanne","henderson",{"$f":"C76","v":24},{"$f":"AK77","v":23.5}]
["Tim","hobbs",{"$f":"C32","v":11},{"$f":"AK33","v":11}]
["Ev","kauffman",{"$f":"C52","v":14},{"$f":"AK53","v":14.25}]
["Glenn","kreig",{"$f":"C24","v":13},{"$f":"AK25","v":13}]
["Andy","linton",{"$f":"C4","v":5},{"$f":"AK5","v":5.25}]
["Brian","mclaughlin",{"$f":"C10","v":12},{"$f":"AK11","v":12}]
["Pete","michalski_p",{"$f":"C28","v":19},{"$f":"AK29","v":18.75}]
["Sue","michalski_s",{"$f":"C30","v":21},{"$f":"AK31","v":21.25}]
["Bette","mohsinger_b",{"$f":"C6","v":12},{"$f":"AK7","v":11.5}]
["Tom","mohsinger_t",{"$f":"C34","v":14},{"$f":"AK35","v":14}]
["Matt","nichols",{"$f":"C26","v":9},{"$f":"AK27","v":8.5}]
["Dan","palmerino",{"$f":"C14","v":8},{"$f":"AK15","v":8.25}]
["Lisa","palmerino_l",{"$f":"C66","v":18},{"$f":"AK67","v":17.5}]
["Gloria","poston",{"$f":"C70","v":12},{"$f":"AK71","v":11.75}]
["Marty","reed",{"$f":"C68","v":5},{"$f":"AK69","v":5}]
["Dan","richardson",{"$f":"C56","v":10},{"$f":"AK57","v":10.25}]
["Mark","roschinsky",{"$f":"C62","v":9},{"$f":"AK63","v":8.75}]
["Mark","rusnak",{"$f":"C22","v":3},{"$f":"AK23","v":2.5}]
["Bret","scott",{"$f":"C60","v":18},{"$f":"AK61","v":17.75}]
["Joe","sheridan",{"$f":"C58","v":5},{"$f":"AK59","v":5}]
["Dave","taylor",{"$f":"C16","v":13},{"$f":"AK17","v":13.25}]
["Bob","templeton",{"$f":"C8","v":20},{"$f":"AK9","v":19.75}]

{"sheet":"Sum of W_T_L","index":4,"n_rows":29,"n_cols":23,"rows_kept":29,"cut":false,"hidden":false,"merged":[]}
["Summary of Wins / Losses / Ties"]
[]
[null,"Week #1","Week #2","Week #3","Week #4","Week #5","Week #6","Week #7","Week #8","Week #9","Week #10","Week #11","Week #12","Week #13","Week #14","Week #15",null,"Wins","Losses","Ties"]
[{"$f":"Linton!A1","v":"Andy Linton"},{"$f":"Linton!F24","v":0},{"$f":"Linton!L24","v":0},{"$f":"Linton!R24","v":0},{"$f":"Linton!X24","v":0},{"$f":"Linton!AD24","v":0},{"$f":"Linton!AJ24","v":0},{"$f":"Linton!AP24","v":0},{"$f":"Linton!AV24","v":0},{"$f":"Linton!BB24","v":0},{"$f":"Linton!BH24","v":0},{"$f":"Linton!BN24","v":0},{"$f":"Linton!BT24","v":0},{"$f":"Linton!BZ24","v":0},{"$f":"Linton!CF24","v":0},{"$f":"Linton!CL24","v":0},null,{"$f":"COUNTIF(B4:P4,\"W\")","v":0},{"$f":"COUNTIF(B4:P4,\"L\")","v":0},{"$f":"COUNTIF(B4:P4,\"T\")","v":0},{"$f":"FIND(\" \",A4)","v":5},{"$f":"MID(A4,U4,99)","v":" Linton"},{"$f":"IFERROR((R4+(T4/2))/SUM(R4:T4),0)","v":0}]
[{"$f":"Mohsinger_B!A1","v":"Bette Mohsinger"},{"$f":"Mohsinger_B!F24","v":0},{"$f":"Mohsinger_B!L24","v":0},{"$f":"Mohsinger_B!R24","v":0},{"$f":"Mohsinger_B!X24","v":0},{"$f":"Mohsinger_B!AD24","v":0},{"$f":"Mohsinger_B!AJ24","v":0},{"$f":"Mohsinger_B!AP24","v":0},{"$f":"Mohsinger_B!AV24","v":0},{"$f":"Mohsinger_B!BB24","v":0},{"$f":"Mohsinger_B!BH24","v":0},{"$f":"Mohsinger_B!BN24","v":0},{"$f":"Mohsinger_B!BT24","v":0},{"$f":"Mohsinger_B!BZ24","v":0},{"$f":"Mohsinger_B!CF24","v":0},{"$f":"Mohsinger_B!CL24","v":0},null,0,0,0,6," Mohsinger",0]
[{"$f":"Templeton!A1","v":"Bob Templeton"},{"$f":"Templeton!F24","v":0},{"$f":"Templeton!L24","v":0},{"$f":"Templeton!R24","v":0},{"$f":"Templeton!X24","v":0},{"$f":"Templeton!AD24","v":0},{"$f":"Templeton!AJ24","v":0},{"$f":"Templeton!AP24","v":0},{"$f":"Templeton!AV24","v":0},{"$f":"Templeton!BB24","v":0},{"$f":"Templeton!BH24","v":0},{"$f":"Templeton!BN24","v":0},{"$f":"Templeton!BT24","v":0},{"$f":"Templeton!BZ24","v":0},{"$f":"Templeton!CF24","v":0},{"$f":"Templeton!CL24","v":0},null,0,0,0,4," Templeton",0]
[{"$f":"McLaughlin!A1","v":"Brian McGlaughlin"},{"$f":"McLaughlin!F24","v":0},{"$f":"McLaughlin!L24","v":0},{"$f":"McLaughlin!R24","v":0},{"$f":"McLaughlin!X24","v":0},{"$f":"McLaughlin!AD24","v":0},{"$f":"McLaughlin!AJ24","v":0},{"$f":"McLaughlin!AP24","v":0},{"$f":"McLaughlin!AV24","v":0},{"$f":"McLaughlin!BB24","v":0},{"$f":"McLaughlin!BH24","v":0},{"$f":"McLaughlin!BN24","v":0},{"$f":"McLaughlin!BT24","v":0},{"$f":"McLaughlin!BZ24","v":0},{"$f":"McLaughlin!CF24","v":0},{"$f":"McLaughlin!CL24","v":0},null,0,0,0,6," McGlaughlin",0]
[{"$f":"Fusco_D!A1","v":"Dan Fusco"},{"$f":"Fusco_D!F24","v":0},{"$f":"Fusco_D!L24","v":0},{"$f":"Fusco_D!R24","v":0},{"$f":"Fusco_D!X24","v":0},{"$f":"Fusco_D!AD24","v":0},{"$f":"Fusco_D!AJ24","v":0},{"$f":"Fusco_D!AP24","v":0},{"$f":"Fusco_D!AV24","v":0},{"$f":"Fusco_D!BB24","v":0},{"$f":"Fusco_D!BH24","v":0},{"$f":"Fusco_D!BN24","v":0},{"$f":"Fusco_D!BT24","v":0},{"$f":"Fusco_D!BZ24","v":0},{"$f":"Fusco_D!CF24","v":0},{"$f":"Fusco_D!CL24","v":0},null,0,0,0,4," Fusco",0]
[{"$f":"Palmerino!A1","v":"Dan Palmerino"},{"$f":"Palmerino!F24","v":0},{"$f":"Palmerino!L24","v":0},{"$f":"Palmerino!R24","v":0},{"$f":"Palmerino!X24","v":0},{"$f":"Palmerino!AD24","v":0},{"$f":"Palmerino!AJ24","v":0},{"$f":"Palmerino!AP24","v":0},{"$f":"Palmerino!AV24","v":0},{"$f":"Palmerino!BB24","v":0},{"$f":"Palmerino!BH24","v":0},{"$f":"Palmerino!BN24","v":0},{"$f":"Palmerino!BT24","v":0},{"$f":"Palmerino!BZ24","v":0},{"$f":"Palmerino!CF24","v":0},{"$f":"Palmerino!CL24","v":0},null,0,0,0,4," Palmerino",0]
[{"$f":"Taylor!A1","v":"Dave Taylor"},{"$f":"Taylor!F24","v":0},{"$f":"Taylor!L24","v":0},{"$f":"Taylor!R24","v":0},{"$f":"Taylor!X24","v":0},{"$f":"Taylor!AD24","v":0},{"$f":"Taylor!AJ24","v":0},{"$f":"Taylor!AP24","v":0},{"$f":"Taylor!AV24","v":0},{"$f":"Taylor!BB24","v":0},{"$f":"Taylor!BH24","v":0},{"$f":"Taylor!BN24","v":0},{"$f":"Taylor!BT24","v":0},{"$f":"Taylor!BZ24","v":0},{"$f":"Taylor!CF24","v":0},{"$f":"Taylor!CL24","v":0},null,0,0,0,5," Taylor",0]
["Glenn Kreig",{"$f":"Kreig!F24","v":0},{"$f":"Kreig!L24","v":0},{"$f":"Kreig!R24","v":0},{"$f":"Kreig!X24","v":0},{"$f":"Kreig!AD24","v":0},{"$f":"Kreig!AJ24","v":0},{"$f":"Kreig!AP24","v":0},{"$f":"Kreig!AV24","v":0},{"$f":"Kreig!BB24","v":0},{"$f":"Kreig!BH24","v":0},{"$f":"Kreig!BN24","v":0},{"$f":"Kreig!BT24","v":0},{"$f":"Kreig!BZ24","v":0},{"$f":"Kreig!CF24","v":0},{"$f":"Kreig!CL24","v":0},null,0,0,0,6," Kreig",0]
[{"$f":"Daviero!A1","v":"Jim Daviero"},{"$f":"Daviero!F24","v":0},{"$f":"Daviero!L24","v":0},{"$f":"Daviero!R24","v":0},{"$f":"Daviero!X24","v":0},{"$f":"Daviero!AD24","v":0},{"$f":"Daviero!AJ24","v":0},{"$f":"Daviero!AP24","v":0},{"$f":"Daviero!AV24","v":0},{"$f":"Daviero!BB24","v":0},{"$f":"Daviero!BH24","v":0},{"$f":"Daviero!BN24","v":0},{"$f":"Daviero!BT24","v":0},{"$f":"Daviero!BZ24","v":0},{"$f":"Daviero!CF24","v":0},{"$f":"Daviero!CL24","v":0},null,0,0,0,4," Daviero",0]
[{"$f":"Rusnak!A1","v":"Mark Rusnak"},{"$f":"Rusnak!F24","v":0},{"$f":"Rusnak!L24","v":0},{"$f":"Rusnak!R24","v":0},{"$f":"Rusnak!X24","v":0},{"$f":"Rusnak!AD24","v":0},{"$f":"Rusnak!AJ24","v":0},{"$f":"Rusnak!AP24","v":0},{"$f":"Rusnak!AV24","v":0},{"$f":"Rusnak!BB24","v":0},{"$f":"Rusnak!BH24","v":0},{"$f":"Rusnak!BN24","v":0},{"$f":"Rusnak!BT24","v":0},{"$f":"Rusnak!BZ24","v":0},{"$f":"Rusnak!CF24","v":0},{"$f":"Rusnak!CL24","v":0},null,0,0,0,5," Rusnak",0]
[{"$f":"Daviero_V!A1","v":"Vincent Daviero"},{"$f":"Daviero_V!F24","v":0},{"$f":"Daviero_V!L24","v":0},{"$f":"Daviero_V!R24","v":0},{"$f":"Daviero_V!X24","v":0},{"$f":"Daviero_V!AD24","v":0},{"$f":"Daviero_V!AJ24","v":0},{"$f":"Daviero_V!AP24","v":0},{"$f":"Daviero_V!AV24","v":0},{"$f":"Daviero_V!BB24","v":0},{"$f":"Daviero_V!BH24","v":0},{"$f":"Daviero_V!BN24","v":0},{"$f":"Daviero_V!BT24","v":0},{"$f":"Daviero_V!BZ24","v":0},{"$f":"Daviero_V!CF24","v":0},{"$f":"Daviero_V!CL24","v":0},null,0,0,0,8," Daviero",0]
[{"$f":"Michalski_P!A1","v":"Pete Michalski"},{"$f":"Michalski_P!F24","v":0},{"$f":"Michalski_P!L24","v":0},{"$f":"Michalski_P!R24","v":0},{"$f":"Michalski_P!X24","v":0},{"$f":"Michalski_P!AD24","v":0},{"$f":"Michalski_P!AJ24","v":0},{"$f":"Michalski_P!AP24","v":0},{"$f":"Michalski_P!AV24","v":0},{"$f":"Michalski_P!BB24","v":0},{"$f":"Michalski_P!BH24","v":0},{"$f":"Michalski_P!BN24","v":0},{"$f":"Michalski_P!BT24","v":0},{"$f":"Michalski_P!BZ24","v":0},{"$f":"Michalski_P!CF24","v":0},{"$f":"Michalski_P!CL24","v":0},null,0,0,0,5," Michalski",0]
[{"$f":"Fusco_S!A1","v":"Steve Fusco"},{"$f":"Fusco_S!F24","v":0},{"$f":"Fusco_S!L24","v":0},{"$f":"Fusco_S!R24","v":0},{"$f":"Fusco_S!X24","v":0},{"$f":"Fusco_S!AD24","v":0},{"$f":"Fusco_S!AJ24","v":0},{"$f":"Fusco_S!AP24","v":0},{"$f":"Fusco_S!AV24","v":0},{"$f":"Fusco_S!BB24","v":0},{"$f":"Fusco_S!BH24","v":0},{"$f":"Fusco_S!BN24","v":0},{"$f":"Fusco_S!BT24","v":0},{"$f":"Fusco_S!BZ24","v":0},{"$f":"Fusco_S!CF24","v":0},{"$f":"Fusco_S!CL24","v":0},null,0,0,0,6," Fusco",0]
[{"$f":"Michalski_S!A1","v":"Sue Michalski"},{"$f":"Michalski_S!F24","v":0},{"$f":"Michalski_S!L24","v":0},{"$f":"Michalski_S!R24","v":0},{"$f":"Michalski_S!X24","v":0},{"$f":"Michalski_S!AD24","v":0},{"$f":"Michalski_S!AJ24","v":0},{"$f":"Michalski_S!AP24","v":0},{"$f":"Michalski_S!AV24","v":0},{"$f":"Michalski_S!BB24","v":0},{"$f":"Michalski_S!BH24","v":0},{"$f":"Michalski_S!BN24","v":0},{"$f":"Michalski_S!BT24","v":0},{"$f":"Michalski_S!BZ24","v":0},{"$f":"Michalski_S!CF24","v":0},{"$f":"Michalski_S!CL24","v":0},null,0,0,0,4," Michalski",0]
[{"$f":"Hobbs!A1","v":"Tim Hobbs"},{"$f":"Hobbs!F24","v":0},{"$f":"Hobbs!L24","v":0},{"$f":"Hobbs!R24","v":0},{"$f":"Hobbs!X24","v":0},{"$f":"Hobbs!AD24","v":0},{"$f":"Hobbs!AJ24","v":0},{"$f":"Hobbs!AP24","v":0},{"$f":"Hobbs!AV24","v":0},{"$f":"Hobbs!BB24","v":0},{"$f":"Hobbs!BH24","v":0},{"$f":"Hobbs!BN24","v":0},{"$f":"Hobbs!BT24","v":0},{"$f":"Hobbs!BZ24","v":0},{"$f":"Hobbs!CF24","v":0},{"$f":"Hobbs!CL24","v":0},null,0,0,0,4," Hobbs",0]
[{"$f":"Mohsinger_T!A1","v":"Tom Mohsinger"},{"$f":"Mohsinger_T!F24","v":0},{"$f":"Mohsinger_T!L24","v":0},{"$f":"Mohsinger_T!R24","v":0},{"$f":"Mohsinger_T!X24","v":0},{"$f":"Mohsinger_T!AD24","v":0},{"$f":"Mohsinger_T!AJ24","v":0},{"$f":"Mohsinger_T!AP24","v":0},{"$f":"Mohsinger_T!AV24","v":0},{"$f":"Mohsinger_T!BB24","v":0},{"$f":"Mohsinger_T!BH24","v":0},{"$f":"Mohsinger_T!BN24","v":0},{"$f":"Mohsinger_T!BT24","v":0},{"$f":"Mohsinger_T!BZ24","v":0},{"$f":"Mohsinger_T!CF24","v":0},{"$f":"Mohsinger_T!CL24","v":0},null,0,0,0,4," Mohsinger",0]
[]
[{"$f":"#REF!","v":{"$error":"#REF!"}},{"$f":"#REF!","v":{"$error":"#REF!"}},{"$f":"#REF!","v":{"$error":"#REF!"}},{"$f":"#REF!","v":{"$error":"#REF!"}},{"$f":"#REF!","v":{"$error":"#REF!"}},{"$f":"#REF!","v":{"$error":"#REF!"}},{"$f":"#REF!","v":{"$error":"#REF!"}},{"$f":"#REF!","v":{"$error":"#REF!"}},{"$f":"#REF!","v":{"$error":"#REF!"}},{"$f":"#REF!","v":{"$error":"#REF!"}},{"$f":"#REF!","v":{"$error":"#REF!"}},{"$f":"#REF!","v":{"$error":"#REF!"}},{"$f":"#REF!","v":{"$error":"#REF!"}},{"$f":"#REF!","v":{"$error":"#REF!"}},{"$f":"#REF!","v":{"$error":"#REF!"}},{"$f":"#REF!","v":{"$error":"#REF!"}},null,{"$f":"COUNTIF(B21:P21,\"W\")","v":0},{"$f":"COUNTIF(B21:P21,\"L\")","v":0},{"$f":"COUNTIF(B21:P21,\"T\")","v":0},{"$f":"FIND(\" \",A21)","v":{"$error":"#REF!"}},{"$f":"MID(A21,U21,99)","v":{"$error":"#REF!"}},{"$f":"(R21+(T21/2))/SUM(R21:T21)","v":{"$error":"#DIV/0!"}}]
[{"$f":"#REF!","v":{"$error":"#REF!"}},{"$f":"#REF!","v":{"$error":"#REF!"}},{"$f":"#REF!","v":{"$error":"#REF!"}},{"$f":"#REF!","v":{"$error":"#REF!"}},{"$f":"#REF!","v":{"$error":"#REF!"}},{"$f":"#REF!","v":{"$error":"#REF!"}},{"$f":"#REF!","v":{"$error":"#REF!"}},{"$f":"#REF!","v":{"$error":"#REF!"}},{"$f":"#REF!","v":{"$error":"#REF!"}},{"$f":"#REF!","v":{"$error":"#REF!"}},{"$f":"#REF!","v":{"$error":"#REF!"}},{"$f":"#REF!","v":{"$error":"#REF!"}},{"$f":"#REF!","v":{"$error":"#REF!"}},{"$f":"#REF!","v":{"$error":"#REF!"}},{"$f":"#REF!","v":{"$error":"#REF!"}},{"$f":"#REF!","v":{"$error":"#REF!"}},null,{"$f":"COUNTIF(B22:P22,\"W\")","v":0},{"$f":"COUNTIF(B22:P22,\"L\")","v":0},{"$f":"COUNTIF(B22:P22,\"T\")","v":0},{"$f":"FIND(\" \",A22)","v":{"$error":"#REF!"}},{"$f":"MID(A22,U22,99)","v":{"$error":"#REF!"}},{"$f":"(R22+(T22/2))/SUM(R22:T22)","v":{"$error":"#DIV/0!"}}]
[{"$f":"#REF!","v":{"$error":"#REF!"}},{"$f":"#REF!","v":{"$error":"#REF!"}},{"$f":"#REF!","v":{"$error":"#REF!"}},{"$f":"#REF!","v":{"$error":"#REF!"}},{"$f":"#REF!","v":{"$error":"#REF!"}},{"$f":"#REF!","v":{"$error":"#REF!"}},{"$f":"#REF!","v":{"$error":"#REF!"}},{"$f":"#REF!","v":{"$error":"#REF!"}},{"$f":"#REF!","v":{"$error":"#REF!"}},{"$f":"#REF!","v":{"$error":"#REF!"}},{"$f":"#REF!","v":{"$error":"#REF!"}},{"$f":"#REF!","v":{"$error":"#REF!"}},{"$f":"#REF!","v":{"$error":"#REF!"}},{"$f":"#REF!","v":{"$error":"#REF!"}},{"$f":"#REF!","v":{"$error":"#REF!"}},{"$f":"#REF!","v":{"$error":"#REF!"}},null,{"$f":"COUNTIF(B23:P23,\"W\")","v":0},{"$f":"COUNTIF(B23:P23,\"L\")","v":0},{"$f":"COUNTIF(B23:P23,\"T\")","v":0},{"$f":"FIND(\" \",A23)","v":{"$error":"#REF!"}},{"$error":"#REF!"},{"$error":"#DIV/0!"}]
[{"$f":"#REF!","v":{"$error":"#REF!"}},{"$f":"#REF!","v":{"$error":"#REF!"}},{"$f":"#REF!","v":{"$error":"#REF!"}},{"$f":"#REF!","v":{"$error":"#REF!"}},{"$f":"#REF!","v":{"$error":"#REF!"}},{"$f":"#REF!","v":{"$error":"#REF!"}},{"$f":"#REF!","v":{"$error":"#REF!"}},{"$f":"#REF!","v":{"$error":"#REF!"}},{"$f":"#REF!","v":{"$error":"#REF!"}},{"$f":"#REF!","v":{"$error":"#REF!"}},{"$f":"#REF!","v":{"$error":"#REF!"}},{"$f":"#REF!","v":{"$error":"#REF!"}},{"$f":"#REF!","v":{"$error":"#REF!"}},{"$f":"#REF!","v":{"$error":"#REF!"}},{"$f":"#REF!","v":{"$error":"#REF!"}},{"$f":"#REF!","v":{"$error":"#REF!"}},null,0,0,0,{"$error":"#REF!"},{"$error":"#REF!"},{"$error":"#DIV/0!"}]
[{"$f":"#REF!","v":{"$error":"#REF!"}},{"$f":"#REF!","v":{"$error":"#REF!"}},{"$f":"#REF!","v":{"$error":"#REF!"}},{"$f":"#REF!","v":{"$error":"#REF!"}},{"$f":"#REF!","v":{"$error":"#REF!"}},{"$f":"#REF!","v":{"$error":"#REF!"}},{"$f":"#REF!","v":{"$error":"#REF!"}},{"$f":"#REF!","v":{"$error":"#REF!"}},{"$f":"#REF!","v":{"$error":"#REF!"}},{"$f":"#REF!","v":{"$error":"#REF!"}},{"$f":"#REF!","v":{"$error":"#REF!"}},{"$f":"#REF!","v":{"$error":"#REF!"}},{"$f":"#REF!","v":{"$error":"#REF!"}},{"$f":"#REF!","v":{"$error":"#REF!"}},{"$f":"#REF!","v":{"$error":"#REF!"}},{"$f":"#REF!","v":{"$error":"#REF!"}},null,0,0,0,1,{"$error":"#REF!"},{"$error":"#DIV/0!"}]
[{"$f":"#REF!","v":{"$error":"#REF!"}},{"$f":"#REF!","v":{"$error":"#REF!"}},{"$f":"#REF!","v":{"$error":"#REF!"}},{"$f":"#REF!","v":{"$error":"#REF!"}},{"$f":"#REF!","v":{"$error":"#REF!"}},{"$f":"#REF!","v":{"$error":"#REF!"}},{"$f":"#REF!","v":{"$error":"#REF!"}},{"$f":"#REF!","v":{"$error":"#REF!"}},{"$f":"#REF!","v":{"$error":"#REF!"}},{"$f":"#REF!","v":{"$error":"#REF!"}},{"$f":"#REF!","v":{"$error":"#REF!"}},{"$f":"#REF!","v":{"$error":"#REF!"}},{"$f":"#REF!","v":{"$error":"#REF!"}},{"$f":"#REF!","v":{"$error":"#REF!"}},{"$f":"#REF!","v":{"$error":"#REF!"}},{"$f":"#REF!","v":{"$error":"#REF!"}},null,0,0,0,1,{"$error":"#REF!"},{"$error":"#DIV/0!"}]
[{"$f":"#REF!","v":{"$error":"#REF!"}},{"$f":"#REF!","v":{"$error":"#REF!"}},{"$f":"#REF!","v":{"$error":"#REF!"}},{"$f":"#REF!","v":{"$error":"#REF!"}},{"$f":"#REF!","v":{"$error":"#REF!"}},{"$f":"#REF!","v":{"$error":"#REF!"}},{"$f":"#REF!","v":{"$error":"#REF!"}},{"$f":"#REF!","v":{"$error":"#REF!"}},{"$f":"#REF!","v":{"$error":"#REF!"}},{"$f":"#REF!","v":{"$error":"#REF!"}},{"$f":"#REF!","v":{"$error":"#REF!"}},{"$f":"#REF!","v":{"$error":"#REF!"}},{"$f":"#REF!","v":{"$error":"#REF!"}},{"$f":"#REF!","v":{"$error":"#REF!"}},{"$f":"#REF!","v":{"$error":"#REF!"}},{"$f":"#REF!","v":{"$error":"#REF!"}},null,0,0,0,1,{"$error":"#REF!"},{"$error":"#DIV/0!"}]
[{"$f":"#REF!","v":{"$error":"#REF!"}},{"$f":"#REF!","v":{"$error":"#REF!"}},{"$f":"#REF!","v":{"$error":"#REF!"}},{"$f":"#REF!","v":{"$error":"#REF!"}},{"$f":"#REF!","v":{"$error":"#REF!"}},{"$f":"#REF!","v":{"$error":"#REF!"}},{"$f":"#REF!","v":{"$error":"#REF!"}},{"$f":"#REF!","v":{"$error":"#REF!"}},{"$f":"#REF!","v":{"$error":"#REF!"}},{"$f":"#REF!","v":{"$error":"#REF!"}},{"$f":"#REF!","v":{"$error":"#REF!"}},{"$f":"#REF!","v":{"$error":"#REF!"}},{"$f":"#REF!","v":{"$error":"#REF!"}},{"$f":"#REF!","v":{"$error":"#REF!"}},{"$f":"#REF!","v":{"$error":"#REF!"}},{"$f":"#REF!","v":{"$error":"#REF!"}},null,0,0,0,{"$error":"#REF!"},{"$error":"#REF!"},{"$error":"#DIV/0!"}]
[{"$f":"#REF!","v":{"$error":"#REF!"}},{"$f":"#REF!","v":{"$error":"#REF!"}},{"$f":"#REF!","v":{"$error":"#REF!"}},{"$f":"#REF!","v":{"$error":"#REF!"}},{"$f":"#REF!","v":{"$error":"#REF!"}},{"$f":"#REF!","v":{"$error":"#REF!"}},{"$f":"#REF!","v":{"$error":"#REF!"}},{"$f":"#REF!","v":{"$error":"#REF!"}},{"$f":"#REF!","v":{"$error":"#REF!"}},{"$f":"#REF!","v":{"$error":"#REF!"}},{"$f":"#REF!","v":{"$error":"#REF!"}},{"$f":"#REF!","v":{"$error":"#REF!"}},{"$f":"#REF!","v":{"$error":"#REF!"}},{"$f":"#REF!","v":{"$error":"#REF!"}},{"$f":"#REF!","v":{"$error":"#REF!"}},{"$f":"#REF!","v":{"$error":"#REF!"}},null,0,0,0,{"$error":"#REF!"},{"$error":"#REF!"},{"$error":"#DIV/0!"}]

{"sheet":"Daviero","index":5,"n_rows":218,"n_cols":90,"rows_kept":218,"cut":false,"hidden":false,"merged":[]}
["Jim Daviero"]
[]
[]
[null,null,"Date:",{"$f":"VLOOKUP(C5,Week,2)","v":"2025-04-25"},null,null,null,null,"Date:",{"$f":"VLOOKUP(I5,Week,2)","v":"2025-05-02"},null,null,null,null,"Date:",{"$f":"VLOOKUP(O5,Week,2)","v":"2025-05-09"},null,null,null,null,"Date:",{"$f":"VLOOKUP(U5,Week,2)","v":"2025-05-16"},null,null,null,null,"Date:",{"$f":"VLOOKUP(AA5,Week,2)","v":"2025-05-23"},null,null,null,null,"Date:",{"$f":"VLOOKUP(AG5,Week,2)","v":"2025-05-30"},null,null,null,null,"Date:",{"$f":"VLOOKUP(AM5,Week,2)","v":"2025-06-06"},null,null,null,null,"Date:",{"$f":"VLOOKUP(AS5,Week,2)","v":"2025-06-13"},null,null,null,null,"Date:",{"$f":"VLOOKUP(AY5,Week,2)","v":"2025-06-27"},null,null,null,null,"Date:",{"$f":"VLOOKUP(BE5,Week,2)","v":"2025-07-04"},null,null,null,null,"Date:",{"$f":"VLOOKUP(BK5,Week,2)","v":"2025-07-18"},null,null,null,null,"Date:",{"$f":"VLOOKUP(BQ5,Week,2)","v":"2025-07-25"},null,null,null,null,"Date:",{"$f":"VLOOKUP(BW5,Week,2)","v":"2025-08-01"},null,null,null,null,"Date:",{"$f":"VLOOKUP(CC5,Week,2)","v":"2025-08-08"},null,null,null,null,"Date:",{"$f":"VLOOKUP(CI5,Week,2)","v":"2025-08-15"}]
[null,"Week",1,null,null,null,null,"Week",2,null,null,null,null,"Week",3,null,null,null,null,"Week",4,null,null,null,null,"Week",5,null,null,null,null,"Week",6,null,null,null,null,"Week",7,null,null,null,null,"Week",8,null,null,null,null,"Week",9,null,null,null,null,"Week",10,null,null,null,null,"Week",11,null,null,null,null,"Week",12,null,null,null,null,"Week",13,null,null,null,null,"Week",14,null,null,null,null,"Week",15]
[null,"Hole #","Par","Score","Net","Win Hole",null,"Hole #","Par","Score","Net","Win Hole",null,"Hole #","Par","Score","Net","Win Hole",null,"Hole #","Par","Score","Net","Win Hole",null,"Hole #","Par","Score","Net","Win Hole",null,"Hole #","Par","Score","Net","Win Hole",null,"Hole #","Par","Score","Net","Win Hole",null,"Hole #","Par","Score","Net","Win Hole",null,"Hole #","Par","Score","Net","Win Hole",null,"Hole #","Par","Score","Net","Win Hole",null,"Hole #","Par","Score","Net","Win Hole",null,"Hole #","Par","Score","Net","Win Hole",null,"Hole #","Par","Score","Net","Win Hole",null,"Hole #","Par","Score","Net","Win Hole",null,"Hole #","Par","Score","Net","Win Hole"]
[null,{"$f":"VLOOKUP(C5,Week,6)","v":1},{"$f":"VLOOKUP(B7,Holes,2)","v":4},null,{"$f":"IF((D7-C7)>3,C7+3,D7)","v":0},null,null,{"$f":"VLOOKUP(I5,Week,6)","v":10},{"$f":"VLOOKUP(H7,Holes,2)","v":4},null,{"$f":"IF((J7-I7)>3,I7+3,J7)","v":0},null,null,{"$f":"VLOOKUP(O5,Week,6)","v":1},{"$f":"VLOOKUP(N7,Holes,2)","v":4},null,{"$f":"IF((P7-O7)>3,O7+3,P7)","v":0},null,null,{"$f":"VLOOKUP(U5,Week,6)","v":10},{"$f":"VLOOKUP(T7,Holes,2)","v":4},null,{"$f":"IF((V7-U7)>3,U7+3,V7)","v":0},null,null,{"$f":"VLOOKUP(AA5,Week,6)","v":1},{"$f":"VLOOKUP(Z7,Holes,2)","v":4},null,{"$f":"IF((AB7-AA7)>3,AA7+3,AB7)","v":0},null,null,{"$f":"VLOOKUP(AG5,Week,6)","v":10},{"$f":"VLOOKUP(AF7,Holes,2)","v":4},null,{"$f":"IF((AH7-AG7)>3,AG7+3,AH7)","v":0},null,null,{"$f":"VLOOKUP(AM5,Week,6)","v":1},{"$f":"VLOOKUP(AL7,Holes,2)","v":4},null,{"$f":"IF((AN7-AM7)>3,AM7+3,AN7)","v":0},null,null,{"$f":"VLOOKUP(AS5,Week,6)","v":10},{"$f":"VLOOKUP(AR7,Holes,2)","v":4},null,{"$f":"IF((AT7-AS7)>3,AS7+3,AT7)","v":0},null,null,{"$f":"VLOOKUP(AY5,Week,6)","v":10},{"$f":"VLOOKUP(AX7,Holes,2)","v":4},null,{"$f":"IF((AZ7-AY7)>3,AY7+3,AZ7)","v":0},null,null,{"$f":"VLOOKUP(BE5,Week,6)","v":10},{"$f":"VLOOKUP(BD7,Holes,2)","v":4},null,{"$f":"IF((BF7-BE7)>3,BE7+3,BF7)","v":0},null,null,{"$f":"VLOOKUP(BK5,Week,6)","v":10},{"$f":"VLOOKUP(BJ7,Holes,2)","v":4},null,{"$f":"IF((BL7-BK7)>3,BK7+3,BL7)","v":0},null,null,{"$f":"VLOOKUP(BQ5,Week,6)","v":1},{"$f":"VLOOKUP(BP7,Holes,2)","v":4},null,{"$f":"IF((BR7-BQ7)>3,BQ7+3,BR7)","v":0},null,null,{"$f":"VLOOKUP(BW5,Week,6)","v":10},{"$f":"VLOOKUP(BV7,Holes,2)","v":4},null,{"$f":"IF((BX7-BW7)>3,BW7+3,BX7)","v":0},null,null,{"$f":"VLOOKUP(CC5,Week,6)","v":1},{"$f":"VLOOKUP(CB7,Holes,2)","v":4},null,{"$f":"IF((CD7-CC7)>3,CC7+3,CD7)","v":0},null,null,{"$f":"VLOOKUP(CI5,Week,6)","v":10},{"$f":"VLOOKUP(CH7,Holes,2)","v":4},null,{"$f":"IF((CJ7-CI7)>3,CI7+3,CJ7)","v":0}]
[null,{"$f":"+B7+1","v":2},4,null,0,null,null,{"$f":"+H7+1","v":11},4,null,0,null,null,{"$f":"+N7+1","v":2},4,null,0,null,null,{"$f":"+T7+1","v":11},4,null,0,null,null,{"$f":"+Z7+1","v":2},4,null,0,null,null,{"$f":"+AF7+1","v":11},4,null,0,null,null,{"$f":"+AL7+1","v":2},4,null,0,null,null,{"$f":"+AR7+1","v":11},4,null,0,null,null,{"$f":"+AX7+1","v":11},4,null,0,null,null,{"$f":"+BD7+1","v":11},4,null,0,null,null,{"$f":"+BJ7+1","v":11},4,null,0,null,null,{"$f":"+BP7+1","v":2},4,null,0,null,null,{"$f":"+BV7+1","v":11},4,null,0,null,null,{"$f":"+CB7+1","v":2},4,null,0,null,null,{"$f":"+CH7+1","v":11},4,null,0]
[null,3,4,null,0,null,null,12,3,null,0,null,null,3,4,null,0,null,null,12,3,null,0,null,null,3,4,null,0,null,null,12,3,null,0,null,null,3,4,null,0,null,null,12,3,null,0,null,null,12,3,null,0,null,null,12,3,null,0,null,null,12,3,null,0,null,null,3,4,null,0,null,null,12,3,null,0,null,null,3,4,null,0,null,null,12,3,null,0]
[null,4,4,null,0,null,null,13,4,null,0,null,null,4,4,null,0,null,null,13,4,null,0,null,null,4,4,null,0,null,null,13,4,null,0,null,null,4,4,null,0,null,null,13,4,null,0,null,null,13,4,null,0,null,null,13,4,null,0,null,null,13,4,null,0,null,null,4,4,null,0,null,null,13,4,null,0,null,null,4,4,null,0,null,null,13,4,null,0]
[null,5,3,null,0,null,null,14,4,null,0,null,null,5,3,null,0,null,null,14,4,null,0,null,null,5,3,null,0,null,null,14,4,null,0,null,null,5,3,null,0,null,null,14,4,null,0,null,null,14,4,null,0,null,null,14,4,null,0,null,null,14,4,null,0,null,null,5,3,null,0,null,null,14,4,null,0,null,null,5,3,null,0,null,null,14,4,null,0]
[null,6,4,null,0,null,null,15,3,null,0,null,null,6,4,null,0,null,null,15,3,null,0,null,null,6,4,null,0,null,null,15,3,null,0,null,null,6,4,null,0,null,null,15,3,null,0,null,null,15,3,null,0,null,null,15,3,null,0,null,null,15,3,null,0,null,null,6,4,null,0,null,null,15,3,null,0,null,null,6,4,null,0,null,null,15,3,null,0]
[null,7,4,null,0,null,null,16,5,null,0,null,null,7,4,null,0,null,null,16,5,null,0,null,null,7,4,null,0,null,null,16,5,null,0,null,null,7,4,null,0,null,null,16,5,null,0,null,null,16,5,null,0,null,null,16,5,null,0,null,null,16,5,null,0,null,null,7,4,null,0,null,null,16,5,null,0,null,null,7,4,null,0,null,null,16,5,null,0]
[null,8,3,null,0,null,null,17,4,null,0,null,null,8,3,null,0,null,null,17,4,null,0,null,null,8,3,null,0,null,null,17,4,null,0,null,null,8,3,null,0,null,null,17,4,null,0,null,null,17,4,null,0,null,null,17,4,null,0,null,null,17,4,null,0,null,null,8,3,null,0,null,null,17,4,null,0,null,null,8,3,null,0,null,null,17,4,null,0]
[null,9,5,null,0,null,null,18,5,null,0,null,null,9,5,null,0,null,null,18,5,null,0,null,null,9,5,null,0,null,null,18,5,null,0,null,null,9,5,null,0,null,null,18,5,null,0,null,null,18,5,null,0,null,null,18,5,null,0,null,null,18,5,null,0,null,null,9,5,null,0,null,null,18,5,null,0,null,null,9,5,null,0,null,null,18,5,null,0]
[null,"Total",{"$f":"SUM(C7:C15)","v":35},{"$f":"SUM(D7:D15)","v":0},{"$f":"SUM(E7:E15)","v":0},{"$f":"SUM(F7:F15)","v":0},null,"Total",{"$f":"SUM(I7:I15)","v":36},{"$f":"SUM(J7:J15)","v":0},{"$f":"SUM(K7:K15)","v":0},{"$f":"SUM(L7:L15)","v":0},null,"Total",{"$f":"SUM(O7:O15)","v":35},{"$f":"SUM(P7:P15)","v":0},{"$f":"SUM(Q7:Q15)","v":0},{"$f":"SUM(R7:R15)","v":0},null,"Total",{"$f":"SUM(U7:U15)","v":36},{"$f":"SUM(V7:V15)","v":0},{"$f":"SUM(W7:W15)","v":0},{"$f":"SUM(X7:X15)","v":0},null,"Total",{"$f":"SUM(AA7:AA15)","v":35},{"$f":"SUM(AB7:AB15)","v":0},{"$f":"SUM(AC7:AC15)","v":0},{"$f":"SUM(AD7:AD15)","v":0},null,"Total",{"$f":"SUM(AG7:AG15)","v":36},{"$f":"SUM(AH7:AH15)","v":0},{"$f":"SUM(AI7:AI15)","v":0},{"$f":"SUM(AJ7:AJ15)","v":0},null,"Total",{"$f":"SUM(AM7:AM15)","v":35},{"$f":"SUM(AN7:AN15)","v":0},{"$f":"SUM(AO7:AO15)","v":0},{"$f":"SUM(AP7:AP15)","v":0},null,"Total",{"$f":"SUM(AS7:AS15)","v":36},{"$f":"SUM(AT7:AT15)","v":0},{"$f":"SUM(AU7:AU15)","v":0},{"$f":"SUM(AV7:AV15)","v":0},null,"Total",{"$f":"SUM(AY7:AY15)","v":36},{"$f":"SUM(AZ7:AZ15)","v":0},{"$f":"SUM(BA7:BA15)","v":0},{"$f":"SUM(BB7:BB15)","v":0},null,"Total",{"$f":"SUM(BE7:BE15)","v":36},{"$f":"SUM(BF7:BF15)","v":0},{"$f":"SUM(BG7:BG15)","v":0},{"$f":"SUM(BH7:BH15)","v":0},null,"Total",{"$f":"SUM(BK7:BK15)","v":36},{"$f":"SUM(BL7:BL15)","v":0},{"$f":"SUM(BM7:BM15)","v":0},{"$f":"SUM(BN7:BN15)","v":0},null,"Total",{"$f":"SUM(BQ7:BQ15)","v":35},{"$f":"SUM(BR7:BR15)","v":0},{"$f":"SUM(BS7:BS15)","v":0},{"$f":"SUM(BT7:BT15)","v":0},null,"Total",{"$f":"SUM(BW7:BW15)","v":36},{"$f":"SUM(BX7:BX15)","v":0},{"$f":"SUM(BY7:BY15)","v":0},{"$f":"SUM(BZ7:BZ15)","v":0},null,"Total",{"$f":"SUM(CC7:CC15)","v":35},{"$f":"SUM(CD7:CD15)","v":0},{"$f":"SUM(CE7:CE15)","v":0},{"$f":"SUM(CF7:CF15)","v":0},null,"Total",{"$f":"SUM(CI7:CI15)","v":36},{"$f":"SUM(CJ7:CJ15)","v":0},{"$f":"SUM(CK7:CK15)","v":0},{"$f":"SUM(CL7:CL15)","v":0}]
[]
[null,null,null,null,"Low Net",null,null,null,null,null,"Low Net",0,null,null,null,null,"Low Net",0,null,null,null,null,"Low Net",null,null,null,null,null,"Low Net",null,null,null,null,null,"Low Net",null,null,null,null,null,"Low Net",null,null,null,null,null,"Low Net",null,null,null,null,null,"Low Net",null,null,null,null,null,"Low Net",null,null,null,null,null,"Low Net",null,null,null,null,null,"Low Net",null,null,null,null,null,"Low Net",null,null,null,null,null,"Low Net",null,null,null,null,null,"Low Net"]
[]
[null,null,null,null,"Total Points",{"$f":"SUM(F16:F19)","v":0},null,null,null,null,"Total Points",{"$f":"SUM(L16:L19)","v":0},null,null,null,null,"Total Points",{"$f":"SUM(R16:R19)","v":0},null,null,null,null,"Total Points",{"$f":"SUM(X16:X19)","v":0},null,null,null,null,"Total Points",{"$f":"SUM(AD16:AD19)","v":0},null,null,null,null,"Total Points",{"$f":"SUM(AJ16:AJ19)","v":0},null,null,null,null,"Total Points",{"$f":"SUM(AP16:AP19)","v":0},null,null,null,null,"Total Points",{"$f":"SUM(AV16:AV19)","v":0},null,null,null,null,"Total Points",{"$f":"SUM(BB16:BB19)","v":0},null,null,null,null,"Total Points",{"$f":"SUM(BH16:BH19)","v":0},null,null,null,null,"Total Points",{"$f":"SUM(BN16:BN19)","v":0},null,null,null,null,"Total Points",{"$f":"SUM(BT16:BT19)","v":0},null,null,null,null,"Total Points",{"$f":"SUM(BZ16:BZ19)","v":0},null,null,null,null,"Total Points",{"$f":"SUM(CF16:CF19)","v":0},null,null,null,null,"Total Points",{"$f":"SUM(CL16:CL19)","v":0}]
[]
[null,null,null,null,"Handicap",{"$f":"IF(D16=0,0,E16-C16)","v":0},null,null,null,null,"Handicap",{"$f":"IF(J16=0,0,K16-I16)","v":0},null,null,null,null,"Handicap",{"$f":"IF(P16=0,0,Q16-O16)","v":0},null,null,null,null,"Handicap",{"$f":"IF(V16=0,0,W16-U16)","v":0},null,null,null,null,"Handicap",{"$f":"IF(AB16=0,0,AC16-AA16)","v":0},null,null,null,null,"Handicap",{"$f":"IF(AH16=0,0,AI16-AG16)","v":0},null,null,null,null,"Handicap",{"$f":"IF(AN16=0,0,AO16-AM16)","v":0},null,null,null,null,"Handicap",{"$f":"IF(AT16=0,0,AU16-AS16)","v":0},null,null,null,null,"Handicap",{"$f":"IF(AZ16=0,0,BA16-AY16)","v":0},null,null,null,null,"Handicap",{"$f":"IF(BF16=0,0,BG16-BE16)","v":0},null,null,null,null,"Handicap",{"$f":"IF(BL16=0,0,BM16-BK16)","v":0},null,null,null,null,"Handicap",{"$f":"IF(BR16=0,0,BS16-BQ16)","v":0},null,null,null,null,"Handicap",{"$f":"IF(BX16=0,0,BY16-BW16)","v":0},null,null,null,null,"Handicap",{"$f":"IF(CD16=0,0,CE16-CC16)","v":0},null,null,null,null,"Handicap",{"$f":"IF(CJ16=0,0,CK16-CI16)","v":0}]
[]
[null,null,null,null,null,{"$f":"IF(D16<>0,IF(F16>4.5,\"W\",IF(F16=4.5,\"T\",IF(F16<4.5,\"L\"))),0)","v":0},null,null,null,null,null,{"$f":"IF(J16<>0,IF(L16>4.5,\"W\",IF(L16=4.5,\"T\",IF(L16<4.5,\"L\"))),0)","v":0},null,null,null,null,null,{"$f":"IF(P16<>0,IF(R16>4.5,\"W\",IF(R16=4.5,\"T\",IF(R16<4.5,\"L\"))),0)","v":0},null,null,null,null,null,{"$f":"IF(V16<>0,IF(X16>4.5,\"W\",IF(X16=4.5,\"T\",IF(X16<4.5,\"L\"))),0)","v":0},null,null,null,null,null,{"$f":"IF(AB16<>0,IF(AD16>4.5,\"W\",IF(AD16=4.5,\"T\",IF(AD16<4.5,\"L\"))),0)","v":0},null,null,null,null,null,{"$f":"IF(AH16<>0,IF(AJ16>4.5,\"W\",IF(AJ16=4.5,\"T\",IF(AJ16<4.5,\"L\"))),0)","v":0},null,null,null,null,null,{"$f":"IF(AN16<>0,IF(AP16>4.5,\"W\",IF(AP16=4.5,\"T\",IF(AP16<4.5,\"L\"))),0)","v":0},null,null,null,null,null,{"$f":"IF(AT16<>0,IF(AV16>4.5,\"W\",IF(AV16=4.5,\"T\",IF(AV16<4.5,\"L\"))),0)","v":0},null,null,null,null,null,{"$f":"IF(AZ16<>0,IF(BB16>4.5,\"W\",IF(BB16=4.5,\"T\",IF(BB16<4.5,\"L\"))),0)","v":0},null,null,null,null,null,{"$f":"IF(BF16<>0,IF(BH16>4.5,\"W\",IF(BH16=4.5,\"T\",IF(BH16<4.5,\"L\"))),0)","v":0},null,null,null,null,null,{"$f":"IF(BL16<>0,IF(BN16>4.5,\"W\",IF(BN16=4.5,\"T\",IF(BN16<4.5,\"L\"))),0)","v":0},null,null,null,null,null,{"$f":"IF(BR16<>0,IF(BT16>4.5,\"W\",IF(BT16=4.5,\"T\",IF(BT16<4.5,\"L\"))),0)","v":0},null,null,null,null,null,{"$f":"IF(BX16<>0,IF(BZ16>4.5,\"W\",IF(BZ16=4.5,\"T\",IF(BZ16<4.5,\"L\"))),0)","v":0},null,null,null,null,null,{"$f":"IF(CD16<>0,IF(CF16>4.5,\"W\",IF(CF16=4.5,\"T\",IF(CF16<4.5,\"L\"))),0)","v":0},null,null,null,null,null,{"$f":"IF(CJ16<>0,IF(CL16>4.5,\"W\",IF(CL16=4.5,\"T\",IF(CL16<4.5,\"L\"))),0)","v":0}]
[]
[null,"Summary"]
[null,null,null,"Adj",null,"Adj",null,null,null,"Avg Score"]
[null,null,"Points","Points","Matches","Matches",null,null,"Hole #","by Hole","Best","Worst"]
[null,"Week #1",{"$f":"F20","v":0},{"$f":"C29","v":0},{"$f":"IF(D16>0,1,0)","v":0},{"$f":"E29","v":0},null,null,1,{"$f":"IFERROR(AVERAGE(D7),0)","v":0},{"$f":"IFERROR(MIN(J7,V7,AH7,AT7,BF7,BR7,BX7,CJ7),0)","v":0},{"$f":"IFERROR(MAX(J7,V7,AH7,AT7,BF7,BR7,BX7,CJ7),0)","v":0}]
[null,"Week #2",{"$f":"L20","v":0},0,{"$f":"IF(J16>0,1,0)","v":0},0,null,null,2,{"$f":"IFERROR(AVERAGE(D8),0)","v":0},{"$f":"IFERROR(MIN(J8,V8,AH8,AT8,BF8,BR8,BX8,CJ8),0)","v":0},{"$f":"IFERROR(MAX(J8,V8,AH8,AT8,BF8,BR8,BX8,CJ8),0)","v":0}]
[null,"Week #3",{"$f":"R20","v":0},0,{"$f":"IF(P16>0,1,0)","v":0},0,null,null,3,0,0,0]
[null,"Week #4",{"$f":"X20","v":0},0,{"$f":"IF(V16>0,1,0)","v":0},0,null,null,4,0,0,0]
[null,"Week #5",{"$f":"AD20","v":0},0,{"$f":"IF(AB16>0,1,0)","v":0},0,null,null,5,0,0,0]
[null,"Week #6",{"$f":"AJ20","v":0},0,{"$f":"IF(AH16>0,1,0)","v":0},0,null,null,6,0,0,0]
[null,"Week #7",{"$f":"AP20","v":0},0,{"$f":"IF(AN16>0,1,0)","v":0},0,null,null,7,0,0,0]
[null,"Week #8",{"$f":"AV20","v":0},0,{"$f":"IF(AT16>0,1,0)","v":0},0,null,null,8,0,0,0]
[null,"Week #9",{"$f":"BB20","v":0},0,{"$f":"IF(AZ16>0,1,0)","v":0},0,null,null,9,0,0,0]
[null,"Week #10",{"$f":"BH20","v":0},0,{"$f":"IF(BF16>0,1,0)","v":0},0,null,null,"Front",{"$f":"SUM(J29:J37)","v":0},{"$f":"SUM(K29:K37)","v":0},0]
[null,"Week #11",{"$f":"BN20","v":0},0,{"$f":"IF(BL16>0,1,0)","v":0},0]
[null,"Week #12",{"$f":"BT20","v":0},0,{"$f":"IF(BR16>0,1,0)","v":0},0,null,null,10,{"$f":"IFERROR(AVERAGE(J7),0)","v":0},{"$f":"IFERROR(MIN(D7,P7,AB7,AN7,AZ7,BL7,CD7),0)","v":0},{"$f":"IFERROR(MAX(D7,P7,AB7,AN7,AZ7,BL7,CD7),0)","v":0}]
[null,"Week #13",{"$f":"BZ20","v":0},0,{"$f":"IF(BX16>0,1,0)","v":0},0,null,null,11,{"$f":"IFERROR(AVERAGE(J8),0)","v":0},{"$f":"IFERROR(MIN(D8,P8,AB8,AN8,AZ8,BL8,CD8),0)","v":0},{"$f":"IFERROR(MAX(D8,P8,AB8,AN8,AZ8,BL8,CD8),0)","v":0}]
[null,"Week #14",{"$f":"CF20","v":0},0,{"$f":"IF(CD16>0,1,0)","v":0},0,null,null,12,0,0,0]
[null,"Week #15",{"$f":"CL20","v":0},0,{"$f":"IF(CJ16>0,1,0)","v":0},0,null,null,13,0,0,0]
[null,"Total",{"$f":"SUM(C29:C43)","v":0},{"$f":"SUM(D29:D43)","v":0},{"$f":"SUM(E29:E43)","v":0},{"$f":"SUM(F29:F43)","v":0},null,null,14,0,0,0]
[null,null,null,null,null,null,null,null,15,0,0,0]
[null,"Summary",null,null,null,null,null,null,16,0,0,0]
[null,"Eagles",{"$f":"I57+I68+I79+I90+I101+I112+I123+I134+I145+I156+I167+I178+I189+I200+I211","v":0},null,null,null,null,null,17,0,0,0]
[null,"Birdies",0,null,null,null,null,null,18,0,0,0]
[null,"Pars",{"$f":"I59+I70+I81+I92+I103+I114+I125+I136+I147+I158+I169+I180+I191+I202+I213","v":0},null,null,null,null,null,"Back",{"$f":"SUM(J40:J48)","v":0},{"$f":"SUM(K40:K48)","v":0},0]
[null,"bogeys",0]
[null,"Double bogeys",0]
[null,"Other",0]
[null,"Total",{"$f":"SUM(C47:C52)","v":0}]
[]
[null,{"$f":"D4","v":"2025-04-25"},"Par","Score"]
[null,{"$f":"B7","v":1},4,0,{"$f":"IF(D56<>0,IF((D56-C56)=-1,\"Birdie\",IF((D56-C56)=-2,\"Eagle\",IF((D56-C56)=0,\"Par\",IF((D56-C56)=1,\"bogey\",IF((D56-C56)=2,\"Double bogey\",\"Other\"))))),\"  \")","v":"  "},null,null,"Count"]
[null,2,4,0,"  ",null,null,"Eagle",{"$f":"COUNTIF(E56:E64,\"Eagle\")","v":0}]
[null,3,4,0,"  ",null,null,"Birdie",{"$f":"COUNTIF(E56:E64,\"Birdie\")","v":0}]
[null,4,4,0,"  ",null,null,"Par",{"$f":"COUNTIF(E56:E64,\"Par\")","v":0}]
[null,5,3,0,"  ",null,null,"bogey",{"$f":"COUNTIF(E56:E64,\"bogey\")","v":0}]
[null,6,4,0,"  ",null,null,"Double bogey",{"$f":"COUNTIF(E56:E64,\"Double bogey\")","v":0}]
[null,7,4,0,"  ",null,null,"Other",{"$f":"COUNTIF(E56:E64,\"Other\")","v":0}]
[null,8,3,0,"  "]
[null,9,5,0,"  "]
[]
[null,{"$f":"J4","v":"2025-05-02"}]
[null,{"$f":"H7","v":10},4,0,{"$f":"IF(D67<>0,IF((D67-C67)=-1,\"Birdie\",IF((D67-C67)=-2,\"Eagle\",IF((D67-C67)=0,\"Par\",IF((D67-C67)=1,\"bogey\",IF((D67-C67)=2,\"Double bogey\",\"Other\"))))),\"  \")","v":"  "},null,null,"Count"]
[null,11,4,0,"  ",null,null,"Eagle",{"$f":"COUNTIF(E67:E75,\"Eagle\")","v":0}]
[null,12,3,0,"  ",null,null,"Birdie",{"$f":"COUNTIF(E67:E75,\"Birdie\")","v":0}]
[null,13,4,0,"  ",null,null,"Par",{"$f":"COUNTIF(E67:E75,\"Par\")","v":0}]
[null,14,4,0,"  ",null,null,"bogey",{"$f":"COUNTIF(E67:E75,\"bogey\")","v":0}]
[null,15,3,0,"  ",null,null,"Double bogey",{"$f":"COUNTIF(E67:E75,\"Double bogey\")","v":0}]
[null,16,5,0,"  ",null,null,"Other",{"$f":"COUNTIF(E67:E75,\"Other\")","v":0}]
[null,17,4,0,"  "]
[null,18,5,0,"  "]
[]
[null,{"$f":"P4","v":"2025-05-09"}]
[null,{"$f":"N7","v":1},4,0,{"$f":"IF(D78<>0,IF((D78-C78)=-1,\"Birdie\",IF((D78-C78)=-2,\"Eagle\",IF((D78-C78)=0,\"Par\",IF((D78-C78)=1,\"bogey\",IF((D78-C78)=2,\"Double bogey\",\"Other\"))))),\"  \")","v":"  "},null,null,"Count"]
[null,2,4,0,"  ",null,null,"Eagle",{"$f":"COUNTIF(E78:E86,\"Eagle\")","v":0}]
[null,3,4,0,"  ",null,null,"Birdie",{"$f":"COUNTIF(E78:E86,\"Birdie\")","v":0}]
[null,4,4,0,"  ",null,null,"Par",{"$f":"COUNTIF(E78:E86,\"Par\")","v":0}]
[null,5,3,0,"  ",null,null,"bogey",{"$f":"COUNTIF(E78:E86,\"bogey\")","v":0}]
[null,6,4,0,"  ",null,null,"Double bogey",{"$f":"COUNTIF(E78:E86,\"Double bogey\")","v":0}]
[null,7,4,0,"  ",null,null,"Other",{"$f":"COUNTIF(E78:E86,\"Other\")","v":0}]
[null,8,3,0,"  "]
[null,9,5,0,"  "]
[]
[null,{"$f":"V4","v":"2025-05-16"}]
[null,{"$f":"T7","v":10},4,0,{"$f":"IF(D89<>0,IF((D89-C89)=-1,\"Birdie\",IF((D89-C89)=-2,\"Eagle\",IF((D89-C89)=0,\"Par\",IF((D89-C89)=1,\"bogey\",IF((D89-C89)=2,\"Double bogey\",\"Other\"))))),\"  \")","v":"  "},null,null,"Count"]
[null,11,4,0,"  ",null,null,"Eagle",{"$f":"COUNTIF(E89:E97,\"Eagle\")","v":0}]
[null,12,3,0,"  ",null,null,"Birdie",{"$f":"COUNTIF(E89:E97,\"Birdie\")","v":0}]
[null,13,4,0,"  ",null,null,"Par",{"$f":"COUNTIF(E89:E97,\"Par\")","v":0}]
[null,14,4,0,"  ",null,null,"bogey",{"$f":"COUNTIF(E89:E97,\"bogey\")","v":0}]
[null,15,3,0,"  ",null,null,"Double bogey",{"$f":"COUNTIF(E89:E97,\"Double bogey\")","v":0}]
[null,16,5,0,"  ",null,null,"Other",{"$f":"COUNTIF(E89:E97,\"Other\")","v":0}]
[null,17,4,0,"  "]
[null,18,5,0,"  "]
[]
[null,{"$f":"AB4","v":"2025-05-23"}]
[null,{"$f":"Z7","v":1},4,0,{"$f":"IF(D100<>0,IF((D100-C100)=-1,\"Birdie\",IF((D100-C100)=-2,\"Eagle\",IF((D100-C100)=0,\"Par\",IF((D100-C100)=1,\"bogey\",IF((D100-C100)=2,\"Double bogey\",\"Other\"))))),\"  \")","v":"  "},null,null,"Count"]
[null,2,4,0,"  ",null,null,"Eagle",{"$f":"COUNTIF(E100:E108,\"Eagle\")","v":0}]
[null,3,4,0,"  ",null,null,"Birdie",{"$f":"COUNTIF(E100:E108,\"Birdie\")","v":0}]
[null,4,4,0,"  ",null,null,"Par",{"$f":"COUNTIF(E100:E108,\"Par\")","v":0}]
[null,5,3,0,"  ",null,null,"bogey",{"$f":"COUNTIF(E100:E108,\"bogey\")","v":0}]
[null,6,4,0,"  ",null,null,"Double bogey",{"$f":"COUNTIF(E100:E108,\"Double bogey\")","v":0}]
[null,7,4,0,"  ",null,null,"Other",{"$f":"COUNTIF(E100:E108,\"Other\")","v":0}]
[null,8,3,0,"  "]
[null,9,5,0,"  "]
[]
[null,{"$f":"AH4","v":"2025-05-30"}]
[null,{"$f":"AF7","v":10},4,0,{"$f":"IF(D111<>0,IF((D111-C111)=-1,\"Birdie\",IF((D111-C111)=-2,\"Eagle\",IF((D111-C111)=0,\"Par\",IF((D111-C111)=1,\"bogey\",IF((D111-C111)=2,\"Double bogey\",\"Other\"))))),\"  \")","v":"  "},null,null,"Count"]
[null,11,4,0,"  ",null,null,"Eagle",{"$f":"COUNTIF(E111:E119,\"Eagle\")","v":0}]
[null,12,3,0,"  ",null,null,"Birdie",{"$f":"COUNTIF(E111:E119,\"Birdie\")","v":0}]
[null,13,4,0,"  ",null,null,"Par",{"$f":"COUNTIF(E111:E119,\"Par\")","v":0}]
[null,14,4,0,"  ",null,null,"bogey",{"$f":"COUNTIF(E111:E119,\"bogey\")","v":0}]
[null,15,3,0,"  ",null,null,"Double bogey",{"$f":"COUNTIF(E111:E119,\"Double bogey\")","v":0}]
[null,16,5,0,"  ",null,null,"Other",{"$f":"COUNTIF(E111:E119,\"Other\")","v":0}]
[null,17,4,0,"  "]
[null,18,5,0,"  "]
[]
[null,{"$f":"AN4","v":"2025-06-06"}]
[null,{"$f":"AL7","v":1},4,0,{"$f":"IF(D122<>0,IF((D122-C122)=-1,\"Birdie\",IF((D122-C122)=-2,\"Eagle\",IF((D122-C122)=0,\"Par\",IF((D122-C122)=1,\"bogey\",IF((D122-C122)=2,\"Double bogey\",\"Other\"))))),\"  \")","v":"  "},null,null,"Count"]
[null,2,4,0,"  ",null,null,"Eagle",{"$f":"COUNTIF(E122:E130,\"Eagle\")","v":0}]
[null,3,4,0,"  ",null,null,"Birdie",{"$f":"COUNTIF(E122:E130,\"Birdie\")","v":0}]
[null,4,4,0,"  ",null,null,"Par",{"$f":"COUNTIF(E122:E130,\"Par\")","v":0}]
[null,5,3,0,"  ",null,null,"bogey",{"$f":"COUNTIF(E122:E130,\"bogey\")","v":0}]
[null,6,4,0,"  ",null,null,"Double bogey",{"$f":"COUNTIF(E122:E130,\"Double bogey\")","v":0}]
[null,7,4,0,"  ",null,null,"Other",{"$f":"COUNTIF(E122:E130,\"Other\")","v":0}]
[null,8,3,0,"  "]
[null,9,5,0,"  "]
[]
[null,{"$f":"AT4","v":"2025-06-13"}]
[null,{"$f":"AR7","v":10},4,0,{"$f":"IF(D133<>0,IF((D133-C133)=-1,\"Birdie\",IF((D133-C133)=-2,\"Eagle\",IF((D133-C133)=0,\"Par\",IF((D133-C133)=1,\"bogey\",IF((D133-C133)=2,\"Double bogey\",\"Other\"))))),\"  \")","v":"  "},null,null,"Count"]
[null,11,4,0,"  ",null,null,"Eagle",{"$f":"COUNTIF(E133:E141,\"Eagle\")","v":0}]
[null,12,3,0,"  ",null,null,"Birdie",{"$f":"COUNTIF(E133:E141,\"Birdie\")","v":0}]
[null,13,4,0,"  ",null,null,"Par",{"$f":"COUNTIF(E133:E141,\"Par\")","v":0}]
[null,14,4,0,"  ",null,null,"bogey",{"$f":"COUNTIF(E133:E141,\"bogey\")","v":0}]
[null,15,3,0,"  ",null,null,"Double bogey",{"$f":"COUNTIF(E133:E141,\"Double bogey\")","v":0}]
[null,16,5,0,"  ",null,null,"Other",{"$f":"COUNTIF(E133:E141,\"Other\")","v":0}]
[null,17,4,0,"  "]
[null,18,5,0,"  "]
[]
[null,{"$f":"AZ4","v":"2025-06-27"}]
[null,{"$f":"AX7","v":10},4,0,{"$f":"IF(D144<>0,IF((D144-C144)=-1,\"Birdie\",IF((D144-C144)=-2,\"Eagle\",IF((D144-C144)=0,\"Par\",IF((D144-C144)=1,\"bogey\",IF((D144-C144)=2,\"Double bogey\",\"Other\"))))),\"  \")","v":"  "},null,null,"Count"]
[null,11,4,0,"  ",null,null,"Eagle",{"$f":"COUNTIF(E144:E152,\"Eagle\")","v":0}]
[null,12,3,0,"  ",null,null,"Birdie",{"$f":"COUNTIF(E144:E152,\"Birdie\")","v":0}]
[null,13,4,0,"  ",null,null,"Par",{"$f":"COUNTIF(E144:E152,\"Par\")","v":0}]
[null,14,4,0,"  ",null,null,"bogey",{"$f":"COUNTIF(E144:E152,\"bogey\")","v":0}]
[null,15,3,0,"  ",null,null,"Double bogey",{"$f":"COUNTIF(E144:E152,\"Double bogey\")","v":0}]
[null,16,5,0,"  ",null,null,"Other",{"$f":"COUNTIF(E144:E152,\"Other\")","v":0}]
[null,17,4,0,"  "]
[null,18,5,0,"  "]
[]
[null,{"$f":"BF4","v":"2025-07-04"}]
[null,{"$f":"BD7","v":10},4,0,{"$f":"IF(D155<>0,IF((D155-C155)=-1,\"Birdie\",IF((D155-C155)=-2,\"Eagle\",IF((D155-C155)=0,\"Par\",IF((D155-C155)=1,\"bogey\",IF((D155-C155)=2,\"Double bogey\",\"Other\"))))),\"  \")","v":"  "},null,null,"Count"]
[null,11,4,0,"  ",null,null,"Eagle",{"$f":"COUNTIF(E155:E163,\"Eagle\")","v":0}]
[null,12,3,0,"  ",null,null,"Birdie",{"$f":"COUNTIF(E155:E163,\"Birdie\")","v":0}]
[null,13,4,0,"  ",null,null,"Par",{"$f":"COUNTIF(E155:E163,\"Par\")","v":0}]
[null,14,4,0,"  ",null,null,"bogey",{"$f":"COUNTIF(E155:E163,\"bogey\")","v":0}]
[null,15,3,0,"  ",null,null,"Double bogey",{"$f":"COUNTIF(E155:E163,\"Double bogey\")","v":0}]
[null,16,5,0,"  ",null,null,"Other",{"$f":"COUNTIF(E155:E163,\"Other\")","v":0}]
[null,17,4,0,"  "]
[null,18,5,0,"  "]
[]
[null,{"$f":"BL4","v":"2025-07-18"}]
[null,{"$f":"BJ7","v":10},4,0,{"$f":"IF(D166<>0,IF((D166-C166)=-1,\"Birdie\",IF((D166-C166)=-2,\"Eagle\",IF((D166-C166)=0,\"Par\",IF((D166-C166)=1,\"bogey\",IF((D166-C166)=2,\"Double bogey\",\"Other\"))))),\"  \")","v":"  "},null,null,"Count"]
[null,11,4,0,"  ",null,null,"Eagle",{"$f":"COUNTIF(E166:E174,\"Eagle\")","v":0}]
[null,12,3,0,"  ",null,null,"Birdie",{"$f":"COUNTIF(E166:E174,\"Birdie\")","v":0}]
[null,13,4,0,"  ",null,null,"Par",{"$f":"COUNTIF(E166:E174,\"Par\")","v":0}]
[null,14,4,0,"  ",null,null,"bogey",{"$f":"COUNTIF(E166:E174,\"bogey\")","v":0}]
[null,15,3,0,"  ",null,null,"Double bogey",{"$f":"COUNTIF(E166:E174,\"Double bogey\")","v":0}]
[null,16,5,0,"  ",null,null,"Other",{"$f":"COUNTIF(E166:E174,\"Other\")","v":0}]
[null,17,4,0,"  "]
[null,18,5,0,"  "]
[]
[null,{"$f":"BR4","v":"2025-07-25"}]
[null,{"$f":"BP7","v":1},4,0,{"$f":"IF(D177<>0,IF((D177-C177)=-1,\"Birdie\",IF((D177-C177)=-2,\"Eagle\",IF((D177-C177)=0,\"Par\",IF((D177-C177)=1,\"bogey\",IF((D177-C177)=2,\"Double bogey\",\"Other\"))))),\"  \")","v":"  "},null,null,"Count"]
[null,2,4,0,"  ",null,null,"Eagle",{"$f":"COUNTIF(E177:E185,\"Eagle\")","v":0}]
[null,3,4,0,"  ",null,null,"Birdie",{"$f":"COUNTIF(E177:E185,\"Birdie\")","v":0}]
[null,4,4,0,"  ",null,null,"Par",{"$f":"COUNTIF(E177:E185,\"Par\")","v":0}]
[null,5,3,0,"  ",null,null,"bogey",{"$f":"COUNTIF(E177:E185,\"bogey\")","v":0}]
[null,6,4,0,"  ",null,null,"Double bogey",{"$f":"COUNTIF(E177:E185,\"Double bogey\")","v":0}]
[null,7,4,0,"  ",null,null,"Other",{"$f":"COUNTIF(E177:E185,\"Other\")","v":0}]
[null,8,3,0,"  "]
[null,9,5,0,"  "]
[]
[null,{"$f":"BX4","v":"2025-08-01"}]
[null,{"$f":"BV7","v":10},4,0,{"$f":"IF(D188<>0,IF((D188-C188)=-1,\"Birdie\",IF((D188-C188)=-2,\"Eagle\",IF((D188-C188)=0,\"Par\",IF((D188-C188)=1,\"bogey\",IF((D188-C188)=2,\"Double bogey\",\"Other\"))))),\"  \")","v":"  "},null,null,"Count"]
[null,11,4,0,"  ",null,null,"Eagle",{"$f":"COUNTIF(E188:E196,\"Eagle\")","v":0}]
[null,12,3,0,"  ",null,null,"Birdie",{"$f":"COUNTIF(E188:E196,\"Birdie\")","v":0}]
[null,13,4,0,"  ",null,null,"Par",{"$f":"COUNTIF(E188:E196,\"Par\")","v":0}]
[null,14,4,0,"  ",null,null,"bogey",{"$f":"COUNTIF(E188:E196,\"bogey\")","v":0}]
[null,15,3,0,"  ",null,null,"Double bogey",{"$f":"COUNTIF(E188:E196,\"Double bogey\")","v":0}]
[null,16,5,0,"  ",null,null,"Other",{"$f":"COUNTIF(E188:E196,\"Other\")","v":0}]
[null,17,4,0,"  "]
[null,18,5,0,"  "]
[]
[null,{"$f":"CD4","v":"2025-08-08"}]
[null,{"$f":"CB7","v":1},4,0,{"$f":"IF(D199<>0,IF((D199-C199)=-1,\"Birdie\",IF((D199-C199)=-2,\"Eagle\",IF((D199-C199)=0,\"Par\",IF((D199-C199)=1,\"bogey\",IF((D199-C199)=2,\"Double bogey\",\"Other\"))))),\"  \")","v":"  "},null,null,"Count"]
[null,2,4,0,"  ",null,null,"Eagle",{"$f":"COUNTIF(E199:E207,\"Eagle\")","v":0}]
[null,3,4,0,"  ",null,null,"Birdie",{"$f":"COUNTIF(E199:E207,\"Birdie\")","v":0}]
[null,4,4,0,"  ",null,null,"Par",{"$f":"COUNTIF(E199:E207,\"Par\")","v":0}]
[null,5,3,0,"  ",null,null,"bogey",{"$f":"COUNTIF(E199:E207,\"bogey\")","v":0}]
[null,6,4,0,"  ",null,null,"Double bogey",{"$f":"COUNTIF(E199:E207,\"Double bogey\")","v":0}]
[null,7,4,0,"  ",null,null,"Other",{"$f":"COUNTIF(E199:E207,\"Other\")","v":0}]
[null,8,3,0,"  "]
[null,9,5,0,"  "]
[]
[null,{"$f":"CJ4","v":"2025-08-15"}]
[null,{"$f":"CH7","v":10},4,0,{"$f":"IF(D210<>0,IF((D210-C210)=-1,\"Birdie\",IF((D210-C210)=-2,\"Eagle\",IF((D210-C210)=0,\"Par\",IF((D210-C210)=1,\"bogey\",IF((D210-C210)=2,\"Double bogey\",\"Other\"))))),\"  \")","v":"  "},null,null,"Count"]
[null,11,4,0,"  ",null,null,"Eagle",{"$f":"COUNTIF(E210:E218,\"Eagle\")","v":0}]
[null,12,3,0,"  ",null,null,"Birdie",{"$f":"COUNTIF(E210:E218,\"Birdie\")","v":0}]
[null,13,4,0,"  ",null,null,"Par",{"$f":"COUNTIF(E210:E218,\"Par\")","v":0}]
[null,14,4,0,"  ",null,null,"bogey",{"$f":"COUNTIF(E210:E218,\"bogey\")","v":0}]
[null,15,3,0,"  ",null,null,"Double bogey",{"$f":"COUNTIF(E210:E218,\"Double bogey\")","v":0}]
[null,16,5,0,"  ",null,null,"Other",{"$f":"COUNTIF(E210:E218,\"Other\")","v":0}]
[null,17,4,0,"  "]
[null,18,5,0,"  "]

{"sheet":"Daviero_V","index":6,"n_rows":218,"n_cols":90,"rows_kept":218,"cut":false,"hidden":false,"merged":[]}
["Vincent Daviero"]
[]
[]
[null,null,"Date:",{"$f":"VLOOKUP(C5,Week,2)","v":"2025-04-25"},null,null,null,null,"Date:",{"$f":"VLOOKUP(I5,Week,2)","v":"2025-05-02"},null,null,null,null,"Date:",{"$f":"VLOOKUP(O5,Week,2)","v":"2025-05-09"},null,null,null,null,"Date:",{"$f":"VLOOKUP(U5,Week,2)","v":"2025-05-16"},null,null,null,null,"Date:",{"$f":"VLOOKUP(AA5,Week,2)","v":"2025-05-23"},null,null,null,null,"Date:",{"$f":"VLOOKUP(AG5,Week,2)","v":"2025-05-30"},null,null,null,null,"Date:",{"$f":"VLOOKUP(AM5,Week,2)","v":"2025-06-06"},null,null,null,null,"Date:",{"$f":"VLOOKUP(AS5,Week,2)","v":"2025-06-13"},null,null,null,null,"Date:",{"$f":"VLOOKUP(AY5,Week,2)","v":"2025-06-27"},null,null,null,null,"Date:",{"$f":"VLOOKUP(BE5,Week,2)","v":"2025-07-04"},null,null,null,null,"Date:",{"$f":"VLOOKUP(BK5,Week,2)","v":"2025-07-18"},null,null,null,null,"Date:",{"$f":"VLOOKUP(BQ5,Week,2)","v":"2025-07-25"},null,null,null,null,"Date:",{"$f":"VLOOKUP(BW5,Week,2)","v":"2025-08-01"},null,null,null,null,"Date:",{"$f":"VLOOKUP(CC5,Week,2)","v":"2025-08-08"},null,null,null,null,"Date:",{"$f":"VLOOKUP(CI5,Week,2)","v":"2025-08-15"}]
[null,"Week",1,null,null,null,null,"Week",2,null,null,null,null,"Week",3,null,null,null,null,"Week",4,null,null,null,null,"Week",5,null,null,null,null,"Week",6,null,null,null,null,"Week",7,null,null,null,null,"Week",8,null,null,null,null,"Week",9,null,null,null,null,"Week",10,null,null,null,null,"Week",11,null,null,null,null,"Week",12,null,null,null,null,"Week",13,null,null,null,null,"Week",14,null,null,null,null,"Week",15]
[null,"Hole #","Par","Score","Net","Win Hole",null,"Hole #","Par","Score","Net","Win Hole",null,"Hole #","Par","Score","Net","Win Hole",null,"Hole #","Par","Score","Net","Win Hole",null,"Hole #","Par","Score","Net","Win Hole",null,"Hole #","Par","Score","Net","Win Hole",null,"Hole #","Par","Score","Net","Win Hole",null,"Hole #","Par","Score","Net","Win Hole",null,"Hole #","Par","Score","Net","Win Hole",null,"Hole #","Par","Score","Net","Win Hole",null,"Hole #","Par","Score","Net","Win Hole",null,"Hole #","Par","Score","Net","Win Hole",null,"Hole #","Par","Score","Net","Win Hole",null,"Hole #","Par","Score","Net","Win Hole",null,"Hole #","Par","Score","Net","Win Hole"]
[null,{"$f":"VLOOKUP(C5,Week,6)","v":1},{"$f":"VLOOKUP(B7,Holes,2)","v":4},null,{"$f":"IF((D7-C7)>3,C7+3,D7)","v":0},null,null,{"$f":"VLOOKUP(I5,Week,6)","v":10},{"$f":"VLOOKUP(H7,Holes,2)","v":4},null,{"$f":"IF((J7-I7)>3,I7+3,J7)","v":0},null,null,{"$f":"VLOOKUP(O5,Week,6)","v":1},{"$f":"VLOOKUP(N7,Holes,2)","v":4},null,{"$f":"IF((P7-O7)>3,O7+3,P7)","v":0},null,null,{"$f":"VLOOKUP(U5,Week,6)","v":10},{"$f":"VLOOKUP(T7,Holes,2)","v":4},null,{"$f":"IF((V7-U7)>3,U7+3,V7)","v":0},null,null,{"$f":"VLOOKUP(AA5,Week,6)","v":1},{"$f":"VLOOKUP(Z7,Holes,2)","v":4},null,{"$f":"IF((AB7-AA7)>3,AA7+3,AB7)","v":0},null,null,{"$f":"VLOOKUP(AG5,Week,6)","v":10},{"$f":"VLOOKUP(AF7,Holes,2)","v":4},null,{"$f":"IF((AH7-AG7)>3,AG7+3,AH7)","v":0},null,null,{"$f":"VLOOKUP(AM5,Week,6)","v":1},{"$f":"VLOOKUP(AL7,Holes,2)","v":4},null,{"$f":"IF((AN7-AM7)>3,AM7+3,AN7)","v":0},null,null,{"$f":"VLOOKUP(AS5,Week,6)","v":10},{"$f":"VLOOKUP(AR7,Holes,2)","v":4},null,{"$f":"IF((AT7-AS7)>3,AS7+3,AT7)","v":0},null,null,{"$f":"VLOOKUP(AY5,Week,6)","v":10},{"$f":"VLOOKUP(AX7,Holes,2)","v":4},null,{"$f":"IF((AZ7-AY7)>3,AY7+3,AZ7)","v":0},null,null,{"$f":"VLOOKUP(BE5,Week,6)","v":10},{"$f":"VLOOKUP(BD7,Holes,2)","v":4},null,{"$f":"IF((BF7-BE7)>3,BE7+3,BF7)","v":0},null,null,{"$f":"VLOOKUP(BK5,Week,6)","v":10},{"$f":"VLOOKUP(BJ7,Holes,2)","v":4},null,{"$f":"IF((BL7-BK7)>3,BK7+3,BL7)","v":0},null,null,{"$f":"VLOOKUP(BQ5,Week,6)","v":1},{"$f":"VLOOKUP(BP7,Holes,2)","v":4},null,{"$f":"IF((BR7-BQ7)>3,BQ7+3,BR7)","v":0},null,null,{"$f":"VLOOKUP(BW5,Week,6)","v":10},{"$f":"VLOOKUP(BV7,Holes,2)","v":4},null,{"$f":"IF((BX7-BW7)>3,BW7+3,BX7)","v":0},null,null,{"$f":"VLOOKUP(CC5,Week,6)","v":1},{"$f":"VLOOKUP(CB7,Holes,2)","v":4},null,{"$f":"IF((CD7-CC7)>3,CC7+3,CD7)","v":0},null,null,{"$f":"VLOOKUP(CI5,Week,6)","v":10},{"$f":"VLOOKUP(CH7,Holes,2)","v":4},null,{"$f":"IF((CJ7-CI7)>3,CI7+3,CJ7)","v":0}]
[null,{"$f":"+B7+1","v":2},4,null,0,null,null,{"$f":"+H7+1","v":11},4,null,0,null,null,{"$f":"+N7+1","v":2},4,null,0,null,null,{"$f":"+T7+1","v":11},4,null,0,null,null,{"$f":"+Z7+1","v":2},4,null,0,null,null,{"$f":"+AF7+1","v":11},4,null,0,null,null,{"$f":"+AL7+1","v":2},4,null,0,null,null,{"$f":"+AR7+1","v":11},4,null,0,null,null,{"$f":"+AX7+1","v":11},4,null,0,null,null,{"$f":"+BD7+1","v":11},4,null,0,null,null,{"$f":"+BJ7+1","v":11},4,null,0,null,null,{"$f":"+BP7+1","v":2},4,null,0,null,null,{"$f":"+BV7+1","v":11},4,null,0,null,null,{"$f":"+CB7+1","v":2},4,null,0,null,null,{"$f":"+CH7+1","v":11},4,null,0]
[null,3,4,null,0,null,null,12,3,null,0,null,null,3,4,null,0,null,null,12,3,null,0,null,null,3,4,null,0,null,null,12,3,null,0,null,null,3,4,null,0,null,null,12,3,null,0,null,null,12,3,null,0,null,null,12,3,null,0,null,null,12,3,null,0,null,null,3,4,null,0,null,null,12,3,null,0,null,null,3,4,null,0,null,null,12,3,null,0]
[null,4,4,null,0,null,null,13,4,null,0,null,null,4,4,null,0,null,null,13,4,null,0,null,null,4,4,null,0,null,null,13,4,null,0,null,null,4,4,null,0,null,null,13,4,null,0,null,null,13,4,null,0,null,null,13,4,null,0,null,null,13,4,null,0,null,null,4,4,null,0,null,null,13,4,null,0,null,null,4,4,null,0,null,null,13,4,null,0]
[null,5,3,null,0,null,null,14,4,null,0,null,null,5,3,null,0,null,null,14,4,null,0,null,null,5,3,null,0,null,null,14,4,null,0,null,null,5,3,null,0,null,null,14,4,null,0,null,null,14,4,null,0,null,null,14,4,null,0,null,null,14,4,null,0,null,null,5,3,null,0,null,null,14,4,null,0,null,null,5,3,null,0,null,null,14,4,null,0]
[null,6,4,null,0,null,null,15,3,null,0,null,null,6,4,null,0,null,null,15,3,null,0,null,null,6,4,null,0,null,null,15,3,null,0,null,null,6,4,null,0,null,null,15,3,null,0,null,null,15,3,null,0,null,null,15,3,null,0,null,null,15,3,null,0,null,null,6,4,null,0,null,null,15,3,null,0,null,null,6,4,null,0,null,null,15,3,null,0]
[null,7,4,null,0,null,null,16,5,null,0,null,null,7,4,null,0,null,null,16,5,null,0,null,null,7,4,null,0,null,null,16,5,null,0,null,null,7,4,null,0,null,null,16,5,null,0,null,null,16,5,null,0,null,null,16,5,null,0,null,null,16,5,null,0,null,null,7,4,null,0,null,null,16,5,null,0,null,null,7,4,null,0,null,null,16,5,null,0]
[null,8,3,null,0,null,null,17,4,null,0,null,null,8,3,null,0,null,null,17,4,null,0,null,null,8,3,null,0,null,null,17,4,null,0,null,null,8,3,null,0,null,null,17,4,null,0,null,null,17,4,null,0,null,null,17,4,null,0,null,null,17,4,null,0,null,null,8,3,null,0,null,null,17,4,null,0,null,null,8,3,null,0,null,null,17,4,null,0]
[null,9,5,null,0,null,null,18,5,null,0,null,null,9,5,null,0,null,null,18,5,null,0,null,null,9,5,null,0,null,null,18,5,null,0,null,null,9,5,null,0,null,null,18,5,null,0,null,null,18,5,null,0,null,null,18,5,null,0,null,null,18,5,null,0,null,null,9,5,null,0,null,null,18,5,null,0,null,null,9,5,null,0,null,null,18,5,null,0]
[null,"Total",{"$f":"SUM(C7:C15)","v":35},{"$f":"SUM(D7:D15)","v":0},{"$f":"SUM(E7:E15)","v":0},{"$f":"SUM(F7:F15)","v":0},null,"Total",{"$f":"SUM(I7:I15)","v":36},{"$f":"SUM(J7:J15)","v":0},{"$f":"SUM(K7:K15)","v":0},{"$f":"SUM(L7:L15)","v":0},null,"Total",{"$f":"SUM(O7:O15)","v":35},{"$f":"SUM(P7:P15)","v":0},{"$f":"SUM(Q7:Q15)","v":0},{"$f":"SUM(R7:R15)","v":0},null,"Total",{"$f":"SUM(U7:U15)","v":36},{"$f":"SUM(V7:V15)","v":0},{"$f":"SUM(W7:W15)","v":0},{"$f":"SUM(X7:X15)","v":0},null,"Total",{"$f":"SUM(AA7:AA15)","v":35},{"$f":"SUM(AB7:AB15)","v":0},{"$f":"SUM(AC7:AC15)","v":0},{"$f":"SUM(AD7:AD15)","v":0},null,"Total",{"$f":"SUM(AG7:AG15)","v":36},{"$f":"SUM(AH7:AH15)","v":0},{"$f":"SUM(AI7:AI15)","v":0},{"$f":"SUM(AJ7:AJ15)","v":0},null,"Total",{"$f":"SUM(AM7:AM15)","v":35},{"$f":"SUM(AN7:AN15)","v":0},{"$f":"SUM(AO7:AO15)","v":0},{"$f":"SUM(AP7:AP15)","v":0},null,"Total",{"$f":"SUM(AS7:AS15)","v":36},{"$f":"SUM(AT7:AT15)","v":0},{"$f":"SUM(AU7:AU15)","v":0},{"$f":"SUM(AV7:AV15)","v":0},null,"Total",{"$f":"SUM(AY7:AY15)","v":36},{"$f":"SUM(AZ7:AZ15)","v":0},{"$f":"SUM(BA7:BA15)","v":0},{"$f":"SUM(BB7:BB15)","v":0},null,"Total",{"$f":"SUM(BE7:BE15)","v":36},{"$f":"SUM(BF7:BF15)","v":0},{"$f":"SUM(BG7:BG15)","v":0},{"$f":"SUM(BH7:BH15)","v":0},null,"Total",{"$f":"SUM(BK7:BK15)","v":36},{"$f":"SUM(BL7:BL15)","v":0},{"$f":"SUM(BM7:BM15)","v":0},{"$f":"SUM(BN7:BN15)","v":0},null,"Total",{"$f":"SUM(BQ7:BQ15)","v":35},{"$f":"SUM(BR7:BR15)","v":0},{"$f":"SUM(BS7:BS15)","v":0},{"$f":"SUM(BT7:BT15)","v":0},null,"Total",{"$f":"SUM(BW7:BW15)","v":36},{"$f":"SUM(BX7:BX15)","v":0},{"$f":"SUM(BY7:BY15)","v":0},{"$f":"SUM(BZ7:BZ15)","v":0},null,"Total",{"$f":"SUM(CC7:CC15)","v":35},{"$f":"SUM(CD7:CD15)","v":0},{"$f":"SUM(CE7:CE15)","v":0},{"$f":"SUM(CF7:CF15)","v":0},null,"Total",{"$f":"SUM(CI7:CI15)","v":36},{"$f":"SUM(CJ7:CJ15)","v":0},{"$f":"SUM(CK7:CK15)","v":0},{"$f":"SUM(CL7:CL15)","v":0}]
[]
[null,null,null,null,"Low Net",0,null,null,null,null,"Low Net",0,null,null,null,null,"Low Net",0,null,null,null,null,"Low Net",null,null,null,null,null,"Low Net",null,null,null,null,null,"Low Net",null,null,null,null,null,"Low Net",null,null,null,null,null,"Low Net",null,null,null,null,null,"Low Net",null,null,null,null,null,"Low Net",null,null,null,null,null,"Low Net",null,null,null,null,null,"Low Net",null,null,null,null,null,"Low Net",null,null,null,null,null,"Low Net",null,null,null,null,null,"Low Net"]
[]
[null,null,null,null,"Total Points",{"$f":"SUM(F16:F19)","v":0},null,null,null,null,"Total Points",{"$f":"SUM(L16:L19)","v":0},null,null,null,null,"Total Points",{"$f":"SUM(R16:R19)","v":0},null,null,null,null,"Total Points",{"$f":"SUM(X16:X19)","v":0},null,null,null,null,"Total Points",{"$f":"SUM(AD16:AD19)","v":0},null,null,null,null,"Total Points",{"$f":"SUM(AJ16:AJ19)","v":0},null,null,null,null,"Total Points",{"$f":"SUM(AP16:AP19)","v":0},null,null,null,null,"Total Points",{"$f":"SUM(AV16:AV19)","v":0},null,null,null,null,"Total Points",{"$f":"SUM(BB16:BB19)","v":0},null,null,null,null,"Total Points",{"$f":"SUM(BH16:BH19)","v":0},null,null,null,null,"Total Points",{"$f":"SUM(BN16:BN19)","v":0},null,null,null,null,"Total Points",{"$f":"SUM(BT16:BT19)","v":0},null,null,null,null,"Total Points",{"$f":"SUM(BZ16:BZ19)","v":0},null,null,null,null,"Total Points",{"$f":"SUM(CF16:CF19)","v":0},null,null,null,null,"Total Points",{"$f":"SUM(CL16:CL19)","v":0}]
[]
[null,null,null,null,"Handicap",{"$f":"IF(D16=0,0,E16-C16)","v":0},null,null,null,null,"Handicap",{"$f":"IF(J16=0,0,K16-I16)","v":0},null,null,null,null,"Handicap",{"$f":"IF(P16=0,0,Q16-O16)","v":0},null,null,null,null,"Handicap",{"$f":"IF(V16=0,0,W16-U16)","v":0},null,null,null,null,"Handicap",{"$f":"IF(AB16=0,0,AC16-AA16)","v":0},null,null,null,null,"Handicap",{"$f":"IF(AH16=0,0,AI16-AG16)","v":0},null,null,null,null,"Handicap",{"$f":"IF(AN16=0,0,AO16-AM16)","v":0},null,null,null,null,"Handicap",{"$f":"IF(AT16=0,0,AU16-AS16)","v":0},null,null,null,null,"Handicap",{"$f":"IF(AZ16=0,0,BA16-AY16)","v":0},null,null,null,null,"Handicap",{"$f":"IF(BF16=0,0,BG16-BE16)","v":0},null,null,null,null,"Handicap",{"$f":"IF(BL16=0,0,BM16-BK16)","v":0},null,null,null,null,"Handicap",{"$f":"IF(BR16=0,0,BS16-BQ16)","v":0},null,null,null,null,"Handicap",{"$f":"IF(BX16=0,0,BY16-BW16)","v":0},null,null,null,null,"Handicap",{"$f":"IF(CD16=0,0,CE16-CC16)","v":0},null,null,null,null,"Handicap",{"$f":"IF(CJ16=0,0,CK16-CI16)","v":0}]
[]
[null,null,null,null,null,{"$f":"IF(D16<>0,IF(F16>4.5,\"W\",IF(F16=4.5,\"T\",IF(F16<4.5,\"L\"))),0)","v":0},null,null,null,null,null,{"$f":"IF(J16<>0,IF(L16>4.5,\"W\",IF(L16=4.5,\"T\",IF(L16<4.5,\"L\"))),0)","v":0},null,null,null,null,null,{"$f":"IF(P16<>0,IF(R16>4.5,\"W\",IF(R16=4.5,\"T\",IF(R16<4.5,\"L\"))),0)","v":0},null,null,null,null,null,{"$f":"IF(V16<>0,IF(X16>4.5,\"W\",IF(X16=4.5,\"T\",IF(X16<4.5,\"L\"))),0)","v":0},null,null,null,null,null,{"$f":"IF(AB16<>0,IF(AD16>4.5,\"W\",IF(AD16=4.5,\"T\",IF(AD16<4.5,\"L\"))),0)","v":0},null,null,null,null,null,{"$f":"IF(AH16<>0,IF(AJ16>4.5,\"W\",IF(AJ16=4.5,\"T\",IF(AJ16<4.5,\"L\"))),0)","v":0},null,null,null,null,null,{"$f":"IF(AN16<>0,IF(AP16>4.5,\"W\",IF(AP16=4.5,\"T\",IF(AP16<4.5,\"L\"))),0)","v":0},null,null,null,null,null,{"$f":"IF(AT16<>0,IF(AV16>4.5,\"W\",IF(AV16=4.5,\"T\",IF(AV16<4.5,\"L\"))),0)","v":0},null,null,null,null,null,{"$f":"IF(AZ16<>0,IF(BB16>4.5,\"W\",IF(BB16=4.5,\"T\",IF(BB16<4.5,\"L\"))),0)","v":0},null,null,null,null,null,{"$f":"IF(BF16<>0,IF(BH16>4.5,\"W\",IF(BH16=4.5,\"T\",IF(BH16<4.5,\"L\"))),0)","v":0},null,null,null,null,null,{"$f":"IF(BL16<>0,IF(BN16>4.5,\"W\",IF(BN16=4.5,\"T\",IF(BN16<4.5,\"L\"))),0)","v":0},null,null,null,null,null,{"$f":"IF(BR16<>0,IF(BT16>4.5,\"W\",IF(BT16=4.5,\"T\",IF(BT16<4.5,\"L\"))),0)","v":0},null,null,null,null,null,{"$f":"IF(BX16<>0,IF(BZ16>4.5,\"W\",IF(BZ16=4.5,\"T\",IF(BZ16<4.5,\"L\"))),0)","v":0},null,null,null,null,null,{"$f":"IF(CD16<>0,IF(CF16>4.5,\"W\",IF(CF16=4.5,\"T\",IF(CF16<4.5,\"L\"))),0)","v":0},null,null,null,null,null,{"$f":"IF(CJ16<>0,IF(CL16>4.5,\"W\",IF(CL16=4.5,\"T\",IF(CL16<4.5,\"L\"))),0)","v":0}]
[]
[null,"Summary"]
[null,null,null,"Adj",null,"Adj",null,null,null,"Avg Score"]
[null,null,"Points","Points","Matches","Matches",null,null,"Hole #","by Hole","Best","Worst"]
[null,"Week #1",{"$f":"F20","v":0},{"$f":"C29","v":0},{"$f":"IF(D16>0,1,0)","v":0},{"$f":"E29","v":0},null,null,1,{"$f":"IFERROR(AVERAGE(D7),0)","v":0},{"$f":"IFERROR(MIN(J7,V7,AH7,AT7,BF7,BR7,BX7,CJ7),0)","v":0},{"$f":"IFERROR(MAX(J7,V7,AH7,AT7,BF7,BR7,BX7,CJ7),0)","v":0}]
[null,"Week #2",{"$f":"L20","v":0},0,{"$f":"IF(J16>0,1,0)","v":0},0,null,null,2,{"$f":"IFERROR(AVERAGE(D8),0)","v":0},{"$f":"IFERROR(MIN(J8,V8,AH8,AT8,BF8,BR8,BX8,CJ8),0)","v":0},{"$f":"IFERROR(MAX(J8,V8,AH8,AT8,BF8,BR8,BX8,CJ8),0)","v":0}]
[null,"Week #3",{"$f":"R20","v":0},0,{"$f":"IF(P16>0,1,0)","v":0},0,null,null,3,0,0,0]
[null,"Week #4",{"$f":"X20","v":0},0,{"$f":"IF(V16>0,1,0)","v":0},0,null,null,4,0,0,0]
[null,"Week #5",{"$f":"AD20","v":0},0,{"$f":"IF(AB16>0,1,0)","v":0},0,null,null,5,0,0,0]
[null,"Week #6",{"$f":"AJ20","v":0},0,{"$f":"IF(AH16>0,1,0)","v":0},0,null,null,6,0,0,0]
[null,"Week #7",{"$f":"AP20","v":0},0,{"$f":"IF(AN16>0,1,0)","v":0},0,null,null,7,0,0,0]
[null,"Week #8",{"$f":"AV20","v":0},0,{"$f":"IF(AT16>0,1,0)","v":0},0,null,null,8,0,0,0]
[null,"Week #9",{"$f":"BB20","v":0},0,{"$f":"IF(AZ16>0,1,0)","v":0},0,null,null,9,0,0,0]
[null,"Week #10",{"$f":"BH20","v":0},0,{"$f":"IF(BF16>0,1,0)","v":0},0,null,null,"Front",{"$f":"SUM(J29:J37)","v":0},{"$f":"SUM(K29:K37)","v":0},0]
[null,"Week #11",{"$f":"BN20","v":0},0,{"$f":"IF(BL16>0,1,0)","v":0},0]
[null,"Week #12",{"$f":"BT20","v":0},0,{"$f":"IF(BR16>0,1,0)","v":0},0,null,null,10,{"$f":"IFERROR(AVERAGE(J7),0)","v":0},{"$f":"IFERROR(MIN(D7,P7,AB7,AN7,AZ7,BL7,CD7),0)","v":0},{"$f":"IFERROR(MAX(D7,P7,AB7,AN7,AZ7,BL7,CD7),0)","v":0}]
[null,"Week #13",{"$f":"BZ20","v":0},0,{"$f":"IF(BX16>0,1,0)","v":0},0,null,null,11,{"$f":"IFERROR(AVERAGE(J8),0)","v":0},{"$f":"IFERROR(MIN(D8,P8,AB8,AN8,AZ8,BL8,CD8),0)","v":0},{"$f":"IFERROR(MAX(D8,P8,AB8,AN8,AZ8,BL8,CD8),0)","v":0}]
[null,"Week #14",{"$f":"CF20","v":0},0,{"$f":"IF(CD16>0,1,0)","v":0},0,null,null,12,0,0,0]
[null,"Week #15",{"$f":"CL20","v":0},0,{"$f":"IF(CJ16>0,1,0)","v":0},0,null,null,13,0,0,0]
[null,"Total",{"$f":"SUM(C29:C43)","v":0},{"$f":"SUM(D29:D43)","v":0},{"$f":"SUM(E29:E43)","v":0},{"$f":"SUM(F29:F43)","v":0},null,null,14,0,0,0]
[null,null,null,null,null,null,null,null,15,0,0,0]
[null,"Summary",null,null,null,null,null,null,16,0,0,0]
[null,"Eagles",{"$f":"I57+I68+I79+I90+I101+I112+I123+I134+I145+I156+I167+I178+I189+I200+I211","v":0},null,null,null,null,null,17,0,0,0]
[null,"Birdies",0,null,null,null,null,null,18,0,0,0]
[null,"Pars",0,null,null,null,null,null,"Back",{"$f":"SUM(J40:J48)","v":0},{"$f":"SUM(K40:K48)","v":0},0]
[null,"bogeys",0]
[null,"Double bogeys",0]
[null,"Other",0]
[null,"Total",{"$f":"SUM(C47:C52)","v":0}]
[]
[null,{"$f":"D4","v":"2025-04-25"},"Par","Score"]
[null,{"$f":"B7","v":1},4,0,{"$f":"IF(D56<>0,IF((D56-C56)=-1,\"Birdie\",IF((D56-C56)=-2,\"Eagle\",IF((D56-C56)=0,\"Par\",IF((D56-C56)=1,\"bogey\",IF((D56-C56)=2,\"Double bogey\",\"Other\"))))),\"  \")","v":"  "},null,null,"Count"]
[null,2,4,0,"  ",null,null,"Eagle",{"$f":"COUNTIF(E56:E64,\"Eagle\")","v":0}]
[null,3,4,0,"  ",null,null,"Birdie",{"$f":"COUNTIF(E56:E64,\"Birdie\")","v":0}]
[null,4,4,0,"  ",null,null,"Par",{"$f":"COUNTIF(E56:E64,\"Par\")","v":0}]
[null,5,3,0,"  ",null,null,"bogey",{"$f":"COUNTIF(E56:E64,\"bogey\")","v":0}]
[null,6,4,0,"  ",null,null,"Double bogey",{"$f":"COUNTIF(E56:E64,\"Double bogey\")","v":0}]
[null,7,4,0,"  ",null,null,"Other",{"$f":"COUNTIF(E56:E64,\"Other\")","v":0}]
[null,8,3,0,"  "]
[null,9,5,0,"  "]
[]
[null,{"$f":"J4","v":"2025-05-02"}]
[null,{"$f":"H7","v":10},4,0,{"$f":"IF(D67<>0,IF((D67-C67)=-1,\"Birdie\",IF((D67-C67)=-2,\"Eagle\",IF((D67-C67)=0,\"Par\",IF((D67-C67)=1,\"bogey\",IF((D67-C67)=2,\"Double bogey\",\"Other\"))))),\"  \")","v":"  "},null,null,"Count"]
[null,11,4,0,"  ",null,null,"Eagle",{"$f":"COUNTIF(E67:E75,\"Eagle\")","v":0}]
[null,12,3,0,"  ",null,null,"Birdie",{"$f":"COUNTIF(E67:E75,\"Birdie\")","v":0}]
[null,13,4,0,"  ",null,null,"Par",{"$f":"COUNTIF(E67:E75,\"Par\")","v":0}]
[null,14,4,0,"  ",null,null,"bogey",{"$f":"COUNTIF(E67:E75,\"bogey\")","v":0}]
[null,15,3,0,"  ",null,null,"Double bogey",{"$f":"COUNTIF(E67:E75,\"Double bogey\")","v":0}]
[null,16,5,0,"  ",null,null,"Other",{"$f":"COUNTIF(E67:E75,\"Other\")","v":0}]
[null,17,4,0,"  "]
[null,18,5,0,"  "]
[]
[null,{"$f":"P4","v":"2025-05-09"}]
[null,{"$f":"N7","v":1},4,0,{"$f":"IF(D78<>0,IF((D78-C78)=-1,\"Birdie\",IF((D78-C78)=-2,\"Eagle\",IF((D78-C78)=0,\"Par\",IF((D78-C78)=1,\"bogey\",IF((D78-C78)=2,\"Double bogey\",\"Other\"))))),\"  \")","v":"  "},null,null,"Count"]
[null,2,4,0,"  ",null,null,"Eagle",{"$f":"COUNTIF(E78:E86,\"Eagle\")","v":0}]
[null,3,4,0,"  ",null,null,"Birdie",{"$f":"COUNTIF(E78:E86,\"Birdie\")","v":0}]
[null,4,4,0,"  ",null,null,"Par",{"$f":"COUNTIF(E78:E86,\"Par\")","v":0}]
[null,5,3,0,"  ",null,null,"bogey",{"$f":"COUNTIF(E78:E86,\"bogey\")","v":0}]
[null,6,4,0,"  ",null,null,"Double bogey",{"$f":"COUNTIF(E78:E86,\"Double bogey\")","v":0}]
[null,7,4,0,"  ",null,null,"Other",{"$f":"COUNTIF(E78:E86,\"Other\")","v":0}]
[null,8,3,0,"  "]
[null,9,5,0,"  "]
[]
[null,{"$f":"V4","v":"2025-05-16"}]
[null,{"$f":"T7","v":10},4,0,{"$f":"IF(D89<>0,IF((D89-C89)=-1,\"Birdie\",IF((D89-C89)=-2,\"Eagle\",IF((D89-C89)=0,\"Par\",IF((D89-C89)=1,\"bogey\",IF((D89-C89)=2,\"Double bogey\",\"Other\"))))),\"  \")","v":"  "},null,null,"Count"]
[null,11,4,0,"  ",null,null,"Eagle",{"$f":"COUNTIF(E89:E97,\"Eagle\")","v":0}]
[null,12,3,0,"  ",null,null,"Birdie",{"$f":"COUNTIF(E89:E97,\"Birdie\")","v":0}]
[null,13,4,0,"  ",null,null,"Par",{"$f":"COUNTIF(E89:E97,\"Par\")","v":0}]
[null,14,4,0,"  ",null,null,"bogey",{"$f":"COUNTIF(E89:E97,\"bogey\")","v":0}]
[null,15,3,0,"  ",null,null,"Double bogey",{"$f":"COUNTIF(E89:E97,\"Double bogey\")","v":0}]
[null,16,5,0,"  ",null,null,"Other",{"$f":"COUNTIF(E89:E97,\"Other\")","v":0}]
[null,17,4,0,"  "]
[null,18,5,0,"  "]
[]
[null,{"$f":"AB4","v":"2025-05-23"}]
[null,{"$f":"Z7","v":1},4,0,{"$f":"IF(D100<>0,IF((D100-C100)=-1,\"Birdie\",IF((D100-C100)=-2,\"Eagle\",IF((D100-C100)=0,\"Par\",IF((D100-C100)=1,\"bogey\",IF((D100-C100)=2,\"Double bogey\",\"Other\"))))),\"  \")","v":"  "},null,null,"Count"]
[null,2,4,0,"  ",null,null,"Eagle",{"$f":"COUNTIF(E100:E108,\"Eagle\")","v":0}]
[null,3,4,0,"  ",null,null,"Birdie",{"$f":"COUNTIF(E100:E108,\"Birdie\")","v":0}]
[null,4,4,0,"  ",null,null,"Par",{"$f":"COUNTIF(E100:E108,\"Par\")","v":0}]
[null,5,3,0,"  ",null,null,"bogey",{"$f":"COUNTIF(E100:E108,\"bogey\")","v":0}]
[null,6,4,0,"  ",null,null,"Double bogey",{"$f":"COUNTIF(E100:E108,\"Double bogey\")","v":0}]
[null,7,4,0,"  ",null,null,"Other",{"$f":"COUNTIF(E100:E108,\"Other\")","v":0}]
[null,8,3,0,"  "]
[null,9,5,0,"  "]
[]
[null,{"$f":"AH4","v":"2025-05-30"}]
[null,{"$f":"AF7","v":10},4,0,{"$f":"IF(D111<>0,IF((D111-C111)=-1,\"Birdie\",IF((D111-C111)=-2,\"Eagle\",IF((D111-C111)=0,\"Par\",IF((D111-C111)=1,\"bogey\",IF((D111-C111)=2,\"Double bogey\",\"Other\"))))),\"  \")","v":"  "},null,null,"Count"]
[null,11,4,0,"  ",null,null,"Eagle",{"$f":"COUNTIF(E111:E119,\"Eagle\")","v":0}]
[null,12,3,0,"  ",null,null,"Birdie",{"$f":"COUNTIF(E111:E119,\"Birdie\")","v":0}]
[null,13,4,0,"  ",null,null,"Par",{"$f":"COUNTIF(E111:E119,\"Par\")","v":0}]
[null,14,4,0,"  ",null,null,"bogey",{"$f":"COUNTIF(E111:E119,\"bogey\")","v":0}]
[null,15,3,0,"  ",null,null,"Double bogey",{"$f":"COUNTIF(E111:E119,\"Double bogey\")","v":0}]
[null,16,5,0,"  ",null,null,"Other",{"$f":"COUNTIF(E111:E119,\"Other\")","v":0}]
[null,17,4,0,"  "]
[null,18,5,0,"  "]
[]
[null,{"$f":"AN4","v":"2025-06-06"}]
[null,{"$f":"AL7","v":1},4,0,{"$f":"IF(D122<>0,IF((D122-C122)=-1,\"Birdie\",IF((D122-C122)=-2,\"Eagle\",IF((D122-C122)=0,\"Par\",IF((D122-C122)=1,\"bogey\",IF((D122-C122)=2,\"Double bogey\",\"Other\"))))),\"  \")","v":"  "},null,null,"Count"]
[null,2,4,0,"  ",null,null,"Eagle",{"$f":"COUNTIF(E122:E130,\"Eagle\")","v":0}]
[null,3,4,0,"  ",null,null,"Birdie",{"$f":"COUNTIF(E122:E130,\"Birdie\")","v":0}]
[null,4,4,0,"  ",null,null,"Par",{"$f":"COUNTIF(E122:E130,\"Par\")","v":0}]
[null,5,3,0,"  ",null,null,"bogey",{"$f":"COUNTIF(E122:E130,\"bogey\")","v":0}]
[null,6,4,0,"  ",null,null,"Double bogey",{"$f":"COUNTIF(E122:E130,\"Double bogey\")","v":0}]
[null,7,4,0,"  ",null,null,"Other",{"$f":"COUNTIF(E122:E130,\"Other\")","v":0}]
[null,8,3,0,"  "]
[null,9,5,0,"  "]
[]
[null,{"$f":"AT4","v":"2025-06-13"}]
[null,{"$f":"AR7","v":10},4,0,{"$f":"IF(D133<>0,IF((D133-C133)=-1,\"Birdie\",IF((D133-C133)=-2,\"Eagle\",IF((D133-C133)=0,\"Par\",IF((D133-C133)=1,\"bogey\",IF((D133-C133)=2,\"Double bogey\",\"Other\"))))),\"  \")","v":"  "},null,null,"Count"]
[null,11,4,0,"  ",null,null,"Eagle",{"$f":"COUNTIF(E133:E141,\"Eagle\")","v":0}]
[null,12,3,0,"  ",null,null,"Birdie",{"$f":"COUNTIF(E133:E141,\"Birdie\")","v":0}]
[null,13,4,0,"  ",null,null,"Par",{"$f":"COUNTIF(E133:E141,\"Par\")","v":0}]
[null,14,4,0,"  ",null,null,"bogey",{"$f":"COUNTIF(E133:E141,\"bogey\")","v":0}]
[null,15,3,0,"  ",null,null,"Double bogey",{"$f":"COUNTIF(E133:E141,\"Double bogey\")","v":0}]
[null,16,5,0,"  ",null,null,"Other",{"$f":"COUNTIF(E133:E141,\"Other\")","v":0}]
[null,17,4,0,"  "]
[null,18,5,0,"  "]
[]
[null,{"$f":"AZ4","v":"2025-06-27"}]
[null,{"$f":"AX7","v":10},4,0,{"$f":"IF(D144<>0,IF((D144-C144)=-1,\"Birdie\",IF((D144-C144)=-2,\"Eagle\",IF((D144-C144)=0,\"Par\",IF((D144-C144)=1,\"bogey\",IF((D144-C144)=2,\"Double bogey\",\"Other\"))))),\"  \")","v":"  "},null,null,"Count"]
[null,11,4,0,"  ",null,null,"Eagle",{"$f":"COUNTIF(E144:E152,\"Eagle\")","v":0}]
[null,12,3,0,"  ",null,null,"Birdie",{"$f":"COUNTIF(E144:E152,\"Birdie\")","v":0}]
[null,13,4,0,"  ",null,null,"Par",{"$f":"COUNTIF(E144:E152,\"Par\")","v":0}]
[null,14,4,0,"  ",null,null,"bogey",{"$f":"COUNTIF(E144:E152,\"bogey\")","v":0}]
[null,15,3,0,"  ",null,null,"Double bogey",{"$f":"COUNTIF(E144:E152,\"Double bogey\")","v":0}]
[null,16,5,0,"  ",null,null,"Other",{"$f":"COUNTIF(E144:E152,\"Other\")","v":0}]
[null,17,4,0,"  "]
[null,18,5,0,"  "]
[]
[null,{"$f":"BF4","v":"2025-07-04"}]
[null,{"$f":"BD7","v":10},4,0,{"$f":"IF(D155<>0,IF((D155-C155)=-1,\"Birdie\",IF((D155-C155)=-2,\"Eagle\",IF((D155-C155)=0,\"Par\",IF((D155-C155)=1,\"bogey\",IF((D155-C155)=2,\"Double bogey\",\"Other\"))))),\"  \")","v":"  "},null,null,"Count"]
[null,11,4,0,"  ",null,null,"Eagle",{"$f":"COUNTIF(E155:E163,\"Eagle\")","v":0}]
[null,12,3,0,"  ",null,null,"Birdie",{"$f":"COUNTIF(E155:E163,\"Birdie\")","v":0}]
[null,13,4,0,"  ",null,null,"Par",{"$f":"COUNTIF(E155:E163,\"Par\")","v":0}]
[null,14,4,0,"  ",null,null,"bogey",{"$f":"COUNTIF(E155:E163,\"bogey\")","v":0}]
[null,15,3,0,"  ",null,null,"Double bogey",{"$f":"COUNTIF(E155:E163,\"Double bogey\")","v":0}]
[null,16,5,0,"  ",null,null,"Other",{"$f":"COUNTIF(E155:E163,\"Other\")","v":0}]
[null,17,4,0,"  "]
[null,18,5,0,"  "]
[]
[null,{"$f":"BL4","v":"2025-07-18"}]
[null,{"$f":"BJ7","v":10},4,0,{"$f":"IF(D166<>0,IF((D166-C166)=-1,\"Birdie\",IF((D166-C166)=-2,\"Eagle\",IF((D166-C166)=0,\"Par\",IF((D166-C166)=1,\"bogey\",IF((D166-C166)=2,\"Double bogey\",\"Other\"))))),\"  \")","v":"  "},null,null,"Count"]
[null,11,4,0,"  ",null,null,"Eagle",{"$f":"COUNTIF(E166:E174,\"Eagle\")","v":0}]
[null,12,3,0,"  ",null,null,"Birdie",{"$f":"COUNTIF(E166:E174,\"Birdie\")","v":0}]
[null,13,4,0,"  ",null,null,"Par",{"$f":"COUNTIF(E166:E174,\"Par\")","v":0}]
[null,14,4,0,"  ",null,null,"bogey",{"$f":"COUNTIF(E166:E174,\"bogey\")","v":0}]
[null,15,3,0,"  ",null,null,"Double bogey",{"$f":"COUNTIF(E166:E174,\"Double bogey\")","v":0}]
[null,16,5,0,"  ",null,null,"Other",{"$f":"COUNTIF(E166:E174,\"Other\")","v":0}]
[null,17,4,0,"  "]
[null,18,5,0,"  "]
[]
[null,{"$f":"BR4","v":"2025-07-25"}]
[null,{"$f":"BP7","v":1},4,0,{"$f":"IF(D177<>0,IF((D177-C177)=-1,\"Birdie\",IF((D177-C177)=-2,\"Eagle\",IF((D177-C177)=0,\"Par\",IF((D177-C177)=1,\"bogey\",IF((D177-C177)=2,\"Double bogey\",\"Other\"))))),\"  \")","v":"  "},null,null,"Count"]
[null,2,4,0,"  ",null,null,"Eagle",{"$f":"COUNTIF(E177:E185,\"Eagle\")","v":0}]
[null,3,4,0,"  ",null,null,"Birdie",{"$f":"COUNTIF(E177:E185,\"Birdie\")","v":0}]
[null,4,4,0,"  ",null,null,"Par",{"$f":"COUNTIF(E177:E185,\"Par\")","v":0}]
[null,5,3,0,"  ",null,null,"bogey",{"$f":"COUNTIF(E177:E185,\"bogey\")","v":0}]
[null,6,4,0,"  ",null,null,"Double bogey",{"$f":"COUNTIF(E177:E185,\"Double bogey\")","v":0}]
[null,7,4,0,"  ",null,null,"Other",{"$f":"COUNTIF(E177:E185,\"Other\")","v":0}]
[null,8,3,0,"  "]
[null,9,5,0,"  "]
[]
[null,{"$f":"BX4","v":"2025-08-01"}]
[null,{"$f":"BV7","v":10},4,0,{"$f":"IF(D188<>0,IF((D188-C188)=-1,\"Birdie\",IF((D188-C188)=-2,\"Eagle\",IF((D188-C188)=0,\"Par\",IF((D188-C188)=1,\"bogey\",IF((D188-C188)=2,\"Double bogey\",\"Other\"))))),\"  \")","v":"  "},null,null,"Count"]
[null,11,4,0,"  ",null,null,"Eagle",{"$f":"COUNTIF(E188:E196,\"Eagle\")","v":0}]
[null,12,3,0,"  ",null,null,"Birdie",{"$f":"COUNTIF(E188:E196,\"Birdie\")","v":0}]
[null,13,4,0,"  ",null,null,"Par",{"$f":"COUNTIF(E188:E196,\"Par\")","v":0}]
[null,14,4,0,"  ",null,null,"bogey",{"$f":"COUNTIF(E188:E196,\"bogey\")","v":0}]
[null,15,3,0,"  ",null,null,"Double bogey",{"$f":"COUNTIF(E188:E196,\"Double bogey\")","v":0}]
[null,16,5,0,"  ",null,null,"Other",{"$f":"COUNTIF(E188:E196,\"Other\")","v":0}]
[null,17,4,0,"  "]
[null,18,5,0,"  "]
[]
[null,{"$f":"CD4","v":"2025-08-08"}]
[null,{"$f":"CB7","v":1},4,0,{"$f":"IF(D199<>0,IF((D199-C199)=-1,\"Birdie\",IF((D199-C199)=-2,\"Eagle\",IF((D199-C199)=0,\"Par\",IF((D199-C199)=1,\"bogey\",IF((D199-C199)=2,\"Double bogey\",\"Other\"))))),\"  \")","v":"  "},null,null,"Count"]
[null,2,4,0,"  ",null,null,"Eagle",{"$f":"COUNTIF(E199:E207,\"Eagle\")","v":0}]
[null,3,4,0,"  ",null,null,"Birdie",{"$f":"COUNTIF(E199:E207,\"Birdie\")","v":0}]
[null,4,4,0,"  ",null,null,"Par",{"$f":"COUNTIF(E199:E207,\"Par\")","v":0}]
[null,5,3,0,"  ",null,null,"bogey",{"$f":"COUNTIF(E199:E207,\"bogey\")","v":0}]
[null,6,4,0,"  ",null,null,"Double bogey",{"$f":"COUNTIF(E199:E207,\"Double bogey\")","v":0}]
[null,7,4,0,"  ",null,null,"Other",{"$f":"COUNTIF(E199:E207,\"Other\")","v":0}]
[null,8,3,0,"  "]
[null,9,5,0,"  "]
[]
[null,{"$f":"CJ4","v":"2025-08-15"}]
[null,{"$f":"CH7","v":10},4,0,{"$f":"IF(D210<>0,IF((D210-C210)=-1,\"Birdie\",IF((D210-C210)=-2,\"Eagle\",IF((D210-C210)=0,\"Par\",IF((D210-C210)=1,\"bogey\",IF((D210-C210)=2,\"Double bogey\",\"Other\"))))),\"  \")","v":"  "},null,null,"Count"]
[null,11,4,0,"  ",null,null,"Eagle",{"$f":"COUNTIF(E210:E218,\"Eagle\")","v":0}]
[null,12,3,0,"  ",null,null,"Birdie",{"$f":"COUNTIF(E210:E218,\"Birdie\")","v":0}]
[null,13,4,0,"  ",null,null,"Par",{"$f":"COUNTIF(E210:E218,\"Par\")","v":0}]
[null,14,4,0,"  ",null,null,"bogey",{"$f":"COUNTIF(E210:E218,\"bogey\")","v":0}]
[null,15,3,0,"  ",null,null,"Double bogey",{"$f":"COUNTIF(E210:E218,\"Double bogey\")","v":0}]
[null,16,5,0,"  ",null,null,"Other",{"$f":"COUNTIF(E210:E218,\"Other\")","v":0}]
[null,17,4,0,"  "]
[null,18,5,0,"  "]

{"sheet":"Fusco_D","index":7,"n_rows":218,"n_cols":90,"rows_kept":218,"cut":false,"hidden":false,"merged":[]}
["Dan Fusco"]
[]
[]
[null,null,"Date:",{"$f":"VLOOKUP(C5,Week,2)","v":"2025-04-25"},null,null,null,null,"Date:",{"$f":"VLOOKUP(I5,Week,2)","v":"2025-05-02"},null,null,null,null,"Date:",{"$f":"VLOOKUP(O5,Week,2)","v":"2025-05-09"},null,null,null,null,"Date:",{"$f":"VLOOKUP(U5,Week,2)","v":"2025-05-16"},null,null,null,null,"Date:",{"$f":"VLOOKUP(AA5,Week,2)","v":"2025-05-23"},null,null,null,null,"Date:",{"$f":"VLOOKUP(AG5,Week,2)","v":"2025-05-30"},null,null,null,null,"Date:",{"$f":"VLOOKUP(AM5,Week,2)","v":"2025-06-06"},null,null,null,null,"Date:",{"$f":"VLOOKUP(AS5,Week,2)","v":"2025-06-13"},null,null,null,null,"Date:",{"$f":"VLOOKUP(AY5,Week,2)","v":"2025-06-27"},null,null,null,null,"Date:",{"$f":"VLOOKUP(BE5,Week,2)","v":"2025-07-04"},null,null,null,null,"Date:",{"$f":"VLOOKUP(BK5,Week,2)","v":"2025-07-18"},null,null,null,null,"Date:",{"$f":"VLOOKUP(BQ5,Week,2)","v":"2025-07-25"},null,null,null,null,"Date:",{"$f":"VLOOKUP(BW5,Week,2)","v":"2025-08-01"},null,null,null,null,"Date:",{"$f":"VLOOKUP(CC5,Week,2)","v":"2025-08-08"},null,null,null,null,"Date:",{"$f":"VLOOKUP(CI5,Week,2)","v":"2025-08-15"}]
[null,"Week",1,null,null,null,null,"Week",2,null,null,null,null,"Week",3,null,null,null,null,"Week",4,null,null,null,null,"Week",5,null,null,null,null,"Week",6,null,null,null,null,"Week",7,null,null,null,null,"Week",8,null,null,null,null,"Week",9,null,null,null,null,"Week",10,null,null,null,null,"Week",11,null,null,null,null,"Week",12,null,null,null,null,"Week",13,null,null,null,null,"Week",14,null,null,null,null,"Week",15]
[null,"Hole #","Par","Score","Net","Win Hole",null,"Hole #","Par","Score","Net","Win Hole",null,"Hole #","Par","Score","Net","Win Hole",null,"Hole #","Par","Score","Net","Win Hole",null,"Hole #","Par","Score","Net","Win Hole",null,"Hole #","Par","Score","Net","Win Hole",null,"Hole #","Par","Score","Net","Win Hole",null,"Hole #","Par","Score","Net","Win Hole",null,"Hole #","Par","Score","Net","Win Hole",null,"Hole #","Par","Score","Net","Win Hole",null,"Hole #","Par","Score","Net","Win Hole",null,"Hole #","Par","Score","Net","Win Hole",null,"Hole #","Par","Score","Net","Win Hole",null,"Hole #","Par","Score","Net","Win Hole",null,"Hole #","Par","Score","Net","Win Hole"]
[null,{"$f":"VLOOKUP(C5,Week,6)","v":1},{"$f":"VLOOKUP(B7,Holes,2)","v":4},null,{"$f":"IF((D7-C7)>3,C7+3,D7)","v":0},null,null,{"$f":"VLOOKUP(I5,Week,6)","v":10},{"$f":"VLOOKUP(H7,Holes,2)","v":4},null,{"$f":"IF((J7-I7)>3,I7+3,J7)","v":0},null,null,{"$f":"VLOOKUP(O5,Week,6)","v":1},{"$f":"VLOOKUP(N7,Holes,2)","v":4},null,{"$f":"IF((P7-O7)>3,O7+3,P7)","v":0},null,null,{"$f":"VLOOKUP(U5,Week,6)","v":10},{"$f":"VLOOKUP(T7,Holes,2)","v":4},null,{"$f":"IF((V7-U7)>3,U7+3,V7)","v":0},null,null,{"$f":"VLOOKUP(AA5,Week,6)","v":1},{"$f":"VLOOKUP(Z7,Holes,2)","v":4},null,{"$f":"IF((AB7-AA7)>3,AA7+3,AB7)","v":0},null,null,{"$f":"VLOOKUP(AG5,Week,6)","v":10},{"$f":"VLOOKUP(AF7,Holes,2)","v":4},null,{"$f":"IF((AH7-AG7)>3,AG7+3,AH7)","v":0},null,null,{"$f":"VLOOKUP(AM5,Week,6)","v":1},{"$f":"VLOOKUP(AL7,Holes,2)","v":4},null,{"$f":"IF((AN7-AM7)>3,AM7+3,AN7)","v":0},null,null,{"$f":"VLOOKUP(AS5,Week,6)","v":10},{"$f":"VLOOKUP(AR7,Holes,2)","v":4},null,{"$f":"IF((AT7-AS7)>3,AS7+3,AT7)","v":0},null,null,{"$f":"VLOOKUP(AY5,Week,6)","v":10},{"$f":"VLOOKUP(AX7,Holes,2)","v":4},null,{"$f":"IF((AZ7-AY7)>3,AY7+3,AZ7)","v":0},null,null,{"$f":"VLOOKUP(BE5,Week,6)","v":10},{"$f":"VLOOKUP(BD7,Holes,2)","v":4},null,{"$f":"IF((BF7-BE7)>3,BE7+3,BF7)","v":0},null,null,{"$f":"VLOOKUP(BK5,Week,6)","v":10},{"$f":"VLOOKUP(BJ7,Holes,2)","v":4},null,{"$f":"IF((BL7-BK7)>3,BK7+3,BL7)","v":0},null,null,{"$f":"VLOOKUP(BQ5,Week,6)","v":1},{"$f":"VLOOKUP(BP7,Holes,2)","v":4},null,{"$f":"IF((BR7-BQ7)>3,BQ7+3,BR7)","v":0},null,null,{"$f":"VLOOKUP(BW5,Week,6)","v":10},{"$f":"VLOOKUP(BV7,Holes,2)","v":4},null,{"$f":"IF((BX7-BW7)>3,BW7+3,BX7)","v":0},null,null,{"$f":"VLOOKUP(CC5,Week,6)","v":1},{"$f":"VLOOKUP(CB7,Holes,2)","v":4},null,{"$f":"IF((CD7-CC7)>3,CC7+3,CD7)","v":0},null,null,{"$f":"VLOOKUP(CI5,Week,6)","v":10},{"$f":"VLOOKUP(CH7,Holes,2)","v":4},null,{"$f":"IF((CJ7-CI7)>3,CI7+3,CJ7)","v":0}]
[null,{"$f":"+B7+1","v":2},4,null,0,null,null,{"$f":"+H7+1","v":11},4,null,0,null,null,{"$f":"+N7+1","v":2},4,null,0,null,null,{"$f":"+T7+1","v":11},4,null,0,null,null,{"$f":"+Z7+1","v":2},4,null,0,null,null,{"$f":"+AF7+1","v":11},4,null,0,null,null,{"$f":"+AL7+1","v":2},4,null,0,null,null,{"$f":"+AR7+1","v":11},4,null,0,null,null,{"$f":"+AX7+1","v":11},4,null,0,null,null,{"$f":"+BD7+1","v":11},4,null,0,null,null,{"$f":"+BJ7+1","v":11},4,null,0,null,null,{"$f":"+BP7+1","v":2},4,null,0,null,null,{"$f":"+BV7+1","v":11},4,null,0,null,null,{"$f":"+CB7+1","v":2},4,null,0,null,null,{"$f":"+CH7+1","v":11},4,null,0]
[null,3,4,null,0,null,null,12,3,null,0,null,null,3,4,null,0,null,null,12,3,null,0,null,null,3,4,null,0,null,null,12,3,null,0,null,null,3,4,null,0,null,null,12,3,null,0,null,null,12,3,null,0,null,null,12,3,null,0,null,null,12,3,null,0,null,null,3,4,null,0,null,null,12,3,null,0,null,null,3,4,null,0,null,null,12,3,null,0]
[null,4,4,null,0,null,null,13,4,null,0,null,null,4,4,null,0,null,null,13,4,null,0,null,null,4,4,null,0,null,null,13,4,null,0,null,null,4,4,null,0,null,null,13,4,null,0,null,null,13,4,null,0,null,null,13,4,null,0,null,null,13,4,null,0,null,null,4,4,null,0,null,null,13,4,null,0,null,null,4,4,null,0,null,null,13,4,null,0]
[null,5,3,null,0,null,null,14,4,null,0,null,null,5,3,null,0,null,null,14,4,null,0,null,null,5,3,null,0,null,null,14,4,null,0,null,null,5,3,null,0,null,null,14,4,null,0,null,null,14,4,null,0,null,null,14,4,null,0,null,null,14,4,null,0,null,null,5,3,null,0,null,null,14,4,null,0,null,null,5,3,null,0,null,null,14,4,null,0]
[null,6,4,null,0,null,null,15,3,null,0,null,null,6,4,null,0,null,null,15,3,null,0,null,null,6,4,null,0,null,null,15,3,null,0,null,null,6,4,null,0,null,null,15,3,null,0,null,null,15,3,null,0,null,null,15,3,null,0,null,null,15,3,null,0,null,null,6,4,null,0,null,null,15,3,null,0,null,null,6,4,null,0,null,null,15,3,null,0]
[null,7,4,null,0,null,null,16,5,null,0,null,null,7,4,null,0,null,null,16,5,null,0,null,null,7,4,null,0,null,null,16,5,null,0,null,null,7,4,null,0,null,null,16,5,null,0,null,null,16,5,null,0,null,null,16,5,null,0,null,null,16,5,null,0,null,null,7,4,null,0,null,null,16,5,null,0,null,null,7,4,null,0,null,null,16,5,null,0]
[null,8,3,null,0,null,null,17,4,null,0,null,null,8,3,null,0,null,null,17,4,null,0,null,null,8,3,null,0,null,null,17,4,null,0,null,null,8,3,null,0,null,null,17,4,null,0,null,null,17,4,null,0,null,null,17,4,null,0,null,null,17,4,null,0,null,null,8,3,null,0,null,null,17,4,null,0,null,null,8,3,null,0,null,null,17,4,null,0]
[null,9,5,null,0,null,null,18,5,null,0,null,null,9,5,null,0,null,null,18,5,null,0,null,null,9,5,null,0,null,null,18,5,null,0,null,null,9,5,null,0,null,null,18,5,null,0,null,null,18,5,null,0,null,null,18,5,null,0,null,null,18,5,null,0,null,null,9,5,null,0,null,null,18,5,null,0,null,null,9,5,null,0,null,null,18,5,null,0]
[null,"Total",{"$f":"SUM(C7:C15)","v":35},{"$f":"SUM(D7:D15)","v":0},{"$f":"SUM(E7:E15)","v":0},{"$f":"SUM(F7:F15)","v":0},null,"Total",{"$f":"SUM(I7:I15)","v":36},{"$f":"SUM(J7:J15)","v":0},{"$f":"SUM(K7:K15)","v":0},{"$f":"SUM(L7:L15)","v":0},null,"Total",{"$f":"SUM(O7:O15)","v":35},{"$f":"SUM(P7:P15)","v":0},{"$f":"SUM(Q7:Q15)","v":0},{"$f":"SUM(R7:R15)","v":0},null,"Total",{"$f":"SUM(U7:U15)","v":36},{"$f":"SUM(V7:V15)","v":0},{"$f":"SUM(W7:W15)","v":0},{"$f":"SUM(X7:X15)","v":0},null,"Total",{"$f":"SUM(AA7:AA15)","v":35},{"$f":"SUM(AB7:AB15)","v":0},{"$f":"SUM(AC7:AC15)","v":0},{"$f":"SUM(AD7:AD15)","v":0},null,"Total",{"$f":"SUM(AG7:AG15)","v":36},{"$f":"SUM(AH7:AH15)","v":0},{"$f":"SUM(AI7:AI15)","v":0},{"$f":"SUM(AJ7:AJ15)","v":0},null,"Total",{"$f":"SUM(AM7:AM15)","v":35},{"$f":"SUM(AN7:AN15)","v":0},{"$f":"SUM(AO7:AO15)","v":0},{"$f":"SUM(AP7:AP15)","v":0},null,"Total",{"$f":"SUM(AS7:AS15)","v":36},{"$f":"SUM(AT7:AT15)","v":0},{"$f":"SUM(AU7:AU15)","v":0},{"$f":"SUM(AV7:AV15)","v":0},null,"Total",{"$f":"SUM(AY7:AY15)","v":36},{"$f":"SUM(AZ7:AZ15)","v":0},{"$f":"SUM(BA7:BA15)","v":0},{"$f":"SUM(BB7:BB15)","v":0},null,"Total",{"$f":"SUM(BE7:BE15)","v":36},{"$f":"SUM(BF7:BF15)","v":0},{"$f":"SUM(BG7:BG15)","v":0},{"$f":"SUM(BH7:BH15)","v":0},null,"Total",{"$f":"SUM(BK7:BK15)","v":36},{"$f":"SUM(BL7:BL15)","v":0},{"$f":"SUM(BM7:BM15)","v":0},{"$f":"SUM(BN7:BN15)","v":0},null,"Total",{"$f":"SUM(BQ7:BQ15)","v":35},{"$f":"SUM(BR7:BR15)","v":0},{"$f":"SUM(BS7:BS15)","v":0},{"$f":"SUM(BT7:BT15)","v":0},null,"Total",{"$f":"SUM(BW7:BW15)","v":36},{"$f":"SUM(BX7:BX15)","v":0},{"$f":"SUM(BY7:BY15)","v":0},{"$f":"SUM(BZ7:BZ15)","v":0},null,"Total",{"$f":"SUM(CC7:CC15)","v":35},{"$f":"SUM(CD7:CD15)","v":0},{"$f":"SUM(CE7:CE15)","v":0},{"$f":"SUM(CF7:CF15)","v":0},null,"Total",{"$f":"SUM(CI7:CI15)","v":36},{"$f":"SUM(CJ7:CJ15)","v":0},{"$f":"SUM(CK7:CK15)","v":0},{"$f":"SUM(CL7:CL15)","v":0}]
[]
[null,null,null,null,"Low Net",null,null,null,null,null,"Low Net",0,null,null,null,null,"Low Net",0,null,null,null,null,"Low Net",null,null,null,null,null,"Low Net",null,null,null,null,null,"Low Net",null,null,null,null,null,"Low Net",null,null,null,null,null,"Low Net",null,null,null,null,null,"Low Net",null,null,null,null,null,"Low Net",null,null,null,null,null,"Low Net",null,null,null,null,null,"Low Net",null,null,null,null,null,"Low Net",null,null,null,null,null,"Low Net",null,null,null,null,null,"Low Net"]
[]
[null,null,null,null,"Total Points",{"$f":"SUM(F16:F19)","v":0},null,null,null,null,"Total Points",{"$f":"SUM(L16:L19)","v":0},null,null,null,null,"Total Points",{"$f":"SUM(R16:R19)","v":0},null,null,null,null,"Total Points",{"$f":"SUM(X16:X19)","v":0},null,null,null,null,"Total Points",{"$f":"SUM(AD16:AD19)","v":0},null,null,null,null,"Total Points",{"$f":"SUM(AJ16:AJ19)","v":0},null,null,null,null,"Total Points",{"$f":"SUM(AP16:AP19)","v":0},null,null,null,null,"Total Points",{"$f":"SUM(AV16:AV19)","v":0},null,null,null,null,"Total Points",{"$f":"SUM(BB16:BB19)","v":0},null,null,null,null,"Total Points",{"$f":"SUM(BH16:BH19)","v":0},null,null,null,null,"Total Points",{"$f":"SUM(BN16:BN19)","v":0},null,null,null,null,"Total Points",{"$f":"SUM(BT16:BT19)","v":0},null,null,null,null,"Total Points",{"$f":"SUM(BZ16:BZ19)","v":0},null,null,null,null,"Total Points",{"$f":"SUM(CF16:CF19)","v":0},null,null,null,null,"Total Points",{"$f":"SUM(CL16:CL19)","v":0}]
[]
[null,null,null,null,"Handicap",{"$f":"IF(D16=0,0,E16-C16)","v":0},null,null,null,null,"Handicap",{"$f":"IF(J16=0,0,K16-I16)","v":0},null,null,null,null,"Handicap",{"$f":"IF(P16=0,0,Q16-O16)","v":0},null,null,null,null,"Handicap",{"$f":"IF(V16=0,0,W16-U16)","v":0},null,null,null,null,"Handicap",{"$f":"IF(AB16=0,0,AC16-AA16)","v":0},null,null,null,null,"Handicap",{"$f":"IF(AH16=0,0,AI16-AG16)","v":0},null,null,null,null,"Handicap",{"$f":"IF(AN16=0,0,AO16-AM16)","v":0},null,null,null,null,"Handicap",{"$f":"IF(AT16=0,0,AU16-AS16)","v":0},null,null,null,null,"Handicap",{"$f":"IF(AZ16=0,0,BA16-AY16)","v":0},null,null,null,null,"Handicap",{"$f":"IF(BF16=0,0,BG16-BE16)","v":0},null,null,null,null,"Handicap",{"$f":"IF(BL16=0,0,BM16-BK16)","v":0},null,null,null,null,"Handicap",{"$f":"IF(BR16=0,0,BS16-BQ16)","v":0},null,null,null,null,"Handicap",{"$f":"IF(BX16=0,0,BY16-BW16)","v":0},null,null,null,null,"Handicap",{"$f":"IF(CD16=0,0,CE16-CC16)","v":0},null,null,null,null,"Handicap",{"$f":"IF(CJ16=0,0,CK16-CI16)","v":0}]
[]
[null,null,null,null,null,{"$f":"IF(D16<>0,IF(F16>4.5,\"W\",IF(F16=4.5,\"T\",IF(F16<4.5,\"L\"))),0)","v":0},null,null,null,null,null,{"$f":"IF(J16<>0,IF(L16>4.5,\"W\",IF(L16=4.5,\"T\",IF(L16<4.5,\"L\"))),0)","v":0},null,null,null,null,null,{"$f":"IF(P16<>0,IF(R16>4.5,\"W\",IF(R16=4.5,\"T\",IF(R16<4.5,\"L\"))),0)","v":0},null,null,null,null,null,{"$f":"IF(V16<>0,IF(X16>4.5,\"W\",IF(X16=4.5,\"T\",IF(X16<4.5,\"L\"))),0)","v":0},null,null,null,null,null,{"$f":"IF(AB16<>0,IF(AD16>4.5,\"W\",IF(AD16=4.5,\"T\",IF(AD16<4.5,\"L\"))),0)","v":0},null,null,null,null,null,{"$f":"IF(AH16<>0,IF(AJ16>4.5,\"W\",IF(AJ16=4.5,\"T\",IF(AJ16<4.5,\"L\"))),0)","v":0},null,null,null,null,null,{"$f":"IF(AN16<>0,IF(AP16>4.5,\"W\",IF(AP16=4.5,\"T\",IF(AP16<4.5,\"L\"))),0)","v":0},null,null,null,null,null,{"$f":"IF(AT16<>0,IF(AV16>4.5,\"W\",IF(AV16=4.5,\"T\",IF(AV16<4.5,\"L\"))),0)","v":0},null,null,null,null,null,{"$f":"IF(AZ16<>0,IF(BB16>4.5,\"W\",IF(BB16=4.5,\"T\",IF(BB16<4.5,\"L\"))),0)","v":0},null,null,null,null,null,{"$f":"IF(BF16<>0,IF(BH16>4.5,\"W\",IF(BH16=4.5,\"T\",IF(BH16<4.5,\"L\"))),0)","v":0},null,null,null,null,null,{"$f":"IF(BL16<>0,IF(BN16>4.5,\"W\",IF(BN16=4.5,\"T\",IF(BN16<4.5,\"L\"))),0)","v":0},null,null,null,null,null,{"$f":"IF(BR16<>0,IF(BT16>4.5,\"W\",IF(BT16=4.5,\"T\",IF(BT16<4.5,\"L\"))),0)","v":0},null,null,null,null,null,{"$f":"IF(BX16<>0,IF(BZ16>4.5,\"W\",IF(BZ16=4.5,\"T\",IF(BZ16<4.5,\"L\"))),0)","v":0},null,null,null,null,null,{"$f":"IF(CD16<>0,IF(CF16>4.5,\"W\",IF(CF16=4.5,\"T\",IF(CF16<4.5,\"L\"))),0)","v":0},null,null,null,null,null,{"$f":"IF(CJ16<>0,IF(CL16>4.5,\"W\",IF(CL16=4.5,\"T\",IF(CL16<4.5,\"L\"))),0)","v":0}]
[]
[null,"Summary"]
[null,null,null,"Adj",null,"Adj",null,null,null,"Avg Score"]
[null,null,"Points","Points","Matches","Matches",null,null,"Hole #","by Hole","Best","Worst"]
[null,"Week #1",{"$f":"F20","v":0},{"$f":"C29","v":0},{"$f":"IF(D16>0,1,0)","v":0},{"$f":"E29","v":0},null,null,1,{"$f":"IFERROR(AVERAGE(D7),0)","v":0},{"$f":"IFERROR(MIN(J7,V7,AH7,AT7,BF7,BR7,BX7,CJ7),0)","v":0},{"$f":"IFERROR(MAX(J7,V7,AH7,AT7,BF7,BR7,BX7,CJ7),0)","v":0}]
[null,"Week #2",{"$f":"L20","v":0},0,{"$f":"IF(J16>0,1,0)","v":0},0,null,null,2,{"$f":"IFERROR(AVERAGE(D8),0)","v":0},{"$f":"IFERROR(MIN(J8,V8,AH8,AT8,BF8,BR8,BX8,CJ8),0)","v":0},{"$f":"IFERROR(MAX(J8,V8,AH8,AT8,BF8,BR8,BX8,CJ8),0)","v":0}]
[null,"Week #3",{"$f":"R20","v":0},0,{"$f":"IF(P16>0,1,0)","v":0},0,null,null,3,0,0,0]
[null,"Week #4",{"$f":"X20","v":0},0,{"$f":"IF(V16>0,1,0)","v":0},0,null,null,4,0,0,0]
[null,"Week #5",{"$f":"AD20","v":0},0,{"$f":"IF(AB16>0,1,0)","v":0},0,null,null,5,0,0,0]
[null,"Week #6",{"$f":"AJ20","v":0},0,{"$f":"IF(AH16>0,1,0)","v":0},0,null,null,6,0,0,0]
[null,"Week #7",{"$f":"AP20","v":0},0,{"$f":"IF(AN16>0,1,0)","v":0},0,null,null,7,0,0,0]
[null,"Week #8",{"$f":"AV20","v":0},0,{"$f":"IF(AT16>0,1,0)","v":0},0,null,null,8,0,0,0]
[null,"Week #9",{"$f":"BB20","v":0},0,{"$f":"IF(AZ16>0,1,0)","v":0},0,null,null,9,0,0,0]
[null,"Week #10",{"$f":"BH20","v":0},0,{"$f":"IF(BF16>0,1,0)","v":0},0,null,null,"Front",{"$f":"SUM(J29:J37)","v":0},{"$f":"SUM(K29:K37)","v":0},0]
[null,"Week #11",{"$f":"BN20","v":0},0,{"$f":"IF(BL16>0,1,0)","v":0},0]
[null,"Week #12",{"$f":"BT20","v":0},0,{"$f":"IF(BR16>0,1,0)","v":0},0,null,null,10,{"$f":"IFERROR(AVERAGE(J7),0)","v":0},{"$f":"IFERROR(MIN(D7,P7,AB7,AN7,AZ7,BL7,CD7),0)","v":0},{"$f":"IFERROR(MAX(D7,P7,AB7,AN7,AZ7,BL7,CD7),0)","v":0}]
[null,"Week #13",{"$f":"BZ20","v":0},0,{"$f":"IF(BX16>0,1,0)","v":0},0,null,null,11,{"$f":"IFERROR(AVERAGE(J8),0)","v":0},{"$f":"IFERROR(MIN(D8,P8,AB8,AN8,AZ8,BL8,CD8),0)","v":0},{"$f":"IFERROR(MAX(D8,P8,AB8,AN8,AZ8,BL8,CD8),0)","v":0}]
[null,"Week #14",{"$f":"CF20","v":0},0,{"$f":"IF(CD16>0,1,0)","v":0},0,null,null,12,0,0,0]
[null,"Week #15",{"$f":"CL20","v":0},0,{"$f":"IF(CJ16>0,1,0)","v":0},0,null,null,13,0,0,0]
[null,"Total",{"$f":"SUM(C29:C43)","v":0},{"$f":"SUM(D29:D43)","v":0},{"$f":"SUM(E29:E43)","v":0},{"$f":"SUM(F29:F43)","v":0},null,null,14,0,0,0]
[null,null,null,null,null,null,null,null,15,0,0,0]
[null,"Summary",null,null,null,null,null,null,16,0,0,0]
[null,"Eagles",{"$f":"I57+I68+I79+I90+I101+I112+I123+I134+I145+I156+I167+I178+I189+I200+I211","v":0},null,null,null,null,null,17,0,0,0]
[null,"Birdies",0,null,null,null,null,null,18,0,0,0]
[null,"Pars",{"$f":"I59+I70+I81+I92+I103+I114+I125+I136+I147+I158+I169+I180+I191+I202+I213","v":0},null,null,null,null,null,"Back",{"$f":"SUM(J40:J48)","v":0},{"$f":"SUM(K40:K48)","v":0},0]
[null,"bogeys",0]
[null,"Double bogeys",0]
[null,"Other",0]
[null,"Total",{"$f":"SUM(C47:C52)","v":0}]
[]
[null,{"$f":"D4","v":"2025-04-25"},"Par","Score"]
[null,{"$f":"B7","v":1},4,0,{"$f":"IF(D56<>0,IF((D56-C56)=-1,\"Birdie\",IF((D56-C56)=-2,\"Eagle\",IF((D56-C56)=0,\"Par\",IF((D56-C56)=1,\"bogey\",IF((D56-C56)=2,\"Double bogey\",\"Other\"))))),\"  \")","v":"  "},null,null,"Count"]
[null,2,4,0,"  ",null,null,"Eagle",{"$f":"COUNTIF(E56:E64,\"Eagle\")","v":0}]
[null,3,4,0,"  ",null,null,"Birdie",{"$f":"COUNTIF(E56:E64,\"Birdie\")","v":0}]
[null,4,4,0,"  ",null,null,"Par",{"$f":"COUNTIF(E56:E64,\"Par\")","v":0}]
[null,5,3,0,"  ",null,null,"bogey",{"$f":"COUNTIF(E56:E64,\"bogey\")","v":0}]
[null,6,4,0,"  ",null,null,"Double bogey",{"$f":"COUNTIF(E56:E64,\"Double bogey\")","v":0}]
[null,7,4,0,"  ",null,null,"Other",{"$f":"COUNTIF(E56:E64,\"Other\")","v":0}]
[null,8,3,0,"  "]
[null,9,5,0,"  "]
[]
[null,{"$f":"J4","v":"2025-05-02"}]
[null,{"$f":"H7","v":10},4,0,{"$f":"IF(D67<>0,IF((D67-C67)=-1,\"Birdie\",IF((D67-C67)=-2,\"Eagle\",IF((D67-C67)=0,\"Par\",IF((D67-C67)=1,\"bogey\",IF((D67-C67)=2,\"Double bogey\",\"Other\"))))),\"  \")","v":"  "},null,null,"Count"]
[null,11,4,0,"  ",null,null,"Eagle",{"$f":"COUNTIF(E67:E75,\"Eagle\")","v":0}]
[null,12,3,0,"  ",null,null,"Birdie",{"$f":"COUNTIF(E67:E75,\"Birdie\")","v":0}]
[null,13,4,0,"  ",null,null,"Par",{"$f":"COUNTIF(E67:E75,\"Par\")","v":0}]
[null,14,4,0,"  ",null,null,"bogey",{"$f":"COUNTIF(E67:E75,\"bogey\")","v":0}]
[null,15,3,0,"  ",null,null,"Double bogey",{"$f":"COUNTIF(E67:E75,\"Double bogey\")","v":0}]
[null,16,5,0,"  ",null,null,"Other",{"$f":"COUNTIF(E67:E75,\"Other\")","v":0}]
[null,17,4,0,"  "]
[null,18,5,0,"  "]
[]
[null,{"$f":"P4","v":"2025-05-09"}]
[null,{"$f":"N7","v":1},4,0,{"$f":"IF(D78<>0,IF((D78-C78)=-1,\"Birdie\",IF((D78-C78)=-2,\"Eagle\",IF((D78-C78)=0,\"Par\",IF((D78-C78)=1,\"bogey\",IF((D78-C78)=2,\"Double bogey\",\"Other\"))))),\"  \")","v":"  "},null,null,"Count"]
[null,2,4,0,"  ",null,null,"Eagle",{"$f":"COUNTIF(E78:E86,\"Eagle\")","v":0}]
[null,3,4,0,"  ",null,null,"Birdie",{"$f":"COUNTIF(E78:E86,\"Birdie\")","v":0}]
[null,4,4,0,"  ",null,null,"Par",{"$f":"COUNTIF(E78:E86,\"Par\")","v":0}]
[null,5,3,0,"  ",null,null,"bogey",{"$f":"COUNTIF(E78:E86,\"bogey\")","v":0}]
[null,6,4,0,"  ",null,null,"Double bogey",{"$f":"COUNTIF(E78:E86,\"Double bogey\")","v":0}]
[null,7,4,0,"  ",null,null,"Other",{"$f":"COUNTIF(E78:E86,\"Other\")","v":0}]
[null,8,3,0,"  "]
[null,9,5,0,"  "]
[]
[null,{"$f":"V4","v":"2025-05-16"}]
[null,{"$f":"T7","v":10},4,0,{"$f":"IF(D89<>0,IF((D89-C89)=-1,\"Birdie\",IF((D89-C89)=-2,\"Eagle\",IF((D89-C89)=0,\"Par\",IF((D89-C89)=1,\"bogey\",IF((D89-C89)=2,\"Double bogey\",\"Other\"))))),\"  \")","v":"  "},null,null,"Count"]
[null,11,4,0,"  ",null,null,"Eagle",{"$f":"COUNTIF(E89:E97,\"Eagle\")","v":0}]
[null,12,3,0,"  ",null,null,"Birdie",{"$f":"COUNTIF(E89:E97,\"Birdie\")","v":0}]
[null,13,4,0,"  ",null,null,"Par",{"$f":"COUNTIF(E89:E97,\"Par\")","v":0}]
[null,14,4,0,"  ",null,null,"bogey",{"$f":"COUNTIF(E89:E97,\"bogey\")","v":0}]
[null,15,3,0,"  ",null,null,"Double bogey",{"$f":"COUNTIF(E89:E97,\"Double bogey\")","v":0}]
[null,16,5,0,"  ",null,null,"Other",{"$f":"COUNTIF(E89:E97,\"Other\")","v":0}]
[null,17,4,0,"  "]
[null,18,5,0,"  "]
[]
[null,{"$f":"AB4","v":"2025-05-23"}]
[null,{"$f":"Z7","v":1},4,0,{"$f":"IF(D100<>0,IF((D100-C100)=-1,\"Birdie\",IF((D100-C100)=-2,\"Eagle\",IF((D100-C100)=0,\"Par\",IF((D100-C100)=1,\"bogey\",IF((D100-C100)=2,\"Double bogey\",\"Other\"))))),\"  \")","v":"  "},null,null,"Count"]
[null,2,4,0,"  ",null,null,"Eagle",{"$f":"COUNTIF(E100:E108,\"Eagle\")","v":0}]
[null,3,4,0,"  ",null,null,"Birdie",{"$f":"COUNTIF(E100:E108,\"Birdie\")","v":0}]
[null,4,4,0,"  ",null,null,"Par",{"$f":"COUNTIF(E100:E108,\"Par\")","v":0}]
[null,5,3,0,"  ",null,null,"bogey",{"$f":"COUNTIF(E100:E108,\"bogey\")","v":0}]
[null,6,4,0,"  ",null,null,"Double bogey",{"$f":"COUNTIF(E100:E108,\"Double bogey\")","v":0}]
[null,7,4,0,"  ",null,null,"Other",{"$f":"COUNTIF(E100:E108,\"Other\")","v":0}]
[null,8,3,0,"  "]
[null,9,5,0,"  "]
[]
[null,{"$f":"AH4","v":"2025-05-30"}]
[null,{"$f":"AF7","v":10},4,0,{"$f":"IF(D111<>0,IF((D111-C111)=-1,\"Birdie\",IF((D111-C111)=-2,\"Eagle\",IF((D111-C111)=0,\"Par\",IF((D111-C111)=1,\"bogey\",IF((D111-C111)=2,\"Double bogey\",\"Other\"))))),\"  \")","v":"  "},null,null,"Count"]
[null,11,4,0,"  ",null,null,"Eagle",{"$f":"COUNTIF(E111:E119,\"Eagle\")","v":0}]
[null,12,3,0,"  ",null,null,"Birdie",{"$f":"COUNTIF(E111:E119,\"Birdie\")","v":0}]
[null,13,4,0,"  ",null,null,"Par",{"$f":"COUNTIF(E111:E119,\"Par\")","v":0}]
[null,14,4,0,"  ",null,null,"bogey",{"$f":"COUNTIF(E111:E119,\"bogey\")","v":0}]
[null,15,3,0,"  ",null,null,"Double bogey",{"$f":"COUNTIF(E111:E119,\"Double bogey\")","v":0}]
[null,16,5,0,"  ",null,null,"Other",{"$f":"COUNTIF(E111:E119,\"Other\")","v":0}]
[null,17,4,0,"  "]
[null,18,5,0,"  "]
[]
[null,{"$f":"AN4","v":"2025-06-06"}]
[null,{"$f":"AL7","v":1},4,0,{"$f":"IF(D122<>0,IF((D122-C122)=-1,\"Birdie\",IF((D122-C122)=-2,\"Eagle\",IF((D122-C122)=0,\"Par\",IF((D122-C122)=1,\"bogey\",IF((D122-C122)=2,\"Double bogey\",\"Other\"))))),\"  \")","v":"  "},null,null,"Count"]
[null,2,4,0,"  ",null,null,"Eagle",{"$f":"COUNTIF(E122:E130,\"Eagle\")","v":0}]
[null,3,4,0,"  ",null,null,"Birdie",{"$f":"COUNTIF(E122:E130,\"Birdie\")","v":0}]
[null,4,4,0,"  ",null,null,"Par",{"$f":"COUNTIF(E122:E130,\"Par\")","v":0}]
[null,5,3,0,"  ",null,null,"bogey",{"$f":"COUNTIF(E122:E130,\"bogey\")","v":0}]
[null,6,4,0,"  ",null,null,"Double bogey",{"$f":"COUNTIF(E122:E130,\"Double bogey\")","v":0}]
[null,7,4,0,"  ",null,null,"Other",{"$f":"COUNTIF(E122:E130,\"Other\")","v":0}]
[null,8,3,0,"  "]
[null,9,5,0,"  "]
[]
[null,{"$f":"AT4","v":"2025-06-13"}]
[null,{"$f":"AR7","v":10},4,0,{"$f":"IF(D133<>0,IF((D133-C133)=-1,\"Birdie\",IF((D133-C133)=-2,\"Eagle\",IF((D133-C133)=0,\"Par\",IF((D133-C133)=1,\"bogey\",IF((D133-C133)=2,\"Double bogey\",\"Other\"))))),\"  \")","v":"  "},null,null,"Count"]
[null,11,4,0,"  ",null,null,"Eagle",{"$f":"COUNTIF(E133:E141,\"Eagle\")","v":0}]
[null,12,3,0,"  ",null,null,"Birdie",{"$f":"COUNTIF(E133:E141,\"Birdie\")","v":0}]
[null,13,4,0,"  ",null,null,"Par",{"$f":"COUNTIF(E133:E141,\"Par\")","v":0}]
[null,14,4,0,"  ",null,null,"bogey",{"$f":"COUNTIF(E133:E141,\"bogey\")","v":0}]
[null,15,3,0,"  ",null,null,"Double bogey",{"$f":"COUNTIF(E133:E141,\"Double bogey\")","v":0}]
[null,16,5,0,"  ",null,null,"Other",{"$f":"COUNTIF(E133:E141,\"Other\")","v":0}]
[null,17,4,0,"  "]
[null,18,5,0,"  "]
[]
[null,{"$f":"AZ4","v":"2025-06-27"}]
[null,{"$f":"AX7","v":10},4,0,{"$f":"IF(D144<>0,IF((D144-C144)=-1,\"Birdie\",IF((D144-C144)=-2,\"Eagle\",IF((D144-C144)=0,\"Par\",IF((D144-C144)=1,\"bogey\",IF((D144-C144)=2,\"Double bogey\",\"Other\"))))),\"  \")","v":"  "},null,null,"Count"]
[null,11,4,0,"  ",null,null,"Eagle",{"$f":"COUNTIF(E144:E152,\"Eagle\")","v":0}]
[null,12,3,0,"  ",null,null,"Birdie",{"$f":"COUNTIF(E144:E152,\"Birdie\")","v":0}]
[null,13,4,0,"  ",null,null,"Par",{"$f":"COUNTIF(E144:E152,\"Par\")","v":0}]
[null,14,4,0,"  ",null,null,"bogey",{"$f":"COUNTIF(E144:E152,\"bogey\")","v":0}]
[null,15,3,0,"  ",null,null,"Double bogey",{"$f":"COUNTIF(E144:E152,\"Double bogey\")","v":0}]
[null,16,5,0,"  ",null,null,"Other",{"$f":"COUNTIF(E144:E152,\"Other\")","v":0}]
[null,17,4,0,"  "]
[null,18,5,0,"  "]
[]
[null,{"$f":"BF4","v":"2025-07-04"}]
[null,{"$f":"BD7","v":10},4,0,{"$f":"IF(D155<>0,IF((D155-C155)=-1,\"Birdie\",IF((D155-C155)=-2,\"Eagle\",IF((D155-C155)=0,\"Par\",IF((D155-C155)=1,\"bogey\",IF((D155-C155)=2,\"Double bogey\",\"Other\"))))),\"  \")","v":"  "},null,null,"Count"]
[null,11,4,0,"  ",null,null,"Eagle",{"$f":"COUNTIF(E155:E163,\"Eagle\")","v":0}]
[null,12,3,0,"  ",null,null,"Birdie",{"$f":"COUNTIF(E155:E163,\"Birdie\")","v":0}]
[null,13,4,0,"  ",null,null,"Par",{"$f":"COUNTIF(E155:E163,\"Par\")","v":0}]
[null,14,4,0,"  ",null,null,"bogey",{"$f":"COUNTIF(E155:E163,\"bogey\")","v":0}]
[null,15,3,0,"  ",null,null,"Double bogey",{"$f":"COUNTIF(E155:E163,\"Double bogey\")","v":0}]
[null,16,5,0,"  ",null,null,"Other",{"$f":"COUNTIF(E155:E163,\"Other\")","v":0}]
[null,17,4,0,"  "]
[null,18,5,0,"  "]
[]
[null,{"$f":"BL4","v":"2025-07-18"}]
[null,{"$f":"BJ7","v":10},4,0,{"$f":"IF(D166<>0,IF((D166-C166)=-1,\"Birdie\",IF((D166-C166)=-2,\"Eagle\",IF((D166-C166)=0,\"Par\",IF((D166-C166)=1,\"bogey\",IF((D166-C166)=2,\"Double bogey\",\"Other\"))))),\"  \")","v":"  "},null,null,"Count"]
[null,11,4,0,"  ",null,null,"Eagle",{"$f":"COUNTIF(E166:E174,\"Eagle\")","v":0}]
[null,12,3,0,"  ",null,null,"Birdie",{"$f":"COUNTIF(E166:E174,\"Birdie\")","v":0}]
[null,13,4,0,"  ",null,null,"Par",{"$f":"COUNTIF(E166:E174,\"Par\")","v":0}]
[null,14,4,0,"  ",null,null,"bogey",{"$f":"COUNTIF(E166:E174,\"bogey\")","v":0}]
[null,15,3,0,"  ",null,null,"Double bogey",{"$f":"COUNTIF(E166:E174,\"Double bogey\")","v":0}]
[null,16,5,0,"  ",null,null,"Other",{"$f":"COUNTIF(E166:E174,\"Other\")","v":0}]
[null,17,4,0,"  "]
[null,18,5,0,"  "]
[]
[null,{"$f":"BR4","v":"2025-07-25"}]
[null,{"$f":"BP7","v":1},4,0,{"$f":"IF(D177<>0,IF((D177-C177)=-1,\"Birdie\",IF((D177-C177)=-2,\"Eagle\",IF((D177-C177)=0,\"Par\",IF((D177-C177)=1,\"bogey\",IF((D177-C177)=2,\"Double bogey\",\"Other\"))))),\"  \")","v":"  "},null,null,"Count"]
[null,2,4,0,"  ",null,null,"Eagle",{"$f":"COUNTIF(E177:E185,\"Eagle\")","v":0}]
[null,3,4,0,"  ",null,null,"Birdie",{"$f":"COUNTIF(E177:E185,\"Birdie\")","v":0}]
[null,4,4,0,"  ",null,null,"Par",{"$f":"COUNTIF(E177:E185,\"Par\")","v":0}]
[null,5,3,0,"  ",null,null,"bogey",{"$f":"COUNTIF(E177:E185,\"bogey\")","v":0}]
[null,6,4,0,"  ",null,null,"Double bogey",{"$f":"COUNTIF(E177:E185,\"Double bogey\")","v":0}]
[null,7,4,0,"  ",null,null,"Other",{"$f":"COUNTIF(E177:E185,\"Other\")","v":0}]
[null,8,3,0,"  "]
[null,9,5,0,"  "]
[]
[null,{"$f":"BX4","v":"2025-08-01"}]
[null,{"$f":"BV7","v":10},4,0,{"$f":"IF(D188<>0,IF((D188-C188)=-1,\"Birdie\",IF((D188-C188)=-2,\"Eagle\",IF((D188-C188)=0,\"Par\",IF((D188-C188)=1,\"bogey\",IF((D188-C188)=2,\"Double bogey\",\"Other\"))))),\"  \")","v":"  "},null,null,"Count"]
[null,11,4,0,"  ",null,null,"Eagle",{"$f":"COUNTIF(E188:E196,\"Eagle\")","v":0}]
[null,12,3,0,"  ",null,null,"Birdie",{"$f":"COUNTIF(E188:E196,\"Birdie\")","v":0}]
[null,13,4,0,"  ",null,null,"Par",{"$f":"COUNTIF(E188:E196,\"Par\")","v":0}]
[null,14,4,0,"  ",null,null,"bogey",{"$f":"COUNTIF(E188:E196,\"bogey\")","v":0}]
[null,15,3,0,"  ",null,null,"Double bogey",{"$f":"COUNTIF(E188:E196,\"Double bogey\")","v":0}]
[null,16,5,0,"  ",null,null,"Other",{"$f":"COUNTIF(E188:E196,\"Other\")","v":0}]
[null,17,4,0,"  "]
[null,18,5,0,"  "]
[]
[null,{"$f":"CD4","v":"2025-08-08"}]
[null,{"$f":"CB7","v":1},4,0,{"$f":"IF(D199<>0,IF((D199-C199)=-1,\"Birdie\",IF((D199-C199)=-2,\"Eagle\",IF((D199-C199)=0,\"Par\",IF((D199-C199)=1,\"bogey\",IF((D199-C199)=2,\"Double bogey\",\"Other\"))))),\"  \")","v":"  "},null,null,"Count"]
[null,2,4,0,"  ",null,null,"Eagle",{"$f":"COUNTIF(E199:E207,\"Eagle\")","v":0}]
[null,3,4,0,"  ",null,null,"Birdie",{"$f":"COUNTIF(E199:E207,\"Birdie\")","v":0}]
[null,4,4,0,"  ",null,null,"Par",{"$f":"COUNTIF(E199:E207,\"Par\")","v":0}]
[null,5,3,0,"  ",null,null,"bogey",{"$f":"COUNTIF(E199:E207,\"bogey\")","v":0}]
[null,6,4,0,"  ",null,null,"Double bogey",{"$f":"COUNTIF(E199:E207,\"Double bogey\")","v":0}]
[null,7,4,0,"  ",null,null,"Other",{"$f":"COUNTIF(E199:E207,\"Other\")","v":0}]
[null,8,3,0,"  "]
[null,9,5,0,"  "]
[]
[null,{"$f":"CJ4","v":"2025-08-15"}]
[null,{"$f":"CH7","v":10},4,0,{"$f":"IF(D210<>0,IF((D210-C210)=-1,\"Birdie\",IF((D210-C210)=-2,\"Eagle\",IF((D210-C210)=0,\"Par\",IF((D210-C210)=1,\"bogey\",IF((D210-C210)=2,\"Double bogey\",\"Other\"))))),\"  \")","v":"  "},null,null,"Count"]
[null,11,4,0,"  ",null,null,"Eagle",{"$f":"COUNTIF(E210:E218,\"Eagle\")","v":0}]
[null,12,3,0,"  ",null,null,"Birdie",{"$f":"COUNTIF(E210:E218,\"Birdie\")","v":0}]
[null,13,4,0,"  ",null,null,"Par",{"$f":"COUNTIF(E210:E218,\"Par\")","v":0}]
[null,14,4,0,"  ",null,null,"bogey",{"$f":"COUNTIF(E210:E218,\"bogey\")","v":0}]
[null,15,3,0,"  ",null,null,"Double bogey",{"$f":"COUNTIF(E210:E218,\"Double bogey\")","v":0}]
[null,16,5,0,"  ",null,null,"Other",{"$f":"COUNTIF(E210:E218,\"Other\")","v":0}]
[null,17,4,0,"  "]
[null,18,5,0,"  "]

{"sheet":"Fusco_S","index":8,"n_rows":218,"n_cols":90,"rows_kept":218,"cut":false,"hidden":false,"merged":[]}
["Steve Fusco"]
[]
[]
[null,null,"Date:",{"$f":"VLOOKUP(C5,Week,2)","v":"2025-04-25"},null,null,null,null,"Date:",{"$f":"VLOOKUP(I5,Week,2)","v":"2025-05-02"},null,null,null,null,"Date:",{"$f":"VLOOKUP(O5,Week,2)","v":"2025-05-09"},null,null,null,null,"Date:",{"$f":"VLOOKUP(U5,Week,2)","v":"2025-05-16"},null,null,null,null,"Date:",{"$f":"VLOOKUP(AA5,Week,2)","v":"2025-05-23"},null,null,null,null,"Date:",{"$f":"VLOOKUP(AG5,Week,2)","v":"2025-05-30"},null,null,null,null,"Date:",{"$f":"VLOOKUP(AM5,Week,2)","v":"2025-06-06"},null,null,null,null,"Date:",{"$f":"VLOOKUP(AS5,Week,2)","v":"2025-06-13"},null,null,null,null,"Date:",{"$f":"VLOOKUP(AY5,Week,2)","v":"2025-06-27"},null,null,null,null,"Date:",{"$f":"VLOOKUP(BE5,Week,2)","v":"2025-07-04"},null,null,null,null,"Date:",{"$f":"VLOOKUP(BK5,Week,2)","v":"2025-07-18"},null,null,null,null,"Date:",{"$f":"VLOOKUP(BQ5,Week,2)","v":"2025-07-25"},null,null,null,null,"Date:",{"$f":"VLOOKUP(BW5,Week,2)","v":"2025-08-01"},null,null,null,null,"Date:",{"$f":"VLOOKUP(CC5,Week,2)","v":"2025-08-08"},null,null,null,null,"Date:",{"$f":"VLOOKUP(CI5,Week,2)","v":"2025-08-15"}]
[null,"Week",1,null,null,null,null,"Week",2,null,null,null,null,"Week",3,null,null,null,null,"Week",4,null,null,null,null,"Week",5,null,null,null,null,"Week",6,null,null,null,null,"Week",7,null,null,null,null,"Week",8,null,null,null,null,"Week",9,null,null,null,null,"Week",10,null,null,null,null,"Week",11,null,null,null,null,"Week",12,null,null,null,null,"Week",13,null,null,null,null,"Week",14,null,null,null,null,"Week",15]
[null,"Hole #","Par","Score","Net","Win Hole",null,"Hole #","Par","Score","Net","Win Hole",null,"Hole #","Par","Score","Net","Win Hole",null,"Hole #","Par","Score","Net","Win Hole",null,"Hole #","Par","Score","Net","Win Hole",null,"Hole #","Par","Score","Net","Win Hole",null,"Hole #","Par","Score","Net","Win Hole",null,"Hole #","Par","Score","Net","Win Hole",null,"Hole #","Par","Score","Net","Win Hole",null,"Hole #","Par","Score","Net","Win Hole",null,"Hole #","Par","Score","Net","Win Hole",null,"Hole #","Par","Score","Net","Win Hole",null,"Hole #","Par","Score","Net","Win Hole",null,"Hole #","Par","Score","Net","Win Hole",null,"Hole #","Par","Score","Net","Win Hole"]
[null,{"$f":"VLOOKUP(C5,Week,6)","v":1},{"$f":"VLOOKUP(B7,Holes,2)","v":4},null,{"$f":"IF((D7-C7)>3,C7+3,D7)","v":0},null,null,{"$f":"VLOOKUP(I5,Week,6)","v":10},{"$f":"VLOOKUP(H7,Holes,2)","v":4},null,{"$f":"IF((J7-I7)>3,I7+3,J7)","v":0},null,null,{"$f":"VLOOKUP(O5,Week,6)","v":1},{"$f":"VLOOKUP(N7,Holes,2)","v":4},null,{"$f":"IF((P7-O7)>3,O7+3,P7)","v":0},null,null,{"$f":"VLOOKUP(U5,Week,6)","v":10},{"$f":"VLOOKUP(T7,Holes,2)","v":4},null,{"$f":"IF((V7-U7)>3,U7+3,V7)","v":0},null,null,{"$f":"VLOOKUP(AA5,Week,6)","v":1},{"$f":"VLOOKUP(Z7,Holes,2)","v":4},null,{"$f":"IF((AB7-AA7)>3,AA7+3,AB7)","v":0},null,null,{"$f":"VLOOKUP(AG5,Week,6)","v":10},{"$f":"VLOOKUP(AF7,Holes,2)","v":4},null,{"$f":"IF((AH7-AG7)>3,AG7+3,AH7)","v":0},null,null,{"$f":"VLOOKUP(AM5,Week,6)","v":1},{"$f":"VLOOKUP(AL7,Holes,2)","v":4},null,{"$f":"IF((AN7-AM7)>3,AM7+3,AN7)","v":0},null,null,{"$f":"VLOOKUP(AS5,Week,6)","v":10},{"$f":"VLOOKUP(AR7,Holes,2)","v":4},null,{"$f":"IF((AT7-AS7)>3,AS7+3,AT7)","v":0},null,null,{"$f":"VLOOKUP(AY5,Week,6)","v":10},{"$f":"VLOOKUP(AX7,Holes,2)","v":4},null,{"$f":"IF((AZ7-AY7)>3,AY7+3,AZ7)","v":0},null,null,{"$f":"VLOOKUP(BE5,Week,6)","v":10},{"$f":"VLOOKUP(BD7,Holes,2)","v":4},null,{"$f":"IF((BF7-BE7)>3,BE7+3,BF7)","v":0},null,null,{"$f":"VLOOKUP(BK5,Week,6)","v":10},{"$f":"VLOOKUP(BJ7,Holes,2)","v":4},null,{"$f":"IF((BL7-BK7)>3,BK7+3,BL7)","v":0},null,null,{"$f":"VLOOKUP(BQ5,Week,6)","v":1},{"$f":"VLOOKUP(BP7,Holes,2)","v":4},null,{"$f":"IF((BR7-BQ7)>3,BQ7+3,BR7)","v":0},null,null,{"$f":"VLOOKUP(BW5,Week,6)","v":10},{"$f":"VLOOKUP(BV7,Holes,2)","v":4},null,{"$f":"IF((BX7-BW7)>3,BW7+3,BX7)","v":0},null,null,{"$f":"VLOOKUP(CC5,Week,6)","v":1},{"$f":"VLOOKUP(CB7,Holes,2)","v":4},null,{"$f":"IF((CD7-CC7)>3,CC7+3,CD7)","v":0},null,null,{"$f":"VLOOKUP(CI5,Week,6)","v":10},{"$f":"VLOOKUP(CH7,Holes,2)","v":4},null,{"$f":"IF((CJ7-CI7)>3,CI7+3,CJ7)","v":0}]
[null,{"$f":"+B7+1","v":2},4,null,0,null,null,{"$f":"+H7+1","v":11},4,null,0,null,null,{"$f":"+N7+1","v":2},4,null,0,null,null,{"$f":"+T7+1","v":11},4,null,0,null,null,{"$f":"+Z7+1","v":2},4,null,0,null,null,{"$f":"+AF7+1","v":11},4,null,0,null,null,{"$f":"+AL7+1","v":2},4,null,0,null,null,{"$f":"+AR7+1","v":11},4,null,0,null,null,{"$f":"+AX7+1","v":11},4,null,0,null,null,{"$f":"+BD7+1","v":11},4,null,0,null,null,{"$f":"+BJ7+1","v":11},4,null,0,null,null,{"$f":"+BP7+1","v":2},4,null,0,null,null,{"$f":"+BV7+1","v":11},4,null,0,null,null,{"$f":"+CB7+1","v":2},4,null,0,null,null,{"$f":"+CH7+1","v":11},4,null,0]
[null,3,4,null,0,null,null,12,3,null,0,null,null,3,4,null,0,null,null,12,3,null,0,null,null,3,4,null,0,null,null,12,3,null,0,null,null,3,4,null,0,null,null,12,3,null,0,null,null,12,3,null,0,null,null,12,3,null,0,null,null,12,3,null,0,null,null,3,4,null,0,null,null,12,3,null,0,null,null,3,4,null,0,null,null,12,3,null,0]
[null,4,4,null,0,null,null,13,4,null,0,null,null,4,4,null,0,null,null,13,4,null,0,null,null,4,4,null,0,null,null,13,4,null,0,null,null,4,4,null,0,null,null,13,4,null,0,null,null,13,4,null,0,null,null,13,4,null,0,null,null,13,4,null,0,null,null,4,4,null,0,null,null,13,4,null,0,null,null,4,4,null,0,null,null,13,4,null,0]
[null,5,3,null,0,null,null,14,4,null,0,null,null,5,3,null,0,null,null,14,4,null,0,null,null,5,3,null,0,null,null,14,4,null,0,null,null,5,3,null,0,null,null,14,4,null,0,null,null,14,4,null,0,null,null,14,4,null,0,null,null,14,4,null,0,null,null,5,3,null,0,null,null,14,4,null,0,null,null,5,3,null,0,null,null,14,4,null,0]
[null,6,4,null,0,null,null,15,3,null,0,null,null,6,4,null,0,null,null,15,3,null,0,null,null,6,4,null,0,null,null,15,3,null,0,null,null,6,4,null,0,null,null,15,3,null,0,null,null,15,3,null,0,null,null,15,3,null,0,null,null,15,3,null,0,null,null,6,4,null,0,null,null,15,3,null,0,null,null,6,4,null,0,null,null,15,3,null,0]
[null,7,4,null,0,null,null,16,5,null,0,null,null,7,4,null,0,null,null,16,5,null,0,null,null,7,4,null,0,null,null,16,5,null,0,null,null,7,4,null,0,null,null,16,5,null,0,null,null,16,5,null,0,null,null,16,5,null,0,null,null,16,5,null,0,null,null,7,4,null,0,null,null,16,5,null,0,null,null,7,4,null,0,null,null,16,5,null,0]
[null,8,3,null,0,null,null,17,4,null,0,null,null,8,3,null,0,null,null,17,4,null,0,null,null,8,3,null,0,null,null,17,4,null,0,null,null,8,3,null,0,null,null,17,4,null,0,null,null,17,4,null,0,null,null,17,4,null,0,null,null,17,4,null,0,null,null,8,3,null,0,null,null,17,4,null,0,null,null,8,3,null,0,null,null,17,4,null,0]
[null,9,5,null,0,null,null,18,5,null,0,null,null,9,5,null,0,null,null,18,5,null,0,null,null,9,5,null,0,null,null,18,5,null,0,null,null,9,5,null,0,null,null,18,5,null,0,null,null,18,5,null,0,null,null,18,5,null,0,null,null,18,5,null,0,null,null,9,5,null,0,null,null,18,5,null,0,null,null,9,5,null,0,null,null,18,5,null,0]
[null,"Total",{"$f":"SUM(C7:C15)","v":35},{"$f":"SUM(D7:D15)","v":0},{"$f":"SUM(E7:E15)","v":0},{"$f":"SUM(F7:F15)","v":0},null,"Total",{"$f":"SUM(I7:I15)","v":36},{"$f":"SUM(J7:J15)","v":0},{"$f":"SUM(K7:K15)","v":0},{"$f":"SUM(L7:L15)","v":0},null,"Total",{"$f":"SUM(O7:O15)","v":35},{"$f":"SUM(P7:P15)","v":0},{"$f":"SUM(Q7:Q15)","v":0},{"$f":"SUM(R7:R15)","v":0},null,"Total",{"$f":"SUM(U7:U15)","v":36},{"$f":"SUM(V7:V15)","v":0},{"$f":"SUM(W7:W15)","v":0},{"$f":"SUM(X7:X15)","v":0},null,"Total",{"$f":"SUM(AA7:AA15)","v":35},{"$f":"SUM(AB7:AB15)","v":0},{"$f":"SUM(AC7:AC15)","v":0},{"$f":"SUM(AD7:AD15)","v":0},null,"Total",{"$f":"SUM(AG7:AG15)","v":36},{"$f":"SUM(AH7:AH15)","v":0},{"$f":"SUM(AI7:AI15)","v":0},{"$f":"SUM(AJ7:AJ15)","v":0},null,"Total",{"$f":"SUM(AM7:AM15)","v":35},{"$f":"SUM(AN7:AN15)","v":0},{"$f":"SUM(AO7:AO15)","v":0},{"$f":"SUM(AP7:AP15)","v":0},null,"Total",{"$f":"SUM(AS7:AS15)","v":36},{"$f":"SUM(AT7:AT15)","v":0},{"$f":"SUM(AU7:AU15)","v":0},{"$f":"SUM(AV7:AV15)","v":0},null,"Total",{"$f":"SUM(AY7:AY15)","v":36},{"$f":"SUM(AZ7:AZ15)","v":0},{"$f":"SUM(BA7:BA15)","v":0},{"$f":"SUM(BB7:BB15)","v":0},null,"Total",{"$f":"SUM(BE7:BE15)","v":36},{"$f":"SUM(BF7:BF15)","v":0},{"$f":"SUM(BG7:BG15)","v":0},{"$f":"SUM(BH7:BH15)","v":0},null,"Total",{"$f":"SUM(BK7:BK15)","v":36},{"$f":"SUM(BL7:BL15)","v":0},{"$f":"SUM(BM7:BM15)","v":0},{"$f":"SUM(BN7:BN15)","v":0},null,"Total",{"$f":"SUM(BQ7:BQ15)","v":35},{"$f":"SUM(BR7:BR15)","v":0},{"$f":"SUM(BS7:BS15)","v":0},{"$f":"SUM(BT7:BT15)","v":0},null,"Total",{"$f":"SUM(BW7:BW15)","v":36},{"$f":"SUM(BX7:BX15)","v":0},{"$f":"SUM(BY7:BY15)","v":0},{"$f":"SUM(BZ7:BZ15)","v":0},null,"Total",{"$f":"SUM(CC7:CC15)","v":35},{"$f":"SUM(CD7:CD15)","v":0},{"$f":"SUM(CE7:CE15)","v":0},{"$f":"SUM(CF7:CF15)","v":0},null,"Total",{"$f":"SUM(CI7:CI15)","v":36},{"$f":"SUM(CJ7:CJ15)","v":0},{"$f":"SUM(CK7:CK15)","v":0},{"$f":"SUM(CL7:CL15)","v":0}]
[]
[null,null,null,null,"Low Net",null,null,null,null,null,"Low Net",null,null,null,null,null,"Low Net",null,null,null,null,null,"Low Net",null,null,null,null,null,"Low Net",null,null,null,null,null,"Low Net",null,null,null,null,null,"Low Net",null,null,null,null,null,"Low Net",null,null,null,null,null,"Low Net",null,null,null,null,null,"Low Net",null,null,null,null,null,"Low Net",null,null,null,null,null,"Low Net",null,null,null,null,null,"Low Net",null,null,null,null,null,"Low Net",null,null,null,null,null,"Low Net"]
[]
[null,null,null,null,"Total Points",{"$f":"SUM(F16:F19)","v":0},null,null,null,null,"Total Points",{"$f":"SUM(L16:L19)","v":0},null,null,null,null,"Total Points",{"$f":"SUM(R16:R19)","v":0},null,null,null,null,"Total Points",{"$f":"SUM(X16:X19)","v":0},null,null,null,null,"Total Points",{"$f":"SUM(AD16:AD19)","v":0},null,null,null,null,"Total Points",{"$f":"SUM(AJ16:AJ19)","v":0},null,null,null,null,"Total Points",{"$f":"SUM(AP16:AP19)","v":0},null,null,null,null,"Total Points",{"$f":"SUM(AV16:AV19)","v":0},null,null,null,null,"Total Points",{"$f":"SUM(BB16:BB19)","v":0},null,null,null,null,"Total Points",{"$f":"SUM(BH16:BH19)","v":0},null,null,null,null,"Total Points",{"$f":"SUM(BN16:BN19)","v":0},null,null,null,null,"Total Points",{"$f":"SUM(BT16:BT19)","v":0},null,null,null,null,"Total Points",{"$f":"SUM(BZ16:BZ19)","v":0},null,null,null,null,"Total Points",{"$f":"SUM(CF16:CF19)","v":0},null,null,null,null,"Total Points",{"$f":"SUM(CL16:CL19)","v":0}]
[]
[null,null,null,null,"Handicap",{"$f":"IF(D16=0,0,E16-C16)","v":0},null,null,null,null,"Handicap",{"$f":"IF(J16=0,0,K16-I16)","v":0},null,null,null,null,"Handicap",{"$f":"IF(P16=0,0,Q16-O16)","v":0},null,null,null,null,"Handicap",{"$f":"IF(V16=0,0,W16-U16)","v":0},null,null,null,null,"Handicap",{"$f":"IF(AB16=0,0,AC16-AA16)","v":0},null,null,null,null,"Handicap",{"$f":"IF(AH16=0,0,AI16-AG16)","v":0},null,null,null,null,"Handicap",{"$f":"IF(AN16=0,0,AO16-AM16)","v":0},null,null,null,null,"Handicap",{"$f":"IF(AT16=0,0,AU16-AS16)","v":0},null,null,null,null,"Handicap",{"$f":"IF(AZ16=0,0,BA16-AY16)","v":0},null,null,null,null,"Handicap",{"$f":"IF(BF16=0,0,BG16-BE16)","v":0},null,null,null,null,"Handicap",{"$f":"IF(BL16=0,0,BM16-BK16)","v":0},null,null,null,null,"Handicap",{"$f":"IF(BR16=0,0,BS16-BQ16)","v":0},null,null,null,null,"Handicap",{"$f":"IF(BX16=0,0,BY16-BW16)","v":0},null,null,null,null,"Handicap",{"$f":"IF(CD16=0,0,CE16-CC16)","v":0},null,null,null,null,"Handicap",{"$f":"IF(CJ16=0,0,CK16-CI16)","v":0}]
[]
[null,null,null,null,null,{"$f":"IF(D16<>0,IF(F16>4.5,\"W\",IF(F16=4.5,\"T\",IF(F16<4.5,\"L\"))),0)","v":0},null,null,null,null,null,{"$f":"IF(J16<>0,IF(L16>4.5,\"W\",IF(L16=4.5,\"T\",IF(L16<4.5,\"L\"))),0)","v":0},null,null,null,null,null,{"$f":"IF(P16<>0,IF(R16>4.5,\"W\",IF(R16=4.5,\"T\",IF(R16<4.5,\"L\"))),0)","v":0},null,null,null,null,null,{"$f":"IF(V16<>0,IF(X16>4.5,\"W\",IF(X16=4.5,\"T\",IF(X16<4.5,\"L\"))),0)","v":0},null,null,null,null,null,{"$f":"IF(AB16<>0,IF(AD16>4.5,\"W\",IF(AD16=4.5,\"T\",IF(AD16<4.5,\"L\"))),0)","v":0},null,null,null,null,null,{"$f":"IF(AH16<>0,IF(AJ16>4.5,\"W\",IF(AJ16=4.5,\"T\",IF(AJ16<4.5,\"L\"))),0)","v":0},null,null,null,null,null,{"$f":"IF(AN16<>0,IF(AP16>4.5,\"W\",IF(AP16=4.5,\"T\",IF(AP16<4.5,\"L\"))),0)","v":0},null,null,null,null,null,{"$f":"IF(AT16<>0,IF(AV16>4.5,\"W\",IF(AV16=4.5,\"T\",IF(AV16<4.5,\"L\"))),0)","v":0},null,null,null,null,null,{"$f":"IF(AZ16<>0,IF(BB16>4.5,\"W\",IF(BB16=4.5,\"T\",IF(BB16<4.5,\"L\"))),0)","v":0},null,null,null,null,null,{"$f":"IF(BF16<>0,IF(BH16>4.5,\"W\",IF(BH16=4.5,\"T\",IF(BH16<4.5,\"L\"))),0)","v":0},null,null,null,null,null,{"$f":"IF(BL16<>0,IF(BN16>4.5,\"W\",IF(BN16=4.5,\"T\",IF(BN16<4.5,\"L\"))),0)","v":0},null,null,null,null,null,{"$f":"IF(BR16<>0,IF(BT16>4.5,\"W\",IF(BT16=4.5,\"T\",IF(BT16<4.5,\"L\"))),0)","v":0},null,null,null,null,null,{"$f":"IF(BX16<>0,IF(BZ16>4.5,\"W\",IF(BZ16=4.5,\"T\",IF(BZ16<4.5,\"L\"))),0)","v":0},null,null,null,null,null,{"$f":"IF(CD16<>0,IF(CF16>4.5,\"W\",IF(CF16=4.5,\"T\",IF(CF16<4.5,\"L\"))),0)","v":0},null,null,null,null,null,{"$f":"IF(CJ16<>0,IF(CL16>4.5,\"W\",IF(CL16=4.5,\"T\",IF(CL16<4.5,\"L\"))),0)","v":0}]
[]
[null,"Summary"]
[null,null,null,"Adj",null,"Adj",null,null,null,"Avg Score"]
[null,null,"Points","Points","Matches","Matches",null,null,"Hole #","by Hole","Best","Worst"]
[null,"Week #1",{"$f":"F20","v":0},{"$f":"C29","v":0},{"$f":"IF(D16>0,1,0)","v":0},{"$f":"E29","v":0},null,null,1,{"$f":"IFERROR(AVERAGE(D7),0)","v":0},{"$f":"IFERROR(MIN(J7,V7,AH7,AT7,BF7,BR7,BX7,CJ7),0)","v":0},{"$f":"IFERROR(MAX(J7,V7,AH7,AT7,BF7,BR7,BX7,CJ7),0)","v":0}]
[null,"Week #2",{"$f":"L20","v":0},0,{"$f":"IF(J16>0,1,0)","v":0},0,null,null,2,{"$f":"IFERROR(AVERAGE(D8),0)","v":0},{"$f":"IFERROR(MIN(J8,V8,AH8,AT8,BF8,BR8,BX8,CJ8),0)","v":0},{"$f":"IFERROR(MAX(J8,V8,AH8,AT8,BF8,BR8,BX8,CJ8),0)","v":0}]
[null,"Week #3",{"$f":"R20","v":0},0,{"$f":"IF(P16>0,1,0)","v":0},0,null,null,3,0,0,0]
[null,"Week #4",{"$f":"X20","v":0},0,{"$f":"IF(V16>0,1,0)","v":0},0,null,null,4,0,0,0]
[null,"Week #5",{"$f":"AD20","v":0},0,{"$f":"IF(AB16>0,1,0)","v":0},0,null,null,5,0,0,0]
[null,"Week #6",{"$f":"AJ20","v":0},0,{"$f":"IF(AH16>0,1,0)","v":0},0,null,null,6,0,0,0]
[null,"Week #7",{"$f":"AP20","v":0},0,{"$f":"IF(AN16>0,1,0)","v":0},0,null,null,7,0,0,0]
[null,"Week #8",{"$f":"AV20","v":0},0,{"$f":"IF(AT16>0,1,0)","v":0},0,null,null,8,0,0,0]
[null,"Week #9",{"$f":"BB20","v":0},0,{"$f":"IF(AZ16>0,1,0)","v":0},0,null,null,9,0,0,0]
[null,"Week #10",{"$f":"BH20","v":0},0,{"$f":"IF(BF16>0,1,0)","v":0},0,null,null,"Front",{"$f":"SUM(J29:J37)","v":0},{"$f":"SUM(K29:K37)","v":0},0]
[null,"Week #11",{"$f":"BN20","v":0},0,{"$f":"IF(BL16>0,1,0)","v":0},0]
[null,"Week #12",{"$f":"BT20","v":0},0,{"$f":"IF(BR16>0,1,0)","v":0},0,null,null,10,{"$f":"IFERROR(AVERAGE(J7),0)","v":0},{"$f":"IFERROR(MIN(D7,P7,AB7,AN7,AZ7,BL7,CD7),0)","v":0},{"$f":"IFERROR(MAX(D7,P7,AB7,AN7,AZ7,BL7,CD7),0)","v":0}]
[null,"Week #13",{"$f":"BZ20","v":0},0,{"$f":"IF(BX16>0,1,0)","v":0},0,null,null,11,{"$f":"IFERROR(AVERAGE(J8),0)","v":0},{"$f":"IFERROR(MIN(D8,P8,AB8,AN8,AZ8,BL8,CD8),0)","v":0},{"$f":"IFERROR(MAX(D8,P8,AB8,AN8,AZ8,BL8,CD8),0)","v":0}]
[null,"Week #14",{"$f":"CF20","v":0},0,{"$f":"IF(CD16>0,1,0)","v":0},0,null,null,12,0,0,0]
[null,"Week #15",{"$f":"CL20","v":0},0,{"$f":"IF(CJ16>0,1,0)","v":0},0,null,null,13,0,0,0]
[null,"Total",{"$f":"SUM(C29:C43)","v":0},{"$f":"SUM(D29:D43)","v":0},{"$f":"SUM(E29:E43)","v":0},{"$f":"SUM(F29:F43)","v":0},null,null,14,0,0,0]
[null,null,null,null,null,null,null,null,15,0,0,0]
[null,"Summary",null,null,null,null,null,null,16,0,0,0]
[null,"Eagles",{"$f":"I57+I68+I79+I90+I101+I112+I123+I134+I145+I156+I167+I178+I189+I200+I211","v":0},null,null,null,null,null,17,0,0,0]
[null,"Birdies",0,null,null,null,null,null,18,0,0,0]
[null,"Pars",0,null,null,null,null,null,"Back",{"$f":"SUM(J40:J48)","v":0},{"$f":"SUM(K40:K48)","v":0},0]
[null,"bogeys",0]
[null,"Double bogeys",0]
[null,"Other",0]
[null,"Total",{"$f":"SUM(C47:C52)","v":0}]
[]
[null,{"$f":"D4","v":"2025-04-25"},"Par","Score"]
[null,{"$f":"B7","v":1},4,0,{"$f":"IF(D56<>0,IF((D56-C56)=-1,\"Birdie\",IF((D56-C56)=-2,\"Eagle\",IF((D56-C56)=0,\"Par\",IF((D56-C56)=1,\"bogey\",IF((D56-C56)=2,\"Double bogey\",\"Other\"))))),\"  \")","v":"  "},null,null,"Count"]
[null,2,4,0,"  ",null,null,"Eagle",{"$f":"COUNTIF(E56:E64,\"Eagle\")","v":0}]
[null,3,4,0,"  ",null,null,"Birdie",{"$f":"COUNTIF(E56:E64,\"Birdie\")","v":0}]
[null,4,4,0,"  ",null,null,"Par",{"$f":"COUNTIF(E56:E64,\"Par\")","v":0}]
[null,5,3,0,"  ",null,null,"bogey",{"$f":"COUNTIF(E56:E64,\"bogey\")","v":0}]
[null,6,4,0,"  ",null,null,"Double bogey",{"$f":"COUNTIF(E56:E64,\"Double bogey\")","v":0}]
[null,7,4,0,"  ",null,null,"Other",{"$f":"COUNTIF(E56:E64,\"Other\")","v":0}]
[null,8,3,0,"  "]
[null,9,5,0,"  "]
[]
[null,{"$f":"J4","v":"2025-05-02"}]
[null,{"$f":"H7","v":10},4,0,{"$f":"IF(D67<>0,IF((D67-C67)=-1,\"Birdie\",IF((D67-C67)=-2,\"Eagle\",IF((D67-C67)=0,\"Par\",IF((D67-C67)=1,\"bogey\",IF((D67-C67)=2,\"Double bogey\",\"Other\"))))),\"  \")","v":"  "},null,null,"Count"]
[null,11,4,0,"  ",null,null,"Eagle",{"$f":"COUNTIF(E67:E75,\"Eagle\")","v":0}]
[null,12,3,0,"  ",null,null,"Birdie",{"$f":"COUNTIF(E67:E75,\"Birdie\")","v":0}]
[null,13,4,0,"  ",null,null,"Par",{"$f":"COUNTIF(E67:E75,\"Par\")","v":0}]
[null,14,4,0,"  ",null,null,"bogey",{"$f":"COUNTIF(E67:E75,\"bogey\")","v":0}]
[null,15,3,0,"  ",null,null,"Double bogey",{"$f":"COUNTIF(E67:E75,\"Double bogey\")","v":0}]
[null,16,5,0,"  ",null,null,"Other",{"$f":"COUNTIF(E67:E75,\"Other\")","v":0}]
[null,17,4,0,"  "]
[null,18,5,0,"  "]
[]
[null,{"$f":"P4","v":"2025-05-09"}]
[null,{"$f":"N7","v":1},4,0,{"$f":"IF(D78<>0,IF((D78-C78)=-1,\"Birdie\",IF((D78-C78)=-2,\"Eagle\",IF((D78-C78)=0,\"Par\",IF((D78-C78)=1,\"bogey\",IF((D78-C78)=2,\"Double bogey\",\"Other\"))))),\"  \")","v":"  "},null,null,"Count"]
[null,2,4,0,"  ",null,null,"Eagle",{"$f":"COUNTIF(E78:E86,\"Eagle\")","v":0}]
[null,3,4,0,"  ",null,null,"Birdie",{"$f":"COUNTIF(E78:E86,\"Birdie\")","v":0}]
[null,4,4,0,"  ",null,null,"Par",{"$f":"COUNTIF(E78:E86,\"Par\")","v":0}]
[null,5,3,0,"  ",null,null,"bogey",{"$f":"COUNTIF(E78:E86,\"bogey\")","v":0}]
[null,6,4,0,"  ",null,null,"Double bogey",{"$f":"COUNTIF(E78:E86,\"Double bogey\")","v":0}]
[null,7,4,0,"  ",null,null,"Other",{"$f":"COUNTIF(E78:E86,\"Other\")","v":0}]
[null,8,3,0,"  "]
[null,9,5,0,"  "]
[]
[null,{"$f":"V4","v":"2025-05-16"}]
[null,{"$f":"T7","v":10},4,0,{"$f":"IF(D89<>0,IF((D89-C89)=-1,\"Birdie\",IF((D89-C89)=-2,\"Eagle\",IF((D89-C89)=0,\"Par\",IF((D89-C89)=1,\"bogey\",IF((D89-C89)=2,\"Double bogey\",\"Other\"))))),\"  \")","v":"  "},null,null,"Count"]
[null,11,4,0,"  ",null,null,"Eagle",{"$f":"COUNTIF(E89:E97,\"Eagle\")","v":0}]
[null,12,3,0,"  ",null,null,"Birdie",{"$f":"COUNTIF(E89:E97,\"Birdie\")","v":0}]
[null,13,4,0,"  ",null,null,"Par",{"$f":"COUNTIF(E89:E97,\"Par\")","v":0}]
[null,14,4,0,"  ",null,null,"bogey",{"$f":"COUNTIF(E89:E97,\"bogey\")","v":0}]
[null,15,3,0,"  ",null,null,"Double bogey",{"$f":"COUNTIF(E89:E97,\"Double bogey\")","v":0}]
[null,16,5,0,"  ",null,null,"Other",{"$f":"COUNTIF(E89:E97,\"Other\")","v":0}]
[null,17,4,0,"  "]
[null,18,5,0,"  "]
[]
[null,{"$f":"AB4","v":"2025-05-23"}]
[null,{"$f":"Z7","v":1},4,0,{"$f":"IF(D100<>0,IF((D100-C100)=-1,\"Birdie\",IF((D100-C100)=-2,\"Eagle\",IF((D100-C100)=0,\"Par\",IF((D100-C100)=1,\"bogey\",IF((D100-C100)=2,\"Double bogey\",\"Other\"))))),\"  \")","v":"  "},null,null,"Count"]
[null,2,4,0,"  ",null,null,"Eagle",{"$f":"COUNTIF(E100:E108,\"Eagle\")","v":0}]
[null,3,4,0,"  ",null,null,"Birdie",{"$f":"COUNTIF(E100:E108,\"Birdie\")","v":0}]
[null,4,4,0,"  ",null,null,"Par",{"$f":"COUNTIF(E100:E108,\"Par\")","v":0}]
[null,5,3,0,"  ",null,null,"bogey",{"$f":"COUNTIF(E100:E108,\"bogey\")","v":0}]
[null,6,4,0,"  ",null,null,"Double bogey",{"$f":"COUNTIF(E100:E108,\"Double bogey\")","v":0}]
[null,7,4,0,"  ",null,null,"Other",{"$f":"COUNTIF(E100:E108,\"Other\")","v":0}]
[null,8,3,0,"  "]
[null,9,5,0,"  "]
[]
[null,{"$f":"AH4","v":"2025-05-30"}]
[null,{"$f":"AF7","v":10},4,0,{"$f":"IF(D111<>0,IF((D111-C111)=-1,\"Birdie\",IF((D111-C111)=-2,\"Eagle\",IF((D111-C111)=0,\"Par\",IF((D111-C111)=1,\"bogey\",IF((D111-C111)=2,\"Double bogey\",\"Other\"))))),\"  \")","v":"  "},null,null,"Count"]
[null,11,4,0,"  ",null,null,"Eagle",{"$f":"COUNTIF(E111:E119,\"Eagle\")","v":0}]
[null,12,3,0,"  ",null,null,"Birdie",{"$f":"COUNTIF(E111:E119,\"Birdie\")","v":0}]
[null,13,4,0,"  ",null,null,"Par",{"$f":"COUNTIF(E111:E119,\"Par\")","v":0}]
[null,14,4,0,"  ",null,null,"bogey",{"$f":"COUNTIF(E111:E119,\"bogey\")","v":0}]
[null,15,3,0,"  ",null,null,"Double bogey",{"$f":"COUNTIF(E111:E119,\"Double bogey\")","v":0}]
[null,16,5,0,"  ",null,null,"Other",{"$f":"COUNTIF(E111:E119,\"Other\")","v":0}]
[null,17,4,0,"  "]
[null,18,5,0,"  "]
[]
[null,{"$f":"AN4","v":"2025-06-06"}]
[null,{"$f":"AL7","v":1},4,0,{"$f":"IF(D122<>0,IF((D122-C122)=-1,\"Birdie\",IF((D122-C122)=-2,\"Eagle\",IF((D122-C122)=0,\"Par\",IF((D122-C122)=1,\"bogey\",IF((D122-C122)=2,\"Double bogey\",\"Other\"))))),\"  \")","v":"  "},null,null,"Count"]
[null,2,4,0,"  ",null,null,"Eagle",{"$f":"COUNTIF(E122:E130,\"Eagle\")","v":0}]
[null,3,4,0,"  ",null,null,"Birdie",{"$f":"COUNTIF(E122:E130,\"Birdie\")","v":0}]
[null,4,4,0,"  ",null,null,"Par",{"$f":"COUNTIF(E122:E130,\"Par\")","v":0}]
[null,5,3,0,"  ",null,null,"bogey",{"$f":"COUNTIF(E122:E130,\"bogey\")","v":0}]
[null,6,4,0,"  ",null,null,"Double bogey",{"$f":"COUNTIF(E122:E130,\"Double bogey\")","v":0}]
[null,7,4,0,"  ",null,null,"Other",{"$f":"COUNTIF(E122:E130,\"Other\")","v":0}]
[null,8,3,0,"  "]
[null,9,5,0,"  "]
[]
[null,{"$f":"AT4","v":"2025-06-13"}]
[null,{"$f":"AR7","v":10},4,0,{"$f":"IF(D133<>0,IF((D133-C133)=-1,\"Birdie\",IF((D133-C133)=-2,\"Eagle\",IF((D133-C133)=0,\"Par\",IF((D133-C133)=1,\"bogey\",IF((D133-C133)=2,\"Double bogey\",\"Other\"))))),\"  \")","v":"  "},null,null,"Count"]
[null,11,4,0,"  ",null,null,"Eagle",{"$f":"COUNTIF(E133:E141,\"Eagle\")","v":0}]
[null,12,3,0,"  ",null,null,"Birdie",{"$f":"COUNTIF(E133:E141,\"Birdie\")","v":0}]
[null,13,4,0,"  ",null,null,"Par",{"$f":"COUNTIF(E133:E141,\"Par\")","v":0}]
[null,14,4,0,"  ",null,null,"bogey",{"$f":"COUNTIF(E133:E141,\"bogey\")","v":0}]
[null,15,3,0,"  ",null,null,"Double bogey",{"$f":"COUNTIF(E133:E141,\"Double bogey\")","v":0}]
[null,16,5,0,"  ",null,null,"Other",{"$f":"COUNTIF(E133:E141,\"Other\")","v":0}]
[null,17,4,0,"  "]
[null,18,5,0,"  "]
[]
[null,{"$f":"AZ4","v":"2025-06-27"}]
[null,{"$f":"AX7","v":10},4,0,{"$f":"IF(D144<>0,IF((D144-C144)=-1,\"Birdie\",IF((D144-C144)=-2,\"Eagle\",IF((D144-C144)=0,\"Par\",IF((D144-C144)=1,\"bogey\",IF((D144-C144)=2,\"Double bogey\",\"Other\"))))),\"  \")","v":"  "},null,null,"Count"]
[null,11,4,0,"  ",null,null,"Eagle",{"$f":"COUNTIF(E144:E152,\"Eagle\")","v":0}]
[null,12,3,0,"  ",null,null,"Birdie",{"$f":"COUNTIF(E144:E152,\"Birdie\")","v":0}]
[null,13,4,0,"  ",null,null,"Par",{"$f":"COUNTIF(E144:E152,\"Par\")","v":0}]
[null,14,4,0,"  ",null,null,"bogey",{"$f":"COUNTIF(E144:E152,\"bogey\")","v":0}]
[null,15,3,0,"  ",null,null,"Double bogey",{"$f":"COUNTIF(E144:E152,\"Double bogey\")","v":0}]
[null,16,5,0,"  ",null,null,"Other",{"$f":"COUNTIF(E144:E152,\"Other\")","v":0}]
[null,17,4,0,"  "]
[null,18,5,0,"  "]
[]
[null,{"$f":"BF4","v":"2025-07-04"}]
[null,{"$f":"BD7","v":10},4,0,{"$f":"IF(D155<>0,IF((D155-C155)=-1,\"Birdie\",IF((D155-C155)=-2,\"Eagle\",IF((D155-C155)=0,\"Par\",IF((D155-C155)=1,\"bogey\",IF((D155-C155)=2,\"Double bogey\",\"Other\"))))),\"  \")","v":"  "},null,null,"Count"]
[null,11,4,0,"  ",null,null,"Eagle",{"$f":"COUNTIF(E155:E163,\"Eagle\")","v":0}]
[null,12,3,0,"  ",null,null,"Birdie",{"$f":"COUNTIF(E155:E163,\"Birdie\")","v":0}]
[null,13,4,0,"  ",null,null,"Par",{"$f":"COUNTIF(E155:E163,\"Par\")","v":0}]
[null,14,4,0,"  ",null,null,"bogey",{"$f":"COUNTIF(E155:E163,\"bogey\")","v":0}]
[null,15,3,0,"  ",null,null,"Double bogey",{"$f":"COUNTIF(E155:E163,\"Double bogey\")","v":0}]
[null,16,5,0,"  ",null,null,"Other",{"$f":"COUNTIF(E155:E163,\"Other\")","v":0}]
[null,17,4,0,"  "]
[null,18,5,0,"  "]
[]
[null,{"$f":"BL4","v":"2025-07-18"}]
[null,{"$f":"BJ7","v":10},4,0,{"$f":"IF(D166<>0,IF((D166-C166)=-1,\"Birdie\",IF((D166-C166)=-2,\"Eagle\",IF((D166-C166)=0,\"Par\",IF((D166-C166)=1,\"bogey\",IF((D166-C166)=2,\"Double bogey\",\"Other\"))))),\"  \")","v":"  "},null,null,"Count"]
[null,11,4,0,"  ",null,null,"Eagle",{"$f":"COUNTIF(E166:E174,\"Eagle\")","v":0}]
[null,12,3,0,"  ",null,null,"Birdie",{"$f":"COUNTIF(E166:E174,\"Birdie\")","v":0}]
[null,13,4,0,"  ",null,null,"Par",{"$f":"COUNTIF(E166:E174,\"Par\")","v":0}]
[null,14,4,0,"  ",null,null,"bogey",{"$f":"COUNTIF(E166:E174,\"bogey\")","v":0}]
[null,15,3,0,"  ",null,null,"Double bogey",{"$f":"COUNTIF(E166:E174,\"Double bogey\")","v":0}]
[null,16,5,0,"  ",null,null,"Other",{"$f":"COUNTIF(E166:E174,\"Other\")","v":0}]
[null,17,4,0,"  "]
[null,18,5,0,"  "]
[]
[null,{"$f":"BR4","v":"2025-07-25"}]
[null,{"$f":"BP7","v":1},4,0,{"$f":"IF(D177<>0,IF((D177-C177)=-1,\"Birdie\",IF((D177-C177)=-2,\"Eagle\",IF((D177-C177)=0,\"Par\",IF((D177-C177)=1,\"bogey\",IF((D177-C177)=2,\"Double bogey\",\"Other\"))))),\"  \")","v":"  "},null,null,"Count"]
[null,2,4,0,"  ",null,null,"Eagle",{"$f":"COUNTIF(E177:E185,\"Eagle\")","v":0}]
[null,3,4,0,"  ",null,null,"Birdie",{"$f":"COUNTIF(E177:E185,\"Birdie\")","v":0}]
[null,4,4,0,"  ",null,null,"Par",{"$f":"COUNTIF(E177:E185,\"Par\")","v":0}]
[null,5,3,0,"  ",null,null,"bogey",{"$f":"COUNTIF(E177:E185,\"bogey\")","v":0}]
[null,6,4,0,"  ",null,null,"Double bogey",{"$f":"COUNTIF(E177:E185,\"Double bogey\")","v":0}]
[null,7,4,0,"  ",null,null,"Other",{"$f":"COUNTIF(E177:E185,\"Other\")","v":0}]
[null,8,3,0,"  "]
[null,9,5,0,"  "]
[]
[null,{"$f":"BX4","v":"2025-08-01"}]
[null,{"$f":"BV7","v":10},4,0,{"$f":"IF(D188<>0,IF((D188-C188)=-1,\"Birdie\",IF((D188-C188)=-2,\"Eagle\",IF((D188-C188)=0,\"Par\",IF((D188-C188)=1,\"bogey\",IF((D188-C188)=2,\"Double bogey\",\"Other\"))))),\"  \")","v":"  "},null,null,"Count"]
[null,11,4,0,"  ",null,null,"Eagle",{"$f":"COUNTIF(E188:E196,\"Eagle\")","v":0}]
[null,12,3,0,"  ",null,null,"Birdie",{"$f":"COUNTIF(E188:E196,\"Birdie\")","v":0}]
[null,13,4,0,"  ",null,null,"Par",{"$f":"COUNTIF(E188:E196,\"Par\")","v":0}]
[null,14,4,0,"  ",null,null,"bogey",{"$f":"COUNTIF(E188:E196,\"bogey\")","v":0}]
[null,15,3,0,"  ",null,null,"Double bogey",{"$f":"COUNTIF(E188:E196,\"Double bogey\")","v":0}]
[null,16,5,0,"  ",null,null,"Other",{"$f":"COUNTIF(E188:E196,\"Other\")","v":0}]
[null,17,4,0,"  "]
[null,18,5,0,"  "]
[]
[null,{"$f":"CD4","v":"2025-08-08"}]
[null,{"$f":"CB7","v":1},4,0,{"$f":"IF(D199<>0,IF((D199-C199)=-1,\"Birdie\",IF((D199-C199)=-2,\"Eagle\",IF((D199-C199)=0,\"Par\",IF((D199-C199)=1,\"bogey\",IF((D199-C199)=2,\"Double bogey\",\"Other\"))))),\"  \")","v":"  "},null,null,"Count"]
[null,2,4,0,"  ",null,null,"Eagle",{"$f":"COUNTIF(E199:E207,\"Eagle\")","v":0}]
[null,3,4,0,"  ",null,null,"Birdie",{"$f":"COUNTIF(E199:E207,\"Birdie\")","v":0}]
[null,4,4,0,"  ",null,null,"Par",{"$f":"COUNTIF(E199:E207,\"Par\")","v":0}]
[null,5,3,0,"  ",null,null,"bogey",{"$f":"COUNTIF(E199:E207,\"bogey\")","v":0}]
[null,6,4,0,"  ",null,null,"Double bogey",{"$f":"COUNTIF(E199:E207,\"Double bogey\")","v":0}]
[null,7,4,0,"  ",null,null,"Other",{"$f":"COUNTIF(E199:E207,\"Other\")","v":0}]
[null,8,3,0,"  "]
[null,9,5,0,"  "]
[]
[null,{"$f":"CJ4","v":"2025-08-15"}]
[null,{"$f":"CH7","v":10},4,0,{"$f":"IF(D210<>0,IF((D210-C210)=-1,\"Birdie\",IF((D210-C210)=-2,\"Eagle\",IF((D210-C210)=0,\"Par\",IF((D210-C210)=1,\"bogey\",IF((D210-C210)=2,\"Double bogey\",\"Other\"))))),\"  \")","v":"  "},null,null,"Count"]
[null,11,4,0,"  ",null,null,"Eagle",{"$f":"COUNTIF(E210:E218,\"Eagle\")","v":0}]
[null,12,3,0,"  ",null,null,"Birdie",{"$f":"COUNTIF(E210:E218,\"Birdie\")","v":0}]
[null,13,4,0,"  ",null,null,"Par",{"$f":"COUNTIF(E210:E218,\"Par\")","v":0}]
[null,14,4,0,"  ",null,null,"bogey",{"$f":"COUNTIF(E210:E218,\"bogey\")","v":0}]
[null,15,3,0,"  ",null,null,"Double bogey",{"$f":"COUNTIF(E210:E218,\"Double bogey\")","v":0}]
[null,16,5,0,"  ",null,null,"Other",{"$f":"COUNTIF(E210:E218,\"Other\")","v":0}]
[null,17,4,0,"  "]
[null,18,5,0,"  "]

{"sheet":"Hobbs","index":9,"n_rows":218,"n_cols":90,"rows_kept":218,"cut":false,"hidden":false,"merged":[]}
["Tim Hobbs"]
[]
[]
[null,null,"Date:",{"$f":"VLOOKUP(C5,Week,2)","v":"2025-04-25"},null,null,null,null,"Date:",{"$f":"VLOOKUP(I5,Week,2)","v":"2025-05-02"},null,null,null,null,"Date:",{"$f":"VLOOKUP(O5,Week,2)","v":"2025-05-09"},null,null,null,null,"Date:",{"$f":"VLOOKUP(U5,Week,2)","v":"2025-05-16"},null,null,null,null,"Date:",{"$f":"VLOOKUP(AA5,Week,2)","v":"2025-05-23"},null,null,null,null,"Date:",{"$f":"VLOOKUP(AG5,Week,2)","v":"2025-05-30"},null,null,null,null,"Date:",{"$f":"VLOOKUP(AM5,Week,2)","v":"2025-06-06"},null,null,null,null,"Date:",{"$f":"VLOOKUP(AS5,Week,2)","v":"2025-06-13"},null,null,null,null,"Date:",{"$f":"VLOOKUP(AY5,Week,2)","v":"2025-06-27"},null,null,null,null,"Date:",{"$f":"VLOOKUP(BE5,Week,2)","v":"2025-07-04"},null,null,null,null,"Date:",{"$f":"VLOOKUP(BK5,Week,2)","v":"2025-07-18"},null,null,null,null,"Date:",{"$f":"VLOOKUP(BQ5,Week,2)","v":"2025-07-25"},null,null,null,null,"Date:",{"$f":"VLOOKUP(BW5,Week,2)","v":"2025-08-01"},null,null,null,null,"Date:",{"$f":"VLOOKUP(CC5,Week,2)","v":"2025-08-08"},null,null,null,null,"Date:",{"$f":"VLOOKUP(CI5,Week,2)","v":"2025-08-15"}]
[null,"Week",1,null,null,null,null,"Week",2,null,null,null,null,"Week",3,null,null,null,null,"Week",4,null,null,null,null,"Week",5,null,null,null,null,"Week",6,null,null,null,null,"Week",7,null,null,null,null,"Week",8,null,null,null,null,"Week",9,null,null,null,null,"Week",10,null,null,null,null,"Week",11,null,null,null,null,"Week",12,null,null,null,null,"Week",13,null,null,null,null,"Week",14,null,null,null,null,"Week",15]
[null,"Hole #","Par","Score","Net","Win Hole",null,"Hole #","Par","Score","Net","Win Hole",null,"Hole #","Par","Score","Net","Win Hole",null,"Hole #","Par","Score","Net","Win Hole",null,"Hole #","Par","Score","Net","Win Hole",null,"Hole #","Par","Score","Net","Win Hole",null,"Hole #","Par","Score","Net","Win Hole",null,"Hole #","Par","Score","Net","Win Hole",null,"Hole #","Par","Score","Net","Win Hole",null,"Hole #","Par","Score","Net","Win Hole",null,"Hole #","Par","Score","Net","Win Hole",null,"Hole #","Par","Score","Net","Win Hole",null,"Hole #","Par","Score","Net","Win Hole",null,"Hole #","Par","Score","Net","Win Hole",null,"Hole #","Par","Score","Net","Win Hole"]
[null,{"$f":"VLOOKUP(C5,Week,6)","v":1},{"$f":"VLOOKUP(B7,Holes,2)","v":4},null,{"$f":"IF((D7-C7)>3,C7+3,D7)","v":0},null,null,{"$f":"VLOOKUP(I5,Week,6)","v":10},{"$f":"VLOOKUP(H7,Holes,2)","v":4},null,{"$f":"IF((J7-I7)>3,I7+3,J7)","v":0},null,null,{"$f":"VLOOKUP(O5,Week,6)","v":1},{"$f":"VLOOKUP(N7,Holes,2)","v":4},null,{"$f":"IF((P7-O7)>3,O7+3,P7)","v":0},null,null,{"$f":"VLOOKUP(U5,Week,6)","v":10},{"$f":"VLOOKUP(T7,Holes,2)","v":4},null,{"$f":"IF((V7-U7)>3,U7+3,V7)","v":0},null,null,{"$f":"VLOOKUP(AA5,Week,6)","v":1},{"$f":"VLOOKUP(Z7,Holes,2)","v":4},null,{"$f":"IF((AB7-AA7)>3,AA7+3,AB7)","v":0},null,null,{"$f":"VLOOKUP(AG5,Week,6)","v":10},{"$f":"VLOOKUP(AF7,Holes,2)","v":4},null,{"$f":"IF((AH7-AG7)>3,AG7+3,AH7)","v":0},null,null,{"$f":"VLOOKUP(AM5,Week,6)","v":1},{"$f":"VLOOKUP(AL7,Holes,2)","v":4},null,{"$f":"IF((AN7-AM7)>3,AM7+3,AN7)","v":0},null,null,{"$f":"VLOOKUP(AS5,Week,6)","v":10},{"$f":"VLOOKUP(AR7,Holes,2)","v":4},null,{"$f":"IF((AT7-AS7)>3,AS7+3,AT7)","v":0},null,null,{"$f":"VLOOKUP(AY5,Week,6)","v":10},{"$f":"VLOOKUP(AX7,Holes,2)","v":4},null,{"$f":"IF((AZ7-AY7)>3,AY7+3,AZ7)","v":0},null,null,{"$f":"VLOOKUP(BE5,Week,6)","v":10},{"$f":"VLOOKUP(BD7,Holes,2)","v":4},null,{"$f":"IF((BF7-BE7)>3,BE7+3,BF7)","v":0},null,null,{"$f":"VLOOKUP(BK5,Week,6)","v":10},{"$f":"VLOOKUP(BJ7,Holes,2)","v":4},null,{"$f":"IF((BL7-BK7)>3,BK7+3,BL7)","v":0},null,null,{"$f":"VLOOKUP(BQ5,Week,6)","v":1},{"$f":"VLOOKUP(BP7,Holes,2)","v":4},null,{"$f":"IF((BR7-BQ7)>3,BQ7+3,BR7)","v":0},null,null,{"$f":"VLOOKUP(BW5,Week,6)","v":10},{"$f":"VLOOKUP(BV7,Holes,2)","v":4},null,{"$f":"IF((BX7-BW7)>3,BW7+3,BX7)","v":0},null,null,{"$f":"VLOOKUP(CC5,Week,6)","v":1},{"$f":"VLOOKUP(CB7,Holes,2)","v":4},null,{"$f":"IF((CD7-CC7)>3,CC7+3,CD7)","v":0},null,null,{"$f":"VLOOKUP(CI5,Week,6)","v":10},{"$f":"VLOOKUP(CH7,Holes,2)","v":4},null,{"$f":"IF((CJ7-CI7)>3,CI7+3,CJ7)","v":0}]
[null,{"$f":"+B7+1","v":2},4,null,0,null,null,{"$f":"+H7+1","v":11},4,null,0,null,null,{"$f":"+N7+1","v":2},4,null,0,null,null,{"$f":"+T7+1","v":11},4,null,0,null,null,{"$f":"+Z7+1","v":2},4,null,0,null,null,{"$f":"+AF7+1","v":11},4,null,0,null,null,{"$f":"+AL7+1","v":2},4,null,0,null,null,{"$f":"+AR7+1","v":11},4,null,0,null,null,{"$f":"+AX7+1","v":11},4,null,0,null,null,{"$f":"+BD7+1","v":11},4,null,0,null,null,{"$f":"+BJ7+1","v":11},4,null,0,null,null,{"$f":"+BP7+1","v":2},4,null,0,null,null,{"$f":"+BV7+1","v":11},4,null,0,null,null,{"$f":"+CB7+1","v":2},4,null,0,null,null,{"$f":"+CH7+1","v":11},4,null,0]
[null,3,4,null,0,null,null,12,3,null,0,null,null,3,4,null,0,null,null,12,3,null,0,null,null,3,4,null,0,null,null,12,3,null,0,null,null,3,4,null,0,null,null,12,3,null,0,null,null,12,3,null,0,null,null,12,3,null,0,null,null,12,3,null,0,null,null,3,4,null,0,null,null,12,3,null,0,null,null,3,4,null,0,null,null,12,3,null,0]
[null,4,4,null,0,null,null,13,4,null,0,null,null,4,4,null,0,null,null,13,4,null,0,null,null,4,4,null,0,null,null,13,4,null,0,null,null,4,4,null,0,null,null,13,4,null,0,null,null,13,4,null,0,null,null,13,4,null,0,null,null,13,4,null,0,null,null,4,4,null,0,null,null,13,4,null,0,null,null,4,4,null,0,null,null,13,4,null,0]
[null,5,3,null,0,null,null,14,4,null,0,null,null,5,3,null,0,null,null,14,4,null,0,null,null,5,3,null,0,null,null,14,4,null,0,null,null,5,3,null,0,null,null,14,4,null,0,null,null,14,4,null,0,null,null,14,4,null,0,null,null,14,4,null,0,null,null,5,3,null,0,null,null,14,4,null,0,null,null,5,3,null,0,null,null,14,4,null,0]
[null,6,4,null,0,null,null,15,3,null,0,null,null,6,4,null,0,null,null,15,3,null,0,null,null,6,4,null,0,null,null,15,3,null,0,null,null,6,4,null,0,null,null,15,3,null,0,null,null,15,3,null,0,null,null,15,3,null,0,null,null,15,3,null,0,null,null,6,4,null,0,null,null,15,3,null,0,null,null,6,4,null,0,null,null,15,3,null,0]
[null,7,4,null,0,null,null,16,5,null,0,null,null,7,4,null,0,null,null,16,5,null,0,null,null,7,4,null,0,null,null,16,5,null,0,null,null,7,4,null,0,null,null,16,5,null,0,null,null,16,5,null,0,null,null,16,5,null,0,null,null,16,5,null,0,null,null,7,4,null,0,null,null,16,5,null,0,null,null,7,4,null,0,null,null,16,5,null,0]
[null,8,3,null,0,null,null,17,4,null,0,null,null,8,3,null,0,null,null,17,4,null,0,null,null,8,3,null,0,null,null,17,4,null,0,null,null,8,3,null,0,null,null,17,4,null,0,null,null,17,4,null,0,null,null,17,4,null,0,null,null,17,4,null,0,null,null,8,3,null,0,null,null,17,4,null,0,null,null,8,3,null,0,null,null,17,4,null,0]
[null,9,5,null,0,null,null,18,5,null,0,null,null,9,5,null,0,null,null,18,5,null,0,null,null,9,5,null,0,null,null,18,5,null,0,null,null,9,5,null,0,null,null,18,5,null,0,null,null,18,5,null,0,null,null,18,5,null,0,null,null,18,5,null,0,null,null,9,5,null,0,null,null,18,5,null,0,null,null,9,5,null,0,null,null,18,5,null,0]
[null,"Total",{"$f":"SUM(C7:C15)","v":35},{"$f":"SUM(D7:D15)","v":0},{"$f":"SUM(E7:E15)","v":0},{"$f":"SUM(F7:F15)","v":0},null,"Total",{"$f":"SUM(I7:I15)","v":36},{"$f":"SUM(J7:J15)","v":0},{"$f":"SUM(K7:K15)","v":0},{"$f":"SUM(L7:L15)","v":0},null,"Total",{"$f":"SUM(O7:O15)","v":35},{"$f":"SUM(P7:P15)","v":0},{"$f":"SUM(Q7:Q15)","v":0},{"$f":"SUM(R7:R15)","v":0},null,"Total",{"$f":"SUM(U7:U15)","v":36},{"$f":"SUM(V7:V15)","v":0},{"$f":"SUM(W7:W15)","v":0},{"$f":"SUM(X7:X15)","v":0},null,"Total",{"$f":"SUM(AA7:AA15)","v":35},{"$f":"SUM(AB7:AB15)","v":0},{"$f":"SUM(AC7:AC15)","v":0},{"$f":"SUM(AD7:AD15)","v":0},null,"Total",{"$f":"SUM(AG7:AG15)","v":36},{"$f":"SUM(AH7:AH15)","v":0},{"$f":"SUM(AI7:AI15)","v":0},{"$f":"SUM(AJ7:AJ15)","v":0},null,"Total",{"$f":"SUM(AM7:AM15)","v":35},{"$f":"SUM(AN7:AN15)","v":0},{"$f":"SUM(AO7:AO15)","v":0},{"$f":"SUM(AP7:AP15)","v":0},null,"Total",{"$f":"SUM(AS7:AS15)","v":36},{"$f":"SUM(AT7:AT15)","v":0},{"$f":"SUM(AU7:AU15)","v":0},{"$f":"SUM(AV7:AV15)","v":0},null,"Total",{"$f":"SUM(AY7:AY15)","v":36},{"$f":"SUM(AZ7:AZ15)","v":0},{"$f":"SUM(BA7:BA15)","v":0},{"$f":"SUM(BB7:BB15)","v":0},null,"Total",{"$f":"SUM(BE7:BE15)","v":36},{"$f":"SUM(BF7:BF15)","v":0},{"$f":"SUM(BG7:BG15)","v":0},{"$f":"SUM(BH7:BH15)","v":0},null,"Total",{"$f":"SUM(BK7:BK15)","v":36},{"$f":"SUM(BL7:BL15)","v":0},{"$f":"SUM(BM7:BM15)","v":0},{"$f":"SUM(BN7:BN15)","v":0},null,"Total",{"$f":"SUM(BQ7:BQ15)","v":35},{"$f":"SUM(BR7:BR15)","v":0},{"$f":"SUM(BS7:BS15)","v":0},{"$f":"SUM(BT7:BT15)","v":0},null,"Total",{"$f":"SUM(BW7:BW15)","v":36},{"$f":"SUM(BX7:BX15)","v":0},{"$f":"SUM(BY7:BY15)","v":0},{"$f":"SUM(BZ7:BZ15)","v":0},null,"Total",{"$f":"SUM(CC7:CC15)","v":35},{"$f":"SUM(CD7:CD15)","v":0},{"$f":"SUM(CE7:CE15)","v":0},{"$f":"SUM(CF7:CF15)","v":0},null,"Total",{"$f":"SUM(CI7:CI15)","v":36},{"$f":"SUM(CJ7:CJ15)","v":0},{"$f":"SUM(CK7:CK15)","v":0},{"$f":"SUM(CL7:CL15)","v":0}]
[]
[null,null,null,null,"Low Net",null,null,null,null,null,"Low Net",0,null,null,null,null,"Low Net",0,null,null,null,null,"Low Net",null,null,null,null,null,"Low Net",null,null,null,null,null,"Low Net",null,null,null,null,null,"Low Net",null,null,null,null,null,"Low Net",null,null,null,null,null,"Low Net",null,null,null,null,null,"Low Net",null,null,null,null,null,"Low Net",null,null,null,null,null,"Low Net",null,null,null,null,null,"Low Net",null,null,null,null,null,"Low Net",null,null,null,null,null,"Low Net"]
[]
[null,null,null,null,"Total Points",{"$f":"SUM(F16:F19)","v":0},null,null,null,null,"Total Points",{"$f":"SUM(L16:L19)","v":0},null,null,null,null,"Total Points",{"$f":"SUM(R16:R19)","v":0},null,null,null,null,"Total Points",{"$f":"SUM(X16:X19)","v":0},null,null,null,null,"Total Points",{"$f":"SUM(AD16:AD19)","v":0},null,null,null,null,"Total Points",{"$f":"SUM(AJ16:AJ19)","v":0},null,null,null,null,"Total Points",{"$f":"SUM(AP16:AP19)","v":0},null,null,null,null,"Total Points",{"$f":"SUM(AV16:AV19)","v":0},null,null,null,null,"Total Points",{"$f":"SUM(BB16:BB19)","v":0},null,null,null,null,"Total Points",{"$f":"SUM(BH16:BH19)","v":0},null,null,null,null,"Total Points",{"$f":"SUM(BN16:BN19)","v":0},null,null,null,null,"Total Points",{"$f":"SUM(BT16:BT19)","v":0},null,null,null,null,"Total Points",{"$f":"SUM(BZ16:BZ19)","v":0},null,null,null,null,"Total Points",{"$f":"SUM(CF16:CF19)","v":0},null,null,null,null,"Total Points",{"$f":"SUM(CL16:CL19)","v":0}]
[]
[null,null,null,null,"Handicap",{"$f":"IF(D16=0,0,E16-C16)","v":0},null,null,null,null,"Handicap",{"$f":"IF(J16=0,0,K16-I16)","v":0},null,null,null,null,"Handicap",{"$f":"IF(P16=0,0,Q16-O16)","v":0},null,null,null,null,"Handicap",{"$f":"IF(V16=0,0,W16-U16)","v":0},null,null,null,null,"Handicap",{"$f":"IF(AB16=0,0,AC16-AA16)","v":0},null,null,null,null,"Handicap",{"$f":"IF(AH16=0,0,AI16-AG16)","v":0},null,null,null,null,"Handicap",{"$f":"IF(AN16=0,0,AO16-AM16)","v":0},null,null,null,null,"Handicap",{"$f":"IF(AT16=0,0,AU16-AS16)","v":0},null,null,null,null,"Handicap",{"$f":"IF(AZ16=0,0,BA16-AY16)","v":0},null,null,null,null,"Handicap",{"$f":"IF(BF16=0,0,BG16-BE16)","v":0},null,null,null,null,"Handicap",{"$f":"IF(BL16=0,0,BM16-BK16)","v":0},null,null,null,null,"Handicap",{"$f":"IF(BR16=0,0,BS16-BQ16)","v":0},null,null,null,null,"Handicap",{"$f":"IF(BX16=0,0,BY16-BW16)","v":0},null,null,null,null,"Handicap",{"$f":"IF(CD16=0,0,CE16-CC16)","v":0},null,null,null,null,"Handicap",{"$f":"IF(CJ16=0,0,CK16-CI16)","v":0}]
[]
[null,null,null,null,null,{"$f":"IF(D16<>0,IF(F16>4.5,\"W\",IF(F16=4.5,\"T\",IF(F16<4.5,\"L\"))),0)","v":0},null,null,null,null,null,{"$f":"IF(J16<>0,IF(L16>4.5,\"W\",IF(L16=4.5,\"T\",IF(L16<4.5,\"L\"))),0)","v":0},null,null,null,null,null,{"$f":"IF(P16<>0,IF(R16>4.5,\"W\",IF(R16=4.5,\"T\",IF(R16<4.5,\"L\"))),0)","v":0},null,null,null,null,null,{"$f":"IF(V16<>0,IF(X16>4.5,\"W\",IF(X16=4.5,\"T\",IF(X16<4.5,\"L\"))),0)","v":0},null,null,null,null,null,{"$f":"IF(AB16<>0,IF(AD16>4.5,\"W\",IF(AD16=4.5,\"T\",IF(AD16<4.5,\"L\"))),0)","v":0},null,null,null,null,null,{"$f":"IF(AH16<>0,IF(AJ16>4.5,\"W\",IF(AJ16=4.5,\"T\",IF(AJ16<4.5,\"L\"))),0)","v":0},null,null,null,null,null,{"$f":"IF(AN16<>0,IF(AP16>4.5,\"W\",IF(AP16=4.5,\"T\",IF(AP16<4.5,\"L\"))),0)","v":0},null,null,null,null,null,{"$f":"IF(AT16<>0,IF(AV16>4.5,\"W\",IF(AV16=4.5,\"T\",IF(AV16<4.5,\"L\"))),0)","v":0},null,null,null,null,null,{"$f":"IF(AZ16<>0,IF(BB16>4.5,\"W\",IF(BB16=4.5,\"T\",IF(BB16<4.5,\"L\"))),0)","v":0},null,null,null,null,null,{"$f":"IF(BF16<>0,IF(BH16>4.5,\"W\",IF(BH16=4.5,\"T\",IF(BH16<4.5,\"L\"))),0)","v":0},null,null,null,null,null,{"$f":"IF(BL16<>0,IF(BN16>4.5,\"W\",IF(BN16=4.5,\"T\",IF(BN16<4.5,\"L\"))),0)","v":0},null,null,null,null,null,{"$f":"IF(BR16<>0,IF(BT16>4.5,\"W\",IF(BT16=4.5,\"T\",IF(BT16<4.5,\"L\"))),0)","v":0},null,null,null,null,null,{"$f":"IF(BX16<>0,IF(BZ16>4.5,\"W\",IF(BZ16=4.5,\"T\",IF(BZ16<4.5,\"L\"))),0)","v":0},null,null,null,null,null,{"$f":"IF(CD16<>0,IF(CF16>4.5,\"W\",IF(CF16=4.5,\"T\",IF(CF16<4.5,\"L\"))),0)","v":0},null,null,null,null,null,{"$f":"IF(CJ16<>0,IF(CL16>4.5,\"W\",IF(CL16=4.5,\"T\",IF(CL16<4.5,\"L\"))),0)","v":0}]
[]
[null,"Summary"]
[null,null,null,"Adj",null,"Adj",null,null,null,"Avg Score"]
[null,null,"Points","Points","Matches","Matches",null,null,"Hole #","by Hole","Best","Worst"]
[null,"Week #1",{"$f":"F20","v":0},{"$f":"C29","v":0},{"$f":"IF(D16>0,1,0)","v":0},{"$f":"E29","v":0},null,null,1,{"$f":"IFERROR(AVERAGE(D7),0)","v":0},{"$f":"IFERROR(MIN(J7,V7,AH7,AT7,BF7,BR7,BX7,CJ7),0)","v":0},{"$f":"IFERROR(MAX(J7,V7,AH7,AT7,BF7,BR7,BX7,CJ7),0)","v":0}]
[null,"Week #2",{"$f":"L20","v":0},0,{"$f":"IF(J16>0,1,0)","v":0},0,null,null,2,{"$f":"IFERROR(AVERAGE(D8),0)","v":0},{"$f":"IFERROR(MIN(J8,V8,AH8,AT8,BF8,BR8,BX8,CJ8),0)","v":0},{"$f":"IFERROR(MAX(J8,V8,AH8,AT8,BF8,BR8,BX8,CJ8),0)","v":0}]
[null,"Week #3",{"$f":"R20","v":0},0,{"$f":"IF(P16>0,1,0)","v":0},0,null,null,3,0,0,0]
[null,"Week #4",{"$f":"X20","v":0},0,{"$f":"IF(V16>0,1,0)","v":0},0,null,null,4,0,0,0]
[null,"Week #5",{"$f":"AD20","v":0},0,{"$f":"IF(AB16>0,1,0)","v":0},0,null,null,5,0,0,0]
[null,"Week #6",{"$f":"AJ20","v":0},0,{"$f":"IF(AH16>0,1,0)","v":0},0,null,null,6,0,0,0]
[null,"Week #7",{"$f":"AP20","v":0},0,{"$f":"IF(AN16>0,1,0)","v":0},0,null,null,7,0,0,0]
[null,"Week #8",{"$f":"AV20","v":0},0,{"$f":"IF(AT16>0,1,0)","v":0},0,null,null,8,0,0,0]
[null,"Week #9",{"$f":"BB20","v":0},0,{"$f":"IF(AZ16>0,1,0)","v":0},0,null,null,9,0,0,0]
[null,"Week #10",{"$f":"BH20","v":0},0,{"$f":"IF(BF16>0,1,0)","v":0},0,null,null,"Front",{"$f":"SUM(J29:J37)","v":0},{"$f":"SUM(K29:K37)","v":0},0]
[null,"Week #11",{"$f":"BN20","v":0},0,{"$f":"IF(BL16>0,1,0)","v":0},0]
[null,"Week #12",{"$f":"BT20","v":0},0,{"$f":"IF(BR16>0,1,0)","v":0},0,null,null,10,{"$f":"IFERROR(AVERAGE(J7),0)","v":0},{"$f":"IFERROR(MIN(D7,P7,AB7,AN7,AZ7,BL7,CD7),0)","v":0},{"$f":"IFERROR(MAX(D7,P7,AB7,AN7,AZ7,BL7,CD7),0)","v":0}]
[null,"Week #13",{"$f":"BZ20","v":0},0,{"$f":"IF(BX16>0,1,0)","v":0},0,null,null,11,{"$f":"IFERROR(AVERAGE(J8),0)","v":0},{"$f":"IFERROR(MIN(D8,P8,AB8,AN8,AZ8,BL8,CD8),0)","v":0},{"$f":"IFERROR(MAX(D8,P8,AB8,AN8,AZ8,BL8,CD8),0)","v":0}]
[null,"Week #14",{"$f":"CF20","v":0},0,{"$f":"IF(CD16>0,1,0)","v":0},0,null,null,12,0,0,0]
[null,"Week #15",{"$f":"CL20","v":0},0,{"$f":"IF(CJ16>0,1,0)","v":0},0,null,null,13,0,0,0]
[null,"Total",{"$f":"SUM(C29:C43)","v":0},{"$f":"SUM(D29:D43)","v":0},{"$f":"SUM(E29:E43)","v":0},{"$f":"SUM(F29:F43)","v":0},null,null,14,0,0,0]
[null,null,null,null,null,null,null,null,15,0,0,0]
[null,"Summary",null,null,null,null,null,null,16,0,0,0]
[null,"Eagles",{"$f":"I57+I68+I79+I90+I101+I112+I123+I134+I145+I156+I167+I178+I189+I200+I211","v":0},null,null,null,null,null,17,0,0,0]
[null,"Birdies",0,null,null,null,null,null,18,0,0,0]
[null,"Pars",{"$f":"I59+I70+I81+I92+I103+I114+I125+I136+I147+I158+I169+I180+I191+I202+I213","v":0},null,null,null,null,null,"Back",{"$f":"SUM(J40:J48)","v":0},{"$f":"SUM(K40:K48)","v":0},0]
[null,"bogeys",0]
[null,"Double bogeys",0]
[null,"Other",0]
[null,"Total",{"$f":"SUM(C47:C52)","v":0}]
[]
[null,{"$f":"D4","v":"2025-04-25"},"Par","Score"]
[null,{"$f":"B7","v":1},4,0,{"$f":"IF(D56<>0,IF((D56-C56)=-1,\"Birdie\",IF((D56-C56)=-2,\"Eagle\",IF((D56-C56)=0,\"Par\",IF((D56-C56)=1,\"bogey\",IF((D56-C56)=2,\"Double bogey\",\"Other\"))))),\"  \")","v":"  "},null,null,"Count"]
[null,2,4,0,"  ",null,null,"Eagle",{"$f":"COUNTIF(E56:E64,\"Eagle\")","v":0}]
[null,3,4,0,"  ",null,null,"Birdie",{"$f":"COUNTIF(E56:E64,\"Birdie\")","v":0}]
[null,4,4,0,"  ",null,null,"Par",{"$f":"COUNTIF(E56:E64,\"Par\")","v":0}]
[null,5,3,0,"  ",null,null,"bogey",{"$f":"COUNTIF(E56:E64,\"bogey\")","v":0}]
[null,6,4,0,"  ",null,null,"Double bogey",{"$f":"COUNTIF(E56:E64,\"Double bogey\")","v":0}]
[null,7,4,0,"  ",null,null,"Other",{"$f":"COUNTIF(E56:E64,\"Other\")","v":0}]
[null,8,3,0,"  "]
[null,9,5,0,"  "]
[]
[null,{"$f":"J4","v":"2025-05-02"}]
[null,{"$f":"H7","v":10},4,0,{"$f":"IF(D67<>0,IF((D67-C67)=-1,\"Birdie\",IF((D67-C67)=-2,\"Eagle\",IF((D67-C67)=0,\"Par\",IF((D67-C67)=1,\"bogey\",IF((D67-C67)=2,\"Double bogey\",\"Other\"))))),\"  \")","v":"  "},null,null,"Count"]
[null,11,4,0,"  ",null,null,"Eagle",{"$f":"COUNTIF(E67:E75,\"Eagle\")","v":0}]
[null,12,3,0,"  ",null,null,"Birdie",{"$f":"COUNTIF(E67:E75,\"Birdie\")","v":0}]
[null,13,4,0,"  ",null,null,"Par",{"$f":"COUNTIF(E67:E75,\"Par\")","v":0}]
[null,14,4,0,"  ",null,null,"bogey",{"$f":"COUNTIF(E67:E75,\"bogey\")","v":0}]
[null,15,3,0,"  ",null,null,"Double bogey",{"$f":"COUNTIF(E67:E75,\"Double bogey\")","v":0}]
[null,16,5,0,"  ",null,null,"Other",{"$f":"COUNTIF(E67:E75,\"Other\")","v":0}]
[null,17,4,0,"  "]
[null,18,5,0,"  "]
[]
[null,{"$f":"P4","v":"2025-05-09"}]
[null,{"$f":"N7","v":1},4,0,{"$f":"IF(D78<>0,IF((D78-C78)=-1,\"Birdie\",IF((D78-C78)=-2,\"Eagle\",IF((D78-C78)=0,\"Par\",IF((D78-C78)=1,\"bogey\",IF((D78-C78)=2,\"Double bogey\",\"Other\"))))),\"  \")","v":"  "},null,null,"Count"]
[null,2,4,0,"  ",null,null,"Eagle",{"$f":"COUNTIF(E78:E86,\"Eagle\")","v":0}]
[null,3,4,0,"  ",null,null,"Birdie",{"$f":"COUNTIF(E78:E86,\"Birdie\")","v":0}]
[null,4,4,0,"  ",null,null,"Par",{"$f":"COUNTIF(E78:E86,\"Par\")","v":0}]
[null,5,3,0,"  ",null,null,"bogey",{"$f":"COUNTIF(E78:E86,\"bogey\")","v":0}]
[null,6,4,0,"  ",null,null,"Double bogey",{"$f":"COUNTIF(E78:E86,\"Double bogey\")","v":0}]
[null,7,4,0,"  ",null,null,"Other",{"$f":"COUNTIF(E78:E86,\"Other\")","v":0}]
[null,8,3,0,"  "]
[null,9,5,0,"  "]
[]
[null,{"$f":"V4","v":"2025-05-16"}]
[null,{"$f":"T7","v":10},4,0,{"$f":"IF(D89<>0,IF((D89-C89)=-1,\"Birdie\",IF((D89-C89)=-2,\"Eagle\",IF((D89-C89)=0,\"Par\",IF((D89-C89)=1,\"bogey\",IF((D89-C89)=2,\"Double bogey\",\"Other\"))))),\"  \")","v":"  "},null,null,"Count"]
[null,11,4,0,"  ",null,null,"Eagle",{"$f":"COUNTIF(E89:E97,\"Eagle\")","v":0}]
[null,12,3,0,"  ",null,null,"Birdie",{"$f":"COUNTIF(E89:E97,\"Birdie\")","v":0}]
[null,13,4,0,"  ",null,null,"Par",{"$f":"COUNTIF(E89:E97,\"Par\")","v":0}]
[null,14,4,0,"  ",null,null,"bogey",{"$f":"COUNTIF(E89:E97,\"bogey\")","v":0}]
[null,15,3,0,"  ",null,null,"Double bogey",{"$f":"COUNTIF(E89:E97,\"Double bogey\")","v":0}]
[null,16,5,0,"  ",null,null,"Other",{"$f":"COUNTIF(E89:E97,\"Other\")","v":0}]
[null,17,4,0,"  "]
[null,18,5,0,"  "]
[]
[null,{"$f":"AB4","v":"2025-05-23"}]
[null,{"$f":"Z7","v":1},4,0,{"$f":"IF(D100<>0,IF((D100-C100)=-1,\"Birdie\",IF((D100-C100)=-2,\"Eagle\",IF((D100-C100)=0,\"Par\",IF((D100-C100)=1,\"bogey\",IF((D100-C100)=2,\"Double bogey\",\"Other\"))))),\"  \")","v":"  "},null,null,"Count"]
[null,2,4,0,"  ",null,null,"Eagle",{"$f":"COUNTIF(E100:E108,\"Eagle\")","v":0}]
[null,3,4,0,"  ",null,null,"Birdie",{"$f":"COUNTIF(E100:E108,\"Birdie\")","v":0}]
[null,4,4,0,"  ",null,null,"Par",{"$f":"COUNTIF(E100:E108,\"Par\")","v":0}]
[null,5,3,0,"  ",null,null,"bogey",{"$f":"COUNTIF(E100:E108,\"bogey\")","v":0}]
[null,6,4,0,"  ",null,null,"Double bogey",{"$f":"COUNTIF(E100:E108,\"Double bogey\")","v":0}]
[null,7,4,0,"  ",null,null,"Other",{"$f":"COUNTIF(E100:E108,\"Other\")","v":0}]
[null,8,3,0,"  "]
[null,9,5,0,"  "]
[]
[null,{"$f":"AH4","v":"2025-05-30"}]
[null,{"$f":"AF7","v":10},4,0,{"$f":"IF(D111<>0,IF((D111-C111)=-1,\"Birdie\",IF((D111-C111)=-2,\"Eagle\",IF((D111-C111)=0,\"Par\",IF((D111-C111)=1,\"bogey\",IF((D111-C111)=2,\"Double bogey\",\"Other\"))))),\"  \")","v":"  "},null,null,"Count"]
[null,11,4,0,"  ",null,null,"Eagle",{"$f":"COUNTIF(E111:E119,\"Eagle\")","v":0}]
[null,12,3,0,"  ",null,null,"Birdie",{"$f":"COUNTIF(E111:E119,\"Birdie\")","v":0}]
[null,13,4,0,"  ",null,null,"Par",{"$f":"COUNTIF(E111:E119,\"Par\")","v":0}]
[null,14,4,0,"  ",null,null,"bogey",{"$f":"COUNTIF(E111:E119,\"bogey\")","v":0}]
[null,15,3,0,"  ",null,null,"Double bogey",{"$f":"COUNTIF(E111:E119,\"Double bogey\")","v":0}]
[null,16,5,0,"  ",null,null,"Other",{"$f":"COUNTIF(E111:E119,\"Other\")","v":0}]
[null,17,4,0,"  "]
[null,18,5,0,"  "]
[]
[null,{"$f":"AN4","v":"2025-06-06"}]
[null,{"$f":"AL7","v":1},4,0,{"$f":"IF(D122<>0,IF((D122-C122)=-1,\"Birdie\",IF((D122-C122)=-2,\"Eagle\",IF((D122-C122)=0,\"Par\",IF((D122-C122)=1,\"bogey\",IF((D122-C122)=2,\"Double bogey\",\"Other\"))))),\"  \")","v":"  "},null,null,"Count"]
[null,2,4,0,"  ",null,null,"Eagle",{"$f":"COUNTIF(E122:E130,\"Eagle\")","v":0}]
[null,3,4,0,"  ",null,null,"Birdie",{"$f":"COUNTIF(E122:E130,\"Birdie\")","v":0}]
[null,4,4,0,"  ",null,null,"Par",{"$f":"COUNTIF(E122:E130,\"Par\")","v":0}]
[null,5,3,0,"  ",null,null,"bogey",{"$f":"COUNTIF(E122:E130,\"bogey\")","v":0}]
[null,6,4,0,"  ",null,null,"Double bogey",{"$f":"COUNTIF(E122:E130,\"Double bogey\")","v":0}]
[null,7,4,0,"  ",null,null,"Other",{"$f":"COUNTIF(E122:E130,\"Other\")","v":0}]
[null,8,3,0,"  "]
[null,9,5,0,"  "]
[]
[null,{"$f":"AT4","v":"2025-06-13"}]
[null,{"$f":"AR7","v":10},4,0,{"$f":"IF(D133<>0,IF((D133-C133)=-1,\"Birdie\",IF((D133-C133)=-2,\"Eagle\",IF((D133-C133)=0,\"Par\",IF((D133-C133)=1,\"bogey\",IF((D133-C133)=2,\"Double bogey\",\"Other\"))))),\"  \")","v":"  "},null,null,"Count"]
[null,11,4,0,"  ",null,null,"Eagle",{"$f":"COUNTIF(E133:E141,\"Eagle\")","v":0}]
[null,12,3,0,"  ",null,null,"Birdie",{"$f":"COUNTIF(E133:E141,\"Birdie\")","v":0}]
[null,13,4,0,"  ",null,null,"Par",{"$f":"COUNTIF(E133:E141,\"Par\")","v":0}]
[null,14,4,0,"  ",null,null,"bogey",{"$f":"COUNTIF(E133:E141,\"bogey\")","v":0}]
[null,15,3,0,"  ",null,null,"Double bogey",{"$f":"COUNTIF(E133:E141,\"Double bogey\")","v":0}]
[null,16,5,0,"  ",null,null,"Other",{"$f":"COUNTIF(E133:E141,\"Other\")","v":0}]
[null,17,4,0,"  "]
[null,18,5,0,"  "]
[]
[null,{"$f":"AZ4","v":"2025-06-27"}]
[null,{"$f":"AX7","v":10},4,0,{"$f":"IF(D144<>0,IF((D144-C144)=-1,\"Birdie\",IF((D144-C144)=-2,\"Eagle\",IF((D144-C144)=0,\"Par\",IF((D144-C144)=1,\"bogey\",IF((D144-C144)=2,\"Double bogey\",\"Other\"))))),\"  \")","v":"  "},null,null,"Count"]
[null,11,4,0,"  ",null,null,"Eagle",{"$f":"COUNTIF(E144:E152,\"Eagle\")","v":0}]
[null,12,3,0,"  ",null,null,"Birdie",{"$f":"COUNTIF(E144:E152,\"Birdie\")","v":0}]
[null,13,4,0,"  ",null,null,"Par",{"$f":"COUNTIF(E144:E152,\"Par\")","v":0}]
[null,14,4,0,"  ",null,null,"bogey",{"$f":"COUNTIF(E144:E152,\"bogey\")","v":0}]
[null,15,3,0,"  ",null,null,"Double bogey",{"$f":"COUNTIF(E144:E152,\"Double bogey\")","v":0}]
[null,16,5,0,"  ",null,null,"Other",{"$f":"COUNTIF(E144:E152,\"Other\")","v":0}]
[null,17,4,0,"  "]
[null,18,5,0,"  "]
[]
[null,{"$f":"BF4","v":"2025-07-04"}]
[null,{"$f":"BD7","v":10},4,0,{"$f":"IF(D155<>0,IF((D155-C155)=-1,\"Birdie\",IF((D155-C155)=-2,\"Eagle\",IF((D155-C155)=0,\"Par\",IF((D155-C155)=1,\"bogey\",IF((D155-C155)=2,\"Double bogey\",\"Other\"))))),\"  \")","v":"  "},null,null,"Count"]
[null,11,4,0,"  ",null,null,"Eagle",{"$f":"COUNTIF(E155:E163,\"Eagle\")","v":0}]
[null,12,3,0,"  ",null,null,"Birdie",{"$f":"COUNTIF(E155:E163,\"Birdie\")","v":0}]
[null,13,4,0,"  ",null,null,"Par",{"$f":"COUNTIF(E155:E163,\"Par\")","v":0}]
[null,14,4,0,"  ",null,null,"bogey",{"$f":"COUNTIF(E155:E163,\"bogey\")","v":0}]
[null,15,3,0,"  ",null,null,"Double bogey",{"$f":"COUNTIF(E155:E163,\"Double bogey\")","v":0}]
[null,16,5,0,"  ",null,null,"Other",{"$f":"COUNTIF(E155:E163,\"Other\")","v":0}]
[null,17,4,0,"  "]
[null,18,5,0,"  "]
[]
[null,{"$f":"BL4","v":"2025-07-18"}]
[null,{"$f":"BJ7","v":10},4,0,{"$f":"IF(D166<>0,IF((D166-C166)=-1,\"Birdie\",IF((D166-C166)=-2,\"Eagle\",IF((D166-C166)=0,\"Par\",IF((D166-C166)=1,\"bogey\",IF((D166-C166)=2,\"Double bogey\",\"Other\"))))),\"  \")","v":"  "},null,null,"Count"]
[null,11,4,0,"  ",null,null,"Eagle",{"$f":"COUNTIF(E166:E174,\"Eagle\")","v":0}]
[null,12,3,0,"  ",null,null,"Birdie",{"$f":"COUNTIF(E166:E174,\"Birdie\")","v":0}]
[null,13,4,0,"  ",null,null,"Par",{"$f":"COUNTIF(E166:E174,\"Par\")","v":0}]
[null,14,4,0,"  ",null,null,"bogey",{"$f":"COUNTIF(E166:E174,\"bogey\")","v":0}]
[null,15,3,0,"  ",null,null,"Double bogey",{"$f":"COUNTIF(E166:E174,\"Double bogey\")","v":0}]
[null,16,5,0,"  ",null,null,"Other",{"$f":"COUNTIF(E166:E174,\"Other\")","v":0}]
[null,17,4,0,"  "]
[null,18,5,0,"  "]
[]
[null,{"$f":"BR4","v":"2025-07-25"}]
[null,{"$f":"BP7","v":1},4,0,{"$f":"IF(D177<>0,IF((D177-C177)=-1,\"Birdie\",IF((D177-C177)=-2,\"Eagle\",IF((D177-C177)=0,\"Par\",IF((D177-C177)=1,\"bogey\",IF((D177-C177)=2,\"Double bogey\",\"Other\"))))),\"  \")","v":"  "},null,null,"Count"]
[null,2,4,0,"  ",null,null,"Eagle",{"$f":"COUNTIF(E177:E185,\"Eagle\")","v":0}]
[null,3,4,0,"  ",null,null,"Birdie",{"$f":"COUNTIF(E177:E185,\"Birdie\")","v":0}]
[null,4,4,0,"  ",null,null,"Par",{"$f":"COUNTIF(E177:E185,\"Par\")","v":0}]
[null,5,3,0,"  ",null,null,"bogey",{"$f":"COUNTIF(E177:E185,\"bogey\")","v":0}]
[null,6,4,0,"  ",null,null,"Double bogey",{"$f":"COUNTIF(E177:E185,\"Double bogey\")","v":0}]
[null,7,4,0,"  ",null,null,"Other",{"$f":"COUNTIF(E177:E185,\"Other\")","v":0}]
[null,8,3,0,"  "]
[null,9,5,0,"  "]
[]
[null,{"$f":"BX4","v":"2025-08-01"}]
[null,{"$f":"BV7","v":10},4,0,{"$f":"IF(D188<>0,IF((D188-C188)=-1,\"Birdie\",IF((D188-C188)=-2,\"Eagle\",IF((D188-C188)=0,\"Par\",IF((D188-C188)=1,\"bogey\",IF((D188-C188)=2,\"Double bogey\",\"Other\"))))),\"  \")","v":"  "},null,null,"Count"]
[null,11,4,0,"  ",null,null,"Eagle",{"$f":"COUNTIF(E188:E196,\"Eagle\")","v":0}]
[null,12,3,0,"  ",null,null,"Birdie",{"$f":"COUNTIF(E188:E196,\"Birdie\")","v":0}]
[null,13,4,0,"  ",null,null,"Par",{"$f":"COUNTIF(E188:E196,\"Par\")","v":0}]
[null,14,4,0,"  ",null,null,"bogey",{"$f":"COUNTIF(E188:E196,\"bogey\")","v":0}]
[null,15,3,0,"  ",null,null,"Double bogey",{"$f":"COUNTIF(E188:E196,\"Double bogey\")","v":0}]
[null,16,5,0,"  ",null,null,"Other",{"$f":"COUNTIF(E188:E196,\"Other\")","v":0}]
[null,17,4,0,"  "]
[null,18,5,0,"  "]
[]
[null,{"$f":"CD4","v":"2025-08-08"}]
[null,{"$f":"CB7","v":1},4,0,{"$f":"IF(D199<>0,IF((D199-C199)=-1,\"Birdie\",IF((D199-C199)=-2,\"Eagle\",IF((D199-C199)=0,\"Par\",IF((D199-C199)=1,\"bogey\",IF((D199-C199)=2,\"Double bogey\",\"Other\"))))),\"  \")","v":"  "},null,null,"Count"]
[null,2,4,0,"  ",null,null,"Eagle",{"$f":"COUNTIF(E199:E207,\"Eagle\")","v":0}]
[null,3,4,0,"  ",null,null,"Birdie",{"$f":"COUNTIF(E199:E207,\"Birdie\")","v":0}]
[null,4,4,0,"  ",null,null,"Par",{"$f":"COUNTIF(E199:E207,\"Par\")","v":0}]
[null,5,3,0,"  ",null,null,"bogey",{"$f":"COUNTIF(E199:E207,\"bogey\")","v":0}]
[null,6,4,0,"  ",null,null,"Double bogey",{"$f":"COUNTIF(E199:E207,\"Double bogey\")","v":0}]
[null,7,4,0,"  ",null,null,"Other",{"$f":"COUNTIF(E199:E207,\"Other\")","v":0}]
[null,8,3,0,"  "]
[null,9,5,0,"  "]
[]
[null,{"$f":"CJ4","v":"2025-08-15"}]
[null,{"$f":"CH7","v":10},4,0,{"$f":"IF(D210<>0,IF((D210-C210)=-1,\"Birdie\",IF((D210-C210)=-2,\"Eagle\",IF((D210-C210)=0,\"Par\",IF((D210-C210)=1,\"bogey\",IF((D210-C210)=2,\"Double bogey\",\"Other\"))))),\"  \")","v":"  "},null,null,"Count"]
[null,11,4,0,"  ",null,null,"Eagle",{"$f":"COUNTIF(E210:E218,\"Eagle\")","v":0}]
[null,12,3,0,"  ",null,null,"Birdie",{"$f":"COUNTIF(E210:E218,\"Birdie\")","v":0}]
[null,13,4,0,"  ",null,null,"Par",{"$f":"COUNTIF(E210:E218,\"Par\")","v":0}]
[null,14,4,0,"  ",null,null,"bogey",{"$f":"COUNTIF(E210:E218,\"bogey\")","v":0}]
[null,15,3,0,"  ",null,null,"Double bogey",{"$f":"COUNTIF(E210:E218,\"Double bogey\")","v":0}]
[null,16,5,0,"  ",null,null,"Other",{"$f":"COUNTIF(E210:E218,\"Other\")","v":0}]
[null,17,4,0,"  "]
[null,18,5,0,"  "]

{"sheet":"Kreig","index":10,"n_rows":218,"n_cols":90,"rows_kept":218,"cut":false,"hidden":false,"merged":[]}
["Glenn Kreig"]
[]
[]
[null,null,"Date:",{"$f":"VLOOKUP(C5,Week,2)","v":"2025-04-25"},null,null,null,null,"Date:",{"$f":"VLOOKUP(I5,Week,2)","v":"2025-05-02"},null,null,null,null,"Date:",{"$f":"VLOOKUP(O5,Week,2)","v":"2025-05-09"},null,null,null,null,"Date:",{"$f":"VLOOKUP(U5,Week,2)","v":"2025-05-16"},null,null,null,null,"Date:",{"$f":"VLOOKUP(AA5,Week,2)","v":"2025-05-23"},null,null,null,null,"Date:",{"$f":"VLOOKUP(AG5,Week,2)","v":"2025-05-30"},null,null,null,null,"Date:",{"$f":"VLOOKUP(AM5,Week,2)","v":"2025-06-06"},null,null,null,null,"Date:",{"$f":"VLOOKUP(AS5,Week,2)","v":"2025-06-13"},null,null,null,null,"Date:",{"$f":"VLOOKUP(AY5,Week,2)","v":"2025-06-27"},null,null,null,null,"Date:",{"$f":"VLOOKUP(BE5,Week,2)","v":"2025-07-04"},null,null,null,null,"Date:",{"$f":"VLOOKUP(BK5,Week,2)","v":"2025-07-18"},null,null,null,null,"Date:",{"$f":"VLOOKUP(BQ5,Week,2)","v":"2025-07-25"},null,null,null,null,"Date:",{"$f":"VLOOKUP(BW5,Week,2)","v":"2025-08-01"},null,null,null,null,"Date:",{"$f":"VLOOKUP(CC5,Week,2)","v":"2025-08-08"},null,null,null,null,"Date:",{"$f":"VLOOKUP(CI5,Week,2)","v":"2025-08-15"}]
[null,"Week",1,null,null,null,null,"Week",2,null,null,null,null,"Week",3,null,null,null,null,"Week",4,null,null,null,null,"Week",5,null,null,null,null,"Week",6,null,null,null,null,"Week",7,null,null,null,null,"Week",8,null,null,null,null,"Week",9,null,null,null,null,"Week",10,null,null,null,null,"Week",11,null,null,null,null,"Week",12,null,null,null,null,"Week",13,null,null,null,null,"Week",14,null,null,null,null,"Week",15]
[null,"Hole #","Par","Score","Net","Win Hole",null,"Hole #","Par","Score","Net","Win Hole",null,"Hole #","Par","Score","Net","Win Hole",null,"Hole #","Par","Score","Net","Win Hole",null,"Hole #","Par","Score","Net","Win Hole",null,"Hole #","Par","Score","Net","Win Hole",null,"Hole #","Par","Score","Net","Win Hole",null,"Hole #","Par","Score","Net","Win Hole",null,"Hole #","Par","Score","Net","Win Hole",null,"Hole #","Par","Score","Net","Win Hole",null,"Hole #","Par","Score","Net","Win Hole",null,"Hole #","Par","Score","Net","Win Hole",null,"Hole #","Par","Score","Net","Win Hole",null,"Hole #","Par","Score","Net","Win Hole",null,"Hole #","Par","Score","Net","Win Hole"]
[null,{"$f":"VLOOKUP(C5,Week,6)","v":1},{"$f":"VLOOKUP(B7,Holes,2)","v":4},null,{"$f":"IF((D7-C7)>3,C7+3,D7)","v":0},null,null,{"$f":"VLOOKUP(I5,Week,6)","v":10},{"$f":"VLOOKUP(H7,Holes,2)","v":4},null,{"$f":"IF((J7-I7)>3,I7+3,J7)","v":0},null,null,{"$f":"VLOOKUP(O5,Week,6)","v":1},{"$f":"VLOOKUP(N7,Holes,2)","v":4},null,{"$f":"IF((P7-O7)>3,O7+3,P7)","v":0},null,null,{"$f":"VLOOKUP(U5,Week,6)","v":10},{"$f":"VLOOKUP(T7,Holes,2)","v":4},null,{"$f":"IF((V7-U7)>3,U7+3,V7)","v":0},null,null,{"$f":"VLOOKUP(AA5,Week,6)","v":1},{"$f":"VLOOKUP(Z7,Holes,2)","v":4},null,{"$f":"IF((AB7-AA7)>3,AA7+3,AB7)","v":0},null,null,{"$f":"VLOOKUP(AG5,Week,6)","v":10},{"$f":"VLOOKUP(AF7,Holes,2)","v":4},null,{"$f":"IF((AH7-AG7)>3,AG7+3,AH7)","v":0},null,null,{"$f":"VLOOKUP(AM5,Week,6)","v":1},{"$f":"VLOOKUP(AL7,Holes,2)","v":4},null,{"$f":"IF((AN7-AM7)>3,AM7+3,AN7)","v":0},null,null,{"$f":"VLOOKUP(AS5,Week,6)","v":10},{"$f":"VLOOKUP(AR7,Holes,2)","v":4},null,{"$f":"IF((AT7-AS7)>3,AS7+3,AT7)","v":0},null,null,{"$f":"VLOOKUP(AY5,Week,6)","v":10},{"$f":"VLOOKUP(AX7,Holes,2)","v":4},null,{"$f":"IF((AZ7-AY7)>3,AY7+3,AZ7)","v":0},null,null,{"$f":"VLOOKUP(BE5,Week,6)","v":10},{"$f":"VLOOKUP(BD7,Holes,2)","v":4},null,{"$f":"IF((BF7-BE7)>3,BE7+3,BF7)","v":0},null,null,{"$f":"VLOOKUP(BK5,Week,6)","v":10},{"$f":"VLOOKUP(BJ7,Holes,2)","v":4},null,{"$f":"IF((BL7-BK7)>3,BK7+3,BL7)","v":0},null,null,{"$f":"VLOOKUP(BQ5,Week,6)","v":1},{"$f":"VLOOKUP(BP7,Holes,2)","v":4},null,{"$f":"IF((BR7-BQ7)>3,BQ7+3,BR7)","v":0},null,null,{"$f":"VLOOKUP(BW5,Week,6)","v":10},{"$f":"VLOOKUP(BV7,Holes,2)","v":4},null,{"$f":"IF((BX7-BW7)>3,BW7+3,BX7)","v":0},null,null,{"$f":"VLOOKUP(CC5,Week,6)","v":1},{"$f":"VLOOKUP(CB7,Holes,2)","v":4},null,{"$f":"IF((CD7-CC7)>3,CC7+3,CD7)","v":0},null,null,{"$f":"VLOOKUP(CI5,Week,6)","v":10},{"$f":"VLOOKUP(CH7,Holes,2)","v":4},null,{"$f":"IF((CJ7-CI7)>3,CI7+3,CJ7)","v":0}]
[null,{"$f":"+B7+1","v":2},4,null,0,null,null,{"$f":"+H7+1","v":11},4,null,0,null,null,{"$f":"+N7+1","v":2},4,null,0,null,null,{"$f":"+T7+1","v":11},4,null,0,null,null,{"$f":"+Z7+1","v":2},4,null,0,null,null,{"$f":"+AF7+1","v":11},4,null,0,null,null,{"$f":"+AL7+1","v":2},4,null,0,null,null,{"$f":"+AR7+1","v":11},4,null,0,null,null,{"$f":"+AX7+1","v":11},4,null,0,null,null,{"$f":"+BD7+1","v":11},4,null,0,null,null,{"$f":"+BJ7+1","v":11},4,null,0,null,null,{"$f":"+BP7+1","v":2},4,null,0,null,null,{"$f":"+BV7+1","v":11},4,null,0,null,null,{"$f":"+CB7+1","v":2},4,null,0,null,null,{"$f":"+CH7+1","v":11},4,null,0]
[null,3,4,null,0,null,null,12,3,null,0,null,null,3,4,null,0,null,null,12,3,null,0,null,null,3,4,null,0,null,null,12,3,null,0,null,null,3,4,null,0,null,null,12,3,null,0,null,null,12,3,null,0,null,null,12,3,null,0,null,null,12,3,null,0,null,null,3,4,null,0,null,null,12,3,null,0,null,null,3,4,null,0,null,null,12,3,null,0]
[null,4,4,null,0,null,null,13,4,null,0,null,null,4,4,null,0,null,null,13,4,null,0,null,null,4,4,null,0,null,null,13,4,null,0,null,null,4,4,null,0,null,null,13,4,null,0,null,null,13,4,null,0,null,null,13,4,null,0,null,null,13,4,null,0,null,null,4,4,null,0,null,null,13,4,null,0,null,null,4,4,null,0,null,null,13,4,null,0]
[null,5,3,null,0,null,null,14,4,null,0,null,null,5,3,null,0,null,null,14,4,null,0,null,null,5,3,null,0,null,null,14,4,null,0,null,null,5,3,null,0,null,null,14,4,null,0,null,null,14,4,null,0,null,null,14,4,null,0,null,null,14,4,null,0,null,null,5,3,null,0,null,null,14,4,null,0,null,null,5,3,null,0,null,null,14,4,null,0]
[null,6,4,null,0,null,null,15,3,null,0,null,null,6,4,null,0,null,null,15,3,null,0,null,null,6,4,null,0,null,null,15,3,null,0,null,null,6,4,null,0,null,null,15,3,null,0,null,null,15,3,null,0,null,null,15,3,null,0,null,null,15,3,null,0,null,null,6,4,null,0,null,null,15,3,null,0,null,null,6,4,null,0,null,null,15,3,null,0]
[null,7,4,null,0,null,null,16,5,null,0,null,null,7,4,null,0,null,null,16,5,null,0,null,null,7,4,null,0,null,null,16,5,null,0,null,null,7,4,null,0,null,null,16,5,null,0,null,null,16,5,null,0,null,null,16,5,null,0,null,null,16,5,null,0,null,null,7,4,null,0,null,null,16,5,null,0,null,null,7,4,null,0,null,null,16,5,null,0]
[null,8,3,null,0,null,null,17,4,null,0,null,null,8,3,null,0,null,null,17,4,null,0,null,null,8,3,null,0,null,null,17,4,null,0,null,null,8,3,null,0,null,null,17,4,null,0,null,null,17,4,null,0,null,null,17,4,null,0,null,null,17,4,null,0,null,null,8,3,null,0,null,null,17,4,null,0,null,null,8,3,null,0,null,null,17,4,null,0]
[null,9,5,null,0,null,null,18,5,null,0,null,null,9,5,null,0,null,null,18,5,null,0,null,null,9,5,null,0,null,null,18,5,null,0,null,null,9,5,null,0,null,null,18,5,null,0,null,null,18,5,null,0,null,null,18,5,null,0,null,null,18,5,null,0,null,null,9,5,null,0,null,null,18,5,null,0,null,null,9,5,null,0,null,null,18,5,null,0]
[null,"Total",{"$f":"SUM(C7:C15)","v":35},{"$f":"SUM(D7:D15)","v":0},{"$f":"SUM(E7:E15)","v":0},{"$f":"SUM(F7:F15)","v":0},null,"Total",{"$f":"SUM(I7:I15)","v":36},{"$f":"SUM(J7:J15)","v":0},{"$f":"SUM(K7:K15)","v":0},{"$f":"SUM(L7:L15)","v":0},null,"Total",{"$f":"SUM(O7:O15)","v":35},{"$f":"SUM(P7:P15)","v":0},{"$f":"SUM(Q7:Q15)","v":0},{"$f":"SUM(R7:R15)","v":0},null,"Total",{"$f":"SUM(U7:U15)","v":36},{"$f":"SUM(V7:V15)","v":0},{"$f":"SUM(W7:W15)","v":0},{"$f":"SUM(X7:X15)","v":0},null,"Total",{"$f":"SUM(AA7:AA15)","v":35},{"$f":"SUM(AB7:AB15)","v":0},{"$f":"SUM(AC7:AC15)","v":0},{"$f":"SUM(AD7:AD15)","v":0},null,"Total",{"$f":"SUM(AG7:AG15)","v":36},{"$f":"SUM(AH7:AH15)","v":0},{"$f":"SUM(AI7:AI15)","v":0},{"$f":"SUM(AJ7:AJ15)","v":0},null,"Total",{"$f":"SUM(AM7:AM15)","v":35},{"$f":"SUM(AN7:AN15)","v":0},{"$f":"SUM(AO7:AO15)","v":0},{"$f":"SUM(AP7:AP15)","v":0},null,"Total",{"$f":"SUM(AS7:AS15)","v":36},{"$f":"SUM(AT7:AT15)","v":0},{"$f":"SUM(AU7:AU15)","v":0},{"$f":"SUM(AV7:AV15)","v":0},null,"Total",{"$f":"SUM(AY7:AY15)","v":36},{"$f":"SUM(AZ7:AZ15)","v":0},{"$f":"SUM(BA7:BA15)","v":0},{"$f":"SUM(BB7:BB15)","v":0},null,"Total",{"$f":"SUM(BE7:BE15)","v":36},{"$f":"SUM(BF7:BF15)","v":0},{"$f":"SUM(BG7:BG15)","v":0},{"$f":"SUM(BH7:BH15)","v":0},null,"Total",{"$f":"SUM(BK7:BK15)","v":36},{"$f":"SUM(BL7:BL15)","v":0},{"$f":"SUM(BM7:BM15)","v":0},{"$f":"SUM(BN7:BN15)","v":0},null,"Total",{"$f":"SUM(BQ7:BQ15)","v":35},{"$f":"SUM(BR7:BR15)","v":0},{"$f":"SUM(BS7:BS15)","v":0},{"$f":"SUM(BT7:BT15)","v":0},null,"Total",{"$f":"SUM(BW7:BW15)","v":36},{"$f":"SUM(BX7:BX15)","v":0},{"$f":"SUM(BY7:BY15)","v":0},{"$f":"SUM(BZ7:BZ15)","v":0},null,"Total",{"$f":"SUM(CC7:CC15)","v":35},{"$f":"SUM(CD7:CD15)","v":0},{"$f":"SUM(CE7:CE15)","v":0},{"$f":"SUM(CF7:CF15)","v":0},null,"Total",{"$f":"SUM(CI7:CI15)","v":36},{"$f":"SUM(CJ7:CJ15)","v":0},{"$f":"SUM(CK7:CK15)","v":0},{"$f":"SUM(CL7:CL15)","v":0}]
[]
[null,null,null,null,"Low Net",null,null,null,null,null,"Low Net",0,null,null,null,null,"Low Net",0,null,null,null,null,"Low Net",null,null,null,null,null,"Low Net",null,null,null,null,null,"Low Net",null,null,null,null,null,"Low Net",null,null,null,null,null,"Low Net",null,null,null,null,null,"Low Net",null,null,null,null,null,"Low Net",null,null,null,null,null,"Low Net",null,null,null,null,null,"Low Net",null,null,null,null,null,"Low Net",null,null,null,null,null,"Low Net",null,null,null,null,null,"Low Net"]
[]
[null,null,null,null,"Total Points",{"$f":"SUM(F16:F19)","v":0},null,null,null,null,"Total Points",{"$f":"SUM(L16:L19)","v":0},null,null,null,null,"Total Points",{"$f":"SUM(R16:R19)","v":0},null,null,null,null,"Total Points",{"$f":"SUM(X16:X19)","v":0},null,null,null,null,"Total Points",{"$f":"SUM(AD16:AD19)","v":0},null,null,null,null,"Total Points",{"$f":"SUM(AJ16:AJ19)","v":0},null,null,null,null,"Total Points",{"$f":"SUM(AP16:AP19)","v":0},null,null,null,null,"Total Points",{"$f":"SUM(AV16:AV19)","v":0},null,null,null,null,"Total Points",{"$f":"SUM(BB16:BB19)","v":0},null,null,null,null,"Total Points",{"$f":"SUM(BH16:BH19)","v":0},null,null,null,null,"Total Points",{"$f":"SUM(BN16:BN19)","v":0},null,null,null,null,"Total Points",{"$f":"SUM(BT16:BT19)","v":0},null,null,null,null,"Total Points",{"$f":"SUM(BZ16:BZ19)","v":0},null,null,null,null,"Total Points",{"$f":"SUM(CF16:CF19)","v":0},null,null,null,null,"Total Points",{"$f":"SUM(CL16:CL19)","v":0}]
[]
[null,null,null,null,"Handicap",{"$f":"IF(D16=0,0,E16-C16)","v":0},null,null,null,null,"Handicap",{"$f":"IF(J16=0,0,K16-I16)","v":0},null,null,null,null,"Handicap",{"$f":"IF(P16=0,0,Q16-O16)","v":0},null,null,null,null,"Handicap",{"$f":"IF(V16=0,0,W16-U16)","v":0},null,null,null,null,"Handicap",{"$f":"IF(AB16=0,0,AC16-AA16)","v":0},null,null,null,null,"Handicap",{"$f":"IF(AH16=0,0,AI16-AG16)","v":0},null,null,null,null,"Handicap",{"$f":"IF(AN16=0,0,AO16-AM16)","v":0},null,null,null,null,"Handicap",{"$f":"IF(AT16=0,0,AU16-AS16)","v":0},null,null,null,null,"Handicap",{"$f":"IF(AZ16=0,0,BA16-AY16)","v":0},null,null,null,null,"Handicap",{"$f":"IF(BF16=0,0,BG16-BE16)","v":0},null,null,null,null,"Handicap",{"$f":"IF(BL16=0,0,BM16-BK16)","v":0},null,null,null,null,"Handicap",{"$f":"IF(BR16=0,0,BS16-BQ16)","v":0},null,null,null,null,"Handicap",{"$f":"IF(BX16=0,0,BY16-BW16)","v":0},null,null,null,null,"Handicap",{"$f":"IF(CD16=0,0,CE16-CC16)","v":0},null,null,null,null,"Handicap",{"$f":"IF(CJ16=0,0,CK16-CI16)","v":0}]
[]
[null,null,null,null,null,{"$f":"IF(D16<>0,IF(F16>4.5,\"W\",IF(F16=4.5,\"T\",IF(F16<4.5,\"L\"))),0)","v":0},null,null,null,null,null,{"$f":"IF(J16<>0,IF(L16>4.5,\"W\",IF(L16=4.5,\"T\",IF(L16<4.5,\"L\"))),0)","v":0},null,null,null,null,null,{"$f":"IF(P16<>0,IF(R16>4.5,\"W\",IF(R16=4.5,\"T\",IF(R16<4.5,\"L\"))),0)","v":0},null,null,null,null,null,{"$f":"IF(V16<>0,IF(X16>4.5,\"W\",IF(X16=4.5,\"T\",IF(X16<4.5,\"L\"))),0)","v":0},null,null,null,null,null,{"$f":"IF(AB16<>0,IF(AD16>4.5,\"W\",IF(AD16=4.5,\"T\",IF(AD16<4.5,\"L\"))),0)","v":0},null,null,null,null,null,{"$f":"IF(AH16<>0,IF(AJ16>4.5,\"W\",IF(AJ16=4.5,\"T\",IF(AJ16<4.5,\"L\"))),0)","v":0},null,null,null,null,null,{"$f":"IF(AN16<>0,IF(AP16>4.5,\"W\",IF(AP16=4.5,\"T\",IF(AP16<4.5,\"L\"))),0)","v":0},null,null,null,null,null,{"$f":"IF(AT16<>0,IF(AV16>4.5,\"W\",IF(AV16=4.5,\"T\",IF(AV16<4.5,\"L\"))),0)","v":0},null,null,null,null,null,{"$f":"IF(AZ16<>0,IF(BB16>4.5,\"W\",IF(BB16=4.5,\"T\",IF(BB16<4.5,\"L\"))),0)","v":0},null,null,null,null,null,{"$f":"IF(BF16<>0,IF(BH16>4.5,\"W\",IF(BH16=4.5,\"T\",IF(BH16<4.5,\"L\"))),0)","v":0},null,null,null,null,null,{"$f":"IF(BL16<>0,IF(BN16>4.5,\"W\",IF(BN16=4.5,\"T\",IF(BN16<4.5,\"L\"))),0)","v":0},null,null,null,null,null,{"$f":"IF(BR16<>0,IF(BT16>4.5,\"W\",IF(BT16=4.5,\"T\",IF(BT16<4.5,\"L\"))),0)","v":0},null,null,null,null,null,{"$f":"IF(BX16<>0,IF(BZ16>4.5,\"W\",IF(BZ16=4.5,\"T\",IF(BZ16<4.5,\"L\"))),0)","v":0},null,null,null,null,null,{"$f":"IF(CD16<>0,IF(CF16>4.5,\"W\",IF(CF16=4.5,\"T\",IF(CF16<4.5,\"L\"))),0)","v":0},null,null,null,null,null,{"$f":"IF(CJ16<>0,IF(CL16>4.5,\"W\",IF(CL16=4.5,\"T\",IF(CL16<4.5,\"L\"))),0)","v":0}]
[]
[null,"Summary"]
[null,null,null,"Adj",null,"Adj",null,null,null,"Avg Score"]
[null,null,"Points","Points","Matches","Matches",null,null,"Hole #","by Hole","Best","Worst"]
[null,"Week #1",{"$f":"F20","v":0},{"$f":"C29","v":0},{"$f":"IF(D16>0,1,0)","v":0},{"$f":"E29","v":0},null,null,1,{"$f":"IFERROR(AVERAGE(D7),0)","v":0},{"$f":"IFERROR(MIN(J7,V7,AH7,AT7,BF7,BR7,BX7,CJ7),0)","v":0},{"$f":"IFERROR(MAX(J7,V7,AH7,AT7,BF7,BR7,BX7,CJ7),0)","v":0}]
[null,"Week #2",{"$f":"L20","v":0},0,{"$f":"IF(J16>0,1,0)","v":0},0,null,null,2,{"$f":"IFERROR(AVERAGE(D8),0)","v":0},{"$f":"IFERROR(MIN(J8,V8,AH8,AT8,BF8,BR8,BX8,CJ8),0)","v":0},{"$f":"IFERROR(MAX(J8,V8,AH8,AT8,BF8,BR8,BX8,CJ8),0)","v":0}]
[null,"Week #3",{"$f":"R20","v":0},0,{"$f":"IF(P16>0,1,0)","v":0},0,null,null,3,0,0,0]
[null,"Week #4",{"$f":"X20","v":0},0,{"$f":"IF(V16>0,1,0)","v":0},0,null,null,4,0,0,0]
[null,"Week #5",{"$f":"AD20","v":0},0,{"$f":"IF(AB16>0,1,0)","v":0},0,null,null,5,0,0,0]
[null,"Week #6",{"$f":"AJ20","v":0},0,{"$f":"IF(AH16>0,1,0)","v":0},0,null,null,6,0,0,0]
[null,"Week #7",{"$f":"AP20","v":0},0,{"$f":"IF(AN16>0,1,0)","v":0},0,null,null,7,0,0,0]
[null,"Week #8",{"$f":"AV20","v":0},0,{"$f":"IF(AT16>0,1,0)","v":0},0,null,null,8,0,0,0]
[null,"Week #9",{"$f":"BB20","v":0},0,{"$f":"IF(AZ16>0,1,0)","v":0},0,null,null,9,0,0,0]
[null,"Week #10",{"$f":"BH20","v":0},0,{"$f":"IF(BF16>0,1,0)","v":0},0,null,null,"Front",{"$f":"SUM(J29:J37)","v":0},{"$f":"SUM(K29:K37)","v":0},0]
[null,"Week #11",{"$f":"BN20","v":0},0,{"$f":"IF(BL16>0,1,0)","v":0},0]
[null,"Week #12",{"$f":"BT20","v":0},0,{"$f":"IF(BR16>0,1,0)","v":0},0,null,null,10,{"$f":"IFERROR(AVERAGE(J7),0)","v":0},{"$f":"IFERROR(MIN(D7,P7,AB7,AN7,AZ7,BL7,CD7),0)","v":0},{"$f":"IFERROR(MAX(D7,P7,AB7,AN7,AZ7,BL7,CD7),0)","v":0}]
[null,"Week #13",{"$f":"BZ20","v":0},0,{"$f":"IF(BX16>0,1,0)","v":0},0,null,null,11,{"$f":"IFERROR(AVERAGE(J8),0)","v":0},{"$f":"IFERROR(MIN(D8,P8,AB8,AN8,AZ8,BL8,CD8),0)","v":0},{"$f":"IFERROR(MAX(D8,P8,AB8,AN8,AZ8,BL8,CD8),0)","v":0}]
[null,"Week #14",{"$f":"CF20","v":0},0,{"$f":"IF(CD16>0,1,0)","v":0},0,null,null,12,0,0,0]
[null,"Week #15",{"$f":"CL20","v":0},0,{"$f":"IF(CJ16>0,1,0)","v":0},0,null,null,13,0,0,0]
[null,"Total",{"$f":"SUM(C29:C43)","v":0},{"$f":"SUM(D29:D43)","v":0},{"$f":"SUM(E29:E43)","v":0},{"$f":"SUM(F29:F43)","v":0},null,null,14,0,0,0]
[null,null,null,null,null,null,null,null,15,0,0,0]
[null,"Summary",null,null,null,null,null,null,16,0,0,0]
[null,"Eagles",{"$f":"I57+I68+I79+I90+I101+I112+I123+I134+I145+I156+I167+I178+I189+I200+I211","v":0},null,null,null,null,null,17,0,0,0]
[null,"Birdies",0,null,null,null,null,null,18,0,0,0]
[null,"Pars",{"$f":"I59+I70+I81+I92+I103+I114+I125+I136+I147+I158+I169+I180+I191+I202+I213","v":0},null,null,null,null,null,"Back",{"$f":"SUM(J40:J48)","v":0},{"$f":"SUM(K40:K48)","v":0},0]
[null,"bogeys",0]
[null,"Double bogeys",0]
[null,"Other",0]
[null,"Total",{"$f":"SUM(C47:C52)","v":0}]
[]
[null,{"$f":"D4","v":"2025-04-25"},"Par","Score"]
[null,{"$f":"B7","v":1},4,0,{"$f":"IF(D56<>0,IF((D56-C56)=-1,\"Birdie\",IF((D56-C56)=-2,\"Eagle\",IF((D56-C56)=0,\"Par\",IF((D56-C56)=1,\"bogey\",IF((D56-C56)=2,\"Double bogey\",\"Other\"))))),\"  \")","v":"  "},null,null,"Count"]
[null,2,4,0,"  ",null,null,"Eagle",{"$f":"COUNTIF(E56:E64,\"Eagle\")","v":0}]
[null,3,4,0,"  ",null,null,"Birdie",{"$f":"COUNTIF(E56:E64,\"Birdie\")","v":0}]
[null,4,4,0,"  ",null,null,"Par",{"$f":"COUNTIF(E56:E64,\"Par\")","v":0}]
[null,5,3,0,"  ",null,null,"bogey",{"$f":"COUNTIF(E56:E64,\"bogey\")","v":0}]
[null,6,4,0,"  ",null,null,"Double bogey",{"$f":"COUNTIF(E56:E64,\"Double bogey\")","v":0}]
[null,7,4,0,"  ",null,null,"Other",{"$f":"COUNTIF(E56:E64,\"Other\")","v":0}]
[null,8,3,0,"  "]
[null,9,5,0,"  "]
[]
[null,{"$f":"J4","v":"2025-05-02"}]
[null,{"$f":"H7","v":10},4,0,{"$f":"IF(D67<>0,IF((D67-C67)=-1,\"Birdie\",IF((D67-C67)=-2,\"Eagle\",IF((D67-C67)=0,\"Par\",IF((D67-C67)=1,\"bogey\",IF((D67-C67)=2,\"Double bogey\",\"Other\"))))),\"  \")","v":"  "},null,null,"Count"]
[null,11,4,0,"  ",null,null,"Eagle",{"$f":"COUNTIF(E67:E75,\"Eagle\")","v":0}]
[null,12,3,0,"  ",null,null,"Birdie",{"$f":"COUNTIF(E67:E75,\"Birdie\")","v":0}]
[null,13,4,0,"  ",null,null,"Par",{"$f":"COUNTIF(E67:E75,\"Par\")","v":0}]
[null,14,4,0,"  ",null,null,"bogey",{"$f":"COUNTIF(E67:E75,\"bogey\")","v":0}]
[null,15,3,0,"  ",null,null,"Double bogey",{"$f":"COUNTIF(E67:E75,\"Double bogey\")","v":0}]
[null,16,5,0,"  ",null,null,"Other",{"$f":"COUNTIF(E67:E75,\"Other\")","v":0}]
[null,17,4,0,"  "]
[null,18,5,0,"  "]
[]
[null,{"$f":"P4","v":"2025-05-09"}]
[null,{"$f":"N7","v":1},4,0,{"$f":"IF(D78<>0,IF((D78-C78)=-1,\"Birdie\",IF((D78-C78)=-2,\"Eagle\",IF((D78-C78)=0,\"Par\",IF((D78-C78)=1,\"bogey\",IF((D78-C78)=2,\"Double bogey\",\"Other\"))))),\"  \")","v":"  "},null,null,"Count"]
[null,2,4,0,"  ",null,null,"Eagle",{"$f":"COUNTIF(E78:E86,\"Eagle\")","v":0}]
[null,3,4,0,"  ",null,null,"Birdie",{"$f":"COUNTIF(E78:E86,\"Birdie\")","v":0}]
[null,4,4,0,"  ",null,null,"Par",{"$f":"COUNTIF(E78:E86,\"Par\")","v":0}]
[null,5,3,0,"  ",null,null,"bogey",{"$f":"COUNTIF(E78:E86,\"bogey\")","v":0}]
[null,6,4,0,"  ",null,null,"Double bogey",{"$f":"COUNTIF(E78:E86,\"Double bogey\")","v":0}]
[null,7,4,0,"  ",null,null,"Other",{"$f":"COUNTIF(E78:E86,\"Other\")","v":0}]
[null,8,3,0,"  "]
[null,9,5,0,"  "]
[]
[null,{"$f":"V4","v":"2025-05-16"}]
[null,{"$f":"T7","v":10},4,0,{"$f":"IF(D89<>0,IF((D89-C89)=-1,\"Birdie\",IF((D89-C89)=-2,\"Eagle\",IF((D89-C89)=0,\"Par\",IF((D89-C89)=1,\"bogey\",IF((D89-C89)=2,\"Double bogey\",\"Other\"))))),\"  \")","v":"  "},null,null,"Count"]
[null,11,4,0,"  ",null,null,"Eagle",{"$f":"COUNTIF(E89:E97,\"Eagle\")","v":0}]
[null,12,3,0,"  ",null,null,"Birdie",{"$f":"COUNTIF(E89:E97,\"Birdie\")","v":0}]
[null,13,4,0,"  ",null,null,"Par",{"$f":"COUNTIF(E89:E97,\"Par\")","v":0}]
[null,14,4,0,"  ",null,null,"bogey",{"$f":"COUNTIF(E89:E97,\"bogey\")","v":0}]
[null,15,3,0,"  ",null,null,"Double bogey",{"$f":"COUNTIF(E89:E97,\"Double bogey\")","v":0}]
[null,16,5,0,"  ",null,null,"Other",{"$f":"COUNTIF(E89:E97,\"Other\")","v":0}]
[null,17,4,0,"  "]
[null,18,5,0,"  "]
[]
[null,{"$f":"AB4","v":"2025-05-23"}]
[null,{"$f":"Z7","v":1},4,0,{"$f":"IF(D100<>0,IF((D100-C100)=-1,\"Birdie\",IF((D100-C100)=-2,\"Eagle\",IF((D100-C100)=0,\"Par\",IF((D100-C100)=1,\"bogey\",IF((D100-C100)=2,\"Double bogey\",\"Other\"))))),\"  \")","v":"  "},null,null,"Count"]
[null,2,4,0,"  ",null,null,"Eagle",{"$f":"COUNTIF(E100:E108,\"Eagle\")","v":0}]
[null,3,4,0,"  ",null,null,"Birdie",{"$f":"COUNTIF(E100:E108,\"Birdie\")","v":0}]
[null,4,4,0,"  ",null,null,"Par",{"$f":"COUNTIF(E100:E108,\"Par\")","v":0}]
[null,5,3,0,"  ",null,null,"bogey",{"$f":"COUNTIF(E100:E108,\"bogey\")","v":0}]
[null,6,4,0,"  ",null,null,"Double bogey",{"$f":"COUNTIF(E100:E108,\"Double bogey\")","v":0}]
[null,7,4,0,"  ",null,null,"Other",{"$f":"COUNTIF(E100:E108,\"Other\")","v":0}]
[null,8,3,0,"  "]
[null,9,5,0,"  "]
[]
[null,{"$f":"AH4","v":"2025-05-30"}]
[null,{"$f":"AF7","v":10},4,0,{"$f":"IF(D111<>0,IF((D111-C111)=-1,\"Birdie\",IF((D111-C111)=-2,\"Eagle\",IF((D111-C111)=0,\"Par\",IF((D111-C111)=1,\"bogey\",IF((D111-C111)=2,\"Double bogey\",\"Other\"))))),\"  \")","v":"  "},null,null,"Count"]
[null,11,4,0,"  ",null,null,"Eagle",{"$f":"COUNTIF(E111:E119,\"Eagle\")","v":0}]
[null,12,3,0,"  ",null,null,"Birdie",{"$f":"COUNTIF(E111:E119,\"Birdie\")","v":0}]
[null,13,4,0,"  ",null,null,"Par",{"$f":"COUNTIF(E111:E119,\"Par\")","v":0}]
[null,14,4,0,"  ",null,null,"bogey",{"$f":"COUNTIF(E111:E119,\"bogey\")","v":0}]
[null,15,3,0,"  ",null,null,"Double bogey",{"$f":"COUNTIF(E111:E119,\"Double bogey\")","v":0}]
[null,16,5,0,"  ",null,null,"Other",{"$f":"COUNTIF(E111:E119,\"Other\")","v":0}]
[null,17,4,0,"  "]
[null,18,5,0,"  "]
[]
[null,{"$f":"AN4","v":"2025-06-06"}]
[null,{"$f":"AL7","v":1},4,0,{"$f":"IF(D122<>0,IF((D122-C122)=-1,\"Birdie\",IF((D122-C122)=-2,\"Eagle\",IF((D122-C122)=0,\"Par\",IF((D122-C122)=1,\"bogey\",IF((D122-C122)=2,\"Double bogey\",\"Other\"))))),\"  \")","v":"  "},null,null,"Count"]
[null,2,4,0,"  ",null,null,"Eagle",{"$f":"COUNTIF(E122:E130,\"Eagle\")","v":0}]
[null,3,4,0,"  ",null,null,"Birdie",{"$f":"COUNTIF(E122:E130,\"Birdie\")","v":0}]
[null,4,4,0,"  ",null,null,"Par",{"$f":"COUNTIF(E122:E130,\"Par\")","v":0}]
[null,5,3,0,"  ",null,null,"bogey",{"$f":"COUNTIF(E122:E130,\"bogey\")","v":0}]
[null,6,4,0,"  ",null,null,"Double bogey",{"$f":"COUNTIF(E122:E130,\"Double bogey\")","v":0}]
[null,7,4,0,"  ",null,null,"Other",{"$f":"COUNTIF(E122:E130,\"Other\")","v":0}]
[null,8,3,0,"  "]
[null,9,5,0,"  "]
[]
[null,{"$f":"AT4","v":"2025-06-13"}]
[null,{"$f":"AR7","v":10},4,0,{"$f":"IF(D133<>0,IF((D133-C133)=-1,\"Birdie\",IF((D133-C133)=-2,\"Eagle\",IF((D133-C133)=0,\"Par\",IF((D133-C133)=1,\"bogey\",IF((D133-C133)=2,\"Double bogey\",\"Other\"))))),\"  \")","v":"  "},null,null,"Count"]
[null,11,4,0,"  ",null,null,"Eagle",{"$f":"COUNTIF(E133:E141,\"Eagle\")","v":0}]
[null,12,3,0,"  ",null,null,"Birdie",{"$f":"COUNTIF(E133:E141,\"Birdie\")","v":0}]
[null,13,4,0,"  ",null,null,"Par",{"$f":"COUNTIF(E133:E141,\"Par\")","v":0}]
[null,14,4,0,"  ",null,null,"bogey",{"$f":"COUNTIF(E133:E141,\"bogey\")","v":0}]
[null,15,3,0,"  ",null,null,"Double bogey",{"$f":"COUNTIF(E133:E141,\"Double bogey\")","v":0}]
[null,16,5,0,"  ",null,null,"Other",{"$f":"COUNTIF(E133:E141,\"Other\")","v":0}]
[null,17,4,0,"  "]
[null,18,5,0,"  "]
[]
[null,{"$f":"AZ4","v":"2025-06-27"}]
[null,{"$f":"AX7","v":10},4,0,{"$f":"IF(D144<>0,IF((D144-C144)=-1,\"Birdie\",IF((D144-C144)=-2,\"Eagle\",IF((D144-C144)=0,\"Par\",IF((D144-C144)=1,\"bogey\",IF((D144-C144)=2,\"Double bogey\",\"Other\"))))),\"  \")","v":"  "},null,null,"Count"]
[null,11,4,0,"  ",null,null,"Eagle",{"$f":"COUNTIF(E144:E152,\"Eagle\")","v":0}]
[null,12,3,0,"  ",null,null,"Birdie",{"$f":"COUNTIF(E144:E152,\"Birdie\")","v":0}]
[null,13,4,0,"  ",null,null,"Par",{"$f":"COUNTIF(E144:E152,\"Par\")","v":0}]
[null,14,4,0,"  ",null,null,"bogey",{"$f":"COUNTIF(E144:E152,\"bogey\")","v":0}]
[null,15,3,0,"  ",null,null,"Double bogey",{"$f":"COUNTIF(E144:E152,\"Double bogey\")","v":0}]
[null,16,5,0,"  ",null,null,"Other",{"$f":"COUNTIF(E144:E152,\"Other\")","v":0}]
[null,17,4,0,"  "]
[null,18,5,0,"  "]
[]
[null,{"$f":"BF4","v":"2025-07-04"}]
[null,{"$f":"BD7","v":10},4,0,{"$f":"IF(D155<>0,IF((D155-C155)=-1,\"Birdie\",IF((D155-C155)=-2,\"Eagle\",IF((D155-C155)=0,\"Par\",IF((D155-C155)=1,\"bogey\",IF((D155-C155)=2,\"Double bogey\",\"Other\"))))),\"  \")","v":"  "},null,null,"Count"]
[null,11,4,0,"  ",null,null,"Eagle",{"$f":"COUNTIF(E155:E163,\"Eagle\")","v":0}]
[null,12,3,0,"  ",null,null,"Birdie",{"$f":"COUNTIF(E155:E163,\"Birdie\")","v":0}]
[null,13,4,0,"  ",null,null,"Par",{"$f":"COUNTIF(E155:E163,\"Par\")","v":0}]
[null,14,4,0,"  ",null,null,"bogey",{"$f":"COUNTIF(E155:E163,\"bogey\")","v":0}]
[null,15,3,0,"  ",null,null,"Double bogey",{"$f":"COUNTIF(E155:E163,\"Double bogey\")","v":0}]
[null,16,5,0,"  ",null,null,"Other",{"$f":"COUNTIF(E155:E163,\"Other\")","v":0}]
[null,17,4,0,"  "]
[null,18,5,0,"  "]
[]
[null,{"$f":"BL4","v":"2025-07-18"}]
[null,{"$f":"BJ7","v":10},4,0,{"$f":"IF(D166<>0,IF((D166-C166)=-1,\"Birdie\",IF((D166-C166)=-2,\"Eagle\",IF((D166-C166)=0,\"Par\",IF((D166-C166)=1,\"bogey\",IF((D166-C166)=2,\"Double bogey\",\"Other\"))))),\"  \")","v":"  "},null,null,"Count"]
[null,11,4,0,"  ",null,null,"Eagle",{"$f":"COUNTIF(E166:E174,\"Eagle\")","v":0}]
[null,12,3,0,"  ",null,null,"Birdie",{"$f":"COUNTIF(E166:E174,\"Birdie\")","v":0}]
[null,13,4,0,"  ",null,null,"Par",{"$f":"COUNTIF(E166:E174,\"Par\")","v":0}]
[null,14,4,0,"  ",null,null,"bogey",{"$f":"COUNTIF(E166:E174,\"bogey\")","v":0}]
[null,15,3,0,"  ",null,null,"Double bogey",{"$f":"COUNTIF(E166:E174,\"Double bogey\")","v":0}]
[null,16,5,0,"  ",null,null,"Other",{"$f":"COUNTIF(E166:E174,\"Other\")","v":0}]
[null,17,4,0,"  "]
[null,18,5,0,"  "]
[]
[null,{"$f":"BR4","v":"2025-07-25"}]
[null,{"$f":"BP7","v":1},4,0,{"$f":"IF(D177<>0,IF((D177-C177)=-1,\"Birdie\",IF((D177-C177)=-2,\"Eagle\",IF((D177-C177)=0,\"Par\",IF((D177-C177)=1,\"bogey\",IF((D177-C177)=2,\"Double bogey\",\"Other\"))))),\"  \")","v":"  "},null,null,"Count"]
[null,2,4,0,"  ",null,null,"Eagle",{"$f":"COUNTIF(E177:E185,\"Eagle\")","v":0}]
[null,3,4,0,"  ",null,null,"Birdie",{"$f":"COUNTIF(E177:E185,\"Birdie\")","v":0}]
[null,4,4,0,"  ",null,null,"Par",{"$f":"COUNTIF(E177:E185,\"Par\")","v":0}]
[null,5,3,0,"  ",null,null,"bogey",{"$f":"COUNTIF(E177:E185,\"bogey\")","v":0}]
[null,6,4,0,"  ",null,null,"Double bogey",{"$f":"COUNTIF(E177:E185,\"Double bogey\")","v":0}]
[null,7,4,0,"  ",null,null,"Other",{"$f":"COUNTIF(E177:E185,\"Other\")","v":0}]
[null,8,3,0,"  "]
[null,9,5,0,"  "]
[]
[null,{"$f":"BX4","v":"2025-08-01"}]
[null,{"$f":"BV7","v":10},4,0,{"$f":"IF(D188<>0,IF((D188-C188)=-1,\"Birdie\",IF((D188-C188)=-2,\"Eagle\",IF((D188-C188)=0,\"Par\",IF((D188-C188)=1,\"bogey\",IF((D188-C188)=2,\"Double bogey\",\"Other\"))))),\"  \")","v":"  "},null,null,"Count"]
[null,11,4,0,"  ",null,null,"Eagle",{"$f":"COUNTIF(E188:E196,\"Eagle\")","v":0}]
[null,12,3,0,"  ",null,null,"Birdie",{"$f":"COUNTIF(E188:E196,\"Birdie\")","v":0}]
[null,13,4,0,"  ",null,null,"Par",{"$f":"COUNTIF(E188:E196,\"Par\")","v":0}]
[null,14,4,0,"  ",null,null,"bogey",{"$f":"COUNTIF(E188:E196,\"bogey\")","v":0}]
[null,15,3,0,"  ",null,null,"Double bogey",{"$f":"COUNTIF(E188:E196,\"Double bogey\")","v":0}]
[null,16,5,0,"  ",null,null,"Other",{"$f":"COUNTIF(E188:E196,\"Other\")","v":0}]
[null,17,4,0,"  "]
[null,18,5,0,"  "]
[]
[null,{"$f":"CD4","v":"2025-08-08"}]
[null,{"$f":"CB7","v":1},4,0,{"$f":"IF(D199<>0,IF((D199-C199)=-1,\"Birdie\",IF((D199-C199)=-2,\"Eagle\",IF((D199-C199)=0,\"Par\",IF((D199-C199)=1,\"bogey\",IF((D199-C199)=2,\"Double bogey\",\"Other\"))))),\"  \")","v":"  "},null,null,"Count"]
[null,2,4,0,"  ",null,null,"Eagle",{"$f":"COUNTIF(E199:E207,\"Eagle\")","v":0}]
[null,3,4,0,"  ",null,null,"Birdie",{"$f":"COUNTIF(E199:E207,\"Birdie\")","v":0}]
[null,4,4,0,"  ",null,null,"Par",{"$f":"COUNTIF(E199:E207,\"Par\")","v":0}]
[null,5,3,0,"  ",null,null,"bogey",{"$f":"COUNTIF(E199:E207,\"bogey\")","v":0}]
[null,6,4,0,"  ",null,null,"Double bogey",{"$f":"COUNTIF(E199:E207,\"Double bogey\")","v":0}]
[null,7,4,0,"  ",null,null,"Other",{"$f":"COUNTIF(E199:E207,\"Other\")","v":0}]
[null,8,3,0,"  "]
[null,9,5,0,"  "]
[]
[null,{"$f":"CJ4","v":"2025-08-15"}]
[null,{"$f":"CH7","v":10},4,0,{"$f":"IF(D210<>0,IF((D210-C210)=-1,\"Birdie\",IF((D210-C210)=-2,\"Eagle\",IF((D210-C210)=0,\"Par\",IF((D210-C210)=1,\"bogey\",IF((D210-C210)=2,\"Double bogey\",\"Other\"))))),\"  \")","v":"  "},null,null,"Count"]
[null,11,4,0,"  ",null,null,"Eagle",{"$f":"COUNTIF(E210:E218,\"Eagle\")","v":0}]
[null,12,3,0,"  ",null,null,"Birdie",{"$f":"COUNTIF(E210:E218,\"Birdie\")","v":0}]
[null,13,4,0,"  ",null,null,"Par",{"$f":"COUNTIF(E210:E218,\"Par\")","v":0}]
[null,14,4,0,"  ",null,null,"bogey",{"$f":"COUNTIF(E210:E218,\"bogey\")","v":0}]
[null,15,3,0,"  ",null,null,"Double bogey",{"$f":"COUNTIF(E210:E218,\"Double bogey\")","v":0}]
[null,16,5,0,"  ",null,null,"Other",{"$f":"COUNTIF(E210:E218,\"Other\")","v":0}]
[null,17,4,0,"  "]
[null,18,5,0,"  "]

{"sheet":"Linton","index":11,"n_rows":218,"n_cols":90,"rows_kept":218,"cut":false,"hidden":false,"merged":[]}
["Andy Linton"]
[]
[]
[null,null,"Date:",{"$f":"VLOOKUP(C5,Week,2)","v":"2025-04-25"},null,null,null,null,"Date:",{"$f":"VLOOKUP(I5,Week,2)","v":"2025-05-02"},null,null,null,null,"Date:",{"$f":"VLOOKUP(O5,Week,2)","v":"2025-05-09"},null,null,null,null,"Date:",{"$f":"VLOOKUP(U5,Week,2)","v":"2025-05-16"},null,null,null,null,"Date:",{"$f":"VLOOKUP(AA5,Week,2)","v":"2025-05-23"},null,null,null,null,"Date:",{"$f":"VLOOKUP(AG5,Week,2)","v":"2025-05-30"},null,null,null,null,"Date:",{"$f":"VLOOKUP(AM5,Week,2)","v":"2025-06-06"},null,null,null,null,"Date:",{"$f":"VLOOKUP(AS5,Week,2)","v":"2025-06-13"},null,null,null,null,"Date:",{"$f":"VLOOKUP(AY5,Week,2)","v":"2025-06-27"},null,null,null,null,"Date:",{"$f":"VLOOKUP(BE5,Week,2)","v":"2025-07-04"},null,null,null,null,"Date:",{"$f":"VLOOKUP(BK5,Week,2)","v":"2025-07-18"},null,null,null,null,"Date:",{"$f":"VLOOKUP(BQ5,Week,2)","v":"2025-07-25"},null,null,null,null,"Date:",{"$f":"VLOOKUP(BW5,Week,2)","v":"2025-08-01"},null,null,null,null,"Date:",{"$f":"VLOOKUP(CC5,Week,2)","v":"2025-08-08"},null,null,null,null,"Date:",{"$f":"VLOOKUP(CI5,Week,2)","v":"2025-08-15"}]
[null,"Week",1,null,null,null,null,"Week",2,null,null,null,null,"Week",3,null,null,null,null,"Week",4,null,null,null,null,"Week",5,null,null,null,null,"Week",6,null,null,null,null,"Week",7,null,null,null,null,"Week",8,null,null,null,null,"Week",9,null,null,null,null,"Week",10,null,null,null,null,"Week",11,null,null,null,null,"Week",12,null,null,null,null,"Week",13,null,null,null,null,"Week",14,null,null,null,null,"Week",15]
[null,"Hole #","Par","Score","Net","Win Hole",null,"Hole #","Par","Score","Net","Win Hole",null,"Hole #","Par","Score","Net","Win Hole",null,"Hole #","Par","Score","Net","Win Hole",null,"Hole #","Par","Score","Net","Win Hole",null,"Hole #","Par","Score","Net","Win Hole",null,"Hole #","Par","Score","Net","Win Hole",null,"Hole #","Par","Score","Net","Win Hole",null,"Hole #","Par","Score","Net","Win Hole",null,"Hole #","Par","Score","Net","Win Hole",null,"Hole #","Par","Score","Net","Win Hole",null,"Hole #","Par","Score","Net","Win Hole",null,"Hole #","Par","Score","Net","Win Hole",null,"Hole #","Par","Score","Net","Win Hole",null,"Hole #","Par","Score","Net","Win Hole"]
[null,{"$f":"VLOOKUP(C5,Week,6)","v":1},{"$f":"VLOOKUP(B7,Holes,2)","v":4},null,{"$f":"IF((D7-C7)>3,C7+3,D7)","v":0},null,null,{"$f":"VLOOKUP(I5,Week,6)","v":10},{"$f":"VLOOKUP(H7,Holes,2)","v":4},null,{"$f":"IF((J7-I7)>3,I7+3,J7)","v":0},null,null,{"$f":"VLOOKUP(O5,Week,6)","v":1},{"$f":"VLOOKUP(N7,Holes,2)","v":4},null,{"$f":"IF((P7-O7)>3,O7+3,P7)","v":0},null,null,{"$f":"VLOOKUP(U5,Week,6)","v":10},{"$f":"VLOOKUP(T7,Holes,2)","v":4},null,{"$f":"IF((V7-U7)>3,U7+3,V7)","v":0},null,null,{"$f":"VLOOKUP(AA5,Week,6)","v":1},{"$f":"VLOOKUP(Z7,Holes,2)","v":4},null,{"$f":"IF((AB7-AA7)>3,AA7+3,AB7)","v":0},null,null,{"$f":"VLOOKUP(AG5,Week,6)","v":10},{"$f":"VLOOKUP(AF7,Holes,2)","v":4},null,{"$f":"IF((AH7-AG7)>3,AG7+3,AH7)","v":0},null,null,{"$f":"VLOOKUP(AM5,Week,6)","v":1},{"$f":"VLOOKUP(AL7,Holes,2)","v":4},null,{"$f":"IF((AN7-AM7)>3,AM7+3,AN7)","v":0},null,null,{"$f":"VLOOKUP(AS5,Week,6)","v":10},{"$f":"VLOOKUP(AR7,Holes,2)","v":4},null,{"$f":"IF((AT7-AS7)>3,AS7+3,AT7)","v":0},null,null,{"$f":"VLOOKUP(AY5,Week,6)","v":10},{"$f":"VLOOKUP(AX7,Holes,2)","v":4},null,{"$f":"IF((AZ7-AY7)>3,AY7+3,AZ7)","v":0},null,null,{"$f":"VLOOKUP(BE5,Week,6)","v":10},{"$f":"VLOOKUP(BD7,Holes,2)","v":4},null,{"$f":"IF((BF7-BE7)>3,BE7+3,BF7)","v":0},null,null,{"$f":"VLOOKUP(BK5,Week,6)","v":10},{"$f":"VLOOKUP(BJ7,Holes,2)","v":4},null,{"$f":"IF((BL7-BK7)>3,BK7+3,BL7)","v":0},null,null,{"$f":"VLOOKUP(BQ5,Week,6)","v":1},{"$f":"VLOOKUP(BP7,Holes,2)","v":4},null,{"$f":"IF((BR7-BQ7)>3,BQ7+3,BR7)","v":0},null,null,{"$f":"VLOOKUP(BW5,Week,6)","v":10},{"$f":"VLOOKUP(BV7,Holes,2)","v":4},null,{"$f":"IF((BX7-BW7)>3,BW7+3,BX7)","v":0},null,null,{"$f":"VLOOKUP(CC5,Week,6)","v":1},{"$f":"VLOOKUP(CB7,Holes,2)","v":4},null,{"$f":"IF((CD7-CC7)>3,CC7+3,CD7)","v":0},null,null,{"$f":"VLOOKUP(CI5,Week,6)","v":10},{"$f":"VLOOKUP(CH7,Holes,2)","v":4},null,{"$f":"IF((CJ7-CI7)>3,CI7+3,CJ7)","v":0}]
[null,{"$f":"+B7+1","v":2},4,null,0,null,null,{"$f":"+H7+1","v":11},4,null,0,null,null,{"$f":"+N7+1","v":2},4,null,0,null,null,{"$f":"+T7+1","v":11},4,null,0,null,null,{"$f":"+Z7+1","v":2},4,null,0,null,null,{"$f":"+AF7+1","v":11},4,null,0,null,null,{"$f":"+AL7+1","v":2},4,null,0,null,null,{"$f":"+AR7+1","v":11},4,null,0,null,null,{"$f":"+AX7+1","v":11},4,null,0,null,null,{"$f":"+BD7+1","v":11},4,null,0,null,null,{"$f":"+BJ7+1","v":11},4,null,0,null,null,{"$f":"+BP7+1","v":2},4,null,0,null,null,{"$f":"+BV7+1","v":11},4,null,0,null,null,{"$f":"+CB7+1","v":2},4,null,0,null,null,{"$f":"+CH7+1","v":11},4,null,0]
[null,3,4,null,0,null,null,12,3,null,0,null,null,3,4,null,0,null,null,12,3,null,0,null,null,3,4,null,0,null,null,12,3,null,0,null,null,3,4,null,0,null,null,12,3,null,0,null,null,12,3,null,0,null,null,12,3,null,0,null,null,12,3,null,0,null,null,3,4,null,0,null,null,12,3,null,0,null,null,3,4,null,0,null,null,12,3,null,0]
[null,4,4,null,0,null,null,13,4,null,0,null,null,4,4,null,0,null,null,13,4,null,0,null,null,4,4,null,0,null,null,13,4,null,0,null,null,4,4,null,0,null,null,13,4,null,0,null,null,13,4,null,0,null,null,13,4,null,0,null,null,13,4,null,0,null,null,4,4,null,0,null,null,13,4,null,0,null,null,4,4,null,0,null,null,13,4,null,0]
[null,5,3,null,0,null,null,14,4,null,0,null,null,5,3,null,0,null,null,14,4,null,0,null,null,5,3,null,0,null,null,14,4,null,0,null,null,5,3,null,0,null,null,14,4,null,0,null,null,14,4,null,0,null,null,14,4,null,0,null,null,14,4,null,0,null,null,5,3,null,0,null,null,14,4,null,0,null,null,5,3,null,0,null,null,14,4,null,0]
[null,6,4,null,0,null,null,15,3,null,0,null,null,6,4,null,0,null,null,15,3,null,0,null,null,6,4,null,0,null,null,15,3,null,0,null,null,6,4,null,0,null,null,15,3,null,0,null,null,15,3,null,0,null,null,15,3,null,0,null,null,15,3,null,0,null,null,6,4,null,0,null,null,15,3,null,0,null,null,6,4,null,0,null,null,15,3,null,0]
[null,7,4,null,0,null,null,16,5,null,0,null,null,7,4,null,0,null,null,16,5,null,0,null,null,7,4,null,0,null,null,16,5,null,0,null,null,7,4,null,0,null,null,16,5,null,0,null,null,16,5,null,0,null,null,16,5,null,0,null,null,16,5,null,0,null,null,7,4,null,0,null,null,16,5,null,0,null,null,7,4,null,0,null,null,16,5,null,0]
[null,8,3,null,0,null,null,17,4,null,0,null,null,8,3,null,0,null,null,17,4,null,0,null,null,8,3,null,0,null,null,17,4,null,0,null,null,8,3,null,0,null,null,17,4,null,0,null,null,17,4,null,0,null,null,17,4,null,0,null,null,17,4,null,0,null,null,8,3,null,0,null,null,17,4,null,0,null,null,8,3,null,0,null,null,17,4,null,0]
[null,9,5,null,0,null,null,18,5,null,0,null,null,9,5,null,0,null,null,18,5,null,0,null,null,9,5,null,0,null,null,18,5,null,0,null,null,9,5,null,0,null,null,18,5,null,0,null,null,18,5,null,0,null,null,18,5,null,0,null,null,18,5,null,0,null,null,9,5,null,0,null,null,18,5,null,0,null,null,9,5,null,0,null,null,18,5,null,0]
[null,"Total",{"$f":"SUM(C7:C15)","v":35},{"$f":"SUM(D7:D15)","v":0},{"$f":"SUM(E7:E15)","v":0},{"$f":"SUM(F7:F15)","v":0},null,"Total",{"$f":"SUM(I7:I15)","v":36},{"$f":"SUM(J7:J15)","v":0},{"$f":"SUM(K7:K15)","v":0},{"$f":"SUM(L7:L15)","v":0},null,"Total",{"$f":"SUM(O7:O15)","v":35},{"$f":"SUM(P7:P15)","v":0},{"$f":"SUM(Q7:Q15)","v":0},{"$f":"SUM(R7:R15)","v":0},null,"Total",{"$f":"SUM(U7:U15)","v":36},{"$f":"SUM(V7:V15)","v":0},{"$f":"SUM(W7:W15)","v":0},{"$f":"SUM(X7:X15)","v":0},null,"Total",{"$f":"SUM(AA7:AA15)","v":35},{"$f":"SUM(AB7:AB15)","v":0},{"$f":"SUM(AC7:AC15)","v":0},{"$f":"SUM(AD7:AD15)","v":0},null,"Total",{"$f":"SUM(AG7:AG15)","v":36},{"$f":"SUM(AH7:AH15)","v":0},{"$f":"SUM(AI7:AI15)","v":0},{"$f":"SUM(AJ7:AJ15)","v":0},null,"Total",{"$f":"SUM(AM7:AM15)","v":35},{"$f":"SUM(AN7:AN15)","v":0},{"$f":"SUM(AO7:AO15)","v":0},{"$f":"SUM(AP7:AP15)","v":0},null,"Total",{"$f":"SUM(AS7:AS15)","v":36},{"$f":"SUM(AT7:AT15)","v":0},{"$f":"SUM(AU7:AU15)","v":0},{"$f":"SUM(AV7:AV15)","v":0},null,"Total",{"$f":"SUM(AY7:AY15)","v":36},{"$f":"SUM(AZ7:AZ15)","v":0},{"$f":"SUM(BA7:BA15)","v":0},{"$f":"SUM(BB7:BB15)","v":0},null,"Total",{"$f":"SUM(BE7:BE15)","v":36},{"$f":"SUM(BF7:BF15)","v":0},{"$f":"SUM(BG7:BG15)","v":0},{"$f":"SUM(BH7:BH15)","v":0},null,"Total",{"$f":"SUM(BK7:BK15)","v":36},{"$f":"SUM(BL7:BL15)","v":0},{"$f":"SUM(BM7:BM15)","v":0},{"$f":"SUM(BN7:BN15)","v":0},null,"Total",{"$f":"SUM(BQ7:BQ15)","v":35},{"$f":"SUM(BR7:BR15)","v":0},{"$f":"SUM(BS7:BS15)","v":0},{"$f":"SUM(BT7:BT15)","v":0},null,"Total",{"$f":"SUM(BW7:BW15)","v":36},{"$f":"SUM(BX7:BX15)","v":0},{"$f":"SUM(BY7:BY15)","v":0},{"$f":"SUM(BZ7:BZ15)","v":0},null,"Total",{"$f":"SUM(CC7:CC15)","v":35},{"$f":"SUM(CD7:CD15)","v":0},{"$f":"SUM(CE7:CE15)","v":0},{"$f":"SUM(CF7:CF15)","v":0},null,"Total",{"$f":"SUM(CI7:CI15)","v":36},{"$f":"SUM(CJ7:CJ15)","v":0},{"$f":"SUM(CK7:CK15)","v":0},{"$f":"SUM(CL7:CL15)","v":0}]
[]
[null,null,null,null,"Low Net",null,null,null,null,null,"Low Net",0,null,null,null,null,"Low Net",0,null,null,null,null,"Low Net",null,null,null,null,null,"Low Net",null,null,null,null,null,"Low Net",null,null,null,null,null,"Low Net",null,null,null,null,null,"Low Net",null,null,null,null,null,"Low Net",null,null,null,null,null,"Low Net",null,null,null,null,null,"Low Net",null,null,null,null,null,"Low Net",null,null,null,null,null,"Low Net",null,null,null,null,null,"Low Net",null,null,null,null,null,"Low Net"]
[]
[null,null,null,null,"Total Points",{"$f":"SUM(F16:F19)","v":0},null,null,null,null,"Total Points",{"$f":"SUM(L16:L19)","v":0},null,null,null,null,"Total Points",{"$f":"SUM(R16:R19)","v":0},null,null,null,null,"Total Points",{"$f":"SUM(X16:X19)","v":0},null,null,null,null,"Total Points",{"$f":"SUM(AD16:AD19)","v":0},null,null,null,null,"Total Points",{"$f":"SUM(AJ16:AJ19)","v":0},null,null,null,null,"Total Points",{"$f":"SUM(AP16:AP19)","v":0},null,null,null,null,"Total Points",{"$f":"SUM(AV16:AV19)","v":0},null,null,null,null,"Total Points",{"$f":"SUM(BB16:BB19)","v":0},null,null,null,null,"Total Points",{"$f":"SUM(BH16:BH19)","v":0},null,null,null,null,"Total Points",{"$f":"SUM(BN16:BN19)","v":0},null,null,null,null,"Total Points",{"$f":"SUM(BT16:BT19)","v":0},null,null,null,null,"Total Points",{"$f":"SUM(BZ16:BZ19)","v":0},null,null,null,null,"Total Points",{"$f":"SUM(CF16:CF19)","v":0},null,null,null,null,"Total Points",{"$f":"SUM(CL16:CL19)","v":0}]
[]
[null,null,null,null,"Handicap",{"$f":"IF(D16=0,0,E16-C16)","v":0},null,null,null,null,"Handicap",{"$f":"IF(J16=0,0,K16-I16)","v":0},null,null,null,null,"Handicap",{"$f":"IF(P16=0,0,Q16-O16)","v":0},null,null,null,null,"Handicap",{"$f":"IF(V16=0,0,W16-U16)","v":0},null,null,null,null,"Handicap",{"$f":"IF(AB16=0,0,AC16-AA16)","v":0},null,null,null,null,"Handicap",{"$f":"IF(AH16=0,0,AI16-AG16)","v":0},null,null,null,null,"Handicap",{"$f":"IF(AN16=0,0,AO16-AM16)","v":0},null,null,null,null,"Handicap",{"$f":"IF(AT16=0,0,AU16-AS16)","v":0},null,null,null,null,"Handicap",{"$f":"IF(AZ16=0,0,BA16-AY16)","v":0},null,null,null,null,"Handicap",{"$f":"IF(BF16=0,0,BG16-BE16)","v":0},null,null,null,null,"Handicap",{"$f":"IF(BL16=0,0,BM16-BK16)","v":0},null,null,null,null,"Handicap",{"$f":"IF(BR16=0,0,BS16-BQ16)","v":0},null,null,null,null,"Handicap",{"$f":"IF(BX16=0,0,BY16-BW16)","v":0},null,null,null,null,"Handicap",{"$f":"IF(CD16=0,0,CE16-CC16)","v":0},null,null,null,null,"Handicap",{"$f":"IF(CJ16=0,0,CK16-CI16)","v":0}]
[]
[null,null,null,null,null,{"$f":"IF(D16<>0,IF(F16>4.5,\"W\",IF(F16=4.5,\"T\",IF(F16<4.5,\"L\"))),0)","v":0},null,null,null,null,null,{"$f":"IF(J16<>0,IF(L16>4.5,\"W\",IF(L16=4.5,\"T\",IF(L16<4.5,\"L\"))),0)","v":0},null,null,null,null,null,{"$f":"IF(P16<>0,IF(R16>4.5,\"W\",IF(R16=4.5,\"T\",IF(R16<4.5,\"L\"))),0)","v":0},null,null,null,null,null,{"$f":"IF(V16<>0,IF(X16>4.5,\"W\",IF(X16=4.5,\"T\",IF(X16<4.5,\"L\"))),0)","v":0},null,null,null,null,null,{"$f":"IF(AB16<>0,IF(AD16>4.5,\"W\",IF(AD16=4.5,\"T\",IF(AD16<4.5,\"L\"))),0)","v":0},null,null,null,null,null,{"$f":"IF(AH16<>0,IF(AJ16>4.5,\"W\",IF(AJ16=4.5,\"T\",IF(AJ16<4.5,\"L\"))),0)","v":0},null,null,null,null,null,{"$f":"IF(AN16<>0,IF(AP16>4.5,\"W\",IF(AP16=4.5,\"T\",IF(AP16<4.5,\"L\"))),0)","v":0},null,null,null,null,null,{"$f":"IF(AT16<>0,IF(AV16>4.5,\"W\",IF(AV16=4.5,\"T\",IF(AV16<4.5,\"L\"))),0)","v":0},null,null,null,null,null,{"$f":"IF(AZ16<>0,IF(BB16>4.5,\"W\",IF(BB16=4.5,\"T\",IF(BB16<4.5,\"L\"))),0)","v":0},null,null,null,null,null,{"$f":"IF(BF16<>0,IF(BH16>4.5,\"W\",IF(BH16=4.5,\"T\",IF(BH16<4.5,\"L\"))),0)","v":0},null,null,null,null,null,{"$f":"IF(BL16<>0,IF(BN16>4.5,\"W\",IF(BN16=4.5,\"T\",IF(BN16<4.5,\"L\"))),0)","v":0},null,null,null,null,null,{"$f":"IF(BR16<>0,IF(BT16>4.5,\"W\",IF(BT16=4.5,\"T\",IF(BT16<4.5,\"L\"))),0)","v":0},null,null,null,null,null,{"$f":"IF(BX16<>0,IF(BZ16>4.5,\"W\",IF(BZ16=4.5,\"T\",IF(BZ16<4.5,\"L\"))),0)","v":0},null,null,null,null,null,{"$f":"IF(CD16<>0,IF(CF16>4.5,\"W\",IF(CF16=4.5,\"T\",IF(CF16<4.5,\"L\"))),0)","v":0},null,null,null,null,null,{"$f":"IF(CJ16<>0,IF(CL16>4.5,\"W\",IF(CL16=4.5,\"T\",IF(CL16<4.5,\"L\"))),0)","v":0}]
[]
[null,"Summary"]
[null,null,null,"Adj",null,"Adj",null,null,null,"Avg Score"]
[null,null,"Points","Points","Matches","Matches",null,null,"Hole #","by Hole","Best","Worst"]
[null,"Week #1",{"$f":"F20","v":0},{"$f":"C29","v":0},{"$f":"IF(D16>0,1,0)","v":0},{"$f":"E29","v":0},null,null,1,{"$f":"IFERROR(AVERAGE(D7),0)","v":0},{"$f":"IFERROR(MIN(J7,V7,AH7,AT7,BF7,BR7,BX7,CJ7),0)","v":0},{"$f":"IFERROR(MAX(J7,V7,AH7,AT7,BF7,BR7,BX7,CJ7),0)","v":0}]
[null,"Week #2",{"$f":"L20","v":0},0,{"$f":"IF(J16>0,1,0)","v":0},0,null,null,2,{"$f":"IFERROR(AVERAGE(D8),0)","v":0},{"$f":"IFERROR(MIN(J8,V8,AH8,AT8,BF8,BR8,BX8,CJ8),0)","v":0},{"$f":"IFERROR(MAX(J8,V8,AH8,AT8,BF8,BR8,BX8,CJ8),0)","v":0}]
[null,"Week #3",{"$f":"R20","v":0},0,{"$f":"IF(P16>0,1,0)","v":0},0,null,null,3,0,0,0]
[null,"Week #4",{"$f":"X20","v":0},0,{"$f":"IF(V16>0,1,0)","v":0},0,null,null,4,0,0,0]
[null,"Week #5",{"$f":"AD20","v":0},0,{"$f":"IF(AB16>0,1,0)","v":0},0,null,null,5,0,0,0]
[null,"Week #6",{"$f":"AJ20","v":0},0,{"$f":"IF(AH16>0,1,0)","v":0},0,null,null,6,0,0,0]
[null,"Week #7",{"$f":"AP20","v":0},0,{"$f":"IF(AN16>0,1,0)","v":0},0,null,null,7,0,0,0]
[null,"Week #8",{"$f":"AV20","v":0},0,{"$f":"IF(AT16>0,1,0)","v":0},0,null,null,8,0,0,0]
[null,"Week #9",{"$f":"BB20","v":0},0,{"$f":"IF(AZ16>0,1,0)","v":0},0,null,null,9,0,0,0]
[null,"Week #10",{"$f":"BH20","v":0},0,{"$f":"IF(BF16>0,1,0)","v":0},0,null,null,"Front",{"$f":"SUM(J29:J37)","v":0},{"$f":"SUM(K29:K37)","v":0},0]
[null,"Week #11",{"$f":"BN20","v":0},0,{"$f":"IF(BL16>0,1,0)","v":0},0]
[null,"Week #12",{"$f":"BT20","v":0},0,{"$f":"IF(BR16>0,1,0)","v":0},0,null,null,10,{"$f":"IFERROR(AVERAGE(J7),0)","v":0},{"$f":"IFERROR(MIN(D7,P7,AB7,AN7,AZ7,BL7,CD7),0)","v":0},{"$f":"IFERROR(MAX(D7,P7,AB7,AN7,AZ7,BL7,CD7),0)","v":0}]
[null,"Week #13",{"$f":"BZ20","v":0},0,{"$f":"IF(BX16>0,1,0)","v":0},0,null,null,11,{"$f":"IFERROR(AVERAGE(J8),0)","v":0},{"$f":"IFERROR(MIN(D8,P8,AB8,AN8,AZ8,BL8,CD8),0)","v":0},{"$f":"IFERROR(MAX(D8,P8,AB8,AN8,AZ8,BL8,CD8),0)","v":0}]
[null,"Week #14",{"$f":"CF20","v":0},0,{"$f":"IF(CD16>0,1,0)","v":0},0,null,null,12,0,0,0]
[null,"Week #15",{"$f":"CL20","v":0},0,{"$f":"IF(CJ16>0,1,0)","v":0},0,null,null,13,0,0,0]
[null,"Total",{"$f":"SUM(C29:C43)","v":0},{"$f":"SUM(D29:D43)","v":0},{"$f":"SUM(E29:E43)","v":0},{"$f":"SUM(F29:F43)","v":0},null,null,14,0,0,0]
[null,null,null,null,null,null,null,null,15,0,0,0]
[null,"Summary",null,null,null,null,null,null,16,0,0,0]
[null,"Eagles",{"$f":"I57+I68+I79+I90+I101+I112+I123+I134+I145+I156+I167+I178+I189+I200+I211","v":0},null,null,null,null,null,17,0,0,0]
[null,"Birdies",0,null,null,null,null,null,18,0,0,0]
[null,"Pars",0,null,null,null,null,null,"Back",{"$f":"SUM(J40:J48)","v":0},{"$f":"SUM(K40:K48)","v":0},0]
[null,"bogeys",0]
[null,"Double bogeys",0]
[null,"Other",0]
[null,"Total",{"$f":"SUM(C47:C52)","v":0}]
[]
[null,{"$f":"D4","v":"2025-04-25"},"Par","Score"]
[null,{"$f":"B7","v":1},4,0,{"$f":"IF(D56<>0,IF((D56-C56)=-1,\"Birdie\",IF((D56-C56)=-2,\"Eagle\",IF((D56-C56)=0,\"Par\",IF((D56-C56)=1,\"bogey\",IF((D56-C56)=2,\"Double bogey\",\"Other\"))))),\"  \")","v":"  "},null,null,"Count"]
[null,2,4,0,"  ",null,null,"Eagle",{"$f":"COUNTIF(E56:E64,\"Eagle\")","v":0}]
[null,3,4,0,"  ",null,null,"Birdie",{"$f":"COUNTIF(E56:E64,\"Birdie\")","v":0}]
[null,4,4,0,"  ",null,null,"Par",{"$f":"COUNTIF(E56:E64,\"Par\")","v":0}]
[null,5,3,0,"  ",null,null,"bogey",{"$f":"COUNTIF(E56:E64,\"bogey\")","v":0}]
[null,6,4,0,"  ",null,null,"Double bogey",{"$f":"COUNTIF(E56:E64,\"Double bogey\")","v":0}]
[null,7,4,0,"  ",null,null,"Other",{"$f":"COUNTIF(E56:E64,\"Other\")","v":0}]
[null,8,3,0,"  "]
[null,9,5,0,"  "]
[]
[null,{"$f":"J4","v":"2025-05-02"}]
[null,{"$f":"H7","v":10},4,0,{"$f":"IF(D67<>0,IF((D67-C67)=-1,\"Birdie\",IF((D67-C67)=-2,\"Eagle\",IF((D67-C67)=0,\"Par\",IF((D67-C67)=1,\"bogey\",IF((D67-C67)=2,\"Double bogey\",\"Other\"))))),\"  \")","v":"  "},null,null,"Count"]
[null,11,4,0,"  ",null,null,"Eagle",{"$f":"COUNTIF(E67:E75,\"Eagle\")","v":0}]
[null,12,3,0,"  ",null,null,"Birdie",{"$f":"COUNTIF(E67:E75,\"Birdie\")","v":0}]
[null,13,4,0,"  ",null,null,"Par",{"$f":"COUNTIF(E67:E75,\"Par\")","v":0}]
[null,14,4,0,"  ",null,null,"bogey",{"$f":"COUNTIF(E67:E75,\"bogey\")","v":0}]
[null,15,3,0,"  ",null,null,"Double bogey",{"$f":"COUNTIF(E67:E75,\"Double bogey\")","v":0}]
[null,16,5,0,"  ",null,null,"Other",{"$f":"COUNTIF(E67:E75,\"Other\")","v":0}]
[null,17,4,0,"  "]
[null,18,5,0,"  "]
[]
[null,{"$f":"P4","v":"2025-05-09"}]
[null,{"$f":"N7","v":1},4,0,{"$f":"IF(D78<>0,IF((D78-C78)=-1,\"Birdie\",IF((D78-C78)=-2,\"Eagle\",IF((D78-C78)=0,\"Par\",IF((D78-C78)=1,\"bogey\",IF((D78-C78)=2,\"Double bogey\",\"Other\"))))),\"  \")","v":"  "},null,null,"Count"]
[null,2,4,0,"  ",null,null,"Eagle",{"$f":"COUNTIF(E78:E86,\"Eagle\")","v":0}]
[null,3,4,0,"  ",null,null,"Birdie",{"$f":"COUNTIF(E78:E86,\"Birdie\")","v":0}]
[null,4,4,0,"  ",null,null,"Par",{"$f":"COUNTIF(E78:E86,\"Par\")","v":0}]
[null,5,3,0,"  ",null,null,"bogey",{"$f":"COUNTIF(E78:E86,\"bogey\")","v":0}]
[null,6,4,0,"  ",null,null,"Double bogey",{"$f":"COUNTIF(E78:E86,\"Double bogey\")","v":0}]
[null,7,4,0,"  ",null,null,"Other",{"$f":"COUNTIF(E78:E86,\"Other\")","v":0}]
[null,8,3,0,"  "]
[null,9,5,0,"  "]
[]
[null,{"$f":"V4","v":"2025-05-16"}]
[null,{"$f":"T7","v":10},4,0,{"$f":"IF(D89<>0,IF((D89-C89)=-1,\"Birdie\",IF((D89-C89)=-2,\"Eagle\",IF((D89-C89)=0,\"Par\",IF((D89-C89)=1,\"bogey\",IF((D89-C89)=2,\"Double bogey\",\"Other\"))))),\"  \")","v":"  "},null,null,"Count"]
[null,11,4,0,"  ",null,null,"Eagle",{"$f":"COUNTIF(E89:E97,\"Eagle\")","v":0}]
[null,12,3,0,"  ",null,null,"Birdie",{"$f":"COUNTIF(E89:E97,\"Birdie\")","v":0}]
[null,13,4,0,"  ",null,null,"Par",{"$f":"COUNTIF(E89:E97,\"Par\")","v":0}]
[null,14,4,0,"  ",null,null,"bogey",{"$f":"COUNTIF(E89:E97,\"bogey\")","v":0}]
[null,15,3,0,"  ",null,null,"Double bogey",{"$f":"COUNTIF(E89:E97,\"Double bogey\")","v":0}]
[null,16,5,0,"  ",null,null,"Other",{"$f":"COUNTIF(E89:E97,\"Other\")","v":0}]
[null,17,4,0,"  "]
[null,18,5,0,"  "]
[]
[null,{"$f":"AB4","v":"2025-05-23"}]
[null,{"$f":"Z7","v":1},4,0,{"$f":"IF(D100<>0,IF((D100-C100)=-1,\"Birdie\",IF((D100-C100)=-2,\"Eagle\",IF((D100-C100)=0,\"Par\",IF((D100-C100)=1,\"bogey\",IF((D100-C100)=2,\"Double bogey\",\"Other\"))))),\"  \")","v":"  "},null,null,"Count"]
[null,2,4,0,"  ",null,null,"Eagle",{"$f":"COUNTIF(E100:E108,\"Eagle\")","v":0}]
[null,3,4,0,"  ",null,null,"Birdie",{"$f":"COUNTIF(E100:E108,\"Birdie\")","v":0}]
[null,4,4,0,"  ",null,null,"Par",{"$f":"COUNTIF(E100:E108,\"Par\")","v":0}]
[null,5,3,0,"  ",null,null,"bogey",{"$f":"COUNTIF(E100:E108,\"bogey\")","v":0}]
[null,6,4,0,"  ",null,null,"Double bogey",{"$f":"COUNTIF(E100:E108,\"Double bogey\")","v":0}]
[null,7,4,0,"  ",null,null,"Other",{"$f":"COUNTIF(E100:E108,\"Other\")","v":0}]
[null,8,3,0,"  "]
[null,9,5,0,"  "]
[]
[null,{"$f":"AH4","v":"2025-05-30"}]
[null,{"$f":"AF7","v":10},4,0,{"$f":"IF(D111<>0,IF((D111-C111)=-1,\"Birdie\",IF((D111-C111)=-2,\"Eagle\",IF((D111-C111)=0,\"Par\",IF((D111-C111)=1,\"bogey\",IF((D111-C111)=2,\"Double bogey\",\"Other\"))))),\"  \")","v":"  "},null,null,"Count"]
[null,11,4,0,"  ",null,null,"Eagle",{"$f":"COUNTIF(E111:E119,\"Eagle\")","v":0}]
[null,12,3,0,"  ",null,null,"Birdie",{"$f":"COUNTIF(E111:E119,\"Birdie\")","v":0}]
[null,13,4,0,"  ",null,null,"Par",{"$f":"COUNTIF(E111:E119,\"Par\")","v":0}]
[null,14,4,0,"  ",null,null,"bogey",{"$f":"COUNTIF(E111:E119,\"bogey\")","v":0}]
[null,15,3,0,"  ",null,null,"Double bogey",{"$f":"COUNTIF(E111:E119,\"Double bogey\")","v":0}]
[null,16,5,0,"  ",null,null,"Other",{"$f":"COUNTIF(E111:E119,\"Other\")","v":0}]
[null,17,4,0,"  "]
[null,18,5,0,"  "]
[]
[null,{"$f":"AN4","v":"2025-06-06"}]
[null,{"$f":"AL7","v":1},4,0,{"$f":"IF(D122<>0,IF((D122-C122)=-1,\"Birdie\",IF((D122-C122)=-2,\"Eagle\",IF((D122-C122)=0,\"Par\",IF((D122-C122)=1,\"bogey\",IF((D122-C122)=2,\"Double bogey\",\"Other\"))))),\"  \")","v":"  "},null,null,"Count"]
[null,2,4,0,"  ",null,null,"Eagle",{"$f":"COUNTIF(E122:E130,\"Eagle\")","v":0}]
[null,3,4,0,"  ",null,null,"Birdie",{"$f":"COUNTIF(E122:E130,\"Birdie\")","v":0}]
[null,4,4,0,"  ",null,null,"Par",{"$f":"COUNTIF(E122:E130,\"Par\")","v":0}]
[null,5,3,0,"  ",null,null,"bogey",{"$f":"COUNTIF(E122:E130,\"bogey\")","v":0}]
[null,6,4,0,"  ",null,null,"Double bogey",{"$f":"COUNTIF(E122:E130,\"Double bogey\")","v":0}]
[null,7,4,0,"  ",null,null,"Other",{"$f":"COUNTIF(E122:E130,\"Other\")","v":0}]
[null,8,3,0,"  "]
[null,9,5,0,"  "]
[]
[null,{"$f":"AT4","v":"2025-06-13"}]
[null,{"$f":"AR7","v":10},4,0,{"$f":"IF(D133<>0,IF((D133-C133)=-1,\"Birdie\",IF((D133-C133)=-2,\"Eagle\",IF((D133-C133)=0,\"Par\",IF((D133-C133)=1,\"bogey\",IF((D133-C133)=2,\"Double bogey\",\"Other\"))))),\"  \")","v":"  "},null,null,"Count"]
[null,11,4,0,"  ",null,null,"Eagle",{"$f":"COUNTIF(E133:E141,\"Eagle\")","v":0}]
[null,12,3,0,"  ",null,null,"Birdie",{"$f":"COUNTIF(E133:E141,\"Birdie\")","v":0}]
[null,13,4,0,"  ",null,null,"Par",{"$f":"COUNTIF(E133:E141,\"Par\")","v":0}]
[null,14,4,0,"  ",null,null,"bogey",{"$f":"COUNTIF(E133:E141,\"bogey\")","v":0}]
[null,15,3,0,"  ",null,null,"Double bogey",{"$f":"COUNTIF(E133:E141,\"Double bogey\")","v":0}]
[null,16,5,0,"  ",null,null,"Other",{"$f":"COUNTIF(E133:E141,\"Other\")","v":0}]
[null,17,4,0,"  "]
[null,18,5,0,"  "]
[]
[null,{"$f":"AZ4","v":"2025-06-27"}]
[null,{"$f":"AX7","v":10},4,0,{"$f":"IF(D144<>0,IF((D144-C144)=-1,\"Birdie\",IF((D144-C144)=-2,\"Eagle\",IF((D144-C144)=0,\"Par\",IF((D144-C144)=1,\"bogey\",IF((D144-C144)=2,\"Double bogey\",\"Other\"))))),\"  \")","v":"  "},null,null,"Count"]
[null,11,4,0,"  ",null,null,"Eagle",{"$f":"COUNTIF(E144:E152,\"Eagle\")","v":0}]
[null,12,3,0,"  ",null,null,"Birdie",{"$f":"COUNTIF(E144:E152,\"Birdie\")","v":0}]
[null,13,4,0,"  ",null,null,"Par",{"$f":"COUNTIF(E144:E152,\"Par\")","v":0}]
[null,14,4,0,"  ",null,null,"bogey",{"$f":"COUNTIF(E144:E152,\"bogey\")","v":0}]
[null,15,3,0,"  ",null,null,"Double bogey",{"$f":"COUNTIF(E144:E152,\"Double bogey\")","v":0}]
[null,16,5,0,"  ",null,null,"Other",{"$f":"COUNTIF(E144:E152,\"Other\")","v":0}]
[null,17,4,0,"  "]
[null,18,5,0,"  "]
[]
[null,{"$f":"BF4","v":"2025-07-04"}]
[null,{"$f":"BD7","v":10},4,0,{"$f":"IF(D155<>0,IF((D155-C155)=-1,\"Birdie\",IF((D155-C155)=-2,\"Eagle\",IF((D155-C155)=0,\"Par\",IF((D155-C155)=1,\"bogey\",IF((D155-C155)=2,\"Double bogey\",\"Other\"))))),\"  \")","v":"  "},null,null,"Count"]
[null,11,4,0,"  ",null,null,"Eagle",{"$f":"COUNTIF(E155:E163,\"Eagle\")","v":0}]
[null,12,3,0,"  ",null,null,"Birdie",{"$f":"COUNTIF(E155:E163,\"Birdie\")","v":0}]
[null,13,4,0,"  ",null,null,"Par",{"$f":"COUNTIF(E155:E163,\"Par\")","v":0}]
[null,14,4,0,"  ",null,null,"bogey",{"$f":"COUNTIF(E155:E163,\"bogey\")","v":0}]
[null,15,3,0,"  ",null,null,"Double bogey",{"$f":"COUNTIF(E155:E163,\"Double bogey\")","v":0}]
[null,16,5,0,"  ",null,null,"Other",{"$f":"COUNTIF(E155:E163,\"Other\")","v":0}]
[null,17,4,0,"  "]
[null,18,5,0,"  "]
[]
[null,{"$f":"BL4","v":"2025-07-18"}]
[null,{"$f":"BJ7","v":10},4,0,{"$f":"IF(D166<>0,IF((D166-C166)=-1,\"Birdie\",IF((D166-C166)=-2,\"Eagle\",IF((D166-C166)=0,\"Par\",IF((D166-C166)=1,\"bogey\",IF((D166-C166)=2,\"Double bogey\",\"Other\"))))),\"  \")","v":"  "},null,null,"Count"]
[null,11,4,0,"  ",null,null,"Eagle",{"$f":"COUNTIF(E166:E174,\"Eagle\")","v":0}]
[null,12,3,0,"  ",null,null,"Birdie",{"$f":"COUNTIF(E166:E174,\"Birdie\")","v":0}]
[null,13,4,0,"  ",null,null,"Par",{"$f":"COUNTIF(E166:E174,\"Par\")","v":0}]
[null,14,4,0,"  ",null,null,"bogey",{"$f":"COUNTIF(E166:E174,\"bogey\")","v":0}]
[null,15,3,0,"  ",null,null,"Double bogey",{"$f":"COUNTIF(E166:E174,\"Double bogey\")","v":0}]
[null,16,5,0,"  ",null,null,"Other",{"$f":"COUNTIF(E166:E174,\"Other\")","v":0}]
[null,17,4,0,"  "]
[null,18,5,0,"  "]
[]
[null,{"$f":"BR4","v":"2025-07-25"}]
[null,{"$f":"BP7","v":1},4,0,{"$f":"IF(D177<>0,IF((D177-C177)=-1,\"Birdie\",IF((D177-C177)=-2,\"Eagle\",IF((D177-C177)=0,\"Par\",IF((D177-C177)=1,\"bogey\",IF((D177-C177)=2,\"Double bogey\",\"Other\"))))),\"  \")","v":"  "},null,null,"Count"]
[null,2,4,0,"  ",null,null,"Eagle",{"$f":"COUNTIF(E177:E185,\"Eagle\")","v":0}]
[null,3,4,0,"  ",null,null,"Birdie",{"$f":"COUNTIF(E177:E185,\"Birdie\")","v":0}]
[null,4,4,0,"  ",null,null,"Par",{"$f":"COUNTIF(E177:E185,\"Par\")","v":0}]
[null,5,3,0,"  ",null,null,"bogey",{"$f":"COUNTIF(E177:E185,\"bogey\")","v":0}]
[null,6,4,0,"  ",null,null,"Double bogey",{"$f":"COUNTIF(E177:E185,\"Double bogey\")","v":0}]
[null,7,4,0,"  ",null,null,"Other",{"$f":"COUNTIF(E177:E185,\"Other\")","v":0}]
[null,8,3,0,"  "]
[null,9,5,0,"  "]
[]
[null,{"$f":"BX4","v":"2025-08-01"}]
[null,{"$f":"BV7","v":10},4,0,{"$f":"IF(D188<>0,IF((D188-C188)=-1,\"Birdie\",IF((D188-C188)=-2,\"Eagle\",IF((D188-C188)=0,\"Par\",IF((D188-C188)=1,\"bogey\",IF((D188-C188)=2,\"Double bogey\",\"Other\"))))),\"  \")","v":"  "},null,null,"Count"]
[null,11,4,0,"  ",null,null,"Eagle",{"$f":"COUNTIF(E188:E196,\"Eagle\")","v":0}]
[null,12,3,0,"  ",null,null,"Birdie",{"$f":"COUNTIF(E188:E196,\"Birdie\")","v":0}]
[null,13,4,0,"  ",null,null,"Par",{"$f":"COUNTIF(E188:E196,\"Par\")","v":0}]
[null,14,4,0,"  ",null,null,"bogey",{"$f":"COUNTIF(E188:E196,\"bogey\")","v":0}]
[null,15,3,0,"  ",null,null,"Double bogey",{"$f":"COUNTIF(E188:E196,\"Double bogey\")","v":0}]
[null,16,5,0,"  ",null,null,"Other",{"$f":"COUNTIF(E188:E196,\"Other\")","v":0}]
[null,17,4,0,"  "]
[null,18,5,0,"  "]
[]
[null,{"$f":"CD4","v":"2025-08-08"}]
[null,{"$f":"CB7","v":1},4,0,{"$f":"IF(D199<>0,IF((D199-C199)=-1,\"Birdie\",IF((D199-C199)=-2,\"Eagle\",IF((D199-C199)=0,\"Par\",IF((D199-C199)=1,\"bogey\",IF((D199-C199)=2,\"Double bogey\",\"Other\"))))),\"  \")","v":"  "},null,null,"Count"]
[null,2,4,0,"  ",null,null,"Eagle",{"$f":"COUNTIF(E199:E207,\"Eagle\")","v":0}]
[null,3,4,0,"  ",null,null,"Birdie",{"$f":"COUNTIF(E199:E207,\"Birdie\")","v":0}]
[null,4,4,0,"  ",null,null,"Par",{"$f":"COUNTIF(E199:E207,\"Par\")","v":0}]
[null,5,3,0,"  ",null,null,"bogey",{"$f":"COUNTIF(E199:E207,\"bogey\")","v":0}]
[null,6,4,0,"  ",null,null,"Double bogey",{"$f":"COUNTIF(E199:E207,\"Double bogey\")","v":0}]
[null,7,4,0,"  ",null,null,"Other",{"$f":"COUNTIF(E199:E207,\"Other\")","v":0}]
[null,8,3,0,"  "]
[null,9,5,0,"  "]
[]
[null,{"$f":"CJ4","v":"2025-08-15"}]
[null,{"$f":"CH7","v":10},4,0,{"$f":"IF(D210<>0,IF((D210-C210)=-1,\"Birdie\",IF((D210-C210)=-2,\"Eagle\",IF((D210-C210)=0,\"Par\",IF((D210-C210)=1,\"bogey\",IF((D210-C210)=2,\"Double bogey\",\"Other\"))))),\"  \")","v":"  "},null,null,"Count"]
[null,11,4,0,"  ",null,null,"Eagle",{"$f":"COUNTIF(E210:E218,\"Eagle\")","v":0}]
[null,12,3,0,"  ",null,null,"Birdie",{"$f":"COUNTIF(E210:E218,\"Birdie\")","v":0}]
[null,13,4,0,"  ",null,null,"Par",{"$f":"COUNTIF(E210:E218,\"Par\")","v":0}]
[null,14,4,0,"  ",null,null,"bogey",{"$f":"COUNTIF(E210:E218,\"bogey\")","v":0}]
[null,15,3,0,"  ",null,null,"Double bogey",{"$f":"COUNTIF(E210:E218,\"Double bogey\")","v":0}]
[null,16,5,0,"  ",null,null,"Other",{"$f":"COUNTIF(E210:E218,\"Other\")","v":0}]
[null,17,4,0,"  "]
[null,18,5,0,"  "]

{"sheet":"McLaughlin","index":12,"n_rows":218,"n_cols":90,"rows_kept":218,"cut":false,"hidden":false,"merged":[]}
["Brian McGlaughlin"]
[]
[]
[null,null,"Date:",{"$f":"VLOOKUP(C5,Week,2)","v":"2025-04-25"},null,null,null,null,"Date:",{"$f":"VLOOKUP(I5,Week,2)","v":"2025-05-02"},null,null,null,null,"Date:",{"$f":"VLOOKUP(O5,Week,2)","v":"2025-05-09"},null,null,null,null,"Date:",{"$f":"VLOOKUP(U5,Week,2)","v":"2025-05-16"},null,null,null,null,"Date:",{"$f":"VLOOKUP(AA5,Week,2)","v":"2025-05-23"},null,null,null,null,"Date:",{"$f":"VLOOKUP(AG5,Week,2)","v":"2025-05-30"},null,null,null,null,"Date:",{"$f":"VLOOKUP(AM5,Week,2)","v":"2025-06-06"},null,null,null,null,"Date:",{"$f":"VLOOKUP(AS5,Week,2)","v":"2025-06-13"},null,null,null,null,"Date:",{"$f":"VLOOKUP(AY5,Week,2)","v":"2025-06-27"},null,null,null,null,"Date:",{"$f":"VLOOKUP(BE5,Week,2)","v":"2025-07-04"},null,null,null,null,"Date:",{"$f":"VLOOKUP(BK5,Week,2)","v":"2025-07-18"},null,null,null,null,"Date:",{"$f":"VLOOKUP(BQ5,Week,2)","v":"2025-07-25"},null,null,null,null,"Date:",{"$f":"VLOOKUP(BW5,Week,2)","v":"2025-08-01"},null,null,null,null,"Date:",{"$f":"VLOOKUP(CC5,Week,2)","v":"2025-08-08"},null,null,null,null,"Date:",{"$f":"VLOOKUP(CI5,Week,2)","v":"2025-08-15"}]
[null,"Week",1,null,null,null,null,"Week",2,null,null,null,null,"Week",3,null,null,null,null,"Week",4,null,null,null,null,"Week",5,null,null,null,null,"Week",6,null,null,null,null,"Week",7,null,null,null,null,"Week",8,null,null,null,null,"Week",9,null,null,null,null,"Week",10,null,null,null,null,"Week",11,null,null,null,null,"Week",12,null,null,null,null,"Week",13,null,null,null,null,"Week",14,null,null,null,null,"Week",15]
[null,"Hole #","Par","Score","Net","Win Hole",null,"Hole #","Par","Score","Net","Win Hole",null,"Hole #","Par","Score","Net","Win Hole",null,"Hole #","Par","Score","Net","Win Hole",null,"Hole #","Par","Score","Net","Win Hole",null,"Hole #","Par","Score","Net","Win Hole",null,"Hole #","Par","Score","Net","Win Hole",null,"Hole #","Par","Score","Net","Win Hole",null,"Hole #","Par","Score","Net","Win Hole",null,"Hole #","Par","Score","Net","Win Hole",null,"Hole #","Par","Score","Net","Win Hole",null,"Hole #","Par","Score","Net","Win Hole",null,"Hole #","Par","Score","Net","Win Hole",null,"Hole #","Par","Score","Net","Win Hole",null,"Hole #","Par","Score","Net","Win Hole"]
[null,{"$f":"VLOOKUP(C5,Week,6)","v":1},{"$f":"VLOOKUP(B7,Holes,2)","v":4},null,{"$f":"IF((D7-C7)>3,C7+3,D7)","v":0},null,null,{"$f":"VLOOKUP(I5,Week,6)","v":10},{"$f":"VLOOKUP(H7,Holes,2)","v":4},null,{"$f":"IF((J7-I7)>3,I7+3,J7)","v":0},null,null,{"$f":"VLOOKUP(O5,Week,6)","v":1},{"$f":"VLOOKUP(N7,Holes,2)","v":4},null,{"$f":"IF((P7-O7)>3,O7+3,P7)","v":0},null,null,{"$f":"VLOOKUP(U5,Week,6)","v":10},{"$f":"VLOOKUP(T7,Holes,2)","v":4},null,{"$f":"IF((V7-U7)>3,U7+3,V7)","v":0},null,null,{"$f":"VLOOKUP(AA5,Week,6)","v":1},{"$f":"VLOOKUP(Z7,Holes,2)","v":4},null,{"$f":"IF((AB7-AA7)>3,AA7+3,AB7)","v":0},null,null,{"$f":"VLOOKUP(AG5,Week,6)","v":10},{"$f":"VLOOKUP(AF7,Holes,2)","v":4},null,{"$f":"IF((AH7-AG7)>3,AG7+3,AH7)","v":0},null,null,{"$f":"VLOOKUP(AM5,Week,6)","v":1},{"$f":"VLOOKUP(AL7,Holes,2)","v":4},null,{"$f":"IF((AN7-AM7)>3,AM7+3,AN7)","v":0},null,null,{"$f":"VLOOKUP(AS5,Week,6)","v":10},{"$f":"VLOOKUP(AR7,Holes,2)","v":4},null,{"$f":"IF((AT7-AS7)>3,AS7+3,AT7)","v":0},null,null,{"$f":"VLOOKUP(AY5,Week,6)","v":10},{"$f":"VLOOKUP(AX7,Holes,2)","v":4},null,{"$f":"IF((AZ7-AY7)>3,AY7+3,AZ7)","v":0},null,null,{"$f":"VLOOKUP(BE5,Week,6)","v":10},{"$f":"VLOOKUP(BD7,Holes,2)","v":4},null,{"$f":"IF((BF7-BE7)>3,BE7+3,BF7)","v":0},null,null,{"$f":"VLOOKUP(BK5,Week,6)","v":10},{"$f":"VLOOKUP(BJ7,Holes,2)","v":4},null,{"$f":"IF((BL7-BK7)>3,BK7+3,BL7)","v":0},null,null,{"$f":"VLOOKUP(BQ5,Week,6)","v":1},{"$f":"VLOOKUP(BP7,Holes,2)","v":4},null,{"$f":"IF((BR7-BQ7)>3,BQ7+3,BR7)","v":0},null,null,{"$f":"VLOOKUP(BW5,Week,6)","v":10},{"$f":"VLOOKUP(BV7,Holes,2)","v":4},null,{"$f":"IF((BX7-BW7)>3,BW7+3,BX7)","v":0},null,null,{"$f":"VLOOKUP(CC5,Week,6)","v":1},{"$f":"VLOOKUP(CB7,Holes,2)","v":4},null,{"$f":"IF((CD7-CC7)>3,CC7+3,CD7)","v":0},null,null,{"$f":"VLOOKUP(CI5,Week,6)","v":10},{"$f":"VLOOKUP(CH7,Holes,2)","v":4},null,{"$f":"IF((CJ7-CI7)>3,CI7+3,CJ7)","v":0}]
[null,{"$f":"+B7+1","v":2},4,null,0,null,null,{"$f":"+H7+1","v":11},4,null,0,null,null,{"$f":"+N7+1","v":2},4,null,0,null,null,{"$f":"+T7+1","v":11},4,null,0,null,null,{"$f":"+Z7+1","v":2},4,null,0,null,null,{"$f":"+AF7+1","v":11},4,null,0,null,null,{"$f":"+AL7+1","v":2},4,null,0,null,null,{"$f":"+AR7+1","v":11},4,null,0,null,null,{"$f":"+AX7+1","v":11},4,null,0,null,null,{"$f":"+BD7+1","v":11},4,null,0,null,null,{"$f":"+BJ7+1","v":11},4,null,0,null,null,{"$f":"+BP7+1","v":2},4,null,0,null,null,{"$f":"+BV7+1","v":11},4,null,0,null,null,{"$f":"+CB7+1","v":2},4,null,0,null,null,{"$f":"+CH7+1","v":11},4,null,0]
[null,3,4,null,0,null,null,12,3,null,0,null,null,3,4,null,0,null,null,12,3,null,0,null,null,3,4,null,0,null,null,12,3,null,0,null,null,3,4,null,0,null,null,12,3,null,0,null,null,12,3,null,0,null,null,12,3,null,0,null,null,12,3,null,0,null,null,3,4,null,0,null,null,12,3,null,0,null,null,3,4,null,0,null,null,12,3,null,0]
[null,4,4,null,0,null,null,13,4,null,0,null,null,4,4,null,0,null,null,13,4,null,0,null,null,4,4,null,0,null,null,13,4,null,0,null,null,4,4,null,0,null,null,13,4,null,0,null,null,13,4,null,0,null,null,13,4,null,0,null,null,13,4,null,0,null,null,4,4,null,0,null,null,13,4,null,0,null,null,4,4,null,0,null,null,13,4,null,0]
[null,5,3,null,0,null,null,14,4,null,0,null,null,5,3,null,0,null,null,14,4,null,0,null,null,5,3,null,0,null,null,14,4,null,0,null,null,5,3,null,0,null,null,14,4,null,0,null,null,14,4,null,0,null,null,14,4,null,0,null,null,14,4,null,0,null,null,5,3,null,0,null,null,14,4,null,0,null,null,5,3,null,0,null,null,14,4,null,0]
[null,6,4,null,0,null,null,15,3,null,0,null,null,6,4,null,0,null,null,15,3,null,0,null,null,6,4,null,0,null,null,15,3,null,0,null,null,6,4,null,0,null,null,15,3,null,0,null,null,15,3,null,0,null,null,15,3,null,0,null,null,15,3,null,0,null,null,6,4,null,0,null,null,15,3,null,0,null,null,6,4,null,0,null,null,15,3,null,0]
[null,7,4,null,0,null,null,16,5,null,0,null,null,7,4,null,0,null,null,16,5,null,0,null,null,7,4,null,0,null,null,16,5,null,0,null,null,7,4,null,0,null,null,16,5,null,0,null,null,16,5,null,0,null,null,16,5,null,0,null,null,16,5,null,0,null,null,7,4,null,0,null,null,16,5,null,0,null,null,7,4,null,0,null,null,16,5,null,0]
[null,8,3,null,0,null,null,17,4,null,0,null,null,8,3,null,0,null,null,17,4,null,0,null,null,8,3,null,0,null,null,17,4,null,0,null,null,8,3,null,0,null,null,17,4,null,0,null,null,17,4,null,0,null,null,17,4,null,0,null,null,17,4,null,0,null,null,8,3,null,0,null,null,17,4,null,0,null,null,8,3,null,0,null,null,17,4,null,0]
[null,9,5,null,0,null,null,18,5,null,0,null,null,9,5,null,0,null,null,18,5,null,0,null,null,9,5,null,0,null,null,18,5,null,0,null,null,9,5,null,0,null,null,18,5,null,0,null,null,18,5,null,0,null,null,18,5,null,0,null,null,18,5,null,0,null,null,9,5,null,0,null,null,18,5,null,0,null,null,9,5,null,0,null,null,18,5,null,0]
[null,"Total",{"$f":"SUM(C7:C15)","v":35},{"$f":"SUM(D7:D15)","v":0},{"$f":"SUM(E7:E15)","v":0},{"$f":"SUM(F7:F15)","v":0},null,"Total",{"$f":"SUM(I7:I15)","v":36},{"$f":"SUM(J7:J15)","v":0},{"$f":"SUM(K7:K15)","v":0},{"$f":"SUM(L7:L15)","v":0},null,"Total",{"$f":"SUM(O7:O15)","v":35},{"$f":"SUM(P7:P15)","v":0},{"$f":"SUM(Q7:Q15)","v":0},{"$f":"SUM(R7:R15)","v":0},null,"Total",{"$f":"SUM(U7:U15)","v":36},{"$f":"SUM(V7:V15)","v":0},{"$f":"SUM(W7:W15)","v":0},{"$f":"SUM(X7:X15)","v":0},null,"Total",{"$f":"SUM(AA7:AA15)","v":35},{"$f":"SUM(AB7:AB15)","v":0},{"$f":"SUM(AC7:AC15)","v":0},{"$f":"SUM(AD7:AD15)","v":0},null,"Total",{"$f":"SUM(AG7:AG15)","v":36},{"$f":"SUM(AH7:AH15)","v":0},{"$f":"SUM(AI7:AI15)","v":0},{"$f":"SUM(AJ7:AJ15)","v":0},null,"Total",{"$f":"SUM(AM7:AM15)","v":35},{"$f":"SUM(AN7:AN15)","v":0},{"$f":"SUM(AO7:AO15)","v":0},{"$f":"SUM(AP7:AP15)","v":0},null,"Total",{"$f":"SUM(AS7:AS15)","v":36},{"$f":"SUM(AT7:AT15)","v":0},{"$f":"SUM(AU7:AU15)","v":0},{"$f":"SUM(AV7:AV15)","v":0},null,"Total",{"$f":"SUM(AY7:AY15)","v":36},{"$f":"SUM(AZ7:AZ15)","v":0},{"$f":"SUM(BA7:BA15)","v":0},{"$f":"SUM(BB7:BB15)","v":0},null,"Total",{"$f":"SUM(BE7:BE15)","v":36},{"$f":"SUM(BF7:BF15)","v":0},{"$f":"SUM(BG7:BG15)","v":0},{"$f":"SUM(BH7:BH15)","v":0},null,"Total",{"$f":"SUM(BK7:BK15)","v":36},{"$f":"SUM(BL7:BL15)","v":0},{"$f":"SUM(BM7:BM15)","v":0},{"$f":"SUM(BN7:BN15)","v":0},null,"Total",{"$f":"SUM(BQ7:BQ15)","v":35},{"$f":"SUM(BR7:BR15)","v":0},{"$f":"SUM(BS7:BS15)","v":0},{"$f":"SUM(BT7:BT15)","v":0},null,"Total",{"$f":"SUM(BW7:BW15)","v":36},{"$f":"SUM(BX7:BX15)","v":0},{"$f":"SUM(BY7:BY15)","v":0},{"$f":"SUM(BZ7:BZ15)","v":0},null,"Total",{"$f":"SUM(CC7:CC15)","v":35},{"$f":"SUM(CD7:CD15)","v":0},{"$f":"SUM(CE7:CE15)","v":0},{"$f":"SUM(CF7:CF15)","v":0},null,"Total",{"$f":"SUM(CI7:CI15)","v":36},{"$f":"SUM(CJ7:CJ15)","v":0},{"$f":"SUM(CK7:CK15)","v":0},{"$f":"SUM(CL7:CL15)","v":0}]
[]
[null,null,null,null,"Low Net",null,null,null,null,null,"Low Net",0,null,null,null,null,"Low Net",0,null,null,null,null,"Low Net",null,null,null,null,null,"Low Net",null,null,null,null,null,"Low Net",null,null,null,null,null,"Low Net",null,null,null,null,null,"Low Net",null,null,null,null,null,"Low Net",null,null,null,null,null,"Low Net",null,null,null,null,null,"Low Net",null,null,null,null,null,"Low Net",null,null,null,null,null,"Low Net",null,null,null,null,null,"Low Net",null,null,null,null,null,"Low Net"]
[]
[null,null,null,null,"Total Points",{"$f":"SUM(F16:F19)","v":0},null,null,null,null,"Total Points",{"$f":"SUM(L16:L19)","v":0},null,null,null,null,"Total Points",{"$f":"SUM(R16:R19)","v":0},null,null,null,null,"Total Points",{"$f":"SUM(X16:X19)","v":0},null,null,null,null,"Total Points",{"$f":"SUM(AD16:AD19)","v":0},null,null,null,null,"Total Points",{"$f":"SUM(AJ16:AJ19)","v":0},null,null,null,null,"Total Points",{"$f":"SUM(AP16:AP19)","v":0},null,null,null,null,"Total Points",{"$f":"SUM(AV16:AV19)","v":0},null,null,null,null,"Total Points",{"$f":"SUM(BB16:BB19)","v":0},null,null,null,null,"Total Points",{"$f":"SUM(BH16:BH19)","v":0},null,null,null,null,"Total Points",{"$f":"SUM(BN16:BN19)","v":0},null,null,null,null,"Total Points",{"$f":"SUM(BT16:BT19)","v":0},null,null,null,null,"Total Points",{"$f":"SUM(BZ16:BZ19)","v":0},null,null,null,null,"Total Points",{"$f":"SUM(CF16:CF19)","v":0},null,null,null,null,"Total Points",{"$f":"SUM(CL16:CL19)","v":0}]
[]
[null,null,null,null,"Handicap",{"$f":"IF(D16=0,0,E16-C16)","v":0},null,null,null,null,"Handicap",{"$f":"IF(J16=0,0,K16-I16)","v":0},null,null,null,null,"Handicap",{"$f":"IF(P16=0,0,Q16-O16)","v":0},null,null,null,null,"Handicap",{"$f":"IF(V16=0,0,W16-U16)","v":0},null,null,null,null,"Handicap",{"$f":"IF(AB16=0,0,AC16-AA16)","v":0},null,null,null,null,"Handicap",{"$f":"IF(AH16=0,0,AI16-AG16)","v":0},null,null,null,null,"Handicap",{"$f":"IF(AN16=0,0,AO16-AM16)","v":0},null,null,null,null,"Handicap",{"$f":"IF(AT16=0,0,AU16-AS16)","v":0},null,null,null,null,"Handicap",{"$f":"IF(AZ16=0,0,BA16-AY16)","v":0},null,null,null,null,"Handicap",{"$f":"IF(BF16=0,0,BG16-BE16)","v":0},null,null,null,null,"Handicap",{"$f":"IF(BL16=0,0,BM16-BK16)","v":0},null,null,null,null,"Handicap",{"$f":"IF(BR16=0,0,BS16-BQ16)","v":0},null,null,null,null,"Handicap",{"$f":"IF(BX16=0,0,BY16-BW16)","v":0},null,null,null,null,"Handicap",{"$f":"IF(CD16=0,0,CE16-CC16)","v":0},null,null,null,null,"Handicap",{"$f":"IF(CJ16=0,0,CK16-CI16)","v":0}]
[]
[null,null,null,null,null,{"$f":"IF(D16<>0,IF(F16>4.5,\"W\",IF(F16=4.5,\"T\",IF(F16<4.5,\"L\"))),0)","v":0},null,null,null,null,null,{"$f":"IF(J16<>0,IF(L16>4.5,\"W\",IF(L16=4.5,\"T\",IF(L16<4.5,\"L\"))),0)","v":0},null,null,null,null,null,{"$f":"IF(P16<>0,IF(R16>4.5,\"W\",IF(R16=4.5,\"T\",IF(R16<4.5,\"L\"))),0)","v":0},null,null,null,null,null,{"$f":"IF(V16<>0,IF(X16>4.5,\"W\",IF(X16=4.5,\"T\",IF(X16<4.5,\"L\"))),0)","v":0},null,null,null,null,null,{"$f":"IF(AB16<>0,IF(AD16>4.5,\"W\",IF(AD16=4.5,\"T\",IF(AD16<4.5,\"L\"))),0)","v":0},null,null,null,null,null,{"$f":"IF(AH16<>0,IF(AJ16>4.5,\"W\",IF(AJ16=4.5,\"T\",IF(AJ16<4.5,\"L\"))),0)","v":0},null,null,null,null,null,{"$f":"IF(AN16<>0,IF(AP16>4.5,\"W\",IF(AP16=4.5,\"T\",IF(AP16<4.5,\"L\"))),0)","v":0},null,null,null,null,null,{"$f":"IF(AT16<>0,IF(AV16>4.5,\"W\",IF(AV16=4.5,\"T\",IF(AV16<4.5,\"L\"))),0)","v":0},null,null,null,null,null,{"$f":"IF(AZ16<>0,IF(BB16>4.5,\"W\",IF(BB16=4.5,\"T\",IF(BB16<4.5,\"L\"))),0)","v":0},null,null,null,null,null,{"$f":"IF(BF16<>0,IF(BH16>4.5,\"W\",IF(BH16=4.5,\"T\",IF(BH16<4.5,\"L\"))),0)","v":0},null,null,null,null,null,{"$f":"IF(BL16<>0,IF(BN16>4.5,\"W\",IF(BN16=4.5,\"T\",IF(BN16<4.5,\"L\"))),0)","v":0},null,null,null,null,null,{"$f":"IF(BR16<>0,IF(BT16>4.5,\"W\",IF(BT16=4.5,\"T\",IF(BT16<4.5,\"L\"))),0)","v":0},null,null,null,null,null,{"$f":"IF(BX16<>0,IF(BZ16>4.5,\"W\",IF(BZ16=4.5,\"T\",IF(BZ16<4.5,\"L\"))),0)","v":0},null,null,null,null,null,{"$f":"IF(CD16<>0,IF(CF16>4.5,\"W\",IF(CF16=4.5,\"T\",IF(CF16<4.5,\"L\"))),0)","v":0},null,null,null,null,null,{"$f":"IF(CJ16<>0,IF(CL16>4.5,\"W\",IF(CL16=4.5,\"T\",IF(CL16<4.5,\"L\"))),0)","v":0}]
[]
[null,"Summary"]
[null,null,null,"Adj",null,"Adj",null,null,null,"Avg Score"]
[null,null,"Points","Points","Matches","Matches",null,null,"Hole #","by Hole","Best","Worst"]
[null,"Week #1",{"$f":"F20","v":0},{"$f":"C29","v":0},{"$f":"IF(D16>0,1,0)","v":0},{"$f":"E29","v":0},null,null,1,{"$f":"IFERROR(AVERAGE(D7),0)","v":0},{"$f":"IFERROR(MIN(J7,V7,AH7,AT7,BF7,BR7,BX7,CJ7),0)","v":0},{"$f":"IFERROR(MAX(J7,V7,AH7,AT7,BF7,BR7,BX7,CJ7),0)","v":0}]
[null,"Week #2",{"$f":"L20","v":0},0,{"$f":"IF(J16>0,1,0)","v":0},0,null,null,2,{"$f":"IFERROR(AVERAGE(D8),0)","v":0},{"$f":"IFERROR(MIN(J8,V8,AH8,AT8,BF8,BR8,BX8,CJ8),0)","v":0},{"$f":"IFERROR(MAX(J8,V8,AH8,AT8,BF8,BR8,BX8,CJ8),0)","v":0}]
[null,"Week #3",{"$f":"R20","v":0},0,{"$f":"IF(P16>0,1,0)","v":0},0,null,null,3,0,0,0]
[null,"Week #4",{"$f":"X20","v":0},0,{"$f":"IF(V16>0,1,0)","v":0},0,null,null,4,0,0,0]
[null,"Week #5",{"$f":"AD20","v":0},0,{"$f":"IF(AB16>0,1,0)","v":0},0,null,null,5,0,0,0]
[null,"Week #6",{"$f":"AJ20","v":0},0,{"$f":"IF(AH16>0,1,0)","v":0},0,null,null,6,0,0,0]
[null,"Week #7",{"$f":"AP20","v":0},0,{"$f":"IF(AN16>0,1,0)","v":0},0,null,null,7,0,0,0]
[null,"Week #8",{"$f":"AV20","v":0},0,{"$f":"IF(AT16>0,1,0)","v":0},0,null,null,8,0,0,0]
[null,"Week #9",{"$f":"BB20","v":0},0,{"$f":"IF(AZ16>0,1,0)","v":0},0,null,null,9,0,0,0]
[null,"Week #10",{"$f":"BH20","v":0},0,{"$f":"IF(BF16>0,1,0)","v":0},0,null,null,"Front",{"$f":"SUM(J29:J37)","v":0},{"$f":"SUM(K29:K37)","v":0},0]
[null,"Week #11",{"$f":"BN20","v":0},0,{"$f":"IF(BL16>0,1,0)","v":0},0]
[null,"Week #12",{"$f":"BT20","v":0},0,{"$f":"IF(BR16>0,1,0)","v":0},0,null,null,10,{"$f":"IFERROR(AVERAGE(J7),0)","v":0},{"$f":"IFERROR(MIN(D7,P7,AB7,AN7,AZ7,BL7,CD7),0)","v":0},{"$f":"IFERROR(MAX(D7,P7,AB7,AN7,AZ7,BL7,CD7),0)","v":0}]
[null,"Week #13",{"$f":"BZ20","v":0},0,{"$f":"IF(BX16>0,1,0)","v":0},0,null,null,11,{"$f":"IFERROR(AVERAGE(J8),0)","v":0},{"$f":"IFERROR(MIN(D8,P8,AB8,AN8,AZ8,BL8,CD8),0)","v":0},{"$f":"IFERROR(MAX(D8,P8,AB8,AN8,AZ8,BL8,CD8),0)","v":0}]
[null,"Week #14",{"$f":"CF20","v":0},0,{"$f":"IF(CD16>0,1,0)","v":0},0,null,null,12,0,0,0]
[null,"Week #15",{"$f":"CL20","v":0},0,{"$f":"IF(CJ16>0,1,0)","v":0},0,null,null,13,0,0,0]
[null,"Total",{"$f":"SUM(C29:C43)","v":0},{"$f":"SUM(D29:D43)","v":0},{"$f":"SUM(E29:E43)","v":0},{"$f":"SUM(F29:F43)","v":0},null,null,14,0,0,0]
[null,null,null,null,null,null,null,null,15,0,0,0]
[null,"Summary",null,null,null,null,null,null,16,0,0,0]
[null,"Eagles",{"$f":"I57+I68+I79+I90+I101+I112+I123+I134+I145+I156+I167+I178+I189+I200+I211","v":0},null,null,null,null,null,17,0,0,0]
[null,"Birdies",0,null,null,null,null,null,18,0,0,0]
[null,"Pars",{"$f":"I59+I70+I81+I92+I103+I114+I125+I136+I147+I158+I169+I180+I191+I202+I213","v":0},null,null,null,null,null,"Back",{"$f":"SUM(J40:J48)","v":0},{"$f":"SUM(K40:K48)","v":0},0]
[null,"bogeys",0]
[null,"Double bogeys",0]
[null,"Other",0]
[null,"Total",{"$f":"SUM(C47:C52)","v":0}]
[]
[null,{"$f":"D4","v":"2025-04-25"},"Par","Score"]
[null,{"$f":"B7","v":1},4,0,{"$f":"IF(D56<>0,IF((D56-C56)=-1,\"Birdie\",IF((D56-C56)=-2,\"Eagle\",IF((D56-C56)=0,\"Par\",IF((D56-C56)=1,\"bogey\",IF((D56-C56)=2,\"Double bogey\",\"Other\"))))),\"  \")","v":"  "},null,null,"Count"]
[null,2,4,0,"  ",null,null,"Eagle",{"$f":"COUNTIF(E56:E64,\"Eagle\")","v":0}]
[null,3,4,0,"  ",null,null,"Birdie",{"$f":"COUNTIF(E56:E64,\"Birdie\")","v":0}]
[null,4,4,0,"  ",null,null,"Par",{"$f":"COUNTIF(E56:E64,\"Par\")","v":0}]
[null,5,3,0,"  ",null,null,"bogey",{"$f":"COUNTIF(E56:E64,\"bogey\")","v":0}]
[null,6,4,0,"  ",null,null,"Double bogey",{"$f":"COUNTIF(E56:E64,\"Double bogey\")","v":0}]
[null,7,4,0,"  ",null,null,"Other",{"$f":"COUNTIF(E56:E64,\"Other\")","v":0}]
[null,8,3,0,"  "]
[null,9,5,0,"  "]
[]
[null,{"$f":"J4","v":"2025-05-02"}]
[null,{"$f":"H7","v":10},4,0,{"$f":"IF(D67<>0,IF((D67-C67)=-1,\"Birdie\",IF((D67-C67)=-2,\"Eagle\",IF((D67-C67)=0,\"Par\",IF((D67-C67)=1,\"bogey\",IF((D67-C67)=2,\"Double bogey\",\"Other\"))))),\"  \")","v":"  "},null,null,"Count"]
[null,11,4,0,"  ",null,null,"Eagle",{"$f":"COUNTIF(E67:E75,\"Eagle\")","v":0}]
[null,12,3,0,"  ",null,null,"Birdie",{"$f":"COUNTIF(E67:E75,\"Birdie\")","v":0}]
[null,13,4,0,"  ",null,null,"Par",{"$f":"COUNTIF(E67:E75,\"Par\")","v":0}]
[null,14,4,0,"  ",null,null,"bogey",{"$f":"COUNTIF(E67:E75,\"bogey\")","v":0}]
[null,15,3,0,"  ",null,null,"Double bogey",{"$f":"COUNTIF(E67:E75,\"Double bogey\")","v":0}]
[null,16,5,0,"  ",null,null,"Other",{"$f":"COUNTIF(E67:E75,\"Other\")","v":0}]
[null,17,4,0,"  "]
[null,18,5,0,"  "]
[]
[null,{"$f":"P4","v":"2025-05-09"}]
[null,{"$f":"N7","v":1},4,0,{"$f":"IF(D78<>0,IF((D78-C78)=-1,\"Birdie\",IF((D78-C78)=-2,\"Eagle\",IF((D78-C78)=0,\"Par\",IF((D78-C78)=1,\"bogey\",IF((D78-C78)=2,\"Double bogey\",\"Other\"))))),\"  \")","v":"  "},null,null,"Count"]
[null,2,4,0,"  ",null,null,"Eagle",{"$f":"COUNTIF(E78:E86,\"Eagle\")","v":0}]
[null,3,4,0,"  ",null,null,"Birdie",{"$f":"COUNTIF(E78:E86,\"Birdie\")","v":0}]
[null,4,4,0,"  ",null,null,"Par",{"$f":"COUNTIF(E78:E86,\"Par\")","v":0}]
[null,5,3,0,"  ",null,null,"bogey",{"$f":"COUNTIF(E78:E86,\"bogey\")","v":0}]
[null,6,4,0,"  ",null,null,"Double bogey",{"$f":"COUNTIF(E78:E86,\"Double bogey\")","v":0}]
[null,7,4,0,"  ",null,null,"Other",{"$f":"COUNTIF(E78:E86,\"Other\")","v":0}]
[null,8,3,0,"  "]
[null,9,5,0,"  "]
[]
[null,{"$f":"V4","v":"2025-05-16"}]
[null,{"$f":"T7","v":10},4,0,{"$f":"IF(D89<>0,IF((D89-C89)=-1,\"Birdie\",IF((D89-C89)=-2,\"Eagle\",IF((D89-C89)=0,\"Par\",IF((D89-C89)=1,\"bogey\",IF((D89-C89)=2,\"Double bogey\",\"Other\"))))),\"  \")","v":"  "},null,null,"Count"]
[null,11,4,0,"  ",null,null,"Eagle",{"$f":"COUNTIF(E89:E97,\"Eagle\")","v":0}]
[null,12,3,0,"  ",null,null,"Birdie",{"$f":"COUNTIF(E89:E97,\"Birdie\")","v":0}]
[null,13,4,0,"  ",null,null,"Par",{"$f":"COUNTIF(E89:E97,\"Par\")","v":0}]
[null,14,4,0,"  ",null,null,"bogey",{"$f":"COUNTIF(E89:E97,\"bogey\")","v":0}]
[null,15,3,0,"  ",null,null,"Double bogey",{"$f":"COUNTIF(E89:E97,\"Double bogey\")","v":0}]
[null,16,5,0,"  ",null,null,"Other",{"$f":"COUNTIF(E89:E97,\"Other\")","v":0}]
[null,17,4,0,"  "]
[null,18,5,0,"  "]
[]
[null,{"$f":"AB4","v":"2025-05-23"}]
[null,{"$f":"Z7","v":1},4,0,{"$f":"IF(D100<>0,IF((D100-C100)=-1,\"Birdie\",IF((D100-C100)=-2,\"Eagle\",IF((D100-C100)=0,\"Par\",IF((D100-C100)=1,\"bogey\",IF((D100-C100)=2,\"Double bogey\",\"Other\"))))),\"  \")","v":"  "},null,null,"Count"]
[null,2,4,0,"  ",null,null,"Eagle",{"$f":"COUNTIF(E100:E108,\"Eagle\")","v":0}]
[null,3,4,0,"  ",null,null,"Birdie",{"$f":"COUNTIF(E100:E108,\"Birdie\")","v":0}]
[null,4,4,0,"  ",null,null,"Par",{"$f":"COUNTIF(E100:E108,\"Par\")","v":0}]
[null,5,3,0,"  ",null,null,"bogey",{"$f":"COUNTIF(E100:E108,\"bogey\")","v":0}]
[null,6,4,0,"  ",null,null,"Double bogey",{"$f":"COUNTIF(E100:E108,\"Double bogey\")","v":0}]
[null,7,4,0,"  ",null,null,"Other",{"$f":"COUNTIF(E100:E108,\"Other\")","v":0}]
[null,8,3,0,"  "]
[null,9,5,0,"  "]
[]
[null,{"$f":"AH4","v":"2025-05-30"}]
[null,{"$f":"AF7","v":10},4,0,{"$f":"IF(D111<>0,IF((D111-C111)=-1,\"Birdie\",IF((D111-C111)=-2,\"Eagle\",IF((D111-C111)=0,\"Par\",IF((D111-C111)=1,\"bogey\",IF((D111-C111)=2,\"Double bogey\",\"Other\"))))),\"  \")","v":"  "},null,null,"Count"]
[null,11,4,0,"  ",null,null,"Eagle",{"$f":"COUNTIF(E111:E119,\"Eagle\")","v":0}]
[null,12,3,0,"  ",null,null,"Birdie",{"$f":"COUNTIF(E111:E119,\"Birdie\")","v":0}]
[null,13,4,0,"  ",null,null,"Par",{"$f":"COUNTIF(E111:E119,\"Par\")","v":0}]
[null,14,4,0,"  ",null,null,"bogey",{"$f":"COUNTIF(E111:E119,\"bogey\")","v":0}]
[null,15,3,0,"  ",null,null,"Double bogey",{"$f":"COUNTIF(E111:E119,\"Double bogey\")","v":0}]
[null,16,5,0,"  ",null,null,"Other",{"$f":"COUNTIF(E111:E119,\"Other\")","v":0}]
[null,17,4,0,"  "]
[null,18,5,0,"  "]
[]
[null,{"$f":"AN4","v":"2025-06-06"}]
[null,{"$f":"AL7","v":1},4,0,{"$f":"IF(D122<>0,IF((D122-C122)=-1,\"Birdie\",IF((D122-C122)=-2,\"Eagle\",IF((D122-C122)=0,\"Par\",IF((D122-C122)=1,\"bogey\",IF((D122-C122)=2,\"Double bogey\",\"Other\"))))),\"  \")","v":"  "},null,null,"Count"]
[null,2,4,0,"  ",null,null,"Eagle",{"$f":"COUNTIF(E122:E130,\"Eagle\")","v":0}]
[null,3,4,0,"  ",null,null,"Birdie",{"$f":"COUNTIF(E122:E130,\"Birdie\")","v":0}]
[null,4,4,0,"  ",null,null,"Par",{"$f":"COUNTIF(E122:E130,\"Par\")","v":0}]
[null,5,3,0,"  ",null,null,"bogey",{"$f":"COUNTIF(E122:E130,\"bogey\")","v":0}]
[null,6,4,0,"  ",null,null,"Double bogey",{"$f":"COUNTIF(E122:E130,\"Double bogey\")","v":0}]
[null,7,4,0,"  ",null,null,"Other",{"$f":"COUNTIF(E122:E130,\"Other\")","v":0}]
[null,8,3,0,"  "]
[null,9,5,0,"  "]
[]
[null,{"$f":"AT4","v":"2025-06-13"}]
[null,{"$f":"AR7","v":10},4,0,{"$f":"IF(D133<>0,IF((D133-C133)=-1,\"Birdie\",IF((D133-C133)=-2,\"Eagle\",IF((D133-C133)=0,\"Par\",IF((D133-C133)=1,\"bogey\",IF((D133-C133)=2,\"Double bogey\",\"Other\"))))),\"  \")","v":"  "},null,null,"Count"]
[null,11,4,0,"  ",null,null,"Eagle",{"$f":"COUNTIF(E133:E141,\"Eagle\")","v":0}]
[null,12,3,0,"  ",null,null,"Birdie",{"$f":"COUNTIF(E133:E141,\"Birdie\")","v":0}]
[null,13,4,0,"  ",null,null,"Par",{"$f":"COUNTIF(E133:E141,\"Par\")","v":0}]
[null,14,4,0,"  ",null,null,"bogey",{"$f":"COUNTIF(E133:E141,\"bogey\")","v":0}]
[null,15,3,0,"  ",null,null,"Double bogey",{"$f":"COUNTIF(E133:E141,\"Double bogey\")","v":0}]
[null,16,5,0,"  ",null,null,"Other",{"$f":"COUNTIF(E133:E141,\"Other\")","v":0}]
[null,17,4,0,"  "]
[null,18,5,0,"  "]
[]
[null,{"$f":"AZ4","v":"2025-06-27"}]
[null,{"$f":"AX7","v":10},4,0,{"$f":"IF(D144<>0,IF((D144-C144)=-1,\"Birdie\",IF((D144-C144)=-2,\"Eagle\",IF((D144-C144)=0,\"Par\",IF((D144-C144)=1,\"bogey\",IF((D144-C144)=2,\"Double bogey\",\"Other\"))))),\"  \")","v":"  "},null,null,"Count"]
[null,11,4,0,"  ",null,null,"Eagle",{"$f":"COUNTIF(E144:E152,\"Eagle\")","v":0}]
[null,12,3,0,"  ",null,null,"Birdie",{"$f":"COUNTIF(E144:E152,\"Birdie\")","v":0}]
[null,13,4,0,"  ",null,null,"Par",{"$f":"COUNTIF(E144:E152,\"Par\")","v":0}]
[null,14,4,0,"  ",null,null,"bogey",{"$f":"COUNTIF(E144:E152,\"bogey\")","v":0}]
[null,15,3,0,"  ",null,null,"Double bogey",{"$f":"COUNTIF(E144:E152,\"Double bogey\")","v":0}]
[null,16,5,0,"  ",null,null,"Other",{"$f":"COUNTIF(E144:E152,\"Other\")","v":0}]
[null,17,4,0,"  "]
[null,18,5,0,"  "]
[]
[null,{"$f":"BF4","v":"2025-07-04"}]
[null,{"$f":"BD7","v":10},4,0,{"$f":"IF(D155<>0,IF((D155-C155)=-1,\"Birdie\",IF((D155-C155)=-2,\"Eagle\",IF((D155-C155)=0,\"Par\",IF((D155-C155)=1,\"bogey\",IF((D155-C155)=2,\"Double bogey\",\"Other\"))))),\"  \")","v":"  "},null,null,"Count"]
[null,11,4,0,"  ",null,null,"Eagle",{"$f":"COUNTIF(E155:E163,\"Eagle\")","v":0}]
[null,12,3,0,"  ",null,null,"Birdie",{"$f":"COUNTIF(E155:E163,\"Birdie\")","v":0}]
[null,13,4,0,"  ",null,null,"Par",{"$f":"COUNTIF(E155:E163,\"Par\")","v":0}]
[null,14,4,0,"  ",null,null,"bogey",{"$f":"COUNTIF(E155:E163,\"bogey\")","v":0}]
[null,15,3,0,"  ",null,null,"Double bogey",{"$f":"COUNTIF(E155:E163,\"Double bogey\")","v":0}]
[null,16,5,0,"  ",null,null,"Other",{"$f":"COUNTIF(E155:E163,\"Other\")","v":0}]
[null,17,4,0,"  "]
[null,18,5,0,"  "]
[]
[null,{"$f":"BL4","v":"2025-07-18"}]
[null,{"$f":"BJ7","v":10},4,0,{"$f":"IF(D166<>0,IF((D166-C166)=-1,\"Birdie\",IF((D166-C166)=-2,\"Eagle\",IF((D166-C166)=0,\"Par\",IF((D166-C166)=1,\"bogey\",IF((D166-C166)=2,\"Double bogey\",\"Other\"))))),\"  \")","v":"  "},null,null,"Count"]
[null,11,4,0,"  ",null,null,"Eagle",{"$f":"COUNTIF(E166:E174,\"Eagle\")","v":0}]
[null,12,3,0,"  ",null,null,"Birdie",{"$f":"COUNTIF(E166:E174,\"Birdie\")","v":0}]
[null,13,4,0,"  ",null,null,"Par",{"$f":"COUNTIF(E166:E174,\"Par\")","v":0}]
[null,14,4,0,"  ",null,null,"bogey",{"$f":"COUNTIF(E166:E174,\"bogey\")","v":0}]
[null,15,3,0,"  ",null,null,"Double bogey",{"$f":"COUNTIF(E166:E174,\"Double bogey\")","v":0}]
[null,16,5,0,"  ",null,null,"Other",{"$f":"COUNTIF(E166:E174,\"Other\")","v":0}]
[null,17,4,0,"  "]
[null,18,5,0,"  "]
[]
[null,{"$f":"BR4","v":"2025-07-25"}]
[null,{"$f":"BP7","v":1},4,0,{"$f":"IF(D177<>0,IF((D177-C177)=-1,\"Birdie\",IF((D177-C177)=-2,\"Eagle\",IF((D177-C177)=0,\"Par\",IF((D177-C177)=1,\"bogey\",IF((D177-C177)=2,\"Double bogey\",\"Other\"))))),\"  \")","v":"  "},null,null,"Count"]
[null,2,4,0,"  ",null,null,"Eagle",{"$f":"COUNTIF(E177:E185,\"Eagle\")","v":0}]
[null,3,4,0,"  ",null,null,"Birdie",{"$f":"COUNTIF(E177:E185,\"Birdie\")","v":0}]
[null,4,4,0,"  ",null,null,"Par",{"$f":"COUNTIF(E177:E185,\"Par\")","v":0}]
[null,5,3,0,"  ",null,null,"bogey",{"$f":"COUNTIF(E177:E185,\"bogey\")","v":0}]
[null,6,4,0,"  ",null,null,"Double bogey",{"$f":"COUNTIF(E177:E185,\"Double bogey\")","v":0}]
[null,7,4,0,"  ",null,null,"Other",{"$f":"COUNTIF(E177:E185,\"Other\")","v":0}]
[null,8,3,0,"  "]
[null,9,5,0,"  "]
[]
[null,{"$f":"BX4","v":"2025-08-01"}]
[null,{"$f":"BV7","v":10},4,0,{"$f":"IF(D188<>0,IF((D188-C188)=-1,\"Birdie\",IF((D188-C188)=-2,\"Eagle\",IF((D188-C188)=0,\"Par\",IF((D188-C188)=1,\"bogey\",IF((D188-C188)=2,\"Double bogey\",\"Other\"))))),\"  \")","v":"  "},null,null,"Count"]
[null,11,4,0,"  ",null,null,"Eagle",{"$f":"COUNTIF(E188:E196,\"Eagle\")","v":0}]
[null,12,3,0,"  ",null,null,"Birdie",{"$f":"COUNTIF(E188:E196,\"Birdie\")","v":0}]
[null,13,4,0,"  ",null,null,"Par",{"$f":"COUNTIF(E188:E196,\"Par\")","v":0}]
[null,14,4,0,"  ",null,null,"bogey",{"$f":"COUNTIF(E188:E196,\"bogey\")","v":0}]
[null,15,3,0,"  ",null,null,"Double bogey",{"$f":"COUNTIF(E188:E196,\"Double bogey\")","v":0}]
[null,16,5,0,"  ",null,null,"Other",{"$f":"COUNTIF(E188:E196,\"Other\")","v":0}]
[null,17,4,0,"  "]
[null,18,5,0,"  "]
[]
[null,{"$f":"CD4","v":"2025-08-08"}]
[null,{"$f":"CB7","v":1},4,0,{"$f":"IF(D199<>0,IF((D199-C199)=-1,\"Birdie\",IF((D199-C199)=-2,\"Eagle\",IF((D199-C199)=0,\"Par\",IF((D199-C199)=1,\"bogey\",IF((D199-C199)=2,\"Double bogey\",\"Other\"))))),\"  \")","v":"  "},null,null,"Count"]
[null,2,4,0,"  ",null,null,"Eagle",{"$f":"COUNTIF(E199:E207,\"Eagle\")","v":0}]
[null,3,4,0,"  ",null,null,"Birdie",{"$f":"COUNTIF(E199:E207,\"Birdie\")","v":0}]
[null,4,4,0,"  ",null,null,"Par",{"$f":"COUNTIF(E199:E207,\"Par\")","v":0}]
[null,5,3,0,"  ",null,null,"bogey",{"$f":"COUNTIF(E199:E207,\"bogey\")","v":0}]
[null,6,4,0,"  ",null,null,"Double bogey",{"$f":"COUNTIF(E199:E207,\"Double bogey\")","v":0}]
[null,7,4,0,"  ",null,null,"Other",{"$f":"COUNTIF(E199:E207,\"Other\")","v":0}]
[null,8,3,0,"  "]
[null,9,5,0,"  "]
[]
[null,{"$f":"CJ4","v":"2025-08-15"}]
[null,{"$f":"CH7","v":10},4,0,{"$f":"IF(D210<>0,IF((D210-C210)=-1,\"Birdie\",IF((D210-C210)=-2,\"Eagle\",IF((D210-C210)=0,\"Par\",IF((D210-C210)=1,\"bogey\",IF((D210-C210)=2,\"Double bogey\",\"Other\"))))),\"  \")","v":"  "},null,null,"Count"]
[null,11,4,0,"  ",null,null,"Eagle",{"$f":"COUNTIF(E210:E218,\"Eagle\")","v":0}]
[null,12,3,0,"  ",null,null,"Birdie",{"$f":"COUNTIF(E210:E218,\"Birdie\")","v":0}]
[null,13,4,0,"  ",null,null,"Par",{"$f":"COUNTIF(E210:E218,\"Par\")","v":0}]
[null,14,4,0,"  ",null,null,"bogey",{"$f":"COUNTIF(E210:E218,\"bogey\")","v":0}]
[null,15,3,0,"  ",null,null,"Double bogey",{"$f":"COUNTIF(E210:E218,\"Double bogey\")","v":0}]
[null,16,5,0,"  ",null,null,"Other",{"$f":"COUNTIF(E210:E218,\"Other\")","v":0}]
[null,17,4,0,"  "]
[null,18,5,0,"  "]

{"sheet":"Michalski_P","index":13,"n_rows":218,"n_cols":90,"rows_kept":218,"cut":false,"hidden":false,"merged":[]}
["Pete Michalski"]
[]
[]
[null,null,"Date:",{"$f":"VLOOKUP(C5,Week,2)","v":"2025-04-25"},null,null,null,null,"Date:",{"$f":"VLOOKUP(I5,Week,2)","v":"2025-05-02"},null,null,null,null,"Date:",{"$f":"VLOOKUP(O5,Week,2)","v":"2025-05-09"},null,null,null,null,"Date:",{"$f":"VLOOKUP(U5,Week,2)","v":"2025-05-16"},null,null,null,null,"Date:",{"$f":"VLOOKUP(AA5,Week,2)","v":"2025-05-23"},null,null,null,null,"Date:",{"$f":"VLOOKUP(AG5,Week,2)","v":"2025-05-30"},null,null,null,null,"Date:",{"$f":"VLOOKUP(AM5,Week,2)","v":"2025-06-06"},null,null,null,null,"Date:",{"$f":"VLOOKUP(AS5,Week,2)","v":"2025-06-13"},null,null,null,null,"Date:",{"$f":"VLOOKUP(AY5,Week,2)","v":"2025-06-27"},null,null,null,null,"Date:",{"$f":"VLOOKUP(BE5,Week,2)","v":"2025-07-04"},null,null,null,null,"Date:",{"$f":"VLOOKUP(BK5,Week,2)","v":"2025-07-18"},null,null,null,null,"Date:",{"$f":"VLOOKUP(BQ5,Week,2)","v":"2025-07-25"},null,null,null,null,"Date:",{"$f":"VLOOKUP(BW5,Week,2)","v":"2025-08-01"},null,null,null,null,"Date:",{"$f":"VLOOKUP(CC5,Week,2)","v":"2025-08-08"},null,null,null,null,"Date:",{"$f":"VLOOKUP(CI5,Week,2)","v":"2025-08-15"}]
[null,"Week",1,null,null,null,null,"Week",2,null,null,null,null,"Week",3,null,null,null,null,"Week",4,null,null,null,null,"Week",5,null,null,null,null,"Week",6,null,null,null,null,"Week",7,null,null,null,null,"Week",8,null,null,null,null,"Week",9,null,null,null,null,"Week",10,null,null,null,null,"Week",11,null,null,null,null,"Week",12,null,null,null,null,"Week",13,null,null,null,null,"Week",14,null,null,null,null,"Week",15]
[null,"Hole #","Par","Score","Net","Win Hole",null,"Hole #","Par","Score","Net","Win Hole",null,"Hole #","Par","Score","Net","Win Hole",null,"Hole #","Par","Score","Net","Win Hole",null,"Hole #","Par","Score","Net","Win Hole",null,"Hole #","Par","Score","Net","Win Hole",null,"Hole #","Par","Score","Net","Win Hole",null,"Hole #","Par","Score","Net","Win Hole",null,"Hole #","Par","Score","Net","Win Hole",null,"Hole #","Par","Score","Net","Win Hole",null,"Hole #","Par","Score","Net","Win Hole",null,"Hole #","Par","Score","Net","Win Hole",null,"Hole #","Par","Score","Net","Win Hole",null,"Hole #","Par","Score","Net","Win Hole",null,"Hole #","Par","Score","Net","Win Hole"]
[null,{"$f":"VLOOKUP(C5,Week,6)","v":1},{"$f":"VLOOKUP(B7,Holes,2)","v":4},null,{"$f":"IF((D7-C7)>3,C7+3,D7)","v":0},null,null,{"$f":"VLOOKUP(I5,Week,6)","v":10},{"$f":"VLOOKUP(H7,Holes,2)","v":4},null,{"$f":"IF((J7-I7)>3,I7+3,J7)","v":0},null,null,{"$f":"VLOOKUP(O5,Week,6)","v":1},{"$f":"VLOOKUP(N7,Holes,2)","v":4},null,{"$f":"IF((P7-O7)>3,O7+3,P7)","v":0},null,null,{"$f":"VLOOKUP(U5,Week,6)","v":10},{"$f":"VLOOKUP(T7,Holes,2)","v":4},null,{"$f":"IF((V7-U7)>3,U7+3,V7)","v":0},null,null,{"$f":"VLOOKUP(AA5,Week,6)","v":1},{"$f":"VLOOKUP(Z7,Holes,2)","v":4},null,{"$f":"IF((AB7-AA7)>3,AA7+3,AB7)","v":0},null,null,{"$f":"VLOOKUP(AG5,Week,6)","v":10},{"$f":"VLOOKUP(AF7,Holes,2)","v":4},null,{"$f":"IF((AH7-AG7)>3,AG7+3,AH7)","v":0},null,null,{"$f":"VLOOKUP(AM5,Week,6)","v":1},{"$f":"VLOOKUP(AL7,Holes,2)","v":4},null,{"$f":"IF((AN7-AM7)>3,AM7+3,AN7)","v":0},null,null,{"$f":"VLOOKUP(AS5,Week,6)","v":10},{"$f":"VLOOKUP(AR7,Holes,2)","v":4},null,{"$f":"IF((AT7-AS7)>3,AS7+3,AT7)","v":0},null,null,{"$f":"VLOOKUP(AY5,Week,6)","v":10},{"$f":"VLOOKUP(AX7,Holes,2)","v":4},null,{"$f":"IF((AZ7-AY7)>3,AY7+3,AZ7)","v":0},null,null,{"$f":"VLOOKUP(BE5,Week,6)","v":10},{"$f":"VLOOKUP(BD7,Holes,2)","v":4},null,{"$f":"IF((BF7-BE7)>3,BE7+3,BF7)","v":0},null,null,{"$f":"VLOOKUP(BK5,Week,6)","v":10},{"$f":"VLOOKUP(BJ7,Holes,2)","v":4},null,{"$f":"IF((BL7-BK7)>3,BK7+3,BL7)","v":0},null,null,{"$f":"VLOOKUP(BQ5,Week,6)","v":1},{"$f":"VLOOKUP(BP7,Holes,2)","v":4},null,{"$f":"IF((BR7-BQ7)>3,BQ7+3,BR7)","v":0},null,null,{"$f":"VLOOKUP(BW5,Week,6)","v":10},{"$f":"VLOOKUP(BV7,Holes,2)","v":4},null,{"$f":"IF((BX7-BW7)>3,BW7+3,BX7)","v":0},null,null,{"$f":"VLOOKUP(CC5,Week,6)","v":1},{"$f":"VLOOKUP(CB7,Holes,2)","v":4},null,{"$f":"IF((CD7-CC7)>3,CC7+3,CD7)","v":0},null,null,{"$f":"VLOOKUP(CI5,Week,6)","v":10},{"$f":"VLOOKUP(CH7,Holes,2)","v":4},null,{"$f":"IF((CJ7-CI7)>3,CI7+3,CJ7)","v":0}]
[null,{"$f":"+B7+1","v":2},4,null,0,null,null,{"$f":"+H7+1","v":11},4,null,0,null,null,{"$f":"+N7+1","v":2},4,null,0,null,null,{"$f":"+T7+1","v":11},4,null,0,null,null,{"$f":"+Z7+1","v":2},4,null,0,null,null,{"$f":"+AF7+1","v":11},4,null,0,null,null,{"$f":"+AL7+1","v":2},4,null,0,null,null,{"$f":"+AR7+1","v":11},4,null,0,null,null,{"$f":"+AX7+1","v":11},4,null,0,null,null,{"$f":"+BD7+1","v":11},4,null,0,null,null,{"$f":"+BJ7+1","v":11},4,null,0,null,null,{"$f":"+BP7+1","v":2},4,null,0,null,null,{"$f":"+BV7+1","v":11},4,null,0,null,null,{"$f":"+CB7+1","v":2},4,null,0,null,null,{"$f":"+CH7+1","v":11},4,null,0]
[null,3,4,null,0,null,null,12,3,null,0,null,null,3,4,null,0,null,null,12,3,null,0,null,null,3,4,null,0,null,null,12,3,null,0,null,null,3,4,null,0,null,null,12,3,null,0,null,null,12,3,null,0,null,null,12,3,null,0,null,null,12,3,null,0,null,null,3,4,null,0,null,null,12,3,null,0,null,null,3,4,null,0,null,null,12,3,null,0]
[null,4,4,null,0,null,null,13,4,null,0,null,null,4,4,null,0,null,null,13,4,null,0,null,null,4,4,null,0,null,null,13,4,null,0,null,null,4,4,null,0,null,null,13,4,null,0,null,null,13,4,null,0,null,null,13,4,null,0,null,null,13,4,null,0,null,null,4,4,null,0,null,null,13,4,null,0,null,null,4,4,null,0,null,null,13,4,null,0]
[null,5,3,null,0,null,null,14,4,null,0,null,null,5,3,null,0,null,null,14,4,null,0,null,null,5,3,null,0,null,null,14,4,null,0,null,null,5,3,null,0,null,null,14,4,null,0,null,null,14,4,null,0,null,null,14,4,null,0,null,null,14,4,null,0,null,null,5,3,null,0,null,null,14,4,null,0,null,null,5,3,null,0,null,null,14,4,null,0]
[null,6,4,null,0,null,null,15,3,null,0,null,null,6,4,null,0,null,null,15,3,null,0,null,null,6,4,null,0,null,null,15,3,null,0,null,null,6,4,null,0,null,null,15,3,null,0,null,null,15,3,null,0,null,null,15,3,null,0,null,null,15,3,null,0,null,null,6,4,null,0,null,null,15,3,null,0,null,null,6,4,null,0,null,null,15,3,null,0]
[null,7,4,null,0,null,null,16,5,null,0,null,null,7,4,null,0,null,null,16,5,null,0,null,null,7,4,null,0,null,null,16,5,null,0,null,null,7,4,null,0,null,null,16,5,null,0,null,null,16,5,null,0,null,null,16,5,null,0,null,null,16,5,null,0,null,null,7,4,null,0,null,null,16,5,null,0,null,null,7,4,null,0,null,null,16,5,null,0]
[null,8,3,null,0,null,null,17,4,null,0,null,null,8,3,null,0,null,null,17,4,null,0,null,null,8,3,null,0,null,null,17,4,null,0,null,null,8,3,null,0,null,null,17,4,null,0,null,null,17,4,null,0,null,null,17,4,null,0,null,null,17,4,null,0,null,null,8,3,null,0,null,null,17,4,null,0,null,null,8,3,null,0,null,null,17,4,null,0]
[null,9,5,null,0,null,null,18,5,null,0,null,null,9,5,null,0,null,null,18,5,null,0,null,null,9,5,null,0,null,null,18,5,null,0,null,null,9,5,null,0,null,null,18,5,null,0,null,null,18,5,null,0,null,null,18,5,null,0,null,null,18,5,null,0,null,null,9,5,null,0,null,null,18,5,null,0,null,null,9,5,null,0,null,null,18,5,null,0]
[null,"Total",{"$f":"SUM(C7:C15)","v":35},{"$f":"SUM(D7:D15)","v":0},{"$f":"SUM(E7:E15)","v":0},{"$f":"SUM(F7:F15)","v":0},null,"Total",{"$f":"SUM(I7:I15)","v":36},{"$f":"SUM(J7:J15)","v":0},{"$f":"SUM(K7:K15)","v":0},{"$f":"SUM(L7:L15)","v":0},null,"Total",{"$f":"SUM(O7:O15)","v":35},{"$f":"SUM(P7:P15)","v":0},{"$f":"SUM(Q7:Q15)","v":0},{"$f":"SUM(R7:R15)","v":0},null,"Total",{"$f":"SUM(U7:U15)","v":36},{"$f":"SUM(V7:V15)","v":0},{"$f":"SUM(W7:W15)","v":0},{"$f":"SUM(X7:X15)","v":0},null,"Total",{"$f":"SUM(AA7:AA15)","v":35},{"$f":"SUM(AB7:AB15)","v":0},{"$f":"SUM(AC7:AC15)","v":0},{"$f":"SUM(AD7:AD15)","v":0},null,"Total",{"$f":"SUM(AG7:AG15)","v":36},{"$f":"SUM(AH7:AH15)","v":0},{"$f":"SUM(AI7:AI15)","v":0},{"$f":"SUM(AJ7:AJ15)","v":0},null,"Total",{"$f":"SUM(AM7:AM15)","v":35},{"$f":"SUM(AN7:AN15)","v":0},{"$f":"SUM(AO7:AO15)","v":0},{"$f":"SUM(AP7:AP15)","v":0},null,"Total",{"$f":"SUM(AS7:AS15)","v":36},{"$f":"SUM(AT7:AT15)","v":0},{"$f":"SUM(AU7:AU15)","v":0},{"$f":"SUM(AV7:AV15)","v":0},null,"Total",{"$f":"SUM(AY7:AY15)","v":36},{"$f":"SUM(AZ7:AZ15)","v":0},{"$f":"SUM(BA7:BA15)","v":0},{"$f":"SUM(BB7:BB15)","v":0},null,"Total",{"$f":"SUM(BE7:BE15)","v":36},{"$f":"SUM(BF7:BF15)","v":0},{"$f":"SUM(BG7:BG15)","v":0},{"$f":"SUM(BH7:BH15)","v":0},null,"Total",{"$f":"SUM(BK7:BK15)","v":36},{"$f":"SUM(BL7:BL15)","v":0},{"$f":"SUM(BM7:BM15)","v":0},{"$f":"SUM(BN7:BN15)","v":0},null,"Total",{"$f":"SUM(BQ7:BQ15)","v":35},{"$f":"SUM(BR7:BR15)","v":0},{"$f":"SUM(BS7:BS15)","v":0},{"$f":"SUM(BT7:BT15)","v":0},null,"Total",{"$f":"SUM(BW7:BW15)","v":36},{"$f":"SUM(BX7:BX15)","v":0},{"$f":"SUM(BY7:BY15)","v":0},{"$f":"SUM(BZ7:BZ15)","v":0},null,"Total",{"$f":"SUM(CC7:CC15)","v":35},{"$f":"SUM(CD7:CD15)","v":0},{"$f":"SUM(CE7:CE15)","v":0},{"$f":"SUM(CF7:CF15)","v":0},null,"Total",{"$f":"SUM(CI7:CI15)","v":36},{"$f":"SUM(CJ7:CJ15)","v":0},{"$f":"SUM(CK7:CK15)","v":0},{"$f":"SUM(CL7:CL15)","v":0}]
[]
[null,null,null,null,"Low Net",null,null,null,null,null,"Low Net",0,null,null,null,null,"Low Net",0,null,null,null,null,"Low Net",null,null,null,null,null,"Low Net",null,null,null,null,null,"Low Net",null,null,null,null,null,"Low Net",null,null,null,null,null,"Low Net",null,null,null,null,null,"Low Net",null,null,null,null,null,"Low Net",null,null,null,null,null,"Low Net",null,null,null,null,null,"Low Net",null,null,null,null,null,"Low Net",null,null,null,null,null,"Low Net",null,null,null,null,null,"Low Net"]
[]
[null,null,null,null,"Total Points",{"$f":"SUM(F16:F19)","v":0},null,null,null,null,"Total Points",{"$f":"SUM(L16:L19)","v":0},null,null,null,null,"Total Points",{"$f":"SUM(R16:R19)","v":0},null,null,null,null,"Total Points",{"$f":"SUM(X16:X19)","v":0},null,null,null,null,"Total Points",{"$f":"SUM(AD16:AD19)","v":0},null,null,null,null,"Total Points",{"$f":"SUM(AJ16:AJ19)","v":0},null,null,null,null,"Total Points",{"$f":"SUM(AP16:AP19)","v":0},null,null,null,null,"Total Points",{"$f":"SUM(AV16:AV19)","v":0},null,null,null,null,"Total Points",{"$f":"SUM(BB16:BB19)","v":0},null,null,null,null,"Total Points",{"$f":"SUM(BH16:BH19)","v":0},null,null,null,null,"Total Points",{"$f":"SUM(BN16:BN19)","v":0},null,null,null,null,"Total Points",{"$f":"SUM(BT16:BT19)","v":0},null,null,null,null,"Total Points",{"$f":"SUM(BZ16:BZ19)","v":0},null,null,null,null,"Total Points",{"$f":"SUM(CF16:CF19)","v":0},null,null,null,null,"Total Points",{"$f":"SUM(CL16:CL19)","v":0}]
[]
[null,null,null,null,"Handicap",{"$f":"IF(D16=0,0,E16-C16)","v":0},null,null,null,null,"Handicap",{"$f":"IF(J16=0,0,K16-I16)","v":0},null,null,null,null,"Handicap",{"$f":"IF(P16=0,0,Q16-O16)","v":0},null,null,null,null,"Handicap",{"$f":"IF(V16=0,0,W16-U16)","v":0},null,null,null,null,"Handicap",{"$f":"IF(AB16=0,0,AC16-AA16)","v":0},null,null,null,null,"Handicap",{"$f":"IF(AH16=0,0,AI16-AG16)","v":0},null,null,null,null,"Handicap",{"$f":"IF(AN16=0,0,AO16-AM16)","v":0},null,null,null,null,"Handicap",{"$f":"IF(AT16=0,0,AU16-AS16)","v":0},null,null,null,null,"Handicap",{"$f":"IF(AZ16=0,0,BA16-AY16)","v":0},null,null,null,null,"Handicap",{"$f":"IF(BF16=0,0,BG16-BE16)","v":0},null,null,null,null,"Handicap",{"$f":"IF(BL16=0,0,BM16-BK16)","v":0},null,null,null,null,"Handicap",{"$f":"IF(BR16=0,0,BS16-BQ16)","v":0},null,null,null,null,"Handicap",{"$f":"IF(BX16=0,0,BY16-BW16)","v":0},null,null,null,null,"Handicap",{"$f":"IF(CD16=0,0,CE16-CC16)","v":0},null,null,null,null,"Handicap",{"$f":"IF(CJ16=0,0,CK16-CI16)","v":0}]
[]
[null,null,null,null,null,{"$f":"IF(D16<>0,IF(F16>4.5,\"W\",IF(F16=4.5,\"T\",IF(F16<4.5,\"L\"))),0)","v":0},null,null,null,null,null,{"$f":"IF(J16<>0,IF(L16>4.5,\"W\",IF(L16=4.5,\"T\",IF(L16<4.5,\"L\"))),0)","v":0},null,null,null,null,null,{"$f":"IF(P16<>0,IF(R16>4.5,\"W\",IF(R16=4.5,\"T\",IF(R16<4.5,\"L\"))),0)","v":0},null,null,null,null,null,{"$f":"IF(V16<>0,IF(X16>4.5,\"W\",IF(X16=4.5,\"T\",IF(X16<4.5,\"L\"))),0)","v":0},null,null,null,null,null,{"$f":"IF(AB16<>0,IF(AD16>4.5,\"W\",IF(AD16=4.5,\"T\",IF(AD16<4.5,\"L\"))),0)","v":0},null,null,null,null,null,{"$f":"IF(AH16<>0,IF(AJ16>4.5,\"W\",IF(AJ16=4.5,\"T\",IF(AJ16<4.5,\"L\"))),0)","v":0},null,null,null,null,null,{"$f":"IF(AN16<>0,IF(AP16>4.5,\"W\",IF(AP16=4.5,\"T\",IF(AP16<4.5,\"L\"))),0)","v":0},null,null,null,null,null,{"$f":"IF(AT16<>0,IF(AV16>4.5,\"W\",IF(AV16=4.5,\"T\",IF(AV16<4.5,\"L\"))),0)","v":0},null,null,null,null,null,{"$f":"IF(AZ16<>0,IF(BB16>4.5,\"W\",IF(BB16=4.5,\"T\",IF(BB16<4.5,\"L\"))),0)","v":0},null,null,null,null,null,{"$f":"IF(BF16<>0,IF(BH16>4.5,\"W\",IF(BH16=4.5,\"T\",IF(BH16<4.5,\"L\"))),0)","v":0},null,null,null,null,null,{"$f":"IF(BL16<>0,IF(BN16>4.5,\"W\",IF(BN16=4.5,\"T\",IF(BN16<4.5,\"L\"))),0)","v":0},null,null,null,null,null,{"$f":"IF(BR16<>0,IF(BT16>4.5,\"W\",IF(BT16=4.5,\"T\",IF(BT16<4.5,\"L\"))),0)","v":0},null,null,null,null,null,{"$f":"IF(BX16<>0,IF(BZ16>4.5,\"W\",IF(BZ16=4.5,\"T\",IF(BZ16<4.5,\"L\"))),0)","v":0},null,null,null,null,null,{"$f":"IF(CD16<>0,IF(CF16>4.5,\"W\",IF(CF16=4.5,\"T\",IF(CF16<4.5,\"L\"))),0)","v":0},null,null,null,null,null,{"$f":"IF(CJ16<>0,IF(CL16>4.5,\"W\",IF(CL16=4.5,\"T\",IF(CL16<4.5,\"L\"))),0)","v":0}]
[]
[null,"Summary"]
[null,null,null,"Adj",null,"Adj",null,null,null,"Avg Score"]
[null,null,"Points","Points","Matches","Matches",null,null,"Hole #","by Hole","Best","Worst"]
[null,"Week #1",{"$f":"F20","v":0},{"$f":"C29","v":0},{"$f":"IF(D16>0,1,0)","v":0},{"$f":"E29","v":0},null,null,1,{"$f":"IFERROR(AVERAGE(D7),0)","v":0},{"$f":"IFERROR(MIN(J7,V7,AH7,AT7,BF7,BR7,BX7,CJ7),0)","v":0},{"$f":"IFERROR(MAX(J7,V7,AH7,AT7,BF7,BR7,BX7,CJ7),0)","v":0}]
[null,"Week #2",{"$f":"L20","v":0},0,{"$f":"IF(J16>0,1,0)","v":0},0,null,null,2,{"$f":"IFERROR(AVERAGE(D8),0)","v":0},{"$f":"IFERROR(MIN(J8,V8,AH8,AT8,BF8,BR8,BX8,CJ8),0)","v":0},{"$f":"IFERROR(MAX(J8,V8,AH8,AT8,BF8,BR8,BX8,CJ8),0)","v":0}]
[null,"Week #3",{"$f":"R20","v":0},0,{"$f":"IF(P16>0,1,0)","v":0},0,null,null,3,0,0,0]
[null,"Week #4",{"$f":"X20","v":0},0,{"$f":"IF(V16>0,1,0)","v":0},0,null,null,4,0,0,0]
[null,"Week #5",{"$f":"AD20","v":0},0,{"$f":"IF(AB16>0,1,0)","v":0},0,null,null,5,0,0,0]
[null,"Week #6",{"$f":"AJ20","v":0},0,{"$f":"IF(AH16>0,1,0)","v":0},0,null,null,6,0,0,0]
[null,"Week #7",{"$f":"AP20","v":0},0,{"$f":"IF(AN16>0,1,0)","v":0},0,null,null,7,0,0,0]
[null,"Week #8",{"$f":"AV20","v":0},0,{"$f":"IF(AT16>0,1,0)","v":0},0,null,null,8,0,0,0]
[null,"Week #9",{"$f":"BB20","v":0},0,{"$f":"IF(AZ16>0,1,0)","v":0},0,null,null,9,0,0,0]
[null,"Week #10",{"$f":"BH20","v":0},0,{"$f":"IF(BF16>0,1,0)","v":0},0,null,null,"Front",{"$f":"SUM(J29:J37)","v":0},{"$f":"SUM(K29:K37)","v":0},0]
[null,"Week #11",{"$f":"BN20","v":0},0,{"$f":"IF(BL16>0,1,0)","v":0},0]
[null,"Week #12",{"$f":"BT20","v":0},0,{"$f":"IF(BR16>0,1,0)","v":0},0,null,null,10,{"$f":"IFERROR(AVERAGE(J7),0)","v":0},{"$f":"IFERROR(MIN(D7,P7,AB7,AN7,AZ7,BL7,CD7),0)","v":0},{"$f":"IFERROR(MAX(D7,P7,AB7,AN7,AZ7,BL7,CD7),0)","v":0}]
[null,"Week #13",{"$f":"BZ20","v":0},0,{"$f":"IF(BX16>0,1,0)","v":0},0,null,null,11,{"$f":"IFERROR(AVERAGE(J8),0)","v":0},{"$f":"IFERROR(MIN(D8,P8,AB8,AN8,AZ8,BL8,CD8),0)","v":0},{"$f":"IFERROR(MAX(D8,P8,AB8,AN8,AZ8,BL8,CD8),0)","v":0}]
[null,"Week #14",{"$f":"CF20","v":0},0,{"$f":"IF(CD16>0,1,0)","v":0},0,null,null,12,0,0,0]
[null,"Week #15",{"$f":"CL20","v":0},0,{"$f":"IF(CJ16>0,1,0)","v":0},0,null,null,13,0,0,0]
[null,"Total",{"$f":"SUM(C29:C43)","v":0},{"$f":"SUM(D29:D43)","v":0},{"$f":"SUM(E29:E43)","v":0},{"$f":"SUM(F29:F43)","v":0},null,null,14,0,0,0]
[null,null,null,null,null,null,null,null,15,0,0,0]
[null,"Summary",null,null,null,null,null,null,16,0,0,0]
[null,"Eagles",{"$f":"I57+I68+I79+I90+I101+I112+I123+I134+I145+I156+I167+I178+I189+I200+I211","v":0},null,null,null,null,null,17,0,0,0]
[null,"Birdies",0,null,null,null,null,null,18,0,0,0]
[null,"Pars",{"$f":"I59+I70+I81+I92+I103+I114+I125+I136+I147+I158+I169+I180+I191+I202+I213","v":0},null,null,null,null,null,"Back",{"$f":"SUM(J40:J48)","v":0},{"$f":"SUM(K40:K48)","v":0},0]
[null,"bogeys",0]
[null,"Double bogeys",0]
[null,"Other",0]
[null,"Total",{"$f":"SUM(C47:C52)","v":0}]
[]
[null,{"$f":"D4","v":"2025-04-25"},"Par","Score"]
[null,{"$f":"B7","v":1},4,0,{"$f":"IF(D56<>0,IF((D56-C56)=-1,\"Birdie\",IF((D56-C56)=-2,\"Eagle\",IF((D56-C56)=0,\"Par\",IF((D56-C56)=1,\"bogey\",IF((D56-C56)=2,\"Double bogey\",\"Other\"))))),\"  \")","v":"  "},null,null,"Count"]
[null,2,4,0,"  ",null,null,"Eagle",{"$f":"COUNTIF(E56:E64,\"Eagle\")","v":0}]
[null,3,4,0,"  ",null,null,"Birdie",{"$f":"COUNTIF(E56:E64,\"Birdie\")","v":0}]
[null,4,4,0,"  ",null,null,"Par",{"$f":"COUNTIF(E56:E64,\"Par\")","v":0}]
[null,5,3,0,"  ",null,null,"bogey",{"$f":"COUNTIF(E56:E64,\"bogey\")","v":0}]
[null,6,4,0,"  ",null,null,"Double bogey",{"$f":"COUNTIF(E56:E64,\"Double bogey\")","v":0}]
[null,7,4,0,"  ",null,null,"Other",{"$f":"COUNTIF(E56:E64,\"Other\")","v":0}]
[null,8,3,0,"  "]
[null,9,5,0,"  "]
[]
[null,{"$f":"J4","v":"2025-05-02"}]
[null,{"$f":"H7","v":10},4,0,{"$f":"IF(D67<>0,IF((D67-C67)=-1,\"Birdie\",IF((D67-C67)=-2,\"Eagle\",IF((D67-C67)=0,\"Par\",IF((D67-C67)=1,\"bogey\",IF((D67-C67)=2,\"Double bogey\",\"Other\"))))),\"  \")","v":"  "},null,null,"Count"]
[null,11,4,0,"  ",null,null,"Eagle",{"$f":"COUNTIF(E67:E75,\"Eagle\")","v":0}]
[null,12,3,0,"  ",null,null,"Birdie",{"$f":"COUNTIF(E67:E75,\"Birdie\")","v":0}]
[null,13,4,0,"  ",null,null,"Par",{"$f":"COUNTIF(E67:E75,\"Par\")","v":0}]
[null,14,4,0,"  ",null,null,"bogey",{"$f":"COUNTIF(E67:E75,\"bogey\")","v":0}]
[null,15,3,0,"  ",null,null,"Double bogey",{"$f":"COUNTIF(E67:E75,\"Double bogey\")","v":0}]
[null,16,5,0,"  ",null,null,"Other",{"$f":"COUNTIF(E67:E75,\"Other\")","v":0}]
[null,17,4,0,"  "]
[null,18,5,0,"  "]
[]
[null,{"$f":"P4","v":"2025-05-09"}]
[null,{"$f":"N7","v":1},4,0,{"$f":"IF(D78<>0,IF((D78-C78)=-1,\"Birdie\",IF((D78-C78)=-2,\"Eagle\",IF((D78-C78)=0,\"Par\",IF((D78-C78)=1,\"bogey\",IF((D78-C78)=2,\"Double bogey\",\"Other\"))))),\"  \")","v":"  "},null,null,"Count"]
[null,2,4,0,"  ",null,null,"Eagle",{"$f":"COUNTIF(E78:E86,\"Eagle\")","v":0}]
[null,3,4,0,"  ",null,null,"Birdie",{"$f":"COUNTIF(E78:E86,\"Birdie\")","v":0}]
[null,4,4,0,"  ",null,null,"Par",{"$f":"COUNTIF(E78:E86,\"Par\")","v":0}]
[null,5,3,0,"  ",null,null,"bogey",{"$f":"COUNTIF(E78:E86,\"bogey\")","v":0}]
[null,6,4,0,"  ",null,null,"Double bogey",{"$f":"COUNTIF(E78:E86,\"Double bogey\")","v":0}]
[null,7,4,0,"  ",null,null,"Other",{"$f":"COUNTIF(E78:E86,\"Other\")","v":0}]
[null,8,3,0,"  "]
[null,9,5,0,"  "]
[]
[null,{"$f":"V4","v":"2025-05-16"}]
[null,{"$f":"T7","v":10},4,0,{"$f":"IF(D89<>0,IF((D89-C89)=-1,\"Birdie\",IF((D89-C89)=-2,\"Eagle\",IF((D89-C89)=0,\"Par\",IF((D89-C89)=1,\"bogey\",IF((D89-C89)=2,\"Double bogey\",\"Other\"))))),\"  \")","v":"  "},null,null,"Count"]
[null,11,4,0,"  ",null,null,"Eagle",{"$f":"COUNTIF(E89:E97,\"Eagle\")","v":0}]
[null,12,3,0,"  ",null,null,"Birdie",{"$f":"COUNTIF(E89:E97,\"Birdie\")","v":0}]
[null,13,4,0,"  ",null,null,"Par",{"$f":"COUNTIF(E89:E97,\"Par\")","v":0}]
[null,14,4,0,"  ",null,null,"bogey",{"$f":"COUNTIF(E89:E97,\"bogey\")","v":0}]
[null,15,3,0,"  ",null,null,"Double bogey",{"$f":"COUNTIF(E89:E97,\"Double bogey\")","v":0}]
[null,16,5,0,"  ",null,null,"Other",{"$f":"COUNTIF(E89:E97,\"Other\")","v":0}]
[null,17,4,0,"  "]
[null,18,5,0,"  "]
[]
[null,{"$f":"AB4","v":"2025-05-23"}]
[null,{"$f":"Z7","v":1},4,0,{"$f":"IF(D100<>0,IF((D100-C100)=-1,\"Birdie\",IF((D100-C100)=-2,\"Eagle\",IF((D100-C100)=0,\"Par\",IF((D100-C100)=1,\"bogey\",IF((D100-C100)=2,\"Double bogey\",\"Other\"))))),\"  \")","v":"  "},null,null,"Count"]
[null,2,4,0,"  ",null,null,"Eagle",{"$f":"COUNTIF(E100:E108,\"Eagle\")","v":0}]
[null,3,4,0,"  ",null,null,"Birdie",{"$f":"COUNTIF(E100:E108,\"Birdie\")","v":0}]
[null,4,4,0,"  ",null,null,"Par",{"$f":"COUNTIF(E100:E108,\"Par\")","v":0}]
[null,5,3,0,"  ",null,null,"bogey",{"$f":"COUNTIF(E100:E108,\"bogey\")","v":0}]
[null,6,4,0,"  ",null,null,"Double bogey",{"$f":"COUNTIF(E100:E108,\"Double bogey\")","v":0}]
[null,7,4,0,"  ",null,null,"Other",{"$f":"COUNTIF(E100:E108,\"Other\")","v":0}]
[null,8,3,0,"  "]
[null,9,5,0,"  "]
[]
[null,{"$f":"AH4","v":"2025-05-30"}]
[null,{"$f":"AF7","v":10},4,0,{"$f":"IF(D111<>0,IF((D111-C111)=-1,\"Birdie\",IF((D111-C111)=-2,\"Eagle\",IF((D111-C111)=0,\"Par\",IF((D111-C111)=1,\"bogey\",IF((D111-C111)=2,\"Double bogey\",\"Other\"))))),\"  \")","v":"  "},null,null,"Count"]
[null,11,4,0,"  ",null,null,"Eagle",{"$f":"COUNTIF(E111:E119,\"Eagle\")","v":0}]
[null,12,3,0,"  ",null,null,"Birdie",{"$f":"COUNTIF(E111:E119,\"Birdie\")","v":0}]
[null,13,4,0,"  ",null,null,"Par",{"$f":"COUNTIF(E111:E119,\"Par\")","v":0}]
[null,14,4,0,"  ",null,null,"bogey",{"$f":"COUNTIF(E111:E119,\"bogey\")","v":0}]
[null,15,3,0,"  ",null,null,"Double bogey",{"$f":"COUNTIF(E111:E119,\"Double bogey\")","v":0}]
[null,16,5,0,"  ",null,null,"Other",{"$f":"COUNTIF(E111:E119,\"Other\")","v":0}]
[null,17,4,0,"  "]
[null,18,5,0,"  "]
[]
[null,{"$f":"AN4","v":"2025-06-06"}]
[null,{"$f":"AL7","v":1},4,0,{"$f":"IF(D122<>0,IF((D122-C122)=-1,\"Birdie\",IF((D122-C122)=-2,\"Eagle\",IF((D122-C122)=0,\"Par\",IF((D122-C122)=1,\"bogey\",IF((D122-C122)=2,\"Double bogey\",\"Other\"))))),\"  \")","v":"  "},null,null,"Count"]
[null,2,4,0,"  ",null,null,"Eagle",{"$f":"COUNTIF(E122:E130,\"Eagle\")","v":0}]
[null,3,4,0,"  ",null,null,"Birdie",{"$f":"COUNTIF(E122:E130,\"Birdie\")","v":0}]
[null,4,4,0,"  ",null,null,"Par",{"$f":"COUNTIF(E122:E130,\"Par\")","v":0}]
[null,5,3,0,"  ",null,null,"bogey",{"$f":"COUNTIF(E122:E130,\"bogey\")","v":0}]
[null,6,4,0,"  ",null,null,"Double bogey",{"$f":"COUNTIF(E122:E130,\"Double bogey\")","v":0}]
[null,7,4,0,"  ",null,null,"Other",{"$f":"COUNTIF(E122:E130,\"Other\")","v":0}]
[null,8,3,0,"  "]
[null,9,5,0,"  "]
[]
[null,{"$f":"AT4","v":"2025-06-13"}]
[null,{"$f":"AR7","v":10},4,0,{"$f":"IF(D133<>0,IF((D133-C133)=-1,\"Birdie\",IF((D133-C133)=-2,\"Eagle\",IF((D133-C133)=0,\"Par\",IF((D133-C133)=1,\"bogey\",IF((D133-C133)=2,\"Double bogey\",\"Other\"))))),\"  \")","v":"  "},null,null,"Count"]
[null,11,4,0,"  ",null,null,"Eagle",{"$f":"COUNTIF(E133:E141,\"Eagle\")","v":0}]
[null,12,3,0,"  ",null,null,"Birdie",{"$f":"COUNTIF(E133:E141,\"Birdie\")","v":0}]
[null,13,4,0,"  ",null,null,"Par",{"$f":"COUNTIF(E133:E141,\"Par\")","v":0}]
[null,14,4,0,"  ",null,null,"bogey",{"$f":"COUNTIF(E133:E141,\"bogey\")","v":0}]
[null,15,3,0,"  ",null,null,"Double bogey",{"$f":"COUNTIF(E133:E141,\"Double bogey\")","v":0}]
[null,16,5,0,"  ",null,null,"Other",{"$f":"COUNTIF(E133:E141,\"Other\")","v":0}]
[null,17,4,0,"  "]
[null,18,5,0,"  "]
[]
[null,{"$f":"AZ4","v":"2025-06-27"}]
[null,{"$f":"AX7","v":10},4,0,{"$f":"IF(D144<>0,IF((D144-C144)=-1,\"Birdie\",IF((D144-C144)=-2,\"Eagle\",IF((D144-C144)=0,\"Par\",IF((D144-C144)=1,\"bogey\",IF((D144-C144)=2,\"Double bogey\",\"Other\"))))),\"  \")","v":"  "},null,null,"Count"]
[null,11,4,0,"  ",null,null,"Eagle",{"$f":"COUNTIF(E144:E152,\"Eagle\")","v":0}]
[null,12,3,0,"  ",null,null,"Birdie",{"$f":"COUNTIF(E144:E152,\"Birdie\")","v":0}]
[null,13,4,0,"  ",null,null,"Par",{"$f":"COUNTIF(E144:E152,\"Par\")","v":0}]
[null,14,4,0,"  ",null,null,"bogey",{"$f":"COUNTIF(E144:E152,\"bogey\")","v":0}]
[null,15,3,0,"  ",null,null,"Double bogey",{"$f":"COUNTIF(E144:E152,\"Double bogey\")","v":0}]
[null,16,5,0,"  ",null,null,"Other",{"$f":"COUNTIF(E144:E152,\"Other\")","v":0}]
[null,17,4,0,"  "]
[null,18,5,0,"  "]
[]
[null,{"$f":"BF4","v":"2025-07-04"}]
[null,{"$f":"BD7","v":10},4,0,{"$f":"IF(D155<>0,IF((D155-C155)=-1,\"Birdie\",IF((D155-C155)=-2,\"Eagle\",IF((D155-C155)=0,\"Par\",IF((D155-C155)=1,\"bogey\",IF((D155-C155)=2,\"Double bogey\",\"Other\"))))),\"  \")","v":"  "},null,null,"Count"]
[null,11,4,0,"  ",null,null,"Eagle",{"$f":"COUNTIF(E155:E163,\"Eagle\")","v":0}]
[null,12,3,0,"  ",null,null,"Birdie",{"$f":"COUNTIF(E155:E163,\"Birdie\")","v":0}]
[null,13,4,0,"  ",null,null,"Par",{"$f":"COUNTIF(E155:E163,\"Par\")","v":0}]
[null,14,4,0,"  ",null,null,"bogey",{"$f":"COUNTIF(E155:E163,\"bogey\")","v":0}]
[null,15,3,0,"  ",null,null,"Double bogey",{"$f":"COUNTIF(E155:E163,\"Double bogey\")","v":0}]
[null,16,5,0,"  ",null,null,"Other",{"$f":"COUNTIF(E155:E163,\"Other\")","v":0}]
[null,17,4,0,"  "]
[null,18,5,0,"  "]
[]
[null,{"$f":"BL4","v":"2025-07-18"}]
[null,{"$f":"BJ7","v":10},4,0,{"$f":"IF(D166<>0,IF((D166-C166)=-1,\"Birdie\",IF((D166-C166)=-2,\"Eagle\",IF((D166-C166)=0,\"Par\",IF((D166-C166)=1,\"bogey\",IF((D166-C166)=2,\"Double bogey\",\"Other\"))))),\"  \")","v":"  "},null,null,"Count"]
[null,11,4,0,"  ",null,null,"Eagle",{"$f":"COUNTIF(E166:E174,\"Eagle\")","v":0}]
[null,12,3,0,"  ",null,null,"Birdie",{"$f":"COUNTIF(E166:E174,\"Birdie\")","v":0}]
[null,13,4,0,"  ",null,null,"Par",{"$f":"COUNTIF(E166:E174,\"Par\")","v":0}]
[null,14,4,0,"  ",null,null,"bogey",{"$f":"COUNTIF(E166:E174,\"bogey\")","v":0}]
[null,15,3,0,"  ",null,null,"Double bogey",{"$f":"COUNTIF(E166:E174,\"Double bogey\")","v":0}]
[null,16,5,0,"  ",null,null,"Other",{"$f":"COUNTIF(E166:E174,\"Other\")","v":0}]
[null,17,4,0,"  "]
[null,18,5,0,"  "]
[]
[null,{"$f":"BR4","v":"2025-07-25"}]
[null,{"$f":"BP7","v":1},4,0,{"$f":"IF(D177<>0,IF((D177-C177)=-1,\"Birdie\",IF((D177-C177)=-2,\"Eagle\",IF((D177-C177)=0,\"Par\",IF((D177-C177)=1,\"bogey\",IF((D177-C177)=2,\"Double bogey\",\"Other\"))))),\"  \")","v":"  "},null,null,"Count"]
[null,2,4,0,"  ",null,null,"Eagle",{"$f":"COUNTIF(E177:E185,\"Eagle\")","v":0}]
[null,3,4,0,"  ",null,null,"Birdie",{"$f":"COUNTIF(E177:E185,\"Birdie\")","v":0}]
[null,4,4,0,"  ",null,null,"Par",{"$f":"COUNTIF(E177:E185,\"Par\")","v":0}]
[null,5,3,0,"  ",null,null,"bogey",{"$f":"COUNTIF(E177:E185,\"bogey\")","v":0}]
[null,6,4,0,"  ",null,null,"Double bogey",{"$f":"COUNTIF(E177:E185,\"Double bogey\")","v":0}]
[null,7,4,0,"  ",null,null,"Other",{"$f":"COUNTIF(E177:E185,\"Other\")","v":0}]
[null,8,3,0,"  "]
[null,9,5,0,"  "]
[]
[null,{"$f":"BX4","v":"2025-08-01"}]
[null,{"$f":"BV7","v":10},4,0,{"$f":"IF(D188<>0,IF((D188-C188)=-1,\"Birdie\",IF((D188-C188)=-2,\"Eagle\",IF((D188-C188)=0,\"Par\",IF((D188-C188)=1,\"bogey\",IF((D188-C188)=2,\"Double bogey\",\"Other\"))))),\"  \")","v":"  "},null,null,"Count"]
[null,11,4,0,"  ",null,null,"Eagle",{"$f":"COUNTIF(E188:E196,\"Eagle\")","v":0}]
[null,12,3,0,"  ",null,null,"Birdie",{"$f":"COUNTIF(E188:E196,\"Birdie\")","v":0}]
[null,13,4,0,"  ",null,null,"Par",{"$f":"COUNTIF(E188:E196,\"Par\")","v":0}]
[null,14,4,0,"  ",null,null,"bogey",{"$f":"COUNTIF(E188:E196,\"bogey\")","v":0}]
[null,15,3,0,"  ",null,null,"Double bogey",{"$f":"COUNTIF(E188:E196,\"Double bogey\")","v":0}]
[null,16,5,0,"  ",null,null,"Other",{"$f":"COUNTIF(E188:E196,\"Other\")","v":0}]
[null,17,4,0,"  "]
[null,18,5,0,"  "]
[]
[null,{"$f":"CD4","v":"2025-08-08"}]
[null,{"$f":"CB7","v":1},4,0,{"$f":"IF(D199<>0,IF((D199-C199)=-1,\"Birdie\",IF((D199-C199)=-2,\"Eagle\",IF((D199-C199)=0,\"Par\",IF((D199-C199)=1,\"bogey\",IF((D199-C199)=2,\"Double bogey\",\"Other\"))))),\"  \")","v":"  "},null,null,"Count"]
[null,2,4,0,"  ",null,null,"Eagle",{"$f":"COUNTIF(E199:E207,\"Eagle\")","v":0}]
[null,3,4,0,"  ",null,null,"Birdie",{"$f":"COUNTIF(E199:E207,\"Birdie\")","v":0}]
[null,4,4,0,"  ",null,null,"Par",{"$f":"COUNTIF(E199:E207,\"Par\")","v":0}]
[null,5,3,0,"  ",null,null,"bogey",{"$f":"COUNTIF(E199:E207,\"bogey\")","v":0}]
[null,6,4,0,"  ",null,null,"Double bogey",{"$f":"COUNTIF(E199:E207,\"Double bogey\")","v":0}]
[null,7,4,0,"  ",null,null,"Other",{"$f":"COUNTIF(E199:E207,\"Other\")","v":0}]
[null,8,3,0,"  "]
[null,9,5,0,"  "]
[]
[null,{"$f":"CJ4","v":"2025-08-15"}]
[null,{"$f":"CH7","v":10},4,0,{"$f":"IF(D210<>0,IF((D210-C210)=-1,\"Birdie\",IF((D210-C210)=-2,\"Eagle\",IF((D210-C210)=0,\"Par\",IF((D210-C210)=1,\"bogey\",IF((D210-C210)=2,\"Double bogey\",\"Other\"))))),\"  \")","v":"  "},null,null,"Count"]
[null,11,4,0,"  ",null,null,"Eagle",{"$f":"COUNTIF(E210:E218,\"Eagle\")","v":0}]
[null,12,3,0,"  ",null,null,"Birdie",{"$f":"COUNTIF(E210:E218,\"Birdie\")","v":0}]
[null,13,4,0,"  ",null,null,"Par",{"$f":"COUNTIF(E210:E218,\"Par\")","v":0}]
[null,14,4,0,"  ",null,null,"bogey",{"$f":"COUNTIF(E210:E218,\"bogey\")","v":0}]
[null,15,3,0,"  ",null,null,"Double bogey",{"$f":"COUNTIF(E210:E218,\"Double bogey\")","v":0}]
[null,16,5,0,"  ",null,null,"Other",{"$f":"COUNTIF(E210:E218,\"Other\")","v":0}]
[null,17,4,0,"  "]
[null,18,5,0,"  "]

{"sheet":"Michalski_S","index":14,"n_rows":218,"n_cols":90,"rows_kept":218,"cut":false,"hidden":false,"merged":[]}
["Sue Michalski"]
[]
[]
[null,null,"Date:",{"$f":"VLOOKUP(C5,Week,2)","v":"2025-04-25"},null,null,null,null,"Date:",{"$f":"VLOOKUP(I5,Week,2)","v":"2025-05-02"},null,null,null,null,"Date:",{"$f":"VLOOKUP(O5,Week,2)","v":"2025-05-09"},null,null,null,null,"Date:",{"$f":"VLOOKUP(U5,Week,2)","v":"2025-05-16"},null,null,null,null,"Date:",{"$f":"VLOOKUP(AA5,Week,2)","v":"2025-05-23"},null,null,null,null,"Date:",{"$f":"VLOOKUP(AG5,Week,2)","v":"2025-05-30"},null,null,null,null,"Date:",{"$f":"VLOOKUP(AM5,Week,2)","v":"2025-06-06"},null,null,null,null,"Date:",{"$f":"VLOOKUP(AS5,Week,2)","v":"2025-06-13"},null,null,null,null,"Date:",{"$f":"VLOOKUP(AY5,Week,2)","v":"2025-06-27"},null,null,null,null,"Date:",{"$f":"VLOOKUP(BE5,Week,2)","v":"2025-07-04"},null,null,null,null,"Date:",{"$f":"VLOOKUP(BK5,Week,2)","v":"2025-07-18"},null,null,null,null,"Date:",{"$f":"VLOOKUP(BQ5,Week,2)","v":"2025-07-25"},null,null,null,null,"Date:",{"$f":"VLOOKUP(BW5,Week,2)","v":"2025-08-01"},null,null,null,null,"Date:",{"$f":"VLOOKUP(CC5,Week,2)","v":"2025-08-08"},null,null,null,null,"Date:",{"$f":"VLOOKUP(CI5,Week,2)","v":"2025-08-15"}]
[null,"Week",1,null,null,null,null,"Week",2,null,null,null,null,"Week",3,null,null,null,null,"Week",4,null,null,null,null,"Week",5,null,null,null,null,"Week",6,null,null,null,null,"Week",7,null,null,null,null,"Week",8,null,null,null,null,"Week",9,null,null,null,null,"Week",10,null,null,null,null,"Week",11,null,null,null,null,"Week",12,null,null,null,null,"Week",13,null,null,null,null,"Week",14,null,null,null,null,"Week",15]
[null,"Hole #","Par","Score","Net","Win Hole",null,"Hole #","Par","Score","Net","Win Hole",null,"Hole #","Par","Score","Net","Win Hole",null,"Hole #","Par","Score","Net","Win Hole",null,"Hole #","Par","Score","Net","Win Hole",null,"Hole #","Par","Score","Net","Win Hole",null,"Hole #","Par","Score","Net","Win Hole",null,"Hole #","Par","Score","Net","Win Hole",null,"Hole #","Par","Score","Net","Win Hole",null,"Hole #","Par","Score","Net","Win Hole",null,"Hole #","Par","Score","Net","Win Hole",null,"Hole #","Par","Score","Net","Win Hole",null,"Hole #","Par","Score","Net","Win Hole",null,"Hole #","Par","Score","Net","Win Hole",null,"Hole #","Par","Score","Net","Win Hole"]
[null,{"$f":"VLOOKUP(C5,Week,6)","v":1},{"$f":"VLOOKUP(B7,Holes,2)","v":4},null,{"$f":"IF((D7-C7)>3,C7+3,D7)","v":0},null,null,{"$f":"VLOOKUP(I5,Week,6)","v":10},{"$f":"VLOOKUP(H7,Holes,2)","v":4},null,{"$f":"IF((J7-I7)>3,I7+3,J7)","v":0},null,null,{"$f":"VLOOKUP(O5,Week,6)","v":1},{"$f":"VLOOKUP(N7,Holes,2)","v":4},null,{"$f":"IF((P7-O7)>3,O7+3,P7)","v":0},null,null,{"$f":"VLOOKUP(U5,Week,6)","v":10},{"$f":"VLOOKUP(T7,Holes,2)","v":4},null,{"$f":"IF((V7-U7)>3,U7+3,V7)","v":0},null,null,{"$f":"VLOOKUP(AA5,Week,6)","v":1},{"$f":"VLOOKUP(Z7,Holes,2)","v":4},null,{"$f":"IF((AB7-AA7)>3,AA7+3,AB7)","v":0},null,null,{"$f":"VLOOKUP(AG5,Week,6)","v":10},{"$f":"VLOOKUP(AF7,Holes,2)","v":4},null,{"$f":"IF((AH7-AG7)>3,AG7+3,AH7)","v":0},null,null,{"$f":"VLOOKUP(AM5,Week,6)","v":1},{"$f":"VLOOKUP(AL7,Holes,2)","v":4},null,{"$f":"IF((AN7-AM7)>3,AM7+3,AN7)","v":0},null,null,{"$f":"VLOOKUP(AS5,Week,6)","v":10},{"$f":"VLOOKUP(AR7,Holes,2)","v":4},null,{"$f":"IF((AT7-AS7)>3,AS7+3,AT7)","v":0},null,null,{"$f":"VLOOKUP(AY5,Week,6)","v":10},{"$f":"VLOOKUP(AX7,Holes,2)","v":4},null,{"$f":"IF((AZ7-AY7)>3,AY7+3,AZ7)","v":0},null,null,{"$f":"VLOOKUP(BE5,Week,6)","v":10},{"$f":"VLOOKUP(BD7,Holes,2)","v":4},null,{"$f":"IF((BF7-BE7)>3,BE7+3,BF7)","v":0},null,null,{"$f":"VLOOKUP(BK5,Week,6)","v":10},{"$f":"VLOOKUP(BJ7,Holes,2)","v":4},null,{"$f":"IF((BL7-BK7)>3,BK7+3,BL7)","v":0},null,null,{"$f":"VLOOKUP(BQ5,Week,6)","v":1},{"$f":"VLOOKUP(BP7,Holes,2)","v":4},null,{"$f":"IF((BR7-BQ7)>3,BQ7+3,BR7)","v":0},null,null,{"$f":"VLOOKUP(BW5,Week,6)","v":10},{"$f":"VLOOKUP(BV7,Holes,2)","v":4},null,{"$f":"IF((BX7-BW7)>3,BW7+3,BX7)","v":0},null,null,{"$f":"VLOOKUP(CC5,Week,6)","v":1},{"$f":"VLOOKUP(CB7,Holes,2)","v":4},null,{"$f":"IF((CD7-CC7)>3,CC7+3,CD7)","v":0},null,null,{"$f":"VLOOKUP(CI5,Week,6)","v":10},{"$f":"VLOOKUP(CH7,Holes,2)","v":4},null,{"$f":"IF((CJ7-CI7)>3,CI7+3,CJ7)","v":0}]
[null,{"$f":"+B7+1","v":2},4,null,0,null,null,{"$f":"+H7+1","v":11},4,null,0,null,null,{"$f":"+N7+1","v":2},4,null,0,null,null,{"$f":"+T7+1","v":11},4,null,0,null,null,{"$f":"+Z7+1","v":2},4,null,0,null,null,{"$f":"+AF7+1","v":11},4,null,0,null,null,{"$f":"+AL7+1","v":2},4,null,0,null,null,{"$f":"+AR7+1","v":11},4,null,0,null,null,{"$f":"+AX7+1","v":11},4,null,0,null,null,{"$f":"+BD7+1","v":11},4,null,0,null,null,{"$f":"+BJ7+1","v":11},4,null,0,null,null,{"$f":"+BP7+1","v":2},4,null,0,null,null,{"$f":"+BV7+1","v":11},4,null,0,null,null,{"$f":"+CB7+1","v":2},4,null,0,null,null,{"$f":"+CH7+1","v":11},4,null,0]
[null,3,4,null,0,null,null,12,3,null,0,null,null,3,4,null,0,null,null,12,3,null,0,null,null,3,4,null,0,null,null,12,3,null,0,null,null,3,4,null,0,null,null,12,3,null,0,null,null,12,3,null,0,null,null,12,3,null,0,null,null,12,3,null,0,null,null,3,4,null,0,null,null,12,3,null,0,null,null,3,4,null,0,null,null,12,3,null,0]
[null,4,4,null,0,null,null,13,4,null,0,null,null,4,4,null,0,null,null,13,4,null,0,null,null,4,4,null,0,null,null,13,4,null,0,null,null,4,4,null,0,null,null,13,4,null,0,null,null,13,4,null,0,null,null,13,4,null,0,null,null,13,4,null,0,null,null,4,4,null,0,null,null,13,4,null,0,null,null,4,4,null,0,null,null,13,4,null,0]
[null,5,3,null,0,null,null,14,4,null,0,null,null,5,3,null,0,null,null,14,4,null,0,null,null,5,3,null,0,null,null,14,4,null,0,null,null,5,3,null,0,null,null,14,4,null,0,null,null,14,4,null,0,null,null,14,4,null,0,null,null,14,4,null,0,null,null,5,3,null,0,null,null,14,4,null,0,null,null,5,3,null,0,null,null,14,4,null,0]
[null,6,4,null,0,null,null,15,3,null,0,null,null,6,4,null,0,null,null,15,3,null,0,null,null,6,4,null,0,null,null,15,3,null,0,null,null,6,4,null,0,null,null,15,3,null,0,null,null,15,3,null,0,null,null,15,3,null,0,null,null,15,3,null,0,null,null,6,4,null,0,null,null,15,3,null,0,null,null,6,4,null,0,null,null,15,3,null,0]
[null,7,4,null,0,null,null,16,5,null,0,null,null,7,4,null,0,null,null,16,5,null,0,null,null,7,4,null,0,null,null,16,5,null,0,null,null,7,4,null,0,null,null,16,5,null,0,null,null,16,5,null,0,null,null,16,5,null,0,null,null,16,5,null,0,null,null,7,4,null,0,null,null,16,5,null,0,null,null,7,4,null,0,null,null,16,5,null,0]
[null,8,3,null,0,null,null,17,4,null,0,null,null,8,3,null,0,null,null,17,4,null,0,null,null,8,3,null,0,null,null,17,4,null,0,null,null,8,3,null,0,null,null,17,4,null,0,null,null,17,4,null,0,null,null,17,4,null,0,null,null,17,4,null,0,null,null,8,3,null,0,null,null,17,4,null,0,null,null,8,3,null,0,null,null,17,4,null,0]
[null,9,5,null,0,null,null,18,5,null,0,null,null,9,5,null,0,null,null,18,5,null,0,null,null,9,5,null,0,null,null,18,5,null,0,null,null,9,5,null,0,null,null,18,5,null,0,null,null,18,5,null,0,null,null,18,5,null,0,null,null,18,5,null,0,null,null,9,5,null,0,null,null,18,5,null,0,null,null,9,5,null,0,null,null,18,5,null,0]
[null,"Total",{"$f":"SUM(C7:C15)","v":35},{"$f":"SUM(D7:D15)","v":0},{"$f":"SUM(E7:E15)","v":0},{"$f":"SUM(F7:F15)","v":0},null,"Total",{"$f":"SUM(I7:I15)","v":36},{"$f":"SUM(J7:J15)","v":0},{"$f":"SUM(K7:K15)","v":0},{"$f":"SUM(L7:L15)","v":0},null,"Total",{"$f":"SUM(O7:O15)","v":35},{"$f":"SUM(P7:P15)","v":0},{"$f":"SUM(Q7:Q15)","v":0},{"$f":"SUM(R7:R15)","v":0},null,"Total",{"$f":"SUM(U7:U15)","v":36},{"$f":"SUM(V7:V15)","v":0},{"$f":"SUM(W7:W15)","v":0},{"$f":"SUM(X7:X15)","v":0},null,"Total",{"$f":"SUM(AA7:AA15)","v":35},{"$f":"SUM(AB7:AB15)","v":0},{"$f":"SUM(AC7:AC15)","v":0},{"$f":"SUM(AD7:AD15)","v":0},null,"Total",{"$f":"SUM(AG7:AG15)","v":36},{"$f":"SUM(AH7:AH15)","v":0},{"$f":"SUM(AI7:AI15)","v":0},{"$f":"SUM(AJ7:AJ15)","v":0},null,"Total",{"$f":"SUM(AM7:AM15)","v":35},{"$f":"SUM(AN7:AN15)","v":0},{"$f":"SUM(AO7:AO15)","v":0},{"$f":"SUM(AP7:AP15)","v":0},null,"Total",{"$f":"SUM(AS7:AS15)","v":36},{"$f":"SUM(AT7:AT15)","v":0},{"$f":"SUM(AU7:AU15)","v":0},{"$f":"SUM(AV7:AV15)","v":0},null,"Total",{"$f":"SUM(AY7:AY15)","v":36},{"$f":"SUM(AZ7:AZ15)","v":0},{"$f":"SUM(BA7:BA15)","v":0},{"$f":"SUM(BB7:BB15)","v":0},null,"Total",{"$f":"SUM(BE7:BE15)","v":36},{"$f":"SUM(BF7:BF15)","v":0},{"$f":"SUM(BG7:BG15)","v":0},{"$f":"SUM(BH7:BH15)","v":0},null,"Total",{"$f":"SUM(BK7:BK15)","v":36},{"$f":"SUM(BL7:BL15)","v":0},{"$f":"SUM(BM7:BM15)","v":0},{"$f":"SUM(BN7:BN15)","v":0},null,"Total",{"$f":"SUM(BQ7:BQ15)","v":35},{"$f":"SUM(BR7:BR15)","v":0},{"$f":"SUM(BS7:BS15)","v":0},{"$f":"SUM(BT7:BT15)","v":0},null,"Total",{"$f":"SUM(BW7:BW15)","v":36},{"$f":"SUM(BX7:BX15)","v":0},{"$f":"SUM(BY7:BY15)","v":0},{"$f":"SUM(BZ7:BZ15)","v":0},null,"Total",{"$f":"SUM(CC7:CC15)","v":35},{"$f":"SUM(CD7:CD15)","v":0},{"$f":"SUM(CE7:CE15)","v":0},{"$f":"SUM(CF7:CF15)","v":0},null,"Total",{"$f":"SUM(CI7:CI15)","v":36},{"$f":"SUM(CJ7:CJ15)","v":0},{"$f":"SUM(CK7:CK15)","v":0},{"$f":"SUM(CL7:CL15)","v":0}]
[]
[null,null,null,null,"Low Net",null,null,null,null,null,"Low Net",0,null,null,null,null,"Low Net",null,null,null,null,null,"Low Net",null,null,null,null,null,"Low Net",null,null,null,null,null,"Low Net",null,null,null,null,null,"Low Net",null,null,null,null,null,"Low Net",null,null,null,null,null,"Low Net",null,null,null,null,null,"Low Net",null,null,null,null,null,"Low Net",null,null,null,null,null,"Low Net",null,null,null,null,null,"Low Net",null,null,null,null,null,"Low Net",null,null,null,null,null,"Low Net"]
[]
[null,null,null,null,"Total Points",{"$f":"SUM(F16:F19)","v":0},null,null,null,null,"Total Points",{"$f":"SUM(L16:L19)","v":0},null,null,null,null,"Total Points",{"$f":"SUM(R16:R19)","v":0},null,null,null,null,"Total Points",{"$f":"SUM(X16:X19)","v":0},null,null,null,null,"Total Points",{"$f":"SUM(AD16:AD19)","v":0},null,null,null,null,"Total Points",{"$f":"SUM(AJ16:AJ19)","v":0},null,null,null,null,"Total Points",{"$f":"SUM(AP16:AP19)","v":0},null,null,null,null,"Total Points",{"$f":"SUM(AV16:AV19)","v":0},null,null,null,null,"Total Points",{"$f":"SUM(BB16:BB19)","v":0},null,null,null,null,"Total Points",{"$f":"SUM(BH16:BH19)","v":0},null,null,null,null,"Total Points",{"$f":"SUM(BN16:BN19)","v":0},null,null,null,null,"Total Points",{"$f":"SUM(BT16:BT19)","v":0},null,null,null,null,"Total Points",{"$f":"SUM(BZ16:BZ19)","v":0},null,null,null,null,"Total Points",{"$f":"SUM(CF16:CF19)","v":0},null,null,null,null,"Total Points",{"$f":"SUM(CL16:CL19)","v":0}]
[]
[null,null,null,null,"Handicap",{"$f":"IF(D16=0,0,E16-C16)","v":0},null,null,null,null,"Handicap",{"$f":"IF(J16=0,0,K16-I16)","v":0},null,null,null,null,"Handicap",{"$f":"IF(P16=0,0,Q16-O16)","v":0},null,null,null,null,"Handicap",{"$f":"IF(V16=0,0,W16-U16)","v":0},null,null,null,null,"Handicap",{"$f":"IF(AB16=0,0,AC16-AA16)","v":0},null,null,null,null,"Handicap",{"$f":"IF(AH16=0,0,AI16-AG16)","v":0},null,null,null,null,"Handicap",{"$f":"IF(AN16=0,0,AO16-AM16)","v":0},null,null,null,null,"Handicap",{"$f":"IF(AT16=0,0,AU16-AS16)","v":0},null,null,null,null,"Handicap",{"$f":"IF(AZ16=0,0,BA16-AY16)","v":0},null,null,null,null,"Handicap",{"$f":"IF(BF16=0,0,BG16-BE16)","v":0},null,null,null,null,"Handicap",{"$f":"IF(BL16=0,0,BM16-BK16)","v":0},null,null,null,null,"Handicap",{"$f":"IF(BR16=0,0,BS16-BQ16)","v":0},null,null,null,null,"Handicap",{"$f":"IF(BX16=0,0,BY16-BW16)","v":0},null,null,null,null,"Handicap",{"$f":"IF(CD16=0,0,CE16-CC16)","v":0},null,null,null,null,"Handicap",{"$f":"IF(CJ16=0,0,CK16-CI16)","v":0}]
[]
[null,null,null,null,null,{"$f":"IF(D16<>0,IF(F16>4.5,\"W\",IF(F16=4.5,\"T\",IF(F16<4.5,\"L\"))),0)","v":0},null,null,null,null,null,{"$f":"IF(J16<>0,IF(L16>4.5,\"W\",IF(L16=4.5,\"T\",IF(L16<4.5,\"L\"))),0)","v":0},null,null,null,null,null,{"$f":"IF(P16<>0,IF(R16>4.5,\"W\",IF(R16=4.5,\"T\",IF(R16<4.5,\"L\"))),0)","v":0},null,null,null,null,null,{"$f":"IF(V16<>0,IF(X16>4.5,\"W\",IF(X16=4.5,\"T\",IF(X16<4.5,\"L\"))),0)","v":0},null,null,null,null,null,{"$f":"IF(AB16<>0,IF(AD16>4.5,\"W\",IF(AD16=4.5,\"T\",IF(AD16<4.5,\"L\"))),0)","v":0},null,null,null,null,null,{"$f":"IF(AH16<>0,IF(AJ16>4.5,\"W\",IF(AJ16=4.5,\"T\",IF(AJ16<4.5,\"L\"))),0)","v":0},null,null,null,null,null,{"$f":"IF(AN16<>0,IF(AP16>4.5,\"W\",IF(AP16=4.5,\"T\",IF(AP16<4.5,\"L\"))),0)","v":0},null,null,null,null,null,{"$f":"IF(AT16<>0,IF(AV16>4.5,\"W\",IF(AV16=4.5,\"T\",IF(AV16<4.5,\"L\"))),0)","v":0},null,null,null,null,null,{"$f":"IF(AZ16<>0,IF(BB16>4.5,\"W\",IF(BB16=4.5,\"T\",IF(BB16<4.5,\"L\"))),0)","v":0},null,null,null,null,null,{"$f":"IF(BF16<>0,IF(BH16>4.5,\"W\",IF(BH16=4.5,\"T\",IF(BH16<4.5,\"L\"))),0)","v":0},null,null,null,null,null,{"$f":"IF(BL16<>0,IF(BN16>4.5,\"W\",IF(BN16=4.5,\"T\",IF(BN16<4.5,\"L\"))),0)","v":0},null,null,null,null,null,{"$f":"IF(BR16<>0,IF(BT16>4.5,\"W\",IF(BT16=4.5,\"T\",IF(BT16<4.5,\"L\"))),0)","v":0},null,null,null,null,null,{"$f":"IF(BX16<>0,IF(BZ16>4.5,\"W\",IF(BZ16=4.5,\"T\",IF(BZ16<4.5,\"L\"))),0)","v":0},null,null,null,null,null,{"$f":"IF(CD16<>0,IF(CF16>4.5,\"W\",IF(CF16=4.5,\"T\",IF(CF16<4.5,\"L\"))),0)","v":0},null,null,null,null,null,{"$f":"IF(CJ16<>0,IF(CL16>4.5,\"W\",IF(CL16=4.5,\"T\",IF(CL16<4.5,\"L\"))),0)","v":0}]
[]
[null,"Summary"]
[null,null,null,"Adj",null,"Adj",null,null,null,"Avg Score"]
[null,null,"Points","Points","Matches","Matches",null,null,"Hole #","by Hole","Best","Worst"]
[null,"Week #1",{"$f":"F20","v":0},{"$f":"C29","v":0},{"$f":"IF(D16>0,1,0)","v":0},{"$f":"E29","v":0},null,null,1,{"$f":"IFERROR(AVERAGE(D7),0)","v":0},{"$f":"IFERROR(MIN(J7,V7,AH7,AT7,BF7,BR7,BX7,CJ7),0)","v":0},{"$f":"IFERROR(MAX(J7,V7,AH7,AT7,BF7,BR7,BX7,CJ7),0)","v":0}]
[null,"Week #2",{"$f":"L20","v":0},0,{"$f":"IF(J16>0,1,0)","v":0},0,null,null,2,{"$f":"IFERROR(AVERAGE(D8),0)","v":0},{"$f":"IFERROR(MIN(J8,V8,AH8,AT8,BF8,BR8,BX8,CJ8),0)","v":0},{"$f":"IFERROR(MAX(J8,V8,AH8,AT8,BF8,BR8,BX8,CJ8),0)","v":0}]
[null,"Week #3",{"$f":"R20","v":0},0,{"$f":"IF(P16>0,1,0)","v":0},0,null,null,3,0,0,0]
[null,"Week #4",{"$f":"X20","v":0},0,{"$f":"IF(V16>0,1,0)","v":0},0,null,null,4,0,0,0]
[null,"Week #5",{"$f":"AD20","v":0},0,{"$f":"IF(AB16>0,1,0)","v":0},0,null,null,5,0,0,0]
[null,"Week #6",{"$f":"AJ20","v":0},0,{"$f":"IF(AH16>0,1,0)","v":0},0,null,null,6,0,0,0]
[null,"Week #7",{"$f":"AP20","v":0},0,{"$f":"IF(AN16>0,1,0)","v":0},0,null,null,7,0,0,0]
[null,"Week #8",{"$f":"AV20","v":0},0,{"$f":"IF(AT16>0,1,0)","v":0},0,null,null,8,0,0,0]
[null,"Week #9",{"$f":"BB20","v":0},0,{"$f":"IF(AZ16>0,1,0)","v":0},0,null,null,9,0,0,0]
[null,"Week #10",{"$f":"BH20","v":0},0,{"$f":"IF(BF16>0,1,0)","v":0},0,null,null,"Front",{"$f":"SUM(J29:J37)","v":0},{"$f":"SUM(K29:K37)","v":0},0]
[null,"Week #11",{"$f":"BN20","v":0},0,{"$f":"IF(BL16>0,1,0)","v":0},0]
[null,"Week #12",{"$f":"BT20","v":0},0,{"$f":"IF(BR16>0,1,0)","v":0},0,null,null,10,{"$f":"IFERROR(AVERAGE(J7),0)","v":0},{"$f":"IFERROR(MIN(D7,P7,AB7,AN7,AZ7,BL7,CD7),0)","v":0},{"$f":"IFERROR(MAX(D7,P7,AB7,AN7,AZ7,BL7,CD7),0)","v":0}]
[null,"Week #13",{"$f":"BZ20","v":0},0,{"$f":"IF(BX16>0,1,0)","v":0},0,null,null,11,{"$f":"IFERROR(AVERAGE(J8),0)","v":0},{"$f":"IFERROR(MIN(D8,P8,AB8,AN8,AZ8,BL8,CD8),0)","v":0},{"$f":"IFERROR(MAX(D8,P8,AB8,AN8,AZ8,BL8,CD8),0)","v":0}]
[null,"Week #14",{"$f":"CF20","v":0},0,{"$f":"IF(CD16>0,1,0)","v":0},0,null,null,12,0,0,0]
[null,"Week #15",{"$f":"CL20","v":0},0,{"$f":"IF(CJ16>0,1,0)","v":0},0,null,null,13,0,0,0]
[null,"Total",{"$f":"SUM(C29:C43)","v":0},{"$f":"SUM(D29:D43)","v":0},{"$f":"SUM(E29:E43)","v":0},{"$f":"SUM(F29:F43)","v":0},null,null,14,0,0,0]
[null,null,null,null,null,null,null,null,15,0,0,0]
[null,"Summary",null,null,null,null,null,null,16,0,0,0]
[null,"Eagles",{"$f":"I57+I68+I79+I90+I101+I112+I123+I134+I145+I156+I167+I178+I189+I200+I211","v":0},null,null,null,null,null,17,0,0,0]
[null,"Birdies",0,null,null,null,null,null,18,0,0,0]
[null,"Pars",0,null,null,null,null,null,"Back",{"$f":"SUM(J40:J48)","v":0},{"$f":"SUM(K40:K48)","v":0},0]
[null,"bogeys",0]
[null,"Double bogeys",0]
[null,"Other",0]
[null,"Total",{"$f":"SUM(C47:C52)","v":0}]
[]
[null,{"$f":"D4","v":"2025-04-25"},"Par","Score"]
[null,{"$f":"B7","v":1},4,0,{"$f":"IF(D56<>0,IF((D56-C56)=-1,\"Birdie\",IF((D56-C56)=-2,\"Eagle\",IF((D56-C56)=0,\"Par\",IF((D56-C56)=1,\"bogey\",IF((D56-C56)=2,\"Double bogey\",\"Other\"))))),\"  \")","v":"  "},null,null,"Count"]
[null,2,4,0,"  ",null,null,"Eagle",{"$f":"COUNTIF(E56:E64,\"Eagle\")","v":0}]
[null,3,4,0,"  ",null,null,"Birdie",{"$f":"COUNTIF(E56:E64,\"Birdie\")","v":0}]
[null,4,4,0,"  ",null,null,"Par",{"$f":"COUNTIF(E56:E64,\"Par\")","v":0}]
[null,5,3,0,"  ",null,null,"bogey",{"$f":"COUNTIF(E56:E64,\"bogey\")","v":0}]
[null,6,4,0,"  ",null,null,"Double bogey",{"$f":"COUNTIF(E56:E64,\"Double bogey\")","v":0}]
[null,7,4,0,"  ",null,null,"Other",{"$f":"COUNTIF(E56:E64,\"Other\")","v":0}]
[null,8,3,0,"  "]
[null,9,5,0,"  "]
[]
[null,{"$f":"J4","v":"2025-05-02"}]
[null,{"$f":"H7","v":10},4,0,{"$f":"IF(D67<>0,IF((D67-C67)=-1,\"Birdie\",IF((D67-C67)=-2,\"Eagle\",IF((D67-C67)=0,\"Par\",IF((D67-C67)=1,\"bogey\",IF((D67-C67)=2,\"Double bogey\",\"Other\"))))),\"  \")","v":"  "},null,null,"Count"]
[null,11,4,0,"  ",null,null,"Eagle",{"$f":"COUNTIF(E67:E75,\"Eagle\")","v":0}]
[null,12,3,0,"  ",null,null,"Birdie",{"$f":"COUNTIF(E67:E75,\"Birdie\")","v":0}]
[null,13,4,0,"  ",null,null,"Par",{"$f":"COUNTIF(E67:E75,\"Par\")","v":0}]
[null,14,4,0,"  ",null,null,"bogey",{"$f":"COUNTIF(E67:E75,\"bogey\")","v":0}]
[null,15,3,0,"  ",null,null,"Double bogey",{"$f":"COUNTIF(E67:E75,\"Double bogey\")","v":0}]
[null,16,5,0,"  ",null,null,"Other",{"$f":"COUNTIF(E67:E75,\"Other\")","v":0}]
[null,17,4,0,"  "]
[null,18,5,0,"  "]
[]
[null,{"$f":"P4","v":"2025-05-09"}]
[null,{"$f":"N7","v":1},4,0,{"$f":"IF(D78<>0,IF((D78-C78)=-1,\"Birdie\",IF((D78-C78)=-2,\"Eagle\",IF((D78-C78)=0,\"Par\",IF((D78-C78)=1,\"bogey\",IF((D78-C78)=2,\"Double bogey\",\"Other\"))))),\"  \")","v":"  "},null,null,"Count"]
[null,2,4,0,"  ",null,null,"Eagle",{"$f":"COUNTIF(E78:E86,\"Eagle\")","v":0}]
[null,3,4,0,"  ",null,null,"Birdie",{"$f":"COUNTIF(E78:E86,\"Birdie\")","v":0}]
[null,4,4,0,"  ",null,null,"Par",{"$f":"COUNTIF(E78:E86,\"Par\")","v":0}]
[null,5,3,0,"  ",null,null,"bogey",{"$f":"COUNTIF(E78:E86,\"bogey\")","v":0}]
[null,6,4,0,"  ",null,null,"Double bogey",{"$f":"COUNTIF(E78:E86,\"Double bogey\")","v":0}]
[null,7,4,0,"  ",null,null,"Other",{"$f":"COUNTIF(E78:E86,\"Other\")","v":0}]
[null,8,3,0,"  "]
[null,9,5,0,"  "]
[]
[null,{"$f":"V4","v":"2025-05-16"}]
[null,{"$f":"T7","v":10},4,0,{"$f":"IF(D89<>0,IF((D89-C89)=-1,\"Birdie\",IF((D89-C89)=-2,\"Eagle\",IF((D89-C89)=0,\"Par\",IF((D89-C89)=1,\"bogey\",IF((D89-C89)=2,\"Double bogey\",\"Other\"))))),\"  \")","v":"  "},null,null,"Count"]
[null,11,4,0,"  ",null,null,"Eagle",{"$f":"COUNTIF(E89:E97,\"Eagle\")","v":0}]
[null,12,3,0,"  ",null,null,"Birdie",{"$f":"COUNTIF(E89:E97,\"Birdie\")","v":0}]
[null,13,4,0,"  ",null,null,"Par",{"$f":"COUNTIF(E89:E97,\"Par\")","v":0}]
[null,14,4,0,"  ",null,null,"bogey",{"$f":"COUNTIF(E89:E97,\"bogey\")","v":0}]
[null,15,3,0,"  ",null,null,"Double bogey",{"$f":"COUNTIF(E89:E97,\"Double bogey\")","v":0}]
[null,16,5,0,"  ",null,null,"Other",{"$f":"COUNTIF(E89:E97,\"Other\")","v":0}]
[null,17,4,0,"  "]
[null,18,5,0,"  "]
[]
[null,{"$f":"AB4","v":"2025-05-23"}]
[null,{"$f":"Z7","v":1},4,0,{"$f":"IF(D100<>0,IF((D100-C100)=-1,\"Birdie\",IF((D100-C100)=-2,\"Eagle\",IF((D100-C100)=0,\"Par\",IF((D100-C100)=1,\"bogey\",IF((D100-C100)=2,\"Double bogey\",\"Other\"))))),\"  \")","v":"  "},null,null,"Count"]
[null,2,4,0,"  ",null,null,"Eagle",{"$f":"COUNTIF(E100:E108,\"Eagle\")","v":0}]
[null,3,4,0,"  ",null,null,"Birdie",{"$f":"COUNTIF(E100:E108,\"Birdie\")","v":0}]
[null,4,4,0,"  ",null,null,"Par",{"$f":"COUNTIF(E100:E108,\"Par\")","v":0}]
[null,5,3,0,"  ",null,null,"bogey",{"$f":"COUNTIF(E100:E108,\"bogey\")","v":0}]
[null,6,4,0,"  ",null,null,"Double bogey",{"$f":"COUNTIF(E100:E108,\"Double bogey\")","v":0}]
[null,7,4,0,"  ",null,null,"Other",{"$f":"COUNTIF(E100:E108,\"Other\")","v":0}]
[null,8,3,0,"  "]
[null,9,5,0,"  "]
[]
[null,{"$f":"AH4","v":"2025-05-30"}]
[null,{"$f":"AF7","v":10},4,0,{"$f":"IF(D111<>0,IF((D111-C111)=-1,\"Birdie\",IF((D111-C111)=-2,\"Eagle\",IF((D111-C111)=0,\"Par\",IF((D111-C111)=1,\"bogey\",IF((D111-C111)=2,\"Double bogey\",\"Other\"))))),\"  \")","v":"  "},null,null,"Count"]
[null,11,4,0,"  ",null,null,"Eagle",{"$f":"COUNTIF(E111:E119,\"Eagle\")","v":0}]
[null,12,3,0,"  ",null,null,"Birdie",{"$f":"COUNTIF(E111:E119,\"Birdie\")","v":0}]
[null,13,4,0,"  ",null,null,"Par",{"$f":"COUNTIF(E111:E119,\"Par\")","v":0}]
[null,14,4,0,"  ",null,null,"bogey",{"$f":"COUNTIF(E111:E119,\"bogey\")","v":0}]
[null,15,3,0,"  ",null,null,"Double bogey",{"$f":"COUNTIF(E111:E119,\"Double bogey\")","v":0}]
[null,16,5,0,"  ",null,null,"Other",{"$f":"COUNTIF(E111:E119,\"Other\")","v":0}]
[null,17,4,0,"  "]
[null,18,5,0,"  "]
[]
[null,{"$f":"AN4","v":"2025-06-06"}]
[null,{"$f":"AL7","v":1},4,0,{"$f":"IF(D122<>0,IF((D122-C122)=-1,\"Birdie\",IF((D122-C122)=-2,\"Eagle\",IF((D122-C122)=0,\"Par\",IF((D122-C122)=1,\"bogey\",IF((D122-C122)=2,\"Double bogey\",\"Other\"))))),\"  \")","v":"  "},null,null,"Count"]
[null,2,4,0,"  ",null,null,"Eagle",{"$f":"COUNTIF(E122:E130,\"Eagle\")","v":0}]
[null,3,4,0,"  ",null,null,"Birdie",{"$f":"COUNTIF(E122:E130,\"Birdie\")","v":0}]
[null,4,4,0,"  ",null,null,"Par",{"$f":"COUNTIF(E122:E130,\"Par\")","v":0}]
[null,5,3,0,"  ",null,null,"bogey",{"$f":"COUNTIF(E122:E130,\"bogey\")","v":0}]
[null,6,4,0,"  ",null,null,"Double bogey",{"$f":"COUNTIF(E122:E130,\"Double bogey\")","v":0}]
[null,7,4,0,"  ",null,null,"Other",{"$f":"COUNTIF(E122:E130,\"Other\")","v":0}]
[null,8,3,0,"  "]
[null,9,5,0,"  "]
[]
[null,{"$f":"AT4","v":"2025-06-13"}]
[null,{"$f":"AR7","v":10},4,0,{"$f":"IF(D133<>0,IF((D133-C133)=-1,\"Birdie\",IF((D133-C133)=-2,\"Eagle\",IF((D133-C133)=0,\"Par\",IF((D133-C133)=1,\"bogey\",IF((D133-C133)=2,\"Double bogey\",\"Other\"))))),\"  \")","v":"  "},null,null,"Count"]
[null,11,4,0,"  ",null,null,"Eagle",{"$f":"COUNTIF(E133:E141,\"Eagle\")","v":0}]
[null,12,3,0,"  ",null,null,"Birdie",{"$f":"COUNTIF(E133:E141,\"Birdie\")","v":0}]
[null,13,4,0,"  ",null,null,"Par",{"$f":"COUNTIF(E133:E141,\"Par\")","v":0}]
[null,14,4,0,"  ",null,null,"bogey",{"$f":"COUNTIF(E133:E141,\"bogey\")","v":0}]
[null,15,3,0,"  ",null,null,"Double bogey",{"$f":"COUNTIF(E133:E141,\"Double bogey\")","v":0}]
[null,16,5,0,"  ",null,null,"Other",{"$f":"COUNTIF(E133:E141,\"Other\")","v":0}]
[null,17,4,0,"  "]
[null,18,5,0,"  "]
[]
[null,{"$f":"AZ4","v":"2025-06-27"}]
[null,{"$f":"AX7","v":10},4,0,{"$f":"IF(D144<>0,IF((D144-C144)=-1,\"Birdie\",IF((D144-C144)=-2,\"Eagle\",IF((D144-C144)=0,\"Par\",IF((D144-C144)=1,\"bogey\",IF((D144-C144)=2,\"Double bogey\",\"Other\"))))),\"  \")","v":"  "},null,null,"Count"]
[null,11,4,0,"  ",null,null,"Eagle",{"$f":"COUNTIF(E144:E152,\"Eagle\")","v":0}]
[null,12,3,0,"  ",null,null,"Birdie",{"$f":"COUNTIF(E144:E152,\"Birdie\")","v":0}]
[null,13,4,0,"  ",null,null,"Par",{"$f":"COUNTIF(E144:E152,\"Par\")","v":0}]
[null,14,4,0,"  ",null,null,"bogey",{"$f":"COUNTIF(E144:E152,\"bogey\")","v":0}]
[null,15,3,0,"  ",null,null,"Double bogey",{"$f":"COUNTIF(E144:E152,\"Double bogey\")","v":0}]
[null,16,5,0,"  ",null,null,"Other",{"$f":"COUNTIF(E144:E152,\"Other\")","v":0}]
[null,17,4,0,"  "]
[null,18,5,0,"  "]
[]
[null,{"$f":"BF4","v":"2025-07-04"}]
[null,{"$f":"BD7","v":10},4,0,{"$f":"IF(D155<>0,IF((D155-C155)=-1,\"Birdie\",IF((D155-C155)=-2,\"Eagle\",IF((D155-C155)=0,\"Par\",IF((D155-C155)=1,\"bogey\",IF((D155-C155)=2,\"Double bogey\",\"Other\"))))),\"  \")","v":"  "},null,null,"Count"]
[null,11,4,0,"  ",null,null,"Eagle",{"$f":"COUNTIF(E155:E163,\"Eagle\")","v":0}]
[null,12,3,0,"  ",null,null,"Birdie",{"$f":"COUNTIF(E155:E163,\"Birdie\")","v":0}]
[null,13,4,0,"  ",null,null,"Par",{"$f":"COUNTIF(E155:E163,\"Par\")","v":0}]
[null,14,4,0,"  ",null,null,"bogey",{"$f":"COUNTIF(E155:E163,\"bogey\")","v":0}]
[null,15,3,0,"  ",null,null,"Double bogey",{"$f":"COUNTIF(E155:E163,\"Double bogey\")","v":0}]
[null,16,5,0,"  ",null,null,"Other",{"$f":"COUNTIF(E155:E163,\"Other\")","v":0}]
[null,17,4,0,"  "]
[null,18,5,0,"  "]
[]
[null,{"$f":"BL4","v":"2025-07-18"}]
[null,{"$f":"BJ7","v":10},4,0,{"$f":"IF(D166<>0,IF((D166-C166)=-1,\"Birdie\",IF((D166-C166)=-2,\"Eagle\",IF((D166-C166)=0,\"Par\",IF((D166-C166)=1,\"bogey\",IF((D166-C166)=2,\"Double bogey\",\"Other\"))))),\"  \")","v":"  "},null,null,"Count"]
[null,11,4,0,"  ",null,null,"Eagle",{"$f":"COUNTIF(E166:E174,\"Eagle\")","v":0}]
[null,12,3,0,"  ",null,null,"Birdie",{"$f":"COUNTIF(E166:E174,\"Birdie\")","v":0}]
[null,13,4,0,"  ",null,null,"Par",{"$f":"COUNTIF(E166:E174,\"Par\")","v":0}]
[null,14,4,0,"  ",null,null,"bogey",{"$f":"COUNTIF(E166:E174,\"bogey\")","v":0}]
[null,15,3,0,"  ",null,null,"Double bogey",{"$f":"COUNTIF(E166:E174,\"Double bogey\")","v":0}]
[null,16,5,0,"  ",null,null,"Other",{"$f":"COUNTIF(E166:E174,\"Other\")","v":0}]
[null,17,4,0,"  "]
[null,18,5,0,"  "]
[]
[null,{"$f":"BR4","v":"2025-07-25"}]
[null,{"$f":"BP7","v":1},4,0,{"$f":"IF(D177<>0,IF((D177-C177)=-1,\"Birdie\",IF((D177-C177)=-2,\"Eagle\",IF((D177-C177)=0,\"Par\",IF((D177-C177)=1,\"bogey\",IF((D177-C177)=2,\"Double bogey\",\"Other\"))))),\"  \")","v":"  "},null,null,"Count"]
[null,2,4,0,"  ",null,null,"Eagle",{"$f":"COUNTIF(E177:E185,\"Eagle\")","v":0}]
[null,3,4,0,"  ",null,null,"Birdie",{"$f":"COUNTIF(E177:E185,\"Birdie\")","v":0}]
[null,4,4,0,"  ",null,null,"Par",{"$f":"COUNTIF(E177:E185,\"Par\")","v":0}]
[null,5,3,0,"  ",null,null,"bogey",{"$f":"COUNTIF(E177:E185,\"bogey\")","v":0}]
[null,6,4,0,"  ",null,null,"Double bogey",{"$f":"COUNTIF(E177:E185,\"Double bogey\")","v":0}]
[null,7,4,0,"  ",null,null,"Other",{"$f":"COUNTIF(E177:E185,\"Other\")","v":0}]
[null,8,3,0,"  "]
[null,9,5,0,"  "]
[]
[null,{"$f":"BX4","v":"2025-08-01"}]
[null,{"$f":"BV7","v":10},4,0,{"$f":"IF(D188<>0,IF((D188-C188)=-1,\"Birdie\",IF((D188-C188)=-2,\"Eagle\",IF((D188-C188)=0,\"Par\",IF((D188-C188)=1,\"bogey\",IF((D188-C188)=2,\"Double bogey\",\"Other\"))))),\"  \")","v":"  "},null,null,"Count"]
[null,11,4,0,"  ",null,null,"Eagle",{"$f":"COUNTIF(E188:E196,\"Eagle\")","v":0}]
[null,12,3,0,"  ",null,null,"Birdie",{"$f":"COUNTIF(E188:E196,\"Birdie\")","v":0}]
[null,13,4,0,"  ",null,null,"Par",{"$f":"COUNTIF(E188:E196,\"Par\")","v":0}]
[null,14,4,0,"  ",null,null,"bogey",{"$f":"COUNTIF(E188:E196,\"bogey\")","v":0}]
[null,15,3,0,"  ",null,null,"Double bogey",{"$f":"COUNTIF(E188:E196,\"Double bogey\")","v":0}]
[null,16,5,0,"  ",null,null,"Other",{"$f":"COUNTIF(E188:E196,\"Other\")","v":0}]
[null,17,4,0,"  "]
[null,18,5,0,"  "]
[]
[null,{"$f":"CD4","v":"2025-08-08"}]
[null,{"$f":"CB7","v":1},4,0,{"$f":"IF(D199<>0,IF((D199-C199)=-1,\"Birdie\",IF((D199-C199)=-2,\"Eagle\",IF((D199-C199)=0,\"Par\",IF((D199-C199)=1,\"bogey\",IF((D199-C199)=2,\"Double bogey\",\"Other\"))))),\"  \")","v":"  "},null,null,"Count"]
[null,2,4,0,"  ",null,null,"Eagle",{"$f":"COUNTIF(E199:E207,\"Eagle\")","v":0}]
[null,3,4,0,"  ",null,null,"Birdie",{"$f":"COUNTIF(E199:E207,\"Birdie\")","v":0}]
[null,4,4,0,"  ",null,null,"Par",{"$f":"COUNTIF(E199:E207,\"Par\")","v":0}]
[null,5,3,0,"  ",null,null,"bogey",{"$f":"COUNTIF(E199:E207,\"bogey\")","v":0}]
[null,6,4,0,"  ",null,null,"Double bogey",{"$f":"COUNTIF(E199:E207,\"Double bogey\")","v":0}]
[null,7,4,0,"  ",null,null,"Other",{"$f":"COUNTIF(E199:E207,\"Other\")","v":0}]
[null,8,3,0,"  "]
[null,9,5,0,"  "]
[]
[null,{"$f":"CJ4","v":"2025-08-15"}]
[null,{"$f":"CH7","v":10},4,0,{"$f":"IF(D210<>0,IF((D210-C210)=-1,\"Birdie\",IF((D210-C210)=-2,\"Eagle\",IF((D210-C210)=0,\"Par\",IF((D210-C210)=1,\"bogey\",IF((D210-C210)=2,\"Double bogey\",\"Other\"))))),\"  \")","v":"  "},null,null,"Count"]
[null,11,4,0,"  ",null,null,"Eagle",{"$f":"COUNTIF(E210:E218,\"Eagle\")","v":0}]
[null,12,3,0,"  ",null,null,"Birdie",{"$f":"COUNTIF(E210:E218,\"Birdie\")","v":0}]
[null,13,4,0,"  ",null,null,"Par",{"$f":"COUNTIF(E210:E218,\"Par\")","v":0}]
[null,14,4,0,"  ",null,null,"bogey",{"$f":"COUNTIF(E210:E218,\"bogey\")","v":0}]
[null,15,3,0,"  ",null,null,"Double bogey",{"$f":"COUNTIF(E210:E218,\"Double bogey\")","v":0}]
[null,16,5,0,"  ",null,null,"Other",{"$f":"COUNTIF(E210:E218,\"Other\")","v":0}]
[null,17,4,0,"  "]
[null,18,5,0,"  "]

{"sheet":"Mohsinger_B","index":15,"n_rows":218,"n_cols":90,"rows_kept":218,"cut":false,"hidden":false,"merged":[]}
["Bette Mohsinger"]
[]
[]
[null,null,"Date:",{"$f":"VLOOKUP(C5,Week,2)","v":"2025-04-25"},null,null,null,null,"Date:",{"$f":"VLOOKUP(I5,Week,2)","v":"2025-05-02"},null,null,null,null,"Date:",{"$f":"VLOOKUP(O5,Week,2)","v":"2025-05-09"},null,null,null,null,"Date:",{"$f":"VLOOKUP(U5,Week,2)","v":"2025-05-16"},null,null,null,null,"Date:",{"$f":"VLOOKUP(AA5,Week,2)","v":"2025-05-23"},null,null,null,null,"Date:",{"$f":"VLOOKUP(AG5,Week,2)","v":"2025-05-30"},null,null,null,null,"Date:",{"$f":"VLOOKUP(AM5,Week,2)","v":"2025-06-06"},null,null,null,null,"Date:",{"$f":"VLOOKUP(AS5,Week,2)","v":"2025-06-13"},null,null,null,null,"Date:",{"$f":"VLOOKUP(AY5,Week,2)","v":"2025-06-27"},null,null,null,null,"Date:",{"$f":"VLOOKUP(BE5,Week,2)","v":"2025-07-04"},null,null,null,null,"Date:",{"$f":"VLOOKUP(BK5,Week,2)","v":"2025-07-18"},null,null,null,null,"Date:",{"$f":"VLOOKUP(BQ5,Week,2)","v":"2025-07-25"},null,null,null,null,"Date:",{"$f":"VLOOKUP(BW5,Week,2)","v":"2025-08-01"},null,null,null,null,"Date:",{"$f":"VLOOKUP(CC5,Week,2)","v":"2025-08-08"},null,null,null,null,"Date:",{"$f":"VLOOKUP(CI5,Week,2)","v":"2025-08-15"}]
[null,"Week",1,null,null,null,null,"Week",2,null,null,null,null,"Week",3,null,null,null,null,"Week",4,null,null,null,null,"Week",5,null,null,null,null,"Week",6,null,null,null,null,"Week",7,null,null,null,null,"Week",8,null,null,null,null,"Week",9,null,null,null,null,"Week",10,null,null,null,null,"Week",11,null,null,null,null,"Week",12,null,null,null,null,"Week",13,null,null,null,null,"Week",14,null,null,null,null,"Week",15]
[null,"Hole #","Par","Score","Net","Win Hole",null,"Hole #","Par","Score","Net","Win Hole",null,"Hole #","Par","Score","Net","Win Hole",null,"Hole #","Par","Score","Net","Win Hole",null,"Hole #","Par","Score","Net","Win Hole",null,"Hole #","Par","Score","Net","Win Hole",null,"Hole #","Par","Score","Net","Win Hole",null,"Hole #","Par","Score","Net","Win Hole",null,"Hole #","Par","Score","Net","Win Hole",null,"Hole #","Par","Score","Net","Win Hole",null,"Hole #","Par","Score","Net","Win Hole",null,"Hole #","Par","Score","Net","Win Hole",null,"Hole #","Par","Score","Net","Win Hole",null,"Hole #","Par","Score","Net","Win Hole",null,"Hole #","Par","Score","Net","Win Hole"]
[null,{"$f":"VLOOKUP(C5,Week,6)","v":1},{"$f":"VLOOKUP(B7,Holes,2)","v":4},null,{"$f":"IF((D7-C7)>3,C7+3,D7)","v":0},null,null,{"$f":"VLOOKUP(I5,Week,6)","v":10},{"$f":"VLOOKUP(H7,Holes,2)","v":4},null,{"$f":"IF((J7-I7)>3,I7+3,J7)","v":0},null,null,{"$f":"VLOOKUP(O5,Week,6)","v":1},{"$f":"VLOOKUP(N7,Holes,2)","v":4},null,{"$f":"IF((P7-O7)>3,O7+3,P7)","v":0},null,null,{"$f":"VLOOKUP(U5,Week,6)","v":10},{"$f":"VLOOKUP(T7,Holes,2)","v":4},null,{"$f":"IF((V7-U7)>3,U7+3,V7)","v":0},null,null,{"$f":"VLOOKUP(AA5,Week,6)","v":1},{"$f":"VLOOKUP(Z7,Holes,2)","v":4},null,{"$f":"IF((AB7-AA7)>3,AA7+3,AB7)","v":0},null,null,{"$f":"VLOOKUP(AG5,Week,6)","v":10},{"$f":"VLOOKUP(AF7,Holes,2)","v":4},null,{"$f":"IF((AH7-AG7)>3,AG7+3,AH7)","v":0},null,null,{"$f":"VLOOKUP(AM5,Week,6)","v":1},{"$f":"VLOOKUP(AL7,Holes,2)","v":4},null,{"$f":"IF((AN7-AM7)>3,AM7+3,AN7)","v":0},null,null,{"$f":"VLOOKUP(AS5,Week,6)","v":10},{"$f":"VLOOKUP(AR7,Holes,2)","v":4},null,{"$f":"IF((AT7-AS7)>3,AS7+3,AT7)","v":0},null,null,{"$f":"VLOOKUP(AY5,Week,6)","v":10},{"$f":"VLOOKUP(AX7,Holes,2)","v":4},null,{"$f":"IF((AZ7-AY7)>3,AY7+3,AZ7)","v":0},null,null,{"$f":"VLOOKUP(BE5,Week,6)","v":10},{"$f":"VLOOKUP(BD7,Holes,2)","v":4},null,{"$f":"IF((BF7-BE7)>3,BE7+3,BF7)","v":0},null,null,{"$f":"VLOOKUP(BK5,Week,6)","v":10},{"$f":"VLOOKUP(BJ7,Holes,2)","v":4},null,{"$f":"IF((BL7-BK7)>3,BK7+3,BL7)","v":0},null,null,{"$f":"VLOOKUP(BQ5,Week,6)","v":1},{"$f":"VLOOKUP(BP7,Holes,2)","v":4},null,{"$f":"IF((BR7-BQ7)>3,BQ7+3,BR7)","v":0},null,null,{"$f":"VLOOKUP(BW5,Week,6)","v":10},{"$f":"VLOOKUP(BV7,Holes,2)","v":4},null,{"$f":"IF((BX7-BW7)>3,BW7+3,BX7)","v":0},null,null,{"$f":"VLOOKUP(CC5,Week,6)","v":1},{"$f":"VLOOKUP(CB7,Holes,2)","v":4},null,{"$f":"IF((CD7-CC7)>3,CC7+3,CD7)","v":0},null,null,{"$f":"VLOOKUP(CI5,Week,6)","v":10},{"$f":"VLOOKUP(CH7,Holes,2)","v":4},null,{"$f":"IF((CJ7-CI7)>3,CI7+3,CJ7)","v":0}]
[null,{"$f":"+B7+1","v":2},4,null,0,null,null,{"$f":"+H7+1","v":11},4,null,0,null,null,{"$f":"+N7+1","v":2},4,null,0,null,null,{"$f":"+T7+1","v":11},4,null,0,null,null,{"$f":"+Z7+1","v":2},4,null,0,null,null,{"$f":"+AF7+1","v":11},4,null,0,null,null,{"$f":"+AL7+1","v":2},4,null,0,null,null,{"$f":"+AR7+1","v":11},4,null,0,null,null,{"$f":"+AX7+1","v":11},4,null,0,null,null,{"$f":"+BD7+1","v":11},4,null,0,null,null,{"$f":"+BJ7+1","v":11},4,null,0,null,null,{"$f":"+BP7+1","v":2},4,null,0,null,null,{"$f":"+BV7+1","v":11},4,null,0,null,null,{"$f":"+CB7+1","v":2},4,null,0,null,null,{"$f":"+CH7+1","v":11},4,null,0]
[null,3,4,null,0,null,null,12,3,null,0,null,null,3,4,null,0,null,null,12,3,null,0,null,null,3,4,null,0,null,null,12,3,null,0,null,null,3,4,null,0,null,null,12,3,null,0,null,null,12,3,null,0,null,null,12,3,null,0,null,null,12,3,null,0,null,null,3,4,null,0,null,null,12,3,null,0,null,null,3,4,null,0,null,null,12,3,null,0]
[null,4,4,null,0,null,null,13,4,null,0,null,null,4,4,null,0,null,null,13,4,null,0,null,null,4,4,null,0,null,null,13,4,null,0,null,null,4,4,null,0,null,null,13,4,null,0,null,null,13,4,null,0,null,null,13,4,null,0,null,null,13,4,null,0,null,null,4,4,null,0,null,null,13,4,null,0,null,null,4,4,null,0,null,null,13,4,null,0]
[null,5,3,null,0,null,null,14,4,null,0,null,null,5,3,null,0,null,null,14,4,null,0,null,null,5,3,null,0,null,null,14,4,null,0,null,null,5,3,null,0,null,null,14,4,null,0,null,null,14,4,null,0,null,null,14,4,null,0,null,null,14,4,null,0,null,null,5,3,null,0,null,null,14,4,null,0,null,null,5,3,null,0,null,null,14,4,null,0]
[null,6,4,null,0,null,null,15,3,null,0,null,null,6,4,null,0,null,null,15,3,null,0,null,null,6,4,null,0,null,null,15,3,null,0,null,null,6,4,null,0,null,null,15,3,null,0,null,null,15,3,null,0,null,null,15,3,null,0,null,null,15,3,null,0,null,null,6,4,null,0,null,null,15,3,null,0,null,null,6,4,null,0,null,null,15,3,null,0]
[null,7,4,null,0,null,null,16,5,null,0,null,null,7,4,null,0,null,null,16,5,null,0,null,null,7,4,null,0,null,null,16,5,null,0,null,null,7,4,null,0,null,null,16,5,null,0,null,null,16,5,null,0,null,null,16,5,null,0,null,null,16,5,null,0,null,null,7,4,null,0,null,null,16,5,null,0,null,null,7,4,null,0,null,null,16,5,null,0]
[null,8,3,null,0,null,null,17,4,null,0,null,null,8,3,null,0,null,null,17,4,null,0,null,null,8,3,null,0,null,null,17,4,null,0,null,null,8,3,null,0,null,null,17,4,null,0,null,null,17,4,null,0,null,null,17,4,null,0,null,null,17,4,null,0,null,null,8,3,null,0,null,null,17,4,null,0,null,null,8,3,null,0,null,null,17,4,null,0]
[null,9,5,null,0,null,null,18,5,null,0,null,null,9,5,null,0,null,null,18,5,null,0,null,null,9,5,null,0,null,null,18,5,null,0,null,null,9,5,null,0,null,null,18,5,null,0,null,null,18,5,null,0,null,null,18,5,null,0,null,null,18,5,null,0,null,null,9,5,null,0,null,null,18,5,null,0,null,null,9,5,null,0,null,null,18,5,null,0]
[null,"Total",{"$f":"SUM(C7:C15)","v":35},{"$f":"SUM(D7:D15)","v":0},{"$f":"SUM(E7:E15)","v":0},{"$f":"SUM(F7:F15)","v":0},null,"Total",{"$f":"SUM(I7:I15)","v":36},{"$f":"SUM(J7:J15)","v":0},{"$f":"SUM(K7:K15)","v":0},{"$f":"SUM(L7:L15)","v":0},null,"Total",{"$f":"SUM(O7:O15)","v":35},{"$f":"SUM(P7:P15)","v":0},{"$f":"SUM(Q7:Q15)","v":0},{"$f":"SUM(R7:R15)","v":0},null,"Total",{"$f":"SUM(U7:U15)","v":36},{"$f":"SUM(V7:V15)","v":0},{"$f":"SUM(W7:W15)","v":0},{"$f":"SUM(X7:X15)","v":0},null,"Total",{"$f":"SUM(AA7:AA15)","v":35},{"$f":"SUM(AB7:AB15)","v":0},{"$f":"SUM(AC7:AC15)","v":0},{"$f":"SUM(AD7:AD15)","v":0},null,"Total",{"$f":"SUM(AG7:AG15)","v":36},{"$f":"SUM(AH7:AH15)","v":0},{"$f":"SUM(AI7:AI15)","v":0},{"$f":"SUM(AJ7:AJ15)","v":0},null,"Total",{"$f":"SUM(AM7:AM15)","v":35},{"$f":"SUM(AN7:AN15)","v":0},{"$f":"SUM(AO7:AO15)","v":0},{"$f":"SUM(AP7:AP15)","v":0},null,"Total",{"$f":"SUM(AS7:AS15)","v":36},{"$f":"SUM(AT7:AT15)","v":0},{"$f":"SUM(AU7:AU15)","v":0},{"$f":"SUM(AV7:AV15)","v":0},null,"Total",{"$f":"SUM(AY7:AY15)","v":36},{"$f":"SUM(AZ7:AZ15)","v":0},{"$f":"SUM(BA7:BA15)","v":0},{"$f":"SUM(BB7:BB15)","v":0},null,"Total",{"$f":"SUM(BE7:BE15)","v":36},{"$f":"SUM(BF7:BF15)","v":0},{"$f":"SUM(BG7:BG15)","v":0},{"$f":"SUM(BH7:BH15)","v":0},null,"Total",{"$f":"SUM(BK7:BK15)","v":36},{"$f":"SUM(BL7:BL15)","v":0},{"$f":"SUM(BM7:BM15)","v":0},{"$f":"SUM(BN7:BN15)","v":0},null,"Total",{"$f":"SUM(BQ7:BQ15)","v":35},{"$f":"SUM(BR7:BR15)","v":0},{"$f":"SUM(BS7:BS15)","v":0},{"$f":"SUM(BT7:BT15)","v":0},null,"Total",{"$f":"SUM(BW7:BW15)","v":36},{"$f":"SUM(BX7:BX15)","v":0},{"$f":"SUM(BY7:BY15)","v":0},{"$f":"SUM(BZ7:BZ15)","v":0},null,"Total",{"$f":"SUM(CC7:CC15)","v":35},{"$f":"SUM(CD7:CD15)","v":0},{"$f":"SUM(CE7:CE15)","v":0},{"$f":"SUM(CF7:CF15)","v":0},null,"Total",{"$f":"SUM(CI7:CI15)","v":36},{"$f":"SUM(CJ7:CJ15)","v":0},{"$f":"SUM(CK7:CK15)","v":0},{"$f":"SUM(CL7:CL15)","v":0}]
[]
[null,null,null,null,"Low Net",0,null,null,null,null,"Low Net",0,null,null,null,null,"Low Net",null,null,null,null,null,"Low Net",null,null,null,null,null,"Low Net",null,null,null,null,null,"Low Net",null,null,null,null,null,"Low Net",null,null,null,null,null,"Low Net",null,null,null,null,null,"Low Net",null,null,null,null,null,"Low Net",null,null,null,null,null,"Low Net",null,null,null,null,null,"Low Net",null,null,null,null,null,"Low Net",null,null,null,null,null,"Low Net",null,null,null,null,null,"Low Net"]
[]
[null,null,null,null,"Total Points",{"$f":"SUM(F16:F19)","v":0},null,null,null,null,"Total Points",{"$f":"SUM(L16:L19)","v":0},null,null,null,null,"Total Points",{"$f":"SUM(R16:R19)","v":0},null,null,null,null,"Total Points",{"$f":"SUM(X16:X19)","v":0},null,null,null,null,"Total Points",{"$f":"SUM(AD16:AD19)","v":0},null,null,null,null,"Total Points",{"$f":"SUM(AJ16:AJ19)","v":0},null,null,null,null,"Total Points",{"$f":"SUM(AP16:AP19)","v":0},null,null,null,null,"Total Points",{"$f":"SUM(AV16:AV19)","v":0},null,null,null,null,"Total Points",{"$f":"SUM(BB16:BB19)","v":0},null,null,null,null,"Total Points",{"$f":"SUM(BH16:BH19)","v":0},null,null,null,null,"Total Points",{"$f":"SUM(BN16:BN19)","v":0},null,null,null,null,"Total Points",{"$f":"SUM(BT16:BT19)","v":0},null,null,null,null,"Total Points",{"$f":"SUM(BZ16:BZ19)","v":0},null,null,null,null,"Total Points",{"$f":"SUM(CF16:CF19)","v":0},null,null,null,null,"Total Points",{"$f":"SUM(CL16:CL19)","v":0}]
[]
[null,null,null,null,"Handicap",{"$f":"IF(D16=0,0,E16-C16)","v":0},null,null,null,null,"Handicap",{"$f":"IF(J16=0,0,K16-I16)","v":0},null,null,null,null,"Handicap",{"$f":"IF(P16=0,0,Q16-O16)","v":0},null,null,null,null,"Handicap",{"$f":"IF(V16=0,0,W16-U16)","v":0},null,null,null,null,"Handicap",{"$f":"IF(AB16=0,0,AC16-AA16)","v":0},null,null,null,null,"Handicap",{"$f":"IF(AH16=0,0,AI16-AG16)","v":0},null,null,null,null,"Handicap",{"$f":"IF(AN16=0,0,AO16-AM16)","v":0},null,null,null,null,"Handicap",{"$f":"IF(AT16=0,0,AU16-AS16)","v":0},null,null,null,null,"Handicap",{"$f":"IF(AZ16=0,0,BA16-AY16)","v":0},null,null,null,null,"Handicap",{"$f":"IF(BF16=0,0,BG16-BE16)","v":0},null,null,null,null,"Handicap",{"$f":"IF(BL16=0,0,BM16-BK16)","v":0},null,null,null,null,"Handicap",{"$f":"IF(BR16=0,0,BS16-BQ16)","v":0},null,null,null,null,"Handicap",{"$f":"IF(BX16=0,0,BY16-BW16)","v":0},null,null,null,null,"Handicap",{"$f":"IF(CD16=0,0,CE16-CC16)","v":0},null,null,null,null,"Handicap",{"$f":"IF(CJ16=0,0,CK16-CI16)","v":0}]
[]
[null,null,null,null,null,{"$f":"IF(D16<>0,IF(F16>4.5,\"W\",IF(F16=4.5,\"T\",IF(F16<4.5,\"L\"))),0)","v":0},null,null,null,null,null,{"$f":"IF(J16<>0,IF(L16>4.5,\"W\",IF(L16=4.5,\"T\",IF(L16<4.5,\"L\"))),0)","v":0},null,null,null,null,null,{"$f":"IF(P16<>0,IF(R16>4.5,\"W\",IF(R16=4.5,\"T\",IF(R16<4.5,\"L\"))),0)","v":0},null,null,null,null,null,{"$f":"IF(V16<>0,IF(X16>4.5,\"W\",IF(X16=4.5,\"T\",IF(X16<4.5,\"L\"))),0)","v":0},null,null,null,null,null,{"$f":"IF(AB16<>0,IF(AD16>4.5,\"W\",IF(AD16=4.5,\"T\",IF(AD16<4.5,\"L\"))),0)","v":0},null,null,null,null,null,{"$f":"IF(AH16<>0,IF(AJ16>4.5,\"W\",IF(AJ16=4.5,\"T\",IF(AJ16<4.5,\"L\"))),0)","v":0},null,null,null,null,null,{"$f":"IF(AN16<>0,IF(AP16>4.5,\"W\",IF(AP16=4.5,\"T\",IF(AP16<4.5,\"L\"))),0)","v":0},null,null,null,null,null,{"$f":"IF(AT16<>0,IF(AV16>4.5,\"W\",IF(AV16=4.5,\"T\",IF(AV16<4.5,\"L\"))),0)","v":0},null,null,null,null,null,{"$f":"IF(AZ16<>0,IF(BB16>4.5,\"W\",IF(BB16=4.5,\"T\",IF(BB16<4.5,\"L\"))),0)","v":0},null,null,null,null,null,{"$f":"IF(BF16<>0,IF(BH16>4.5,\"W\",IF(BH16=4.5,\"T\",IF(BH16<4.5,\"L\"))),0)","v":0},null,null,null,null,null,{"$f":"IF(BL16<>0,IF(BN16>4.5,\"W\",IF(BN16=4.5,\"T\",IF(BN16<4.5,\"L\"))),0)","v":0},null,null,null,null,null,{"$f":"IF(BR16<>0,IF(BT16>4.5,\"W\",IF(BT16=4.5,\"T\",IF(BT16<4.5,\"L\"))),0)","v":0},null,null,null,null,null,{"$f":"IF(BX16<>0,IF(BZ16>4.5,\"W\",IF(BZ16=4.5,\"T\",IF(BZ16<4.5,\"L\"))),0)","v":0},null,null,null,null,null,{"$f":"IF(CD16<>0,IF(CF16>4.5,\"W\",IF(CF16=4.5,\"T\",IF(CF16<4.5,\"L\"))),0)","v":0},null,null,null,null,null,{"$f":"IF(CJ16<>0,IF(CL16>4.5,\"W\",IF(CL16=4.5,\"T\",IF(CL16<4.5,\"L\"))),0)","v":0}]
[]
[null,"Summary"]
[null,null,null,"Adj",null,"Adj",null,null,null,"Avg Score"]
[null,null,"Points","Points","Matches","Matches",null,null,"Hole #","by Hole","Best","Worst"]
[null,"Week #1",{"$f":"F20","v":0},{"$f":"C29","v":0},{"$f":"IF(D16>0,1,0)","v":0},{"$f":"E29","v":0},null,null,1,{"$f":"IFERROR(AVERAGE(D7),0)","v":0},{"$f":"IFERROR(MIN(J7,V7,AH7,AT7,BF7,BR7,BX7,CJ7),0)","v":0},{"$f":"IFERROR(MAX(J7,V7,AH7,AT7,BF7,BR7,BX7,CJ7),0)","v":0}]
[null,"Week #2",{"$f":"L20","v":0},0,{"$f":"IF(J16>0,1,0)","v":0},0,null,null,2,{"$f":"IFERROR(AVERAGE(D8),0)","v":0},{"$f":"IFERROR(MIN(J8,V8,AH8,AT8,BF8,BR8,BX8,CJ8),0)","v":0},{"$f":"IFERROR(MAX(J8,V8,AH8,AT8,BF8,BR8,BX8,CJ8),0)","v":0}]
[null,"Week #3",{"$f":"R20","v":0},0,{"$f":"IF(P16>0,1,0)","v":0},0,null,null,3,0,0,0]
[null,"Week #4",{"$f":"X20","v":0},0,{"$f":"IF(V16>0,1,0)","v":0},0,null,null,4,0,0,0]
[null,"Week #5",{"$f":"AD20","v":0},0,{"$f":"IF(AB16>0,1,0)","v":0},0,null,null,5,0,0,0]
[null,"Week #6",{"$f":"AJ20","v":0},0,{"$f":"IF(AH16>0,1,0)","v":0},0,null,null,6,0,0,0]
[null,"Week #7",{"$f":"AP20","v":0},0,{"$f":"IF(AN16>0,1,0)","v":0},0,null,null,7,0,0,0]
[null,"Week #8",{"$f":"AV20","v":0},0,{"$f":"IF(AT16>0,1,0)","v":0},0,null,null,8,0,0,0]
[null,"Week #9",{"$f":"BB20","v":0},0,{"$f":"IF(AZ16>0,1,0)","v":0},0,null,null,9,0,0,0]
[null,"Week #10",{"$f":"BH20","v":0},0,{"$f":"IF(BF16>0,1,0)","v":0},0,null,null,"Front",{"$f":"SUM(J29:J37)","v":0},{"$f":"SUM(K29:K37)","v":0},0]
[null,"Week #11",{"$f":"BN20","v":0},0,{"$f":"IF(BL16>0,1,0)","v":0},0]
[null,"Week #12",{"$f":"BT20","v":0},0,{"$f":"IF(BR16>0,1,0)","v":0},0,null,null,10,{"$f":"IFERROR(AVERAGE(J7),0)","v":0},{"$f":"IFERROR(MIN(D7,P7,AB7,AN7,AZ7,BL7,CD7),0)","v":0},{"$f":"IFERROR(MAX(D7,P7,AB7,AN7,AZ7,BL7,CD7),0)","v":0}]
[null,"Week #13",{"$f":"BZ20","v":0},0,{"$f":"IF(BX16>0,1,0)","v":0},0,null,null,11,{"$f":"IFERROR(AVERAGE(J8),0)","v":0},{"$f":"IFERROR(MIN(D8,P8,AB8,AN8,AZ8,BL8,CD8),0)","v":0},{"$f":"IFERROR(MAX(D8,P8,AB8,AN8,AZ8,BL8,CD8),0)","v":0}]
[null,"Week #14",{"$f":"CF20","v":0},0,{"$f":"IF(CD16>0,1,0)","v":0},0,null,null,12,0,0,0]
[null,"Week #15",{"$f":"CL20","v":0},0,{"$f":"IF(CJ16>0,1,0)","v":0},0,null,null,13,0,0,0]
[null,"Total",{"$f":"SUM(C29:C43)","v":0},{"$f":"SUM(D29:D43)","v":0},{"$f":"SUM(E29:E43)","v":0},{"$f":"SUM(F29:F43)","v":0},null,null,14,0,0,0]
[null,null,null,null,null,null,null,null,15,0,0,0]
[null,"Summary",null,null,null,null,null,null,16,0,0,0]
[null,"Eagles",{"$f":"I57+I68+I79+I90+I101+I112+I123+I134+I145+I156+I167+I178+I189+I200+I211","v":0},null,null,null,null,null,17,0,0,0]
[null,"Birdies",0,null,null,null,null,null,18,0,0,0]
[null,"Pars",0,null,null,null,null,null,"Back",{"$f":"SUM(J40:J48)","v":0},{"$f":"SUM(K40:K48)","v":0},0]
[null,"bogeys",0]
[null,"Double bogeys",0]
[null,"Other",0]
[null,"Total",{"$f":"SUM(C47:C52)","v":0}]
[]
[null,{"$f":"D4","v":"2025-04-25"},"Par","Score"]
[null,{"$f":"B7","v":1},4,0,{"$f":"IF(D56<>0,IF((D56-C56)=-1,\"Birdie\",IF((D56-C56)=-2,\"Eagle\",IF((D56-C56)=0,\"Par\",IF((D56-C56)=1,\"bogey\",IF((D56-C56)=2,\"Double bogey\",\"Other\"))))),\"  \")","v":"  "},null,null,"Count"]
[null,2,4,0,"  ",null,null,"Eagle",{"$f":"COUNTIF(E56:E64,\"Eagle\")","v":0}]
[null,3,4,0,"  ",null,null,"Birdie",{"$f":"COUNTIF(E56:E64,\"Birdie\")","v":0}]
[null,4,4,0,"  ",null,null,"Par",{"$f":"COUNTIF(E56:E64,\"Par\")","v":0}]
[null,5,3,0,"  ",null,null,"bogey",{"$f":"COUNTIF(E56:E64,\"bogey\")","v":0}]
[null,6,4,0,"  ",null,null,"Double bogey",{"$f":"COUNTIF(E56:E64,\"Double bogey\")","v":0}]
[null,7,4,0,"  ",null,null,"Other",{"$f":"COUNTIF(E56:E64,\"Other\")","v":0}]
[null,8,3,0,"  "]
[null,9,5,0,"  "]
[]
[null,{"$f":"J4","v":"2025-05-02"}]
[null,{"$f":"H7","v":10},4,0,{"$f":"IF(D67<>0,IF((D67-C67)=-1,\"Birdie\",IF((D67-C67)=-2,\"Eagle\",IF((D67-C67)=0,\"Par\",IF((D67-C67)=1,\"bogey\",IF((D67-C67)=2,\"Double bogey\",\"Other\"))))),\"  \")","v":"  "},null,null,"Count"]
[null,11,4,0,"  ",null,null,"Eagle",{"$f":"COUNTIF(E67:E75,\"Eagle\")","v":0}]
[null,12,3,0,"  ",null,null,"Birdie",{"$f":"COUNTIF(E67:E75,\"Birdie\")","v":0}]
[null,13,4,0,"  ",null,null,"Par",{"$f":"COUNTIF(E67:E75,\"Par\")","v":0}]
[null,14,4,0,"  ",null,null,"bogey",{"$f":"COUNTIF(E67:E75,\"bogey\")","v":0}]
[null,15,3,0,"  ",null,null,"Double bogey",{"$f":"COUNTIF(E67:E75,\"Double bogey\")","v":0}]
[null,16,5,0,"  ",null,null,"Other",{"$f":"COUNTIF(E67:E75,\"Other\")","v":0}]
[null,17,4,0,"  "]
[null,18,5,0,"  "]
[]
[null,{"$f":"P4","v":"2025-05-09"}]
[null,{"$f":"N7","v":1},4,0,{"$f":"IF(D78<>0,IF((D78-C78)=-1,\"Birdie\",IF((D78-C78)=-2,\"Eagle\",IF((D78-C78)=0,\"Par\",IF((D78-C78)=1,\"bogey\",IF((D78-C78)=2,\"Double bogey\",\"Other\"))))),\"  \")","v":"  "},null,null,"Count"]
[null,2,4,0,"  ",null,null,"Eagle",{"$f":"COUNTIF(E78:E86,\"Eagle\")","v":0}]
[null,3,4,0,"  ",null,null,"Birdie",{"$f":"COUNTIF(E78:E86,\"Birdie\")","v":0}]
[null,4,4,0,"  ",null,null,"Par",{"$f":"COUNTIF(E78:E86,\"Par\")","v":0}]
[null,5,3,0,"  ",null,null,"bogey",{"$f":"COUNTIF(E78:E86,\"bogey\")","v":0}]
[null,6,4,0,"  ",null,null,"Double bogey",{"$f":"COUNTIF(E78:E86,\"Double bogey\")","v":0}]
[null,7,4,0,"  ",null,null,"Other",{"$f":"COUNTIF(E78:E86,\"Other\")","v":0}]
[null,8,3,0,"  "]
[null,9,5,0,"  "]
[]
[null,{"$f":"V4","v":"2025-05-16"}]
[null,{"$f":"T7","v":10},4,0,{"$f":"IF(D89<>0,IF((D89-C89)=-1,\"Birdie\",IF((D89-C89)=-2,\"Eagle\",IF((D89-C89)=0,\"Par\",IF((D89-C89)=1,\"bogey\",IF((D89-C89)=2,\"Double bogey\",\"Other\"))))),\"  \")","v":"  "},null,null,"Count"]
[null,11,4,0,"  ",null,null,"Eagle",{"$f":"COUNTIF(E89:E97,\"Eagle\")","v":0}]
[null,12,3,0,"  ",null,null,"Birdie",{"$f":"COUNTIF(E89:E97,\"Birdie\")","v":0}]
[null,13,4,0,"  ",null,null,"Par",{"$f":"COUNTIF(E89:E97,\"Par\")","v":0}]
[null,14,4,0,"  ",null,null,"bogey",{"$f":"COUNTIF(E89:E97,\"bogey\")","v":0}]
[null,15,3,0,"  ",null,null,"Double bogey",{"$f":"COUNTIF(E89:E97,\"Double bogey\")","v":0}]
[null,16,5,0,"  ",null,null,"Other",{"$f":"COUNTIF(E89:E97,\"Other\")","v":0}]
[null,17,4,0,"  "]
[null,18,5,0,"  "]
[]
[null,{"$f":"AB4","v":"2025-05-23"}]
[null,{"$f":"Z7","v":1},4,0,{"$f":"IF(D100<>0,IF((D100-C100)=-1,\"Birdie\",IF((D100-C100)=-2,\"Eagle\",IF((D100-C100)=0,\"Par\",IF((D100-C100)=1,\"bogey\",IF((D100-C100)=2,\"Double bogey\",\"Other\"))))),\"  \")","v":"  "},null,null,"Count"]
[null,2,4,0,"  ",null,null,"Eagle",{"$f":"COUNTIF(E100:E108,\"Eagle\")","v":0}]
[null,3,4,0,"  ",null,null,"Birdie",{"$f":"COUNTIF(E100:E108,\"Birdie\")","v":0}]
[null,4,4,0,"  ",null,null,"Par",{"$f":"COUNTIF(E100:E108,\"Par\")","v":0}]
[null,5,3,0,"  ",null,null,"bogey",{"$f":"COUNTIF(E100:E108,\"bogey\")","v":0}]
[null,6,4,0,"  ",null,null,"Double bogey",{"$f":"COUNTIF(E100:E108,\"Double bogey\")","v":0}]
[null,7,4,0,"  ",null,null,"Other",{"$f":"COUNTIF(E100:E108,\"Other\")","v":0}]
[null,8,3,0,"  "]
[null,9,5,0,"  "]
[]
[null,{"$f":"AH4","v":"2025-05-30"}]
[null,{"$f":"AF7","v":10},4,0,{"$f":"IF(D111<>0,IF((D111-C111)=-1,\"Birdie\",IF((D111-C111)=-2,\"Eagle\",IF((D111-C111)=0,\"Par\",IF((D111-C111)=1,\"bogey\",IF((D111-C111)=2,\"Double bogey\",\"Other\"))))),\"  \")","v":"  "},null,null,"Count"]
[null,11,4,0,"  ",null,null,"Eagle",{"$f":"COUNTIF(E111:E119,\"Eagle\")","v":0}]
[null,12,3,0,"  ",null,null,"Birdie",{"$f":"COUNTIF(E111:E119,\"Birdie\")","v":0}]
[null,13,4,0,"  ",null,null,"Par",{"$f":"COUNTIF(E111:E119,\"Par\")","v":0}]
[null,14,4,0,"  ",null,null,"bogey",{"$f":"COUNTIF(E111:E119,\"bogey\")","v":0}]
[null,15,3,0,"  ",null,null,"Double bogey",{"$f":"COUNTIF(E111:E119,\"Double bogey\")","v":0}]
[null,16,5,0,"  ",null,null,"Other",{"$f":"COUNTIF(E111:E119,\"Other\")","v":0}]
[null,17,4,0,"  "]
[null,18,5,0,"  "]
[]
[null,{"$f":"AN4","v":"2025-06-06"}]
[null,{"$f":"AL7","v":1},4,0,{"$f":"IF(D122<>0,IF((D122-C122)=-1,\"Birdie\",IF((D122-C122)=-2,\"Eagle\",IF((D122-C122)=0,\"Par\",IF((D122-C122)=1,\"bogey\",IF((D122-C122)=2,\"Double bogey\",\"Other\"))))),\"  \")","v":"  "},null,null,"Count"]
[null,2,4,0,"  ",null,null,"Eagle",{"$f":"COUNTIF(E122:E130,\"Eagle\")","v":0}]
[null,3,4,0,"  ",null,null,"Birdie",{"$f":"COUNTIF(E122:E130,\"Birdie\")","v":0}]
[null,4,4,0,"  ",null,null,"Par",{"$f":"COUNTIF(E122:E130,\"Par\")","v":0}]
[null,5,3,0,"  ",null,null,"bogey",{"$f":"COUNTIF(E122:E130,\"bogey\")","v":0}]
[null,6,4,0,"  ",null,null,"Double bogey",{"$f":"COUNTIF(E122:E130,\"Double bogey\")","v":0}]
[null,7,4,0,"  ",null,null,"Other",{"$f":"COUNTIF(E122:E130,\"Other\")","v":0}]
[null,8,3,0,"  "]
[null,9,5,0,"  "]
[]
[null,{"$f":"AT4","v":"2025-06-13"}]
[null,{"$f":"AR7","v":10},4,0,{"$f":"IF(D133<>0,IF((D133-C133)=-1,\"Birdie\",IF((D133-C133)=-2,\"Eagle\",IF((D133-C133)=0,\"Par\",IF((D133-C133)=1,\"bogey\",IF((D133-C133)=2,\"Double bogey\",\"Other\"))))),\"  \")","v":"  "},null,null,"Count"]
[null,11,4,0,"  ",null,null,"Eagle",{"$f":"COUNTIF(E133:E141,\"Eagle\")","v":0}]
[null,12,3,0,"  ",null,null,"Birdie",{"$f":"COUNTIF(E133:E141,\"Birdie\")","v":0}]
[null,13,4,0,"  ",null,null,"Par",{"$f":"COUNTIF(E133:E141,\"Par\")","v":0}]
[null,14,4,0,"  ",null,null,"bogey",{"$f":"COUNTIF(E133:E141,\"bogey\")","v":0}]
[null,15,3,0,"  ",null,null,"Double bogey",{"$f":"COUNTIF(E133:E141,\"Double bogey\")","v":0}]
[null,16,5,0,"  ",null,null,"Other",{"$f":"COUNTIF(E133:E141,\"Other\")","v":0}]
[null,17,4,0,"  "]
[null,18,5,0,"  "]
[]
[null,{"$f":"AZ4","v":"2025-06-27"}]
[null,{"$f":"AX7","v":10},4,0,{"$f":"IF(D144<>0,IF((D144-C144)=-1,\"Birdie\",IF((D144-C144)=-2,\"Eagle\",IF((D144-C144)=0,\"Par\",IF((D144-C144)=1,\"bogey\",IF((D144-C144)=2,\"Double bogey\",\"Other\"))))),\"  \")","v":"  "},null,null,"Count"]
[null,11,4,0,"  ",null,null,"Eagle",{"$f":"COUNTIF(E144:E152,\"Eagle\")","v":0}]
[null,12,3,0,"  ",null,null,"Birdie",{"$f":"COUNTIF(E144:E152,\"Birdie\")","v":0}]
[null,13,4,0,"  ",null,null,"Par",{"$f":"COUNTIF(E144:E152,\"Par\")","v":0}]
[null,14,4,0,"  ",null,null,"bogey",{"$f":"COUNTIF(E144:E152,\"bogey\")","v":0}]
[null,15,3,0,"  ",null,null,"Double bogey",{"$f":"COUNTIF(E144:E152,\"Double bogey\")","v":0}]
[null,16,5,0,"  ",null,null,"Other",{"$f":"COUNTIF(E144:E152,\"Other\")","v":0}]
[null,17,4,0,"  "]
[null,18,5,0,"  "]
[]
[null,{"$f":"BF4","v":"2025-07-04"}]
[null,{"$f":"BD7","v":10},4,0,{"$f":"IF(D155<>0,IF((D155-C155)=-1,\"Birdie\",IF((D155-C155)=-2,\"Eagle\",IF((D155-C155)=0,\"Par\",IF((D155-C155)=1,\"bogey\",IF((D155-C155)=2,\"Double bogey\",\"Other\"))))),\"  \")","v":"  "},null,null,"Count"]
[null,11,4,0,"  ",null,null,"Eagle",{"$f":"COUNTIF(E155:E163,\"Eagle\")","v":0}]
[null,12,3,0,"  ",null,null,"Birdie",{"$f":"COUNTIF(E155:E163,\"Birdie\")","v":0}]
[null,13,4,0,"  ",null,null,"Par",{"$f":"COUNTIF(E155:E163,\"Par\")","v":0}]
[null,14,4,0,"  ",null,null,"bogey",{"$f":"COUNTIF(E155:E163,\"bogey\")","v":0}]
[null,15,3,0,"  ",null,null,"Double bogey",{"$f":"COUNTIF(E155:E163,\"Double bogey\")","v":0}]
[null,16,5,0,"  ",null,null,"Other",{"$f":"COUNTIF(E155:E163,\"Other\")","v":0}]
[null,17,4,0,"  "]
[null,18,5,0,"  "]
[]
[null,{"$f":"BL4","v":"2025-07-18"}]
[null,{"$f":"BJ7","v":10},4,0,{"$f":"IF(D166<>0,IF((D166-C166)=-1,\"Birdie\",IF((D166-C166)=-2,\"Eagle\",IF((D166-C166)=0,\"Par\",IF((D166-C166)=1,\"bogey\",IF((D166-C166)=2,\"Double bogey\",\"Other\"))))),\"  \")","v":"  "},null,null,"Count"]
[null,11,4,0,"  ",null,null,"Eagle",{"$f":"COUNTIF(E166:E174,\"Eagle\")","v":0}]
[null,12,3,0,"  ",null,null,"Birdie",{"$f":"COUNTIF(E166:E174,\"Birdie\")","v":0}]
[null,13,4,0,"  ",null,null,"Par",{"$f":"COUNTIF(E166:E174,\"Par\")","v":0}]
[null,14,4,0,"  ",null,null,"bogey",{"$f":"COUNTIF(E166:E174,\"bogey\")","v":0}]
[null,15,3,0,"  ",null,null,"Double bogey",{"$f":"COUNTIF(E166:E174,\"Double bogey\")","v":0}]
[null,16,5,0,"  ",null,null,"Other",{"$f":"COUNTIF(E166:E174,\"Other\")","v":0}]
[null,17,4,0,"  "]
[null,18,5,0,"  "]
[]
[null,{"$f":"BR4","v":"2025-07-25"}]
[null,{"$f":"BP7","v":1},4,0,{"$f":"IF(D177<>0,IF((D177-C177)=-1,\"Birdie\",IF((D177-C177)=-2,\"Eagle\",IF((D177-C177)=0,\"Par\",IF((D177-C177)=1,\"bogey\",IF((D177-C177)=2,\"Double bogey\",\"Other\"))))),\"  \")","v":"  "},null,null,"Count"]
[null,2,4,0,"  ",null,null,"Eagle",{"$f":"COUNTIF(E177:E185,\"Eagle\")","v":0}]
[null,3,4,0,"  ",null,null,"Birdie",{"$f":"COUNTIF(E177:E185,\"Birdie\")","v":0}]
[null,4,4,0,"  ",null,null,"Par",{"$f":"COUNTIF(E177:E185,\"Par\")","v":0}]
[null,5,3,0,"  ",null,null,"bogey",{"$f":"COUNTIF(E177:E185,\"bogey\")","v":0}]
[null,6,4,0,"  ",null,null,"Double bogey",{"$f":"COUNTIF(E177:E185,\"Double bogey\")","v":0}]
[null,7,4,0,"  ",null,null,"Other",{"$f":"COUNTIF(E177:E185,\"Other\")","v":0}]
[null,8,3,0,"  "]
[null,9,5,0,"  "]
[]
[null,{"$f":"BX4","v":"2025-08-01"}]
[null,{"$f":"BV7","v":10},4,0,{"$f":"IF(D188<>0,IF((D188-C188)=-1,\"Birdie\",IF((D188-C188)=-2,\"Eagle\",IF((D188-C188)=0,\"Par\",IF((D188-C188)=1,\"bogey\",IF((D188-C188)=2,\"Double bogey\",\"Other\"))))),\"  \")","v":"  "},null,null,"Count"]
[null,11,4,0,"  ",null,null,"Eagle",{"$f":"COUNTIF(E188:E196,\"Eagle\")","v":0}]
[null,12,3,0,"  ",null,null,"Birdie",{"$f":"COUNTIF(E188:E196,\"Birdie\")","v":0}]
[null,13,4,0,"  ",null,null,"Par",{"$f":"COUNTIF(E188:E196,\"Par\")","v":0}]
[null,14,4,0,"  ",null,null,"bogey",{"$f":"COUNTIF(E188:E196,\"bogey\")","v":0}]
[null,15,3,0,"  ",null,null,"Double bogey",{"$f":"COUNTIF(E188:E196,\"Double bogey\")","v":0}]
[null,16,5,0,"  ",null,null,"Other",{"$f":"COUNTIF(E188:E196,\"Other\")","v":0}]
[null,17,4,0,"  "]
[null,18,5,0,"  "]
[]
[null,{"$f":"CD4","v":"2025-08-08"}]
[null,{"$f":"CB7","v":1},4,0,{"$f":"IF(D199<>0,IF((D199-C199)=-1,\"Birdie\",IF((D199-C199)=-2,\"Eagle\",IF((D199-C199)=0,\"Par\",IF((D199-C199)=1,\"bogey\",IF((D199-C199)=2,\"Double bogey\",\"Other\"))))),\"  \")","v":"  "},null,null,"Count"]
[null,2,4,0,"  ",null,null,"Eagle",{"$f":"COUNTIF(E199:E207,\"Eagle\")","v":0}]
[null,3,4,0,"  ",null,null,"Birdie",{"$f":"COUNTIF(E199:E207,\"Birdie\")","v":0}]
[null,4,4,0,"  ",null,null,"Par",{"$f":"COUNTIF(E199:E207,\"Par\")","v":0}]
[null,5,3,0,"  ",null,null,"bogey",{"$f":"COUNTIF(E199:E207,\"bogey\")","v":0}]
[null,6,4,0,"  ",null,null,"Double bogey",{"$f":"COUNTIF(E199:E207,\"Double bogey\")","v":0}]
[null,7,4,0,"  ",null,null,"Other",{"$f":"COUNTIF(E199:E207,\"Other\")","v":0}]
[null,8,3,0,"  "]
[null,9,5,0,"  "]
[]
[null,{"$f":"CJ4","v":"2025-08-15"}]
[null,{"$f":"CH7","v":10},4,0,{"$f":"IF(D210<>0,IF((D210-C210)=-1,\"Birdie\",IF((D210-C210)=-2,\"Eagle\",IF((D210-C210)=0,\"Par\",IF((D210-C210)=1,\"bogey\",IF((D210-C210)=2,\"Double bogey\",\"Other\"))))),\"  \")","v":"  "},null,null,"Count"]
[null,11,4,0,"  ",null,null,"Eagle",{"$f":"COUNTIF(E210:E218,\"Eagle\")","v":0}]
[null,12,3,0,"  ",null,null,"Birdie",{"$f":"COUNTIF(E210:E218,\"Birdie\")","v":0}]
[null,13,4,0,"  ",null,null,"Par",{"$f":"COUNTIF(E210:E218,\"Par\")","v":0}]
[null,14,4,0,"  ",null,null,"bogey",{"$f":"COUNTIF(E210:E218,\"bogey\")","v":0}]
[null,15,3,0,"  ",null,null,"Double bogey",{"$f":"COUNTIF(E210:E218,\"Double bogey\")","v":0}]
[null,16,5,0,"  ",null,null,"Other",{"$f":"COUNTIF(E210:E218,\"Other\")","v":0}]
[null,17,4,0,"  "]
[null,18,5,0,"  "]

{"sheet":"Mohsinger_T","index":16,"n_rows":218,"n_cols":90,"rows_kept":218,"cut":false,"hidden":false,"merged":[]}
["Tom Mohsinger"]
[]
[]
[null,null,"Date:",{"$f":"VLOOKUP(C5,Week,2)","v":"2025-04-25"},null,null,null,null,"Date:",{"$f":"VLOOKUP(I5,Week,2)","v":"2025-05-02"},null,null,null,null,"Date:",{"$f":"VLOOKUP(O5,Week,2)","v":"2025-05-09"},null,null,null,null,"Date:",{"$f":"VLOOKUP(U5,Week,2)","v":"2025-05-16"},null,null,null,null,"Date:",{"$f":"VLOOKUP(AA5,Week,2)","v":"2025-05-23"},null,null,null,null,"Date:",{"$f":"VLOOKUP(AG5,Week,2)","v":"2025-05-30"},null,null,null,null,"Date:",{"$f":"VLOOKUP(AM5,Week,2)","v":"2025-06-06"},null,null,null,null,"Date:",{"$f":"VLOOKUP(AS5,Week,2)","v":"2025-06-13"},null,null,null,null,"Date:",{"$f":"VLOOKUP(AY5,Week,2)","v":"2025-06-27"},null,null,null,null,"Date:",{"$f":"VLOOKUP(BE5,Week,2)","v":"2025-07-04"},null,null,null,null,"Date:",{"$f":"VLOOKUP(BK5,Week,2)","v":"2025-07-18"},null,null,null,null,"Date:",{"$f":"VLOOKUP(BQ5,Week,2)","v":"2025-07-25"},null,null,null,null,"Date:",{"$f":"VLOOKUP(BW5,Week,2)","v":"2025-08-01"},null,null,null,null,"Date:",{"$f":"VLOOKUP(CC5,Week,2)","v":"2025-08-08"},null,null,null,null,"Date:",{"$f":"VLOOKUP(CI5,Week,2)","v":"2025-08-15"}]
[null,"Week",1,null,null,null,null,"Week",2,null,null,null,null,"Week",3,null,null,null,null,"Week",4,null,null,null,null,"Week",5,null,null,null,null,"Week",6,null,null,null,null,"Week",7,null,null,null,null,"Week",8,null,null,null,null,"Week",9,null,null,null,null,"Week",10,null,null,null,null,"Week",11,null,null,null,null,"Week",12,null,null,null,null,"Week",13,null,null,null,null,"Week",14,null,null,null,null,"Week",15]
[null,"Hole #","Par","Score","Net","Win Hole",null,"Hole #","Par","Score","Net","Win Hole",null,"Hole #","Par","Score","Net","Win Hole",null,"Hole #","Par","Score","Net","Win Hole",null,"Hole #","Par","Score","Net","Win Hole",null,"Hole #","Par","Score","Net","Win Hole",null,"Hole #","Par","Score","Net","Win Hole",null,"Hole #","Par","Score","Net","Win Hole",null,"Hole #","Par","Score","Net","Win Hole",null,"Hole #","Par","Score","Net","Win Hole",null,"Hole #","Par","Score","Net","Win Hole",null,"Hole #","Par","Score","Net","Win Hole",null,"Hole #","Par","Score","Net","Win Hole",null,"Hole #","Par","Score","Net","Win Hole",null,"Hole #","Par","Score","Net","Win Hole"]
[null,{"$f":"VLOOKUP(C5,Week,6)","v":1},{"$f":"VLOOKUP(B7,Holes,2)","v":4},null,{"$f":"IF((D7-C7)>3,C7+3,D7)","v":0},null,null,{"$f":"VLOOKUP(I5,Week,6)","v":10},{"$f":"VLOOKUP(H7,Holes,2)","v":4},null,{"$f":"IF((J7-I7)>3,I7+3,J7)","v":0},null,null,{"$f":"VLOOKUP(O5,Week,6)","v":1},{"$f":"VLOOKUP(N7,Holes,2)","v":4},null,{"$f":"IF((P7-O7)>3,O7+3,P7)","v":0},null,null,{"$f":"VLOOKUP(U5,Week,6)","v":10},{"$f":"VLOOKUP(T7,Holes,2)","v":4},null,{"$f":"IF((V7-U7)>3,U7+3,V7)","v":0},null,null,{"$f":"VLOOKUP(AA5,Week,6)","v":1},{"$f":"VLOOKUP(Z7,Holes,2)","v":4},null,{"$f":"IF((AB7-AA7)>3,AA7+3,AB7)","v":0},null,null,{"$f":"VLOOKUP(AG5,Week,6)","v":10},{"$f":"VLOOKUP(AF7,Holes,2)","v":4},null,{"$f":"IF((AH7-AG7)>3,AG7+3,AH7)","v":0},null,null,{"$f":"VLOOKUP(AM5,Week,6)","v":1},{"$f":"VLOOKUP(AL7,Holes,2)","v":4},null,{"$f":"IF((AN7-AM7)>3,AM7+3,AN7)","v":0},null,null,{"$f":"VLOOKUP(AS5,Week,6)","v":10},{"$f":"VLOOKUP(AR7,Holes,2)","v":4},null,{"$f":"IF((AT7-AS7)>3,AS7+3,AT7)","v":0},null,null,{"$f":"VLOOKUP(AY5,Week,6)","v":10},{"$f":"VLOOKUP(AX7,Holes,2)","v":4},null,{"$f":"IF((AZ7-AY7)>3,AY7+3,AZ7)","v":0},null,null,{"$f":"VLOOKUP(BE5,Week,6)","v":10},{"$f":"VLOOKUP(BD7,Holes,2)","v":4},null,{"$f":"IF((BF7-BE7)>3,BE7+3,BF7)","v":0},null,null,{"$f":"VLOOKUP(BK5,Week,6)","v":10},{"$f":"VLOOKUP(BJ7,Holes,2)","v":4},null,{"$f":"IF((BL7-BK7)>3,BK7+3,BL7)","v":0},null,null,{"$f":"VLOOKUP(BQ5,Week,6)","v":1},{"$f":"VLOOKUP(BP7,Holes,2)","v":4},null,{"$f":"IF((BR7-BQ7)>3,BQ7+3,BR7)","v":0},null,null,{"$f":"VLOOKUP(BW5,Week,6)","v":10},{"$f":"VLOOKUP(BV7,Holes,2)","v":4},null,{"$f":"IF((BX7-BW7)>3,BW7+3,BX7)","v":0},null,null,{"$f":"VLOOKUP(CC5,Week,6)","v":1},{"$f":"VLOOKUP(CB7,Holes,2)","v":4},null,{"$f":"IF((CD7-CC7)>3,CC7+3,CD7)","v":0},null,null,{"$f":"VLOOKUP(CI5,Week,6)","v":10},{"$f":"VLOOKUP(CH7,Holes,2)","v":4},null,{"$f":"IF((CJ7-CI7)>3,CI7+3,CJ7)","v":0}]
[null,{"$f":"+B7+1","v":2},4,null,0,null,null,{"$f":"+H7+1","v":11},4,null,0,null,null,{"$f":"+N7+1","v":2},4,null,0,null,null,{"$f":"+T7+1","v":11},4,null,0,null,null,{"$f":"+Z7+1","v":2},4,null,0,null,null,{"$f":"+AF7+1","v":11},4,null,0,null,null,{"$f":"+AL7+1","v":2},4,null,0,null,null,{"$f":"+AR7+1","v":11},4,null,0,null,null,{"$f":"+AX7+1","v":11},4,null,0,null,null,{"$f":"+BD7+1","v":11},4,null,0,null,null,{"$f":"+BJ7+1","v":11},4,null,0,null,null,{"$f":"+BP7+1","v":2},4,null,0,null,null,{"$f":"+BV7+1","v":11},4,null,0,null,null,{"$f":"+CB7+1","v":2},4,null,0,null,null,{"$f":"+CH7+1","v":11},4,null,0]
[null,3,4,null,0,null,null,12,3,null,0,null,null,3,4,null,0,null,null,12,3,null,0,null,null,3,4,null,0,null,null,12,3,null,0,null,null,3,4,null,0,null,null,12,3,null,0,null,null,12,3,null,0,null,null,12,3,null,0,null,null,12,3,null,0,null,null,3,4,null,0,null,null,12,3,null,0,null,null,3,4,null,0,null,null,12,3,null,0]
[null,4,4,null,0,null,null,13,4,null,0,null,null,4,4,null,0,null,null,13,4,null,0,null,null,4,4,null,0,null,null,13,4,null,0,null,null,4,4,null,0,null,null,13,4,null,0,null,null,13,4,null,0,null,null,13,4,null,0,null,null,13,4,null,0,null,null,4,4,null,0,null,null,13,4,null,0,null,null,4,4,null,0,null,null,13,4,null,0]
[null,5,3,null,0,null,null,14,4,null,0,null,null,5,3,null,0,null,null,14,4,null,0,null,null,5,3,null,0,null,null,14,4,null,0,null,null,5,3,null,0,null,null,14,4,null,0,null,null,14,4,null,0,null,null,14,4,null,0,null,null,14,4,null,0,null,null,5,3,null,0,null,null,14,4,null,0,null,null,5,3,null,0,null,null,14,4,null,0]
[null,6,4,null,0,null,null,15,3,null,0,null,null,6,4,null,0,null,null,15,3,null,0,null,null,6,4,null,0,null,null,15,3,null,0,null,null,6,4,null,0,null,null,15,3,null,0,null,null,15,3,null,0,null,null,15,3,null,0,null,null,15,3,null,0,null,null,6,4,null,0,null,null,15,3,null,0,null,null,6,4,null,0,null,null,15,3,null,0]
[null,7,4,null,0,null,null,16,5,null,0,null,null,7,4,null,0,null,null,16,5,null,0,null,null,7,4,null,0,null,null,16,5,null,0,null,null,7,4,null,0,null,null,16,5,null,0,null,null,16,5,null,0,null,null,16,5,null,0,null,null,16,5,null,0,null,null,7,4,null,0,null,null,16,5,null,0,null,null,7,4,null,0,null,null,16,5,null,0]
[null,8,3,null,0,null,null,17,4,null,0,null,null,8,3,null,0,null,null,17,4,null,0,null,null,8,3,null,0,null,null,17,4,null,0,null,null,8,3,null,0,null,null,17,4,null,0,null,null,17,4,null,0,null,null,17,4,null,0,null,null,17,4,null,0,null,null,8,3,null,0,null,null,17,4,null,0,null,null,8,3,null,0,null,null,17,4,null,0]
[null,9,5,null,0,null,null,18,5,null,0,null,null,9,5,null,0,null,null,18,5,null,0,null,null,9,5,null,0,null,null,18,5,null,0,null,null,9,5,null,0,null,null,18,5,null,0,null,null,18,5,null,0,null,null,18,5,null,0,null,null,18,5,null,0,null,null,9,5,null,0,null,null,18,5,null,0,null,null,9,5,null,0,null,null,18,5,null,0]
[null,"Total",{"$f":"SUM(C7:C15)","v":35},{"$f":"SUM(D7:D15)","v":0},{"$f":"SUM(E7:E15)","v":0},{"$f":"SUM(F7:F15)","v":0},null,"Total",{"$f":"SUM(I7:I15)","v":36},{"$f":"SUM(J7:J15)","v":0},{"$f":"SUM(K7:K15)","v":0},{"$f":"SUM(L7:L15)","v":0},null,"Total",{"$f":"SUM(O7:O15)","v":35},{"$f":"SUM(P7:P15)","v":0},{"$f":"SUM(Q7:Q15)","v":0},{"$f":"SUM(R7:R15)","v":0},null,"Total",{"$f":"SUM(U7:U15)","v":36},{"$f":"SUM(V7:V15)","v":0},{"$f":"SUM(W7:W15)","v":0},{"$f":"SUM(X7:X15)","v":0},null,"Total",{"$f":"SUM(AA7:AA15)","v":35},{"$f":"SUM(AB7:AB15)","v":0},{"$f":"SUM(AC7:AC15)","v":0},{"$f":"SUM(AD7:AD15)","v":0},null,"Total",{"$f":"SUM(AG7:AG15)","v":36},{"$f":"SUM(AH7:AH15)","v":0},{"$f":"SUM(AI7:AI15)","v":0},{"$f":"SUM(AJ7:AJ15)","v":0},null,"Total",{"$f":"SUM(AM7:AM15)","v":35},{"$f":"SUM(AN7:AN15)","v":0},{"$f":"SUM(AO7:AO15)","v":0},{"$f":"SUM(AP7:AP15)","v":0},null,"Total",{"$f":"SUM(AS7:AS15)","v":36},{"$f":"SUM(AT7:AT15)","v":0},{"$f":"SUM(AU7:AU15)","v":0},{"$f":"SUM(AV7:AV15)","v":0},null,"Total",{"$f":"SUM(AY7:AY15)","v":36},{"$f":"SUM(AZ7:AZ15)","v":0},{"$f":"SUM(BA7:BA15)","v":0},{"$f":"SUM(BB7:BB15)","v":0},null,"Total",{"$f":"SUM(BE7:BE15)","v":36},{"$f":"SUM(BF7:BF15)","v":0},{"$f":"SUM(BG7:BG15)","v":0},{"$f":"SUM(BH7:BH15)","v":0},null,"Total",{"$f":"SUM(BK7:BK15)","v":36},{"$f":"SUM(BL7:BL15)","v":0},{"$f":"SUM(BM7:BM15)","v":0},{"$f":"SUM(BN7:BN15)","v":0},null,"Total",{"$f":"SUM(BQ7:BQ15)","v":35},{"$f":"SUM(BR7:BR15)","v":0},{"$f":"SUM(BS7:BS15)","v":0},{"$f":"SUM(BT7:BT15)","v":0},null,"Total",{"$f":"SUM(BW7:BW15)","v":36},{"$f":"SUM(BX7:BX15)","v":0},{"$f":"SUM(BY7:BY15)","v":0},{"$f":"SUM(BZ7:BZ15)","v":0},null,"Total",{"$f":"SUM(CC7:CC15)","v":35},{"$f":"SUM(CD7:CD15)","v":0},{"$f":"SUM(CE7:CE15)","v":0},{"$f":"SUM(CF7:CF15)","v":0},null,"Total",{"$f":"SUM(CI7:CI15)","v":36},{"$f":"SUM(CJ7:CJ15)","v":0},{"$f":"SUM(CK7:CK15)","v":0},{"$f":"SUM(CL7:CL15)","v":0}]
[]
[null,null,null,null,"Low Net",null,null,null,null,null,"Low Net",0,null,null,null,null,"Low Net",0,null,null,null,null,"Low Net",null,null,null,null,null,"Low Net",null,null,null,null,null,"Low Net",null,null,null,null,null,"Low Net",null,null,null,null,null,"Low Net",null,null,null,null,null,"Low Net",null,null,null,null,null,"Low Net",null,null,null,null,null,"Low Net",null,null,null,null,null,"Low Net",null,null,null,null,null,"Low Net",null,null,null,null,null,"Low Net",null,null,null,null,null,"Low Net"]
[]
[null,null,null,null,"Total Points",{"$f":"SUM(F16:F19)","v":0},null,null,null,null,"Total Points",{"$f":"SUM(L16:L19)","v":0},null,null,null,null,"Total Points",{"$f":"SUM(R16:R19)","v":0},null,null,null,null,"Total Points",{"$f":"SUM(X16:X19)","v":0},null,null,null,null,"Total Points",{"$f":"SUM(AD16:AD19)","v":0},null,null,null,null,"Total Points",{"$f":"SUM(AJ16:AJ19)","v":0},null,null,null,null,"Total Points",{"$f":"SUM(AP16:AP19)","v":0},null,null,null,null,"Total Points",{"$f":"SUM(AV16:AV19)","v":0},null,null,null,null,"Total Points",{"$f":"SUM(BB16:BB19)","v":0},null,null,null,null,"Total Points",{"$f":"SUM(BH16:BH19)","v":0},null,null,null,null,"Total Points",{"$f":"SUM(BN16:BN19)","v":0},null,null,null,null,"Total Points",{"$f":"SUM(BT16:BT19)","v":0},null,null,null,null,"Total Points",{"$f":"SUM(BZ16:BZ19)","v":0},null,null,null,null,"Total Points",{"$f":"SUM(CF16:CF19)","v":0},null,null,null,null,"Total Points",{"$f":"SUM(CL16:CL19)","v":0}]
[]
[null,null,null,null,"Handicap",{"$f":"IF(D16=0,0,E16-C16)","v":0},null,null,null,null,"Handicap",{"$f":"IF(J16=0,0,K16-I16)","v":0},null,null,null,null,"Handicap",{"$f":"IF(P16=0,0,Q16-O16)","v":0},null,null,null,null,"Handicap",{"$f":"IF(V16=0,0,W16-U16)","v":0},null,null,null,null,"Handicap",{"$f":"IF(AB16=0,0,AC16-AA16)","v":0},null,null,null,null,"Handicap",{"$f":"IF(AH16=0,0,AI16-AG16)","v":0},null,null,null,null,"Handicap",{"$f":"IF(AN16=0,0,AO16-AM16)","v":0},null,null,null,null,"Handicap",{"$f":"IF(AT16=0,0,AU16-AS16)","v":0},null,null,null,null,"Handicap",{"$f":"IF(AZ16=0,0,BA16-AY16)","v":0},null,null,null,null,"Handicap",{"$f":"IF(BF16=0,0,BG16-BE16)","v":0},null,null,null,null,"Handicap",{"$f":"IF(BL16=0,0,BM16-BK16)","v":0},null,null,null,null,"Handicap",{"$f":"IF(BR16=0,0,BS16-BQ16)","v":0},null,null,null,null,"Handicap",{"$f":"IF(BX16=0,0,BY16-BW16)","v":0},null,null,null,null,"Handicap",{"$f":"IF(CD16=0,0,CE16-CC16)","v":0},null,null,null,null,"Handicap",{"$f":"IF(CJ16=0,0,CK16-CI16)","v":0}]
[]
[null,null,null,null,null,{"$f":"IF(D16<>0,IF(F16>4.5,\"W\",IF(F16=4.5,\"T\",IF(F16<4.5,\"L\"))),0)","v":0},null,null,null,null,null,{"$f":"IF(J16<>0,IF(L16>4.5,\"W\",IF(L16=4.5,\"T\",IF(L16<4.5,\"L\"))),0)","v":0},null,null,null,null,null,{"$f":"IF(P16<>0,IF(R16>4.5,\"W\",IF(R16=4.5,\"T\",IF(R16<4.5,\"L\"))),0)","v":0},null,null,null,null,null,{"$f":"IF(V16<>0,IF(X16>4.5,\"W\",IF(X16=4.5,\"T\",IF(X16<4.5,\"L\"))),0)","v":0},null,null,null,null,null,{"$f":"IF(AB16<>0,IF(AD16>4.5,\"W\",IF(AD16=4.5,\"T\",IF(AD16<4.5,\"L\"))),0)","v":0},null,null,null,null,null,{"$f":"IF(AH16<>0,IF(AJ16>4.5,\"W\",IF(AJ16=4.5,\"T\",IF(AJ16<4.5,\"L\"))),0)","v":0},null,null,null,null,null,{"$f":"IF(AN16<>0,IF(AP16>4.5,\"W\",IF(AP16=4.5,\"T\",IF(AP16<4.5,\"L\"))),0)","v":0},null,null,null,null,null,{"$f":"IF(AT16<>0,IF(AV16>4.5,\"W\",IF(AV16=4.5,\"T\",IF(AV16<4.5,\"L\"))),0)","v":0},null,null,null,null,null,{"$f":"IF(AZ16<>0,IF(BB16>4.5,\"W\",IF(BB16=4.5,\"T\",IF(BB16<4.5,\"L\"))),0)","v":0},null,null,null,null,null,{"$f":"IF(BF16<>0,IF(BH16>4.5,\"W\",IF(BH16=4.5,\"T\",IF(BH16<4.5,\"L\"))),0)","v":0},null,null,null,null,null,{"$f":"IF(BL16<>0,IF(BN16>4.5,\"W\",IF(BN16=4.5,\"T\",IF(BN16<4.5,\"L\"))),0)","v":0},null,null,null,null,null,{"$f":"IF(BR16<>0,IF(BT16>4.5,\"W\",IF(BT16=4.5,\"T\",IF(BT16<4.5,\"L\"))),0)","v":0},null,null,null,null,null,{"$f":"IF(BX16<>0,IF(BZ16>4.5,\"W\",IF(BZ16=4.5,\"T\",IF(BZ16<4.5,\"L\"))),0)","v":0},null,null,null,null,null,{"$f":"IF(CD16<>0,IF(CF16>4.5,\"W\",IF(CF16=4.5,\"T\",IF(CF16<4.5,\"L\"))),0)","v":0},null,null,null,null,null,{"$f":"IF(CJ16<>0,IF(CL16>4.5,\"W\",IF(CL16=4.5,\"T\",IF(CL16<4.5,\"L\"))),0)","v":0}]
[]
[null,"Summary"]
[null,null,null,"Adj",null,"Adj",null,null,null,"Avg Score"]
[null,null,"Points","Points","Matches","Matches",null,null,"Hole #","by Hole","Best","Worst"]
[null,"Week #1",{"$f":"F20","v":0},{"$f":"C29","v":0},{"$f":"IF(D16>0,1,0)","v":0},{"$f":"E29","v":0},null,null,1,{"$f":"IFERROR(AVERAGE(D7),0)","v":0},{"$f":"IFERROR(MIN(J7,V7,AH7,AT7,BF7,BR7,BX7,CJ7),0)","v":0},{"$f":"IFERROR(MAX(J7,V7,AH7,AT7,BF7,BR7,BX7,CJ7),0)","v":0}]
[null,"Week #2",{"$f":"L20","v":0},0,{"$f":"IF(J16>0,1,0)","v":0},0,null,null,2,{"$f":"IFERROR(AVERAGE(D8),0)","v":0},{"$f":"IFERROR(MIN(J8,V8,AH8,AT8,BF8,BR8,BX8,CJ8),0)","v":0},{"$f":"IFERROR(MAX(J8,V8,AH8,AT8,BF8,BR8,BX8,CJ8),0)","v":0}]
[null,"Week #3",{"$f":"R20","v":0},0,{"$f":"IF(P16>0,1,0)","v":0},0,null,null,3,0,0,0]
[null,"Week #4",{"$f":"X20","v":0},0,{"$f":"IF(V16>0,1,0)","v":0},0,null,null,4,0,0,0]
[null,"Week #5",{"$f":"AD20","v":0},0,{"$f":"IF(AB16>0,1,0)","v":0},0,null,null,5,0,0,0]
[null,"Week #6",{"$f":"AJ20","v":0},0,{"$f":"IF(AH16>0,1,0)","v":0},0,null,null,6,0,0,0]
[null,"Week #7",{"$f":"AP20","v":0},0,{"$f":"IF(AN16>0,1,0)","v":0},0,null,null,7,0,0,0]
[null,"Week #8",{"$f":"AV20","v":0},0,{"$f":"IF(AT16>0,1,0)","v":0},0,null,null,8,0,0,0]
[null,"Week #9",{"$f":"BB20","v":0},0,{"$f":"IF(AZ16>0,1,0)","v":0},0,null,null,9,0,0,0]
[null,"Week #10",{"$f":"BH20","v":0},0,{"$f":"IF(BF16>0,1,0)","v":0},0,null,null,"Front",{"$f":"SUM(J29:J37)","v":0},{"$f":"SUM(K29:K37)","v":0},0]
[null,"Week #11",{"$f":"BN20","v":0},0,{"$f":"IF(BL16>0,1,0)","v":0},0]
[null,"Week #12",{"$f":"BT20","v":0},0,{"$f":"IF(BR16>0,1,0)","v":0},0,null,null,10,{"$f":"IFERROR(AVERAGE(J7),0)","v":0},{"$f":"IFERROR(MIN(D7,P7,AB7,AN7,AZ7,BL7,CD7),0)","v":0},{"$f":"IFERROR(MAX(D7,P7,AB7,AN7,AZ7,BL7,CD7),0)","v":0}]
[null,"Week #13",{"$f":"BZ20","v":0},0,{"$f":"IF(BX16>0,1,0)","v":0},0,null,null,11,{"$f":"IFERROR(AVERAGE(J8),0)","v":0},{"$f":"IFERROR(MIN(D8,P8,AB8,AN8,AZ8,BL8,CD8),0)","v":0},{"$f":"IFERROR(MAX(D8,P8,AB8,AN8,AZ8,BL8,CD8),0)","v":0}]
[null,"Week #14",{"$f":"CF20","v":0},0,{"$f":"IF(CD16>0,1,0)","v":0},0,null,null,12,0,0,0]
[null,"Week #15",{"$f":"CL20","v":0},0,{"$f":"IF(CJ16>0,1,0)","v":0},0,null,null,13,0,0,0]
[null,"Total",{"$f":"SUM(C29:C43)","v":0},{"$f":"SUM(D29:D43)","v":0},{"$f":"SUM(E29:E43)","v":0},{"$f":"SUM(F29:F43)","v":0},null,null,14,0,0,0]
[null,null,null,null,null,null,null,null,15,0,0,0]
[null,"Summary",null,null,null,null,null,null,16,0,0,0]
[null,"Eagles",{"$f":"I57+I68+I79+I90+I101+I112+I123+I134+I145+I156+I167+I178+I189+I200+I211","v":0},null,null,null,null,null,17,0,0,0]
[null,"Birdies",0,null,null,null,null,null,18,0,0,0]
[null,"Pars",{"$f":"I59+I70+I81+I92+I103+I114+I125+I136+I147+I158+I169+I180+I191+I202+I213","v":0},null,null,null,null,null,"Back",{"$f":"SUM(J40:J48)","v":0},{"$f":"SUM(K40:K48)","v":0},0]
[null,"bogeys",0]
[null,"Double bogeys",0]
[null,"Other",0]
[null,"Total",{"$f":"SUM(C47:C52)","v":0}]
[]
[null,{"$f":"D4","v":"2025-04-25"},"Par","Score"]
[null,{"$f":"B7","v":1},4,0,{"$f":"IF(D56<>0,IF((D56-C56)=-1,\"Birdie\",IF((D56-C56)=-2,\"Eagle\",IF((D56-C56)=0,\"Par\",IF((D56-C56)=1,\"bogey\",IF((D56-C56)=2,\"Double bogey\",\"Other\"))))),\"  \")","v":"  "},null,null,"Count"]
[null,2,4,0,"  ",null,null,"Eagle",{"$f":"COUNTIF(E56:E64,\"Eagle\")","v":0}]
[null,3,4,0,"  ",null,null,"Birdie",{"$f":"COUNTIF(E56:E64,\"Birdie\")","v":0}]
[null,4,4,0,"  ",null,null,"Par",{"$f":"COUNTIF(E56:E64,\"Par\")","v":0}]
[null,5,3,0,"  ",null,null,"bogey",{"$f":"COUNTIF(E56:E64,\"bogey\")","v":0}]
[null,6,4,0,"  ",null,null,"Double bogey",{"$f":"COUNTIF(E56:E64,\"Double bogey\")","v":0}]
[null,7,4,0,"  ",null,null,"Other",{"$f":"COUNTIF(E56:E64,\"Other\")","v":0}]
[null,8,3,0,"  "]
[null,9,5,0,"  "]
[]
[null,{"$f":"J4","v":"2025-05-02"}]
[null,{"$f":"H7","v":10},4,0,{"$f":"IF(D67<>0,IF((D67-C67)=-1,\"Birdie\",IF((D67-C67)=-2,\"Eagle\",IF((D67-C67)=0,\"Par\",IF((D67-C67)=1,\"bogey\",IF((D67-C67)=2,\"Double bogey\",\"Other\"))))),\"  \")","v":"  "},null,null,"Count"]
[null,11,4,0,"  ",null,null,"Eagle",{"$f":"COUNTIF(E67:E75,\"Eagle\")","v":0}]
[null,12,3,0,"  ",null,null,"Birdie",{"$f":"COUNTIF(E67:E75,\"Birdie\")","v":0}]
[null,13,4,0,"  ",null,null,"Par",{"$f":"COUNTIF(E67:E75,\"Par\")","v":0}]
[null,14,4,0,"  ",null,null,"bogey",{"$f":"COUNTIF(E67:E75,\"bogey\")","v":0}]
[null,15,3,0,"  ",null,null,"Double bogey",{"$f":"COUNTIF(E67:E75,\"Double bogey\")","v":0}]
[null,16,5,0,"  ",null,null,"Other",{"$f":"COUNTIF(E67:E75,\"Other\")","v":0}]
[null,17,4,0,"  "]
[null,18,5,0,"  "]
[]
[null,{"$f":"P4","v":"2025-05-09"}]
[null,{"$f":"N7","v":1},4,0,{"$f":"IF(D78<>0,IF((D78-C78)=-1,\"Birdie\",IF((D78-C78)=-2,\"Eagle\",IF((D78-C78)=0,\"Par\",IF((D78-C78)=1,\"bogey\",IF((D78-C78)=2,\"Double bogey\",\"Other\"))))),\"  \")","v":"  "},null,null,"Count"]
[null,2,4,0,"  ",null,null,"Eagle",{"$f":"COUNTIF(E78:E86,\"Eagle\")","v":0}]
[null,3,4,0,"  ",null,null,"Birdie",{"$f":"COUNTIF(E78:E86,\"Birdie\")","v":0}]
[null,4,4,0,"  ",null,null,"Par",{"$f":"COUNTIF(E78:E86,\"Par\")","v":0}]
[null,5,3,0,"  ",null,null,"bogey",{"$f":"COUNTIF(E78:E86,\"bogey\")","v":0}]
[null,6,4,0,"  ",null,null,"Double bogey",{"$f":"COUNTIF(E78:E86,\"Double bogey\")","v":0}]
[null,7,4,0,"  ",null,null,"Other",{"$f":"COUNTIF(E78:E86,\"Other\")","v":0}]
[null,8,3,0,"  "]
[null,9,5,0,"  "]
[]
[null,{"$f":"V4","v":"2025-05-16"}]
[null,{"$f":"T7","v":10},4,0,{"$f":"IF(D89<>0,IF((D89-C89)=-1,\"Birdie\",IF((D89-C89)=-2,\"Eagle\",IF((D89-C89)=0,\"Par\",IF((D89-C89)=1,\"bogey\",IF((D89-C89)=2,\"Double bogey\",\"Other\"))))),\"  \")","v":"  "},null,null,"Count"]
[null,11,4,0,"  ",null,null,"Eagle",{"$f":"COUNTIF(E89:E97,\"Eagle\")","v":0}]
[null,12,3,0,"  ",null,null,"Birdie",{"$f":"COUNTIF(E89:E97,\"Birdie\")","v":0}]
[null,13,4,0,"  ",null,null,"Par",{"$f":"COUNTIF(E89:E97,\"Par\")","v":0}]
[null,14,4,0,"  ",null,null,"bogey",{"$f":"COUNTIF(E89:E97,\"bogey\")","v":0}]
[null,15,3,0,"  ",null,null,"Double bogey",{"$f":"COUNTIF(E89:E97,\"Double bogey\")","v":0}]
[null,16,5,0,"  ",null,null,"Other",{"$f":"COUNTIF(E89:E97,\"Other\")","v":0}]
[null,17,4,0,"  "]
[null,18,5,0,"  "]
[]
[null,{"$f":"AB4","v":"2025-05-23"}]
[null,{"$f":"Z7","v":1},4,0,{"$f":"IF(D100<>0,IF((D100-C100)=-1,\"Birdie\",IF((D100-C100)=-2,\"Eagle\",IF((D100-C100)=0,\"Par\",IF((D100-C100)=1,\"bogey\",IF((D100-C100)=2,\"Double bogey\",\"Other\"))))),\"  \")","v":"  "},null,null,"Count"]
[null,2,4,0,"  ",null,null,"Eagle",{"$f":"COUNTIF(E100:E108,\"Eagle\")","v":0}]
[null,3,4,0,"  ",null,null,"Birdie",{"$f":"COUNTIF(E100:E108,\"Birdie\")","v":0}]
[null,4,4,0,"  ",null,null,"Par",{"$f":"COUNTIF(E100:E108,\"Par\")","v":0}]
[null,5,3,0,"  ",null,null,"bogey",{"$f":"COUNTIF(E100:E108,\"bogey\")","v":0}]
[null,6,4,0,"  ",null,null,"Double bogey",{"$f":"COUNTIF(E100:E108,\"Double bogey\")","v":0}]
[null,7,4,0,"  ",null,null,"Other",{"$f":"COUNTIF(E100:E108,\"Other\")","v":0}]
[null,8,3,0,"  "]
[null,9,5,0,"  "]
[]
[null,{"$f":"AH4","v":"2025-05-30"}]
[null,{"$f":"AF7","v":10},4,0,{"$f":"IF(D111<>0,IF((D111-C111)=-1,\"Birdie\",IF((D111-C111)=-2,\"Eagle\",IF((D111-C111)=0,\"Par\",IF((D111-C111)=1,\"bogey\",IF((D111-C111)=2,\"Double bogey\",\"Other\"))))),\"  \")","v":"  "},null,null,"Count"]
[null,11,4,0,"  ",null,null,"Eagle",{"$f":"COUNTIF(E111:E119,\"Eagle\")","v":0}]
[null,12,3,0,"  ",null,null,"Birdie",{"$f":"COUNTIF(E111:E119,\"Birdie\")","v":0}]
[null,13,4,0,"  ",null,null,"Par",{"$f":"COUNTIF(E111:E119,\"Par\")","v":0}]
[null,14,4,0,"  ",null,null,"bogey",{"$f":"COUNTIF(E111:E119,\"bogey\")","v":0}]
[null,15,3,0,"  ",null,null,"Double bogey",{"$f":"COUNTIF(E111:E119,\"Double bogey\")","v":0}]
[null,16,5,0,"  ",null,null,"Other",{"$f":"COUNTIF(E111:E119,\"Other\")","v":0}]
[null,17,4,0,"  "]
[null,18,5,0,"  "]
[]
[null,{"$f":"AN4","v":"2025-06-06"}]
[null,{"$f":"AL7","v":1},4,0,{"$f":"IF(D122<>0,IF((D122-C122)=-1,\"Birdie\",IF((D122-C122)=-2,\"Eagle\",IF((D122-C122)=0,\"Par\",IF((D122-C122)=1,\"bogey\",IF((D122-C122)=2,\"Double bogey\",\"Other\"))))),\"  \")","v":"  "},null,null,"Count"]
[null,2,4,0,"  ",null,null,"Eagle",{"$f":"COUNTIF(E122:E130,\"Eagle\")","v":0}]
[null,3,4,0,"  ",null,null,"Birdie",{"$f":"COUNTIF(E122:E130,\"Birdie\")","v":0}]
[null,4,4,0,"  ",null,null,"Par",{"$f":"COUNTIF(E122:E130,\"Par\")","v":0}]
[null,5,3,0,"  ",null,null,"bogey",{"$f":"COUNTIF(E122:E130,\"bogey\")","v":0}]
[null,6,4,0,"  ",null,null,"Double bogey",{"$f":"COUNTIF(E122:E130,\"Double bogey\")","v":0}]
[null,7,4,0,"  ",null,null,"Other",{"$f":"COUNTIF(E122:E130,\"Other\")","v":0}]
[null,8,3,0,"  "]
[null,9,5,0,"  "]
[]
[null,{"$f":"AT4","v":"2025-06-13"}]
[null,{"$f":"AR7","v":10},4,0,{"$f":"IF(D133<>0,IF((D133-C133)=-1,\"Birdie\",IF((D133-C133)=-2,\"Eagle\",IF((D133-C133)=0,\"Par\",IF((D133-C133)=1,\"bogey\",IF((D133-C133)=2,\"Double bogey\",\"Other\"))))),\"  \")","v":"  "},null,null,"Count"]
[null,11,4,0,"  ",null,null,"Eagle",{"$f":"COUNTIF(E133:E141,\"Eagle\")","v":0}]
[null,12,3,0,"  ",null,null,"Birdie",{"$f":"COUNTIF(E133:E141,\"Birdie\")","v":0}]
[null,13,4,0,"  ",null,null,"Par",{"$f":"COUNTIF(E133:E141,\"Par\")","v":0}]
[null,14,4,0,"  ",null,null,"bogey",{"$f":"COUNTIF(E133:E141,\"bogey\")","v":0}]
[null,15,3,0,"  ",null,null,"Double bogey",{"$f":"COUNTIF(E133:E141,\"Double bogey\")","v":0}]
[null,16,5,0,"  ",null,null,"Other",{"$f":"COUNTIF(E133:E141,\"Other\")","v":0}]
[null,17,4,0,"  "]
[null,18,5,0,"  "]
[]
[null,{"$f":"AZ4","v":"2025-06-27"}]
[null,{"$f":"AX7","v":10},4,0,{"$f":"IF(D144<>0,IF((D144-C144)=-1,\"Birdie\",IF((D144-C144)=-2,\"Eagle\",IF((D144-C144)=0,\"Par\",IF((D144-C144)=1,\"bogey\",IF((D144-C144)=2,\"Double bogey\",\"Other\"))))),\"  \")","v":"  "},null,null,"Count"]
[null,11,4,0,"  ",null,null,"Eagle",{"$f":"COUNTIF(E144:E152,\"Eagle\")","v":0}]
[null,12,3,0,"  ",null,null,"Birdie",{"$f":"COUNTIF(E144:E152,\"Birdie\")","v":0}]
[null,13,4,0,"  ",null,null,"Par",{"$f":"COUNTIF(E144:E152,\"Par\")","v":0}]
[null,14,4,0,"  ",null,null,"bogey",{"$f":"COUNTIF(E144:E152,\"bogey\")","v":0}]
[null,15,3,0,"  ",null,null,"Double bogey",{"$f":"COUNTIF(E144:E152,\"Double bogey\")","v":0}]
[null,16,5,0,"  ",null,null,"Other",{"$f":"COUNTIF(E144:E152,\"Other\")","v":0}]
[null,17,4,0,"  "]
[null,18,5,0,"  "]
[]
[null,{"$f":"BF4","v":"2025-07-04"}]
[null,{"$f":"BD7","v":10},4,0,{"$f":"IF(D155<>0,IF((D155-C155)=-1,\"Birdie\",IF((D155-C155)=-2,\"Eagle\",IF((D155-C155)=0,\"Par\",IF((D155-C155)=1,\"bogey\",IF((D155-C155)=2,\"Double bogey\",\"Other\"))))),\"  \")","v":"  "},null,null,"Count"]
[null,11,4,0,"  ",null,null,"Eagle",{"$f":"COUNTIF(E155:E163,\"Eagle\")","v":0}]
[null,12,3,0,"  ",null,null,"Birdie",{"$f":"COUNTIF(E155:E163,\"Birdie\")","v":0}]
[null,13,4,0,"  ",null,null,"Par",{"$f":"COUNTIF(E155:E163,\"Par\")","v":0}]
[null,14,4,0,"  ",null,null,"bogey",{"$f":"COUNTIF(E155:E163,\"bogey\")","v":0}]
[null,15,3,0,"  ",null,null,"Double bogey",{"$f":"COUNTIF(E155:E163,\"Double bogey\")","v":0}]
[null,16,5,0,"  ",null,null,"Other",{"$f":"COUNTIF(E155:E163,\"Other\")","v":0}]
[null,17,4,0,"  "]
[null,18,5,0,"  "]
[]
[null,{"$f":"BL4","v":"2025-07-18"}]
[null,{"$f":"BJ7","v":10},4,0,{"$f":"IF(D166<>0,IF((D166-C166)=-1,\"Birdie\",IF((D166-C166)=-2,\"Eagle\",IF((D166-C166)=0,\"Par\",IF((D166-C166)=1,\"bogey\",IF((D166-C166)=2,\"Double bogey\",\"Other\"))))),\"  \")","v":"  "},null,null,"Count"]
[null,11,4,0,"  ",null,null,"Eagle",{"$f":"COUNTIF(E166:E174,\"Eagle\")","v":0}]
[null,12,3,0,"  ",null,null,"Birdie",{"$f":"COUNTIF(E166:E174,\"Birdie\")","v":0}]
[null,13,4,0,"  ",null,null,"Par",{"$f":"COUNTIF(E166:E174,\"Par\")","v":0}]
[null,14,4,0,"  ",null,null,"bogey",{"$f":"COUNTIF(E166:E174,\"bogey\")","v":0}]
[null,15,3,0,"  ",null,null,"Double bogey",{"$f":"COUNTIF(E166:E174,\"Double bogey\")","v":0}]
[null,16,5,0,"  ",null,null,"Other",{"$f":"COUNTIF(E166:E174,\"Other\")","v":0}]
[null,17,4,0,"  "]
[null,18,5,0,"  "]
[]
[null,{"$f":"BR4","v":"2025-07-25"}]
[null,{"$f":"BP7","v":1},4,0,{"$f":"IF(D177<>0,IF((D177-C177)=-1,\"Birdie\",IF((D177-C177)=-2,\"Eagle\",IF((D177-C177)=0,\"Par\",IF((D177-C177)=1,\"bogey\",IF((D177-C177)=2,\"Double bogey\",\"Other\"))))),\"  \")","v":"  "},null,null,"Count"]
[null,2,4,0,"  ",null,null,"Eagle",{"$f":"COUNTIF(E177:E185,\"Eagle\")","v":0}]
[null,3,4,0,"  ",null,null,"Birdie",{"$f":"COUNTIF(E177:E185,\"Birdie\")","v":0}]
[null,4,4,0,"  ",null,null,"Par",{"$f":"COUNTIF(E177:E185,\"Par\")","v":0}]
[null,5,3,0,"  ",null,null,"bogey",{"$f":"COUNTIF(E177:E185,\"bogey\")","v":0}]
[null,6,4,0,"  ",null,null,"Double bogey",{"$f":"COUNTIF(E177:E185,\"Double bogey\")","v":0}]
[null,7,4,0,"  ",null,null,"Other",{"$f":"COUNTIF(E177:E185,\"Other\")","v":0}]
[null,8,3,0,"  "]
[null,9,5,0,"  "]
[]
[null,{"$f":"BX4","v":"2025-08-01"}]
[null,{"$f":"BV7","v":10},4,0,{"$f":"IF(D188<>0,IF((D188-C188)=-1,\"Birdie\",IF((D188-C188)=-2,\"Eagle\",IF((D188-C188)=0,\"Par\",IF((D188-C188)=1,\"bogey\",IF((D188-C188)=2,\"Double bogey\",\"Other\"))))),\"  \")","v":"  "},null,null,"Count"]
[null,11,4,0,"  ",null,null,"Eagle",{"$f":"COUNTIF(E188:E196,\"Eagle\")","v":0}]
[null,12,3,0,"  ",null,null,"Birdie",{"$f":"COUNTIF(E188:E196,\"Birdie\")","v":0}]
[null,13,4,0,"  ",null,null,"Par",{"$f":"COUNTIF(E188:E196,\"Par\")","v":0}]
[null,14,4,0,"  ",null,null,"bogey",{"$f":"COUNTIF(E188:E196,\"bogey\")","v":0}]
[null,15,3,0,"  ",null,null,"Double bogey",{"$f":"COUNTIF(E188:E196,\"Double bogey\")","v":0}]
[null,16,5,0,"  ",null,null,"Other",{"$f":"COUNTIF(E188:E196,\"Other\")","v":0}]
[null,17,4,0,"  "]
[null,18,5,0,"  "]
[]
[null,{"$f":"CD4","v":"2025-08-08"}]
[null,{"$f":"CB7","v":1},4,0,{"$f":"IF(D199<>0,IF((D199-C199)=-1,\"Birdie\",IF((D199-C199)=-2,\"Eagle\",IF((D199-C199)=0,\"Par\",IF((D199-C199)=1,\"bogey\",IF((D199-C199)=2,\"Double bogey\",\"Other\"))))),\"  \")","v":"  "},null,null,"Count"]
[null,2,4,0,"  ",null,null,"Eagle",{"$f":"COUNTIF(E199:E207,\"Eagle\")","v":0}]
[null,3,4,0,"  ",null,null,"Birdie",{"$f":"COUNTIF(E199:E207,\"Birdie\")","v":0}]
[null,4,4,0,"  ",null,null,"Par",{"$f":"COUNTIF(E199:E207,\"Par\")","v":0}]
[null,5,3,0,"  ",null,null,"bogey",{"$f":"COUNTIF(E199:E207,\"bogey\")","v":0}]
[null,6,4,0,"  ",null,null,"Double bogey",{"$f":"COUNTIF(E199:E207,\"Double bogey\")","v":0}]
[null,7,4,0,"  ",null,null,"Other",{"$f":"COUNTIF(E199:E207,\"Other\")","v":0}]
[null,8,3,0,"  "]
[null,9,5,0,"  "]
[]
[null,{"$f":"CJ4","v":"2025-08-15"}]
[null,{"$f":"CH7","v":10},4,0,{"$f":"IF(D210<>0,IF((D210-C210)=-1,\"Birdie\",IF((D210-C210)=-2,\"Eagle\",IF((D210-C210)=0,\"Par\",IF((D210-C210)=1,\"bogey\",IF((D210-C210)=2,\"Double bogey\",\"Other\"))))),\"  \")","v":"  "},null,null,"Count"]
[null,11,4,0,"  ",null,null,"Eagle",{"$f":"COUNTIF(E210:E218,\"Eagle\")","v":0}]
[null,12,3,0,"  ",null,null,"Birdie",{"$f":"COUNTIF(E210:E218,\"Birdie\")","v":0}]
[null,13,4,0,"  ",null,null,"Par",{"$f":"COUNTIF(E210:E218,\"Par\")","v":0}]
[null,14,4,0,"  ",null,null,"bogey",{"$f":"COUNTIF(E210:E218,\"bogey\")","v":0}]
[null,15,3,0,"  ",null,null,"Double bogey",{"$f":"COUNTIF(E210:E218,\"Double bogey\")","v":0}]
[null,16,5,0,"  ",null,null,"Other",{"$f":"COUNTIF(E210:E218,\"Other\")","v":0}]
[null,17,4,0,"  "]
[null,18,5,0,"  "]

{"sheet":"Palmerino","index":17,"n_rows":218,"n_cols":90,"rows_kept":218,"cut":false,"hidden":false,"merged":[]}
["Dan Palmerino"]
[]
[]
[null,null,"Date:",{"$f":"VLOOKUP(C5,Week,2)","v":"2025-04-25"},null,null,null,null,"Date:",{"$f":"VLOOKUP(I5,Week,2)","v":"2025-05-02"},null,null,null,null,"Date:",{"$f":"VLOOKUP(O5,Week,2)","v":"2025-05-09"},null,null,null,null,"Date:",{"$f":"VLOOKUP(U5,Week,2)","v":"2025-05-16"},null,null,null,null,"Date:",{"$f":"VLOOKUP(AA5,Week,2)","v":"2025-05-23"},null,null,null,null,"Date:",{"$f":"VLOOKUP(AG5,Week,2)","v":"2025-05-30"},null,null,null,null,"Date:",{"$f":"VLOOKUP(AM5,Week,2)","v":"2025-06-06"},null,null,null,null,"Date:",{"$f":"VLOOKUP(AS5,Week,2)","v":"2025-06-13"},null,null,null,null,"Date:",{"$f":"VLOOKUP(AY5,Week,2)","v":"2025-06-27"},null,null,null,null,"Date:",{"$f":"VLOOKUP(BE5,Week,2)","v":"2025-07-04"},null,null,null,null,"Date:",{"$f":"VLOOKUP(BK5,Week,2)","v":"2025-07-18"},null,null,null,null,"Date:",{"$f":"VLOOKUP(BQ5,Week,2)","v":"2025-07-25"},null,null,null,null,"Date:",{"$f":"VLOOKUP(BW5,Week,2)","v":"2025-08-01"},null,null,null,null,"Date:",{"$f":"VLOOKUP(CC5,Week,2)","v":"2025-08-08"},null,null,null,null,"Date:",{"$f":"VLOOKUP(CI5,Week,2)","v":"2025-08-15"}]
[null,"Week",1,null,null,null,null,"Week",2,null,null,null,null,"Week",3,null,null,null,null,"Week",4,null,null,null,null,"Week",5,null,null,null,null,"Week",6,null,null,null,null,"Week",7,null,null,null,null,"Week",8,null,null,null,null,"Week",9,null,null,null,null,"Week",10,null,null,null,null,"Week",11,null,null,null,null,"Week",12,null,null,null,null,"Week",13,null,null,null,null,"Week",14,null,null,null,null,"Week",15]
[null,"Hole #","Par","Score","Net","Win Hole",null,"Hole #","Par","Score","Net","Win Hole",null,"Hole #","Par","Score","Net","Win Hole",null,"Hole #","Par","Score","Net","Win Hole",null,"Hole #","Par","Score","Net","Win Hole",null,"Hole #","Par","Score","Net","Win Hole",null,"Hole #","Par","Score","Net","Win Hole",null,"Hole #","Par","Score","Net","Win Hole",null,"Hole #","Par","Score","Net","Win Hole",null,"Hole #","Par","Score","Net","Win Hole",null,"Hole #","Par","Score","Net","Win Hole",null,"Hole #","Par","Score","Net","Win Hole",null,"Hole #","Par","Score","Net","Win Hole",null,"Hole #","Par","Score","Net","Win Hole",null,"Hole #","Par","Score","Net","Win Hole"]
[null,{"$f":"VLOOKUP(C5,Week,6)","v":1},{"$f":"VLOOKUP(B7,Holes,2)","v":4},null,{"$f":"IF((D7-C7)>3,C7+3,D7)","v":0},null,null,{"$f":"VLOOKUP(I5,Week,6)","v":10},{"$f":"VLOOKUP(H7,Holes,2)","v":4},null,{"$f":"IF((J7-I7)>3,I7+3,J7)","v":0},null,null,{"$f":"VLOOKUP(O5,Week,6)","v":1},{"$f":"VLOOKUP(N7,Holes,2)","v":4},null,{"$f":"IF((P7-O7)>3,O7+3,P7)","v":0},null,null,{"$f":"VLOOKUP(U5,Week,6)","v":10},{"$f":"VLOOKUP(T7,Holes,2)","v":4},null,{"$f":"IF((V7-U7)>3,U7+3,V7)","v":0},null,null,{"$f":"VLOOKUP(AA5,Week,6)","v":1},{"$f":"VLOOKUP(Z7,Holes,2)","v":4},null,{"$f":"IF((AB7-AA7)>3,AA7+3,AB7)","v":0},null,null,{"$f":"VLOOKUP(AG5,Week,6)","v":10},{"$f":"VLOOKUP(AF7,Holes,2)","v":4},null,{"$f":"IF((AH7-AG7)>3,AG7+3,AH7)","v":0},null,null,{"$f":"VLOOKUP(AM5,Week,6)","v":1},{"$f":"VLOOKUP(AL7,Holes,2)","v":4},null,{"$f":"IF((AN7-AM7)>3,AM7+3,AN7)","v":0},null,null,{"$f":"VLOOKUP(AS5,Week,6)","v":10},{"$f":"VLOOKUP(AR7,Holes,2)","v":4},null,{"$f":"IF((AT7-AS7)>3,AS7+3,AT7)","v":0},null,null,{"$f":"VLOOKUP(AY5,Week,6)","v":10},{"$f":"VLOOKUP(AX7,Holes,2)","v":4},null,{"$f":"IF((AZ7-AY7)>3,AY7+3,AZ7)","v":0},null,null,{"$f":"VLOOKUP(BE5,Week,6)","v":10},{"$f":"VLOOKUP(BD7,Holes,2)","v":4},null,{"$f":"IF((BF7-BE7)>3,BE7+3,BF7)","v":0},null,null,{"$f":"VLOOKUP(BK5,Week,6)","v":10},{"$f":"VLOOKUP(BJ7,Holes,2)","v":4},null,{"$f":"IF((BL7-BK7)>3,BK7+3,BL7)","v":0},null,null,{"$f":"VLOOKUP(BQ5,Week,6)","v":1},{"$f":"VLOOKUP(BP7,Holes,2)","v":4},null,{"$f":"IF((BR7-BQ7)>3,BQ7+3,BR7)","v":0},null,null,{"$f":"VLOOKUP(BW5,Week,6)","v":10},{"$f":"VLOOKUP(BV7,Holes,2)","v":4},null,{"$f":"IF((BX7-BW7)>3,BW7+3,BX7)","v":0},null,null,{"$f":"VLOOKUP(CC5,Week,6)","v":1},{"$f":"VLOOKUP(CB7,Holes,2)","v":4},null,{"$f":"IF((CD7-CC7)>3,CC7+3,CD7)","v":0},null,null,{"$f":"VLOOKUP(CI5,Week,6)","v":10},{"$f":"VLOOKUP(CH7,Holes,2)","v":4},null,{"$f":"IF((CJ7-CI7)>3,CI7+3,CJ7)","v":0}]
[null,{"$f":"+B7+1","v":2},4,null,0,null,null,{"$f":"+H7+1","v":11},4,null,0,null,null,{"$f":"+N7+1","v":2},4,null,0,null,null,{"$f":"+T7+1","v":11},4,null,0,null,null,{"$f":"+Z7+1","v":2},4,null,0,null,null,{"$f":"+AF7+1","v":11},4,null,0,null,null,{"$f":"+AL7+1","v":2},4,null,0,null,null,{"$f":"+AR7+1","v":11},4,null,0,null,null,{"$f":"+AX7+1","v":11},4,null,0,null,null,{"$f":"+BD7+1","v":11},4,null,0,null,null,{"$f":"+BJ7+1","v":11},4,null,0,null,null,{"$f":"+BP7+1","v":2},4,null,0,null,null,{"$f":"+BV7+1","v":11},4,null,0,null,null,{"$f":"+CB7+1","v":2},4,null,0,null,null,{"$f":"+CH7+1","v":11},4,null,0]
[null,3,4,null,0,null,null,12,3,null,0,null,null,3,4,null,0,null,null,12,3,null,0,null,null,3,4,null,0,null,null,12,3,null,0,null,null,3,4,null,0,null,null,12,3,null,0,null,null,12,3,null,0,null,null,12,3,null,0,null,null,12,3,null,0,null,null,3,4,null,0,null,null,12,3,null,0,null,null,3,4,null,0,null,null,12,3,null,0]
[null,4,4,null,0,null,null,13,4,null,0,null,null,4,4,null,0,null,null,13,4,null,0,null,null,4,4,null,0,null,null,13,4,null,0,null,null,4,4,null,0,null,null,13,4,null,0,null,null,13,4,null,0,null,null,13,4,null,0,null,null,13,4,null,0,null,null,4,4,null,0,null,null,13,4,null,0,null,null,4,4,null,0,null,null,13,4,null,0]
[null,5,3,null,0,null,null,14,4,null,0,null,null,5,3,null,0,null,null,14,4,null,0,null,null,5,3,null,0,null,null,14,4,null,0,null,null,5,3,null,0,null,null,14,4,null,0,null,null,14,4,null,0,null,null,14,4,null,0,null,null,14,4,null,0,null,null,5,3,null,0,null,null,14,4,null,0,null,null,5,3,null,0,null,null,14,4,null,0]
[null,6,4,null,0,null,null,15,3,null,0,null,null,6,4,null,0,null,null,15,3,null,0,null,null,6,4,null,0,null,null,15,3,null,0,null,null,6,4,null,0,null,null,15,3,null,0,null,null,15,3,null,0,null,null,15,3,null,0,null,null,15,3,null,0,null,null,6,4,null,0,null,null,15,3,null,0,null,null,6,4,null,0,null,null,15,3,null,0]
[null,7,4,null,0,null,null,16,5,null,0,null,null,7,4,null,0,null,null,16,5,null,0,null,null,7,4,null,0,null,null,16,5,null,0,null,null,7,4,null,0,null,null,16,5,null,0,null,null,16,5,null,0,null,null,16,5,null,0,null,null,16,5,null,0,null,null,7,4,null,0,null,null,16,5,null,0,null,null,7,4,null,0,null,null,16,5,null,0]
[null,8,3,null,0,null,null,17,4,null,0,null,null,8,3,null,0,null,null,17,4,null,0,null,null,8,3,null,0,null,null,17,4,null,0,null,null,8,3,null,0,null,null,17,4,null,0,null,null,17,4,null,0,null,null,17,4,null,0,null,null,17,4,null,0,null,null,8,3,null,0,null,null,17,4,null,0,null,null,8,3,null,0,null,null,17,4,null,0]
[null,9,5,null,0,null,null,18,5,null,0,null,null,9,5,null,0,null,null,18,5,null,0,null,null,9,5,null,0,null,null,18,5,null,0,null,null,9,5,null,0,null,null,18,5,null,0,null,null,18,5,null,0,null,null,18,5,null,0,null,null,18,5,null,0,null,null,9,5,null,0,null,null,18,5,null,0,null,null,9,5,null,0,null,null,18,5,null,0]
[null,"Total",{"$f":"SUM(C7:C15)","v":35},{"$f":"SUM(D7:D15)","v":0},{"$f":"SUM(E7:E15)","v":0},{"$f":"SUM(F7:F15)","v":0},null,"Total",{"$f":"SUM(I7:I15)","v":36},{"$f":"SUM(J7:J15)","v":0},{"$f":"SUM(K7:K15)","v":0},{"$f":"SUM(L7:L15)","v":0},null,"Total",{"$f":"SUM(O7:O15)","v":35},{"$f":"SUM(P7:P15)","v":0},{"$f":"SUM(Q7:Q15)","v":0},{"$f":"SUM(R7:R15)","v":0},null,"Total",{"$f":"SUM(U7:U15)","v":36},{"$f":"SUM(V7:V15)","v":0},{"$f":"SUM(W7:W15)","v":0},{"$f":"SUM(X7:X15)","v":0},null,"Total",{"$f":"SUM(AA7:AA15)","v":35},{"$f":"SUM(AB7:AB15)","v":0},{"$f":"SUM(AC7:AC15)","v":0},{"$f":"SUM(AD7:AD15)","v":0},null,"Total",{"$f":"SUM(AG7:AG15)","v":36},{"$f":"SUM(AH7:AH15)","v":0},{"$f":"SUM(AI7:AI15)","v":0},{"$f":"SUM(AJ7:AJ15)","v":0},null,"Total",{"$f":"SUM(AM7:AM15)","v":35},{"$f":"SUM(AN7:AN15)","v":0},{"$f":"SUM(AO7:AO15)","v":0},{"$f":"SUM(AP7:AP15)","v":0},null,"Total",{"$f":"SUM(AS7:AS15)","v":36},{"$f":"SUM(AT7:AT15)","v":0},{"$f":"SUM(AU7:AU15)","v":0},{"$f":"SUM(AV7:AV15)","v":0},null,"Total",{"$f":"SUM(AY7:AY15)","v":36},{"$f":"SUM(AZ7:AZ15)","v":0},{"$f":"SUM(BA7:BA15)","v":0},{"$f":"SUM(BB7:BB15)","v":0},null,"Total",{"$f":"SUM(BE7:BE15)","v":36},{"$f":"SUM(BF7:BF15)","v":0},{"$f":"SUM(BG7:BG15)","v":0},{"$f":"SUM(BH7:BH15)","v":0},null,"Total",{"$f":"SUM(BK7:BK15)","v":36},{"$f":"SUM(BL7:BL15)","v":0},{"$f":"SUM(BM7:BM15)","v":0},{"$f":"SUM(BN7:BN15)","v":0},null,"Total",{"$f":"SUM(BQ7:BQ15)","v":35},{"$f":"SUM(BR7:BR15)","v":0},{"$f":"SUM(BS7:BS15)","v":0},{"$f":"SUM(BT7:BT15)","v":0},null,"Total",{"$f":"SUM(BW7:BW15)","v":36},{"$f":"SUM(BX7:BX15)","v":0},{"$f":"SUM(BY7:BY15)","v":0},{"$f":"SUM(BZ7:BZ15)","v":0},null,"Total",{"$f":"SUM(CC7:CC15)","v":35},{"$f":"SUM(CD7:CD15)","v":0},{"$f":"SUM(CE7:CE15)","v":0},{"$f":"SUM(CF7:CF15)","v":0},null,"Total",{"$f":"SUM(CI7:CI15)","v":36},{"$f":"SUM(CJ7:CJ15)","v":0},{"$f":"SUM(CK7:CK15)","v":0},{"$f":"SUM(CL7:CL15)","v":0}]
[]
[null,null,null,null,"Low Net",0,null,null,null,null,"Low Net",0,null,null,null,null,"Low Net",null,null,null,null,null,"Low Net",null,null,null,null,null,"Low Net",null,null,null,null,null,"Low Net",null,null,null,null,null,"Low Net",null,null,null,null,null,"Low Net",null,null,null,null,null,"Low Net",null,null,null,null,null,"Low Net",null,null,null,null,null,"Low Net",null,null,null,null,null,"Low Net",null,null,null,null,null,"Low Net",null,null,null,null,null,"Low Net",null,null,null,null,null,"Low Net"]
[]
[null,null,null,null,"Total Points",{"$f":"SUM(F16:F19)","v":0},null,null,null,null,"Total Points",{"$f":"SUM(L16:L19)","v":0},null,null,null,null,"Total Points",{"$f":"SUM(R16:R19)","v":0},null,null,null,null,"Total Points",{"$f":"SUM(X16:X19)","v":0},null,null,null,null,"Total Points",{"$f":"SUM(AD16:AD19)","v":0},null,null,null,null,"Total Points",{"$f":"SUM(AJ16:AJ19)","v":0},null,null,null,null,"Total Points",{"$f":"SUM(AP16:AP19)","v":0},null,null,null,null,"Total Points",{"$f":"SUM(AV16:AV19)","v":0},null,null,null,null,"Total Points",{"$f":"SUM(BB16:BB19)","v":0},null,null,null,null,"Total Points",{"$f":"SUM(BH16:BH19)","v":0},null,null,null,null,"Total Points",{"$f":"SUM(BN16:BN19)","v":0},null,null,null,null,"Total Points",{"$f":"SUM(BT16:BT19)","v":0},null,null,null,null,"Total Points",{"$f":"SUM(BZ16:BZ19)","v":0},null,null,null,null,"Total Points",{"$f":"SUM(CF16:CF19)","v":0},null,null,null,null,"Total Points",{"$f":"SUM(CL16:CL19)","v":0}]
[]
[null,null,null,null,"Handicap",{"$f":"IF(D16=0,0,E16-C16)","v":0},null,null,null,null,"Handicap",{"$f":"IF(J16=0,0,K16-I16)","v":0},null,null,null,null,"Handicap",{"$f":"IF(P16=0,0,Q16-O16)","v":0},null,null,null,null,"Handicap",{"$f":"IF(V16=0,0,W16-U16)","v":0},null,null,null,null,"Handicap",{"$f":"IF(AB16=0,0,AC16-AA16)","v":0},null,null,null,null,"Handicap",{"$f":"IF(AH16=0,0,AI16-AG16)","v":0},null,null,null,null,"Handicap",{"$f":"IF(AN16=0,0,AO16-AM16)","v":0},null,null,null,null,"Handicap",{"$f":"IF(AT16=0,0,AU16-AS16)","v":0},null,null,null,null,"Handicap",{"$f":"IF(AZ16=0,0,BA16-AY16)","v":0},null,null,null,null,"Handicap",{"$f":"IF(BF16=0,0,BG16-BE16)","v":0},null,null,null,null,"Handicap",{"$f":"IF(BL16=0,0,BM16-BK16)","v":0},null,null,null,null,"Handicap",{"$f":"IF(BR16=0,0,BS16-BQ16)","v":0},null,null,null,null,"Handicap",{"$f":"IF(BX16=0,0,BY16-BW16)","v":0},null,null,null,null,"Handicap",{"$f":"IF(CD16=0,0,CE16-CC16)","v":0},null,null,null,null,"Handicap",{"$f":"IF(CJ16=0,0,CK16-CI16)","v":0}]
[]
[null,null,null,null,null,{"$f":"IF(D16<>0,IF(F16>4.5,\"W\",IF(F16=4.5,\"T\",IF(F16<4.5,\"L\"))),0)","v":0},null,null,null,null,null,{"$f":"IF(J16<>0,IF(L16>4.5,\"W\",IF(L16=4.5,\"T\",IF(L16<4.5,\"L\"))),0)","v":0},null,null,null,null,null,{"$f":"IF(P16<>0,IF(R16>4.5,\"W\",IF(R16=4.5,\"T\",IF(R16<4.5,\"L\"))),0)","v":0},null,null,null,null,null,{"$f":"IF(V16<>0,IF(X16>4.5,\"W\",IF(X16=4.5,\"T\",IF(X16<4.5,\"L\"))),0)","v":0},null,null,null,null,null,{"$f":"IF(AB16<>0,IF(AD16>4.5,\"W\",IF(AD16=4.5,\"T\",IF(AD16<4.5,\"L\"))),0)","v":0},null,null,null,null,null,{"$f":"IF(AH16<>0,IF(AJ16>4.5,\"W\",IF(AJ16=4.5,\"T\",IF(AJ16<4.5,\"L\"))),0)","v":0},null,null,null,null,null,{"$f":"IF(AN16<>0,IF(AP16>4.5,\"W\",IF(AP16=4.5,\"T\",IF(AP16<4.5,\"L\"))),0)","v":0},null,null,null,null,null,{"$f":"IF(AT16<>0,IF(AV16>4.5,\"W\",IF(AV16=4.5,\"T\",IF(AV16<4.5,\"L\"))),0)","v":0},null,null,null,null,null,{"$f":"IF(AZ16<>0,IF(BB16>4.5,\"W\",IF(BB16=4.5,\"T\",IF(BB16<4.5,\"L\"))),0)","v":0},null,null,null,null,null,{"$f":"IF(BF16<>0,IF(BH16>4.5,\"W\",IF(BH16=4.5,\"T\",IF(BH16<4.5,\"L\"))),0)","v":0},null,null,null,null,null,{"$f":"IF(BL16<>0,IF(BN16>4.5,\"W\",IF(BN16=4.5,\"T\",IF(BN16<4.5,\"L\"))),0)","v":0},null,null,null,null,null,{"$f":"IF(BR16<>0,IF(BT16>4.5,\"W\",IF(BT16=4.5,\"T\",IF(BT16<4.5,\"L\"))),0)","v":0},null,null,null,null,null,{"$f":"IF(BX16<>0,IF(BZ16>4.5,\"W\",IF(BZ16=4.5,\"T\",IF(BZ16<4.5,\"L\"))),0)","v":0},null,null,null,null,null,{"$f":"IF(CD16<>0,IF(CF16>4.5,\"W\",IF(CF16=4.5,\"T\",IF(CF16<4.5,\"L\"))),0)","v":0},null,null,null,null,null,{"$f":"IF(CJ16<>0,IF(CL16>4.5,\"W\",IF(CL16=4.5,\"T\",IF(CL16<4.5,\"L\"))),0)","v":0}]
[]
[null,"Summary"]
[null,null,null,"Adj",null,"Adj",null,null,null,"Avg Score"]
[null,null,"Points","Points","Matches","Matches",null,null,"Hole #","by Hole","Best","Worst"]
[null,"Week #1",{"$f":"F20","v":0},{"$f":"C29","v":0},{"$f":"IF(D16>0,1,0)","v":0},{"$f":"E29","v":0},null,null,1,{"$f":"IFERROR(AVERAGE(D7),0)","v":0},{"$f":"IFERROR(MIN(J7,V7,AH7,AT7,BF7,BR7,BX7,CJ7),0)","v":0},{"$f":"IFERROR(MAX(J7,V7,AH7,AT7,BF7,BR7,BX7,CJ7),0)","v":0}]
[null,"Week #2",{"$f":"L20","v":0},0,{"$f":"IF(J16>0,1,0)","v":0},0,null,null,2,{"$f":"IFERROR(AVERAGE(D8),0)","v":0},{"$f":"IFERROR(MIN(J8,V8,AH8,AT8,BF8,BR8,BX8,CJ8),0)","v":0},{"$f":"IFERROR(MAX(J8,V8,AH8,AT8,BF8,BR8,BX8,CJ8),0)","v":0}]
[null,"Week #3",{"$f":"R20","v":0},0,{"$f":"IF(P16>0,1,0)","v":0},0,null,null,3,0,0,0]
[null,"Week #4",{"$f":"X20","v":0},0,{"$f":"IF(V16>0,1,0)","v":0},0,null,null,4,0,0,0]
[null,"Week #5",{"$f":"AD20","v":0},0,{"$f":"IF(AB16>0,1,0)","v":0},0,null,null,5,0,0,0]
[null,"Week #6",{"$f":"AJ20","v":0},0,{"$f":"IF(AH16>0,1,0)","v":0},0,null,null,6,0,0,0]
[null,"Week #7",{"$f":"AP20","v":0},0,{"$f":"IF(AN16>0,1,0)","v":0},0,null,null,7,0,0,0]
[null,"Week #8",{"$f":"AV20","v":0},0,{"$f":"IF(AT16>0,1,0)","v":0},0,null,null,8,0,0,0]
[null,"Week #9",{"$f":"BB20","v":0},0,{"$f":"IF(AZ16>0,1,0)","v":0},0,null,null,9,0,0,0]
[null,"Week #10",{"$f":"BH20","v":0},0,{"$f":"IF(BF16>0,1,0)","v":0},0,null,null,"Front",{"$f":"SUM(J29:J37)","v":0},{"$f":"SUM(K29:K37)","v":0},0]
[null,"Week #11",{"$f":"BN20","v":0},0,{"$f":"IF(BL16>0,1,0)","v":0},0]
[null,"Week #12",{"$f":"BT20","v":0},0,{"$f":"IF(BR16>0,1,0)","v":0},0,null,null,10,{"$f":"IFERROR(AVERAGE(J7),0)","v":0},{"$f":"IFERROR(MIN(D7,P7,AB7,AN7,AZ7,BL7,CD7),0)","v":0},{"$f":"IFERROR(MAX(D7,P7,AB7,AN7,AZ7,BL7,CD7),0)","v":0}]
[null,"Week #13",{"$f":"BZ20","v":0},0,{"$f":"IF(BX16>0,1,0)","v":0},0,null,null,11,{"$f":"IFERROR(AVERAGE(J8),0)","v":0},{"$f":"IFERROR(MIN(D8,P8,AB8,AN8,AZ8,BL8,CD8),0)","v":0},{"$f":"IFERROR(MAX(D8,P8,AB8,AN8,AZ8,BL8,CD8),0)","v":0}]
[null,"Week #14",{"$f":"CF20","v":0},0,{"$f":"IF(CD16>0,1,0)","v":0},0,null,null,12,0,0,0]
[null,"Week #15",{"$f":"CL20","v":0},0,{"$f":"IF(CJ16>0,1,0)","v":0},0,null,null,13,0,0,0]
[null,"Total",{"$f":"SUM(C29:C43)","v":0},{"$f":"SUM(D29:D43)","v":0},{"$f":"SUM(E29:E43)","v":0},{"$f":"SUM(F29:F43)","v":0},null,null,14,0,0,0]
[null,null,null,null,null,null,null,null,15,0,0,0]
[null,"Summary",null,null,null,null,null,null,16,0,0,0]
[null,"Eagles",{"$f":"I57+I68+I79+I90+I101+I112+I123+I134+I145+I156+I167+I178+I189+I200+I211","v":0},null,null,null,null,null,17,0,0,0]
[null,"Birdies",0,null,null,null,null,null,18,0,0,0]
[null,"Pars",0,null,null,null,null,null,"Back",{"$f":"SUM(J40:J48)","v":0},{"$f":"SUM(K40:K48)","v":0},0]
[null,"bogeys",0]
[null,"Double bogeys",0]
[null,"Other",0]
[null,"Total",{"$f":"SUM(C47:C52)","v":0}]
[]
[null,{"$f":"D4","v":"2025-04-25"},"Par","Score"]
[null,{"$f":"B7","v":1},4,0,{"$f":"IF(D56<>0,IF((D56-C56)=-1,\"Birdie\",IF((D56-C56)=-2,\"Eagle\",IF((D56-C56)=0,\"Par\",IF((D56-C56)=1,\"bogey\",IF((D56-C56)=2,\"Double bogey\",\"Other\"))))),\"  \")","v":"  "},null,null,"Count"]
[null,2,4,0,"  ",null,null,"Eagle",{"$f":"COUNTIF(E56:E64,\"Eagle\")","v":0}]
[null,3,4,0,"  ",null,null,"Birdie",{"$f":"COUNTIF(E56:E64,\"Birdie\")","v":0}]
[null,4,4,0,"  ",null,null,"Par",{"$f":"COUNTIF(E56:E64,\"Par\")","v":0}]
[null,5,3,0,"  ",null,null,"bogey",{"$f":"COUNTIF(E56:E64,\"bogey\")","v":0}]
[null,6,4,0,"  ",null,null,"Double bogey",{"$f":"COUNTIF(E56:E64,\"Double bogey\")","v":0}]
[null,7,4,0,"  ",null,null,"Other",{"$f":"COUNTIF(E56:E64,\"Other\")","v":0}]
[null,8,3,0,"  "]
[null,9,5,0,"  "]
[]
[null,{"$f":"J4","v":"2025-05-02"}]
[null,{"$f":"H7","v":10},4,0,{"$f":"IF(D67<>0,IF((D67-C67)=-1,\"Birdie\",IF((D67-C67)=-2,\"Eagle\",IF((D67-C67)=0,\"Par\",IF((D67-C67)=1,\"bogey\",IF((D67-C67)=2,\"Double bogey\",\"Other\"))))),\"  \")","v":"  "},null,null,"Count"]
[null,11,4,0,"  ",null,null,"Eagle",{"$f":"COUNTIF(E67:E75,\"Eagle\")","v":0}]
[null,12,3,0,"  ",null,null,"Birdie",{"$f":"COUNTIF(E67:E75,\"Birdie\")","v":0}]
[null,13,4,0,"  ",null,null,"Par",{"$f":"COUNTIF(E67:E75,\"Par\")","v":0}]
[null,14,4,0,"  ",null,null,"bogey",{"$f":"COUNTIF(E67:E75,\"bogey\")","v":0}]
[null,15,3,0,"  ",null,null,"Double bogey",{"$f":"COUNTIF(E67:E75,\"Double bogey\")","v":0}]
[null,16,5,0,"  ",null,null,"Other",{"$f":"COUNTIF(E67:E75,\"Other\")","v":0}]
[null,17,4,0,"  "]
[null,18,5,0,"  "]
[]
[null,{"$f":"P4","v":"2025-05-09"}]
[null,{"$f":"N7","v":1},4,0,{"$f":"IF(D78<>0,IF((D78-C78)=-1,\"Birdie\",IF((D78-C78)=-2,\"Eagle\",IF((D78-C78)=0,\"Par\",IF((D78-C78)=1,\"bogey\",IF((D78-C78)=2,\"Double bogey\",\"Other\"))))),\"  \")","v":"  "},null,null,"Count"]
[null,2,4,0,"  ",null,null,"Eagle",{"$f":"COUNTIF(E78:E86,\"Eagle\")","v":0}]
[null,3,4,0,"  ",null,null,"Birdie",{"$f":"COUNTIF(E78:E86,\"Birdie\")","v":0}]
[null,4,4,0,"  ",null,null,"Par",{"$f":"COUNTIF(E78:E86,\"Par\")","v":0}]
[null,5,3,0,"  ",null,null,"bogey",{"$f":"COUNTIF(E78:E86,\"bogey\")","v":0}]
[null,6,4,0,"  ",null,null,"Double bogey",{"$f":"COUNTIF(E78:E86,\"Double bogey\")","v":0}]
[null,7,4,0,"  ",null,null,"Other",{"$f":"COUNTIF(E78:E86,\"Other\")","v":0}]
[null,8,3,0,"  "]
[null,9,5,0,"  "]
[]
[null,{"$f":"V4","v":"2025-05-16"}]
[null,{"$f":"T7","v":10},4,0,{"$f":"IF(D89<>0,IF((D89-C89)=-1,\"Birdie\",IF((D89-C89)=-2,\"Eagle\",IF((D89-C89)=0,\"Par\",IF((D89-C89)=1,\"bogey\",IF((D89-C89)=2,\"Double bogey\",\"Other\"))))),\"  \")","v":"  "},null,null,"Count"]
[null,11,4,0,"  ",null,null,"Eagle",{"$f":"COUNTIF(E89:E97,\"Eagle\")","v":0}]
[null,12,3,0,"  ",null,null,"Birdie",{"$f":"COUNTIF(E89:E97,\"Birdie\")","v":0}]
[null,13,4,0,"  ",null,null,"Par",{"$f":"COUNTIF(E89:E97,\"Par\")","v":0}]
[null,14,4,0,"  ",null,null,"bogey",{"$f":"COUNTIF(E89:E97,\"bogey\")","v":0}]
[null,15,3,0,"  ",null,null,"Double bogey",{"$f":"COUNTIF(E89:E97,\"Double bogey\")","v":0}]
[null,16,5,0,"  ",null,null,"Other",{"$f":"COUNTIF(E89:E97,\"Other\")","v":0}]
[null,17,4,0,"  "]
[null,18,5,0,"  "]
[]
[null,{"$f":"AB4","v":"2025-05-23"}]
[null,{"$f":"Z7","v":1},4,0,{"$f":"IF(D100<>0,IF((D100-C100)=-1,\"Birdie\",IF((D100-C100)=-2,\"Eagle\",IF((D100-C100)=0,\"Par\",IF((D100-C100)=1,\"bogey\",IF((D100-C100)=2,\"Double bogey\",\"Other\"))))),\"  \")","v":"  "},null,null,"Count"]
[null,2,4,0,"  ",null,null,"Eagle",{"$f":"COUNTIF(E100:E108,\"Eagle\")","v":0}]
[null,3,4,0,"  ",null,null,"Birdie",{"$f":"COUNTIF(E100:E108,\"Birdie\")","v":0}]
[null,4,4,0,"  ",null,null,"Par",{"$f":"COUNTIF(E100:E108,\"Par\")","v":0}]
[null,5,3,0,"  ",null,null,"bogey",{"$f":"COUNTIF(E100:E108,\"bogey\")","v":0}]
[null,6,4,0,"  ",null,null,"Double bogey",{"$f":"COUNTIF(E100:E108,\"Double bogey\")","v":0}]
[null,7,4,0,"  ",null,null,"Other",{"$f":"COUNTIF(E100:E108,\"Other\")","v":0}]
[null,8,3,0,"  "]
[null,9,5,0,"  "]
[]
[null,{"$f":"AH4","v":"2025-05-30"}]
[null,{"$f":"AF7","v":10},4,0,{"$f":"IF(D111<>0,IF((D111-C111)=-1,\"Birdie\",IF((D111-C111)=-2,\"Eagle\",IF((D111-C111)=0,\"Par\",IF((D111-C111)=1,\"bogey\",IF((D111-C111)=2,\"Double bogey\",\"Other\"))))),\"  \")","v":"  "},null,null,"Count"]
[null,11,4,0,"  ",null,null,"Eagle",{"$f":"COUNTIF(E111:E119,\"Eagle\")","v":0}]
[null,12,3,0,"  ",null,null,"Birdie",{"$f":"COUNTIF(E111:E119,\"Birdie\")","v":0}]
[null,13,4,0,"  ",null,null,"Par",{"$f":"COUNTIF(E111:E119,\"Par\")","v":0}]
[null,14,4,0,"  ",null,null,"bogey",{"$f":"COUNTIF(E111:E119,\"bogey\")","v":0}]
[null,15,3,0,"  ",null,null,"Double bogey",{"$f":"COUNTIF(E111:E119,\"Double bogey\")","v":0}]
[null,16,5,0,"  ",null,null,"Other",{"$f":"COUNTIF(E111:E119,\"Other\")","v":0}]
[null,17,4,0,"  "]
[null,18,5,0,"  "]
[]
[null,{"$f":"AN4","v":"2025-06-06"}]
[null,{"$f":"AL7","v":1},4,0,{"$f":"IF(D122<>0,IF((D122-C122)=-1,\"Birdie\",IF((D122-C122)=-2,\"Eagle\",IF((D122-C122)=0,\"Par\",IF((D122-C122)=1,\"bogey\",IF((D122-C122)=2,\"Double bogey\",\"Other\"))))),\"  \")","v":"  "},null,null,"Count"]
[null,2,4,0,"  ",null,null,"Eagle",{"$f":"COUNTIF(E122:E130,\"Eagle\")","v":0}]
[null,3,4,0,"  ",null,null,"Birdie",{"$f":"COUNTIF(E122:E130,\"Birdie\")","v":0}]
[null,4,4,0,"  ",null,null,"Par",{"$f":"COUNTIF(E122:E130,\"Par\")","v":0}]
[null,5,3,0,"  ",null,null,"bogey",{"$f":"COUNTIF(E122:E130,\"bogey\")","v":0}]
[null,6,4,0,"  ",null,null,"Double bogey",{"$f":"COUNTIF(E122:E130,\"Double bogey\")","v":0}]
[null,7,4,0,"  ",null,null,"Other",{"$f":"COUNTIF(E122:E130,\"Other\")","v":0}]
[null,8,3,0,"  "]
[null,9,5,0,"  "]
[]
[null,{"$f":"AT4","v":"2025-06-13"}]
[null,{"$f":"AR7","v":10},4,0,{"$f":"IF(D133<>0,IF((D133-C133)=-1,\"Birdie\",IF((D133-C133)=-2,\"Eagle\",IF((D133-C133)=0,\"Par\",IF((D133-C133)=1,\"bogey\",IF((D133-C133)=2,\"Double bogey\",\"Other\"))))),\"  \")","v":"  "},null,null,"Count"]
[null,11,4,0,"  ",null,null,"Eagle",{"$f":"COUNTIF(E133:E141,\"Eagle\")","v":0}]
[null,12,3,0,"  ",null,null,"Birdie",{"$f":"COUNTIF(E133:E141,\"Birdie\")","v":0}]
[null,13,4,0,"  ",null,null,"Par",{"$f":"COUNTIF(E133:E141,\"Par\")","v":0}]
[null,14,4,0,"  ",null,null,"bogey",{"$f":"COUNTIF(E133:E141,\"bogey\")","v":0}]
[null,15,3,0,"  ",null,null,"Double bogey",{"$f":"COUNTIF(E133:E141,\"Double bogey\")","v":0}]
[null,16,5,0,"  ",null,null,"Other",{"$f":"COUNTIF(E133:E141,\"Other\")","v":0}]
[null,17,4,0,"  "]
[null,18,5,0,"  "]
[]
[null,{"$f":"AZ4","v":"2025-06-27"}]
[null,{"$f":"AX7","v":10},4,0,{"$f":"IF(D144<>0,IF((D144-C144)=-1,\"Birdie\",IF((D144-C144)=-2,\"Eagle\",IF((D144-C144)=0,\"Par\",IF((D144-C144)=1,\"bogey\",IF((D144-C144)=2,\"Double bogey\",\"Other\"))))),\"  \")","v":"  "},null,null,"Count"]
[null,11,4,0,"  ",null,null,"Eagle",{"$f":"COUNTIF(E144:E152,\"Eagle\")","v":0}]
[null,12,3,0,"  ",null,null,"Birdie",{"$f":"COUNTIF(E144:E152,\"Birdie\")","v":0}]
[null,13,4,0,"  ",null,null,"Par",{"$f":"COUNTIF(E144:E152,\"Par\")","v":0}]
[null,14,4,0,"  ",null,null,"bogey",{"$f":"COUNTIF(E144:E152,\"bogey\")","v":0}]
[null,15,3,0,"  ",null,null,"Double bogey",{"$f":"COUNTIF(E144:E152,\"Double bogey\")","v":0}]
[null,16,5,0,"  ",null,null,"Other",{"$f":"COUNTIF(E144:E152,\"Other\")","v":0}]
[null,17,4,0,"  "]
[null,18,5,0,"  "]
[]
[null,{"$f":"BF4","v":"2025-07-04"}]
[null,{"$f":"BD7","v":10},4,0,{"$f":"IF(D155<>0,IF((D155-C155)=-1,\"Birdie\",IF((D155-C155)=-2,\"Eagle\",IF((D155-C155)=0,\"Par\",IF((D155-C155)=1,\"bogey\",IF((D155-C155)=2,\"Double bogey\",\"Other\"))))),\"  \")","v":"  "},null,null,"Count"]
[null,11,4,0,"  ",null,null,"Eagle",{"$f":"COUNTIF(E155:E163,\"Eagle\")","v":0}]
[null,12,3,0,"  ",null,null,"Birdie",{"$f":"COUNTIF(E155:E163,\"Birdie\")","v":0}]
[null,13,4,0,"  ",null,null,"Par",{"$f":"COUNTIF(E155:E163,\"Par\")","v":0}]
[null,14,4,0,"  ",null,null,"bogey",{"$f":"COUNTIF(E155:E163,\"bogey\")","v":0}]
[null,15,3,0,"  ",null,null,"Double bogey",{"$f":"COUNTIF(E155:E163,\"Double bogey\")","v":0}]
[null,16,5,0,"  ",null,null,"Other",{"$f":"COUNTIF(E155:E163,\"Other\")","v":0}]
[null,17,4,0,"  "]
[null,18,5,0,"  "]
[]
[null,{"$f":"BL4","v":"2025-07-18"}]
[null,{"$f":"BJ7","v":10},4,0,{"$f":"IF(D166<>0,IF((D166-C166)=-1,\"Birdie\",IF((D166-C166)=-2,\"Eagle\",IF((D166-C166)=0,\"Par\",IF((D166-C166)=1,\"bogey\",IF((D166-C166)=2,\"Double bogey\",\"Other\"))))),\"  \")","v":"  "},null,null,"Count"]
[null,11,4,0,"  ",null,null,"Eagle",{"$f":"COUNTIF(E166:E174,\"Eagle\")","v":0}]
[null,12,3,0,"  ",null,null,"Birdie",{"$f":"COUNTIF(E166:E174,\"Birdie\")","v":0}]
[null,13,4,0,"  ",null,null,"Par",{"$f":"COUNTIF(E166:E174,\"Par\")","v":0}]
[null,14,4,0,"  ",null,null,"bogey",{"$f":"COUNTIF(E166:E174,\"bogey\")","v":0}]
[null,15,3,0,"  ",null,null,"Double bogey",{"$f":"COUNTIF(E166:E174,\"Double bogey\")","v":0}]
[null,16,5,0,"  ",null,null,"Other",{"$f":"COUNTIF(E166:E174,\"Other\")","v":0}]
[null,17,4,0,"  "]
[null,18,5,0,"  "]
[]
[null,{"$f":"BR4","v":"2025-07-25"}]
[null,{"$f":"BP7","v":1},4,0,{"$f":"IF(D177<>0,IF((D177-C177)=-1,\"Birdie\",IF((D177-C177)=-2,\"Eagle\",IF((D177-C177)=0,\"Par\",IF((D177-C177)=1,\"bogey\",IF((D177-C177)=2,\"Double bogey\",\"Other\"))))),\"  \")","v":"  "},null,null,"Count"]
[null,2,4,0,"  ",null,null,"Eagle",{"$f":"COUNTIF(E177:E185,\"Eagle\")","v":0}]
[null,3,4,0,"  ",null,null,"Birdie",{"$f":"COUNTIF(E177:E185,\"Birdie\")","v":0}]
[null,4,4,0,"  ",null,null,"Par",{"$f":"COUNTIF(E177:E185,\"Par\")","v":0}]
[null,5,3,0,"  ",null,null,"bogey",{"$f":"COUNTIF(E177:E185,\"bogey\")","v":0}]
[null,6,4,0,"  ",null,null,"Double bogey",{"$f":"COUNTIF(E177:E185,\"Double bogey\")","v":0}]
[null,7,4,0,"  ",null,null,"Other",{"$f":"COUNTIF(E177:E185,\"Other\")","v":0}]
[null,8,3,0,"  "]
[null,9,5,0,"  "]
[]
[null,{"$f":"BX4","v":"2025-08-01"}]
[null,{"$f":"BV7","v":10},4,0,{"$f":"IF(D188<>0,IF((D188-C188)=-1,\"Birdie\",IF((D188-C188)=-2,\"Eagle\",IF((D188-C188)=0,\"Par\",IF((D188-C188)=1,\"bogey\",IF((D188-C188)=2,\"Double bogey\",\"Other\"))))),\"  \")","v":"  "},null,null,"Count"]
[null,11,4,0,"  ",null,null,"Eagle",{"$f":"COUNTIF(E188:E196,\"Eagle\")","v":0}]
[null,12,3,0,"  ",null,null,"Birdie",{"$f":"COUNTIF(E188:E196,\"Birdie\")","v":0}]
[null,13,4,0,"  ",null,null,"Par",{"$f":"COUNTIF(E188:E196,\"Par\")","v":0}]
[null,14,4,0,"  ",null,null,"bogey",{"$f":"COUNTIF(E188:E196,\"bogey\")","v":0}]
[null,15,3,0,"  ",null,null,"Double bogey",{"$f":"COUNTIF(E188:E196,\"Double bogey\")","v":0}]
[null,16,5,0,"  ",null,null,"Other",{"$f":"COUNTIF(E188:E196,\"Other\")","v":0}]
[null,17,4,0,"  "]
[null,18,5,0,"  "]
[]
[null,{"$f":"CD4","v":"2025-08-08"}]
[null,{"$f":"CB7","v":1},4,0,{"$f":"IF(D199<>0,IF((D199-C199)=-1,\"Birdie\",IF((D199-C199)=-2,\"Eagle\",IF((D199-C199)=0,\"Par\",IF((D199-C199)=1,\"bogey\",IF((D199-C199)=2,\"Double bogey\",\"Other\"))))),\"  \")","v":"  "},null,null,"Count"]
[null,2,4,0,"  ",null,null,"Eagle",{"$f":"COUNTIF(E199:E207,\"Eagle\")","v":0}]
[null,3,4,0,"  ",null,null,"Birdie",{"$f":"COUNTIF(E199:E207,\"Birdie\")","v":0}]
[null,4,4,0,"  ",null,null,"Par",{"$f":"COUNTIF(E199:E207,\"Par\")","v":0}]
[null,5,3,0,"  ",null,null,"bogey",{"$f":"COUNTIF(E199:E207,\"bogey\")","v":0}]
[null,6,4,0,"  ",null,null,"Double bogey",{"$f":"COUNTIF(E199:E207,\"Double bogey\")","v":0}]
[null,7,4,0,"  ",null,null,"Other",{"$f":"COUNTIF(E199:E207,\"Other\")","v":0}]
[null,8,3,0,"  "]
[null,9,5,0,"  "]
[]
[null,{"$f":"CJ4","v":"2025-08-15"}]
[null,{"$f":"CH7","v":10},4,0,{"$f":"IF(D210<>0,IF((D210-C210)=-1,\"Birdie\",IF((D210-C210)=-2,\"Eagle\",IF((D210-C210)=0,\"Par\",IF((D210-C210)=1,\"bogey\",IF((D210-C210)=2,\"Double bogey\",\"Other\"))))),\"  \")","v":"  "},null,null,"Count"]
[null,11,4,0,"  ",null,null,"Eagle",{"$f":"COUNTIF(E210:E218,\"Eagle\")","v":0}]
[null,12,3,0,"  ",null,null,"Birdie",{"$f":"COUNTIF(E210:E218,\"Birdie\")","v":0}]
[null,13,4,0,"  ",null,null,"Par",{"$f":"COUNTIF(E210:E218,\"Par\")","v":0}]
[null,14,4,0,"  ",null,null,"bogey",{"$f":"COUNTIF(E210:E218,\"bogey\")","v":0}]
[null,15,3,0,"  ",null,null,"Double bogey",{"$f":"COUNTIF(E210:E218,\"Double bogey\")","v":0}]
[null,16,5,0,"  ",null,null,"Other",{"$f":"COUNTIF(E210:E218,\"Other\")","v":0}]
[null,17,4,0,"  "]
[null,18,5,0,"  "]

{"sheet":"Rusnak","index":18,"n_rows":218,"n_cols":90,"rows_kept":218,"cut":false,"hidden":false,"merged":[]}
["Mark Rusnak"]
[]
[]
[null,null,"Date:",{"$f":"VLOOKUP(C5,Week,2)","v":"2025-04-25"},null,null,null,null,"Date:",{"$f":"VLOOKUP(I5,Week,2)","v":"2025-05-02"},null,null,null,null,"Date:",{"$f":"VLOOKUP(O5,Week,2)","v":"2025-05-09"},null,null,null,null,"Date:",{"$f":"VLOOKUP(U5,Week,2)","v":"2025-05-16"},null,null,null,null,"Date:",{"$f":"VLOOKUP(AA5,Week,2)","v":"2025-05-23"},null,null,null,null,"Date:",{"$f":"VLOOKUP(AG5,Week,2)","v":"2025-05-30"},null,null,null,null,"Date:",{"$f":"VLOOKUP(AM5,Week,2)","v":"2025-06-06"},null,null,null,null,"Date:",{"$f":"VLOOKUP(AS5,Week,2)","v":"2025-06-13"},null,null,null,null,"Date:",{"$f":"VLOOKUP(AY5,Week,2)","v":"2025-06-27"},null,null,null,null,"Date:",{"$f":"VLOOKUP(BE5,Week,2)","v":"2025-07-04"},null,null,null,null,"Date:",{"$f":"VLOOKUP(BK5,Week,2)","v":"2025-07-18"},null,null,null,null,"Date:",{"$f":"VLOOKUP(BQ5,Week,2)","v":"2025-07-25"},null,null,null,null,"Date:",{"$f":"VLOOKUP(BW5,Week,2)","v":"2025-08-01"},null,null,null,null,"Date:",{"$f":"VLOOKUP(CC5,Week,2)","v":"2025-08-08"},null,null,null,null,"Date:",{"$f":"VLOOKUP(CI5,Week,2)","v":"2025-08-15"}]
[null,"Week",1,null,null,null,null,"Week",2,null,null,null,null,"Week",3,null,null,null,null,"Week",4,null,null,null,null,"Week",5,null,null,null,null,"Week",6,null,null,null,null,"Week",7,null,null,null,null,"Week",8,null,null,null,null,"Week",9,null,null,null,null,"Week",10,null,null,null,null,"Week",11,null,null,null,null,"Week",12,null,null,null,null,"Week",13,null,null,null,null,"Week",14,null,null,null,null,"Week",15]
[null,"Hole #","Par","Score","Net","Win Hole",null,"Hole #","Par","Score","Net","Win Hole",null,"Hole #","Par","Score","Net","Win Hole",null,"Hole #","Par","Score","Net","Win Hole",null,"Hole #","Par","Score","Net","Win Hole",null,"Hole #","Par","Score","Net","Win Hole",null,"Hole #","Par","Score","Net","Win Hole",null,"Hole #","Par","Score","Net","Win Hole",null,"Hole #","Par","Score","Net","Win Hole",null,"Hole #","Par","Score","Net","Win Hole",null,"Hole #","Par","Score","Net","Win Hole",null,"Hole #","Par","Score","Net","Win Hole",null,"Hole #","Par","Score","Net","Win Hole",null,"Hole #","Par","Score","Net","Win Hole",null,"Hole #","Par","Score","Net","Win Hole"]
[null,{"$f":"VLOOKUP(C5,Week,6)","v":1},{"$f":"VLOOKUP(B7,Holes,2)","v":4},null,{"$f":"IF((D7-C7)>3,C7+3,D7)","v":0},null,null,{"$f":"VLOOKUP(I5,Week,6)","v":10},{"$f":"VLOOKUP(H7,Holes,2)","v":4},null,{"$f":"IF((J7-I7)>3,I7+3,J7)","v":0},null,null,{"$f":"VLOOKUP(O5,Week,6)","v":1},{"$f":"VLOOKUP(N7,Holes,2)","v":4},null,{"$f":"IF((P7-O7)>3,O7+3,P7)","v":0},null,null,{"$f":"VLOOKUP(U5,Week,6)","v":10},{"$f":"VLOOKUP(T7,Holes,2)","v":4},null,{"$f":"IF((V7-U7)>3,U7+3,V7)","v":0},null,null,{"$f":"VLOOKUP(AA5,Week,6)","v":1},{"$f":"VLOOKUP(Z7,Holes,2)","v":4},null,{"$f":"IF((AB7-AA7)>3,AA7+3,AB7)","v":0},null,null,{"$f":"VLOOKUP(AG5,Week,6)","v":10},{"$f":"VLOOKUP(AF7,Holes,2)","v":4},null,{"$f":"IF((AH7-AG7)>3,AG7+3,AH7)","v":0},null,null,{"$f":"VLOOKUP(AM5,Week,6)","v":1},{"$f":"VLOOKUP(AL7,Holes,2)","v":4},null,{"$f":"IF((AN7-AM7)>3,AM7+3,AN7)","v":0},null,null,{"$f":"VLOOKUP(AS5,Week,6)","v":10},{"$f":"VLOOKUP(AR7,Holes,2)","v":4},null,{"$f":"IF((AT7-AS7)>3,AS7+3,AT7)","v":0},null,null,{"$f":"VLOOKUP(AY5,Week,6)","v":10},{"$f":"VLOOKUP(AX7,Holes,2)","v":4},null,{"$f":"IF((AZ7-AY7)>3,AY7+3,AZ7)","v":0},null,null,{"$f":"VLOOKUP(BE5,Week,6)","v":10},{"$f":"VLOOKUP(BD7,Holes,2)","v":4},null,{"$f":"IF((BF7-BE7)>3,BE7+3,BF7)","v":0},null,null,{"$f":"VLOOKUP(BK5,Week,6)","v":10},{"$f":"VLOOKUP(BJ7,Holes,2)","v":4},null,{"$f":"IF((BL7-BK7)>3,BK7+3,BL7)","v":0},null,null,{"$f":"VLOOKUP(BQ5,Week,6)","v":1},{"$f":"VLOOKUP(BP7,Holes,2)","v":4},null,{"$f":"IF((BR7-BQ7)>3,BQ7+3,BR7)","v":0},null,null,{"$f":"VLOOKUP(BW5,Week,6)","v":10},{"$f":"VLOOKUP(BV7,Holes,2)","v":4},null,{"$f":"IF((BX7-BW7)>3,BW7+3,BX7)","v":0},null,null,{"$f":"VLOOKUP(CC5,Week,6)","v":1},{"$f":"VLOOKUP(CB7,Holes,2)","v":4},null,{"$f":"IF((CD7-CC7)>3,CC7+3,CD7)","v":0},null,null,{"$f":"VLOOKUP(CI5,Week,6)","v":10},{"$f":"VLOOKUP(CH7,Holes,2)","v":4},null,{"$f":"IF((CJ7-CI7)>3,CI7+3,CJ7)","v":0}]
[null,{"$f":"+B7+1","v":2},4,null,0,null,null,{"$f":"+H7+1","v":11},4,null,0,null,null,{"$f":"+N7+1","v":2},4,null,0,null,null,{"$f":"+T7+1","v":11},4,null,0,null,null,{"$f":"+Z7+1","v":2},4,null,0,null,null,{"$f":"+AF7+1","v":11},4,null,0,null,null,{"$f":"+AL7+1","v":2},4,null,0,null,null,{"$f":"+AR7+1","v":11},4,null,0,null,null,{"$f":"+AX7+1","v":11},4,null,0,null,null,{"$f":"+BD7+1","v":11},4,null,0,null,null,{"$f":"+BJ7+1","v":11},4,null,0,null,null,{"$f":"+BP7+1","v":2},4,null,0,null,null,{"$f":"+BV7+1","v":11},4,null,0,null,null,{"$f":"+CB7+1","v":2},4,null,0,null,null,{"$f":"+CH7+1","v":11},4,null,0]
[null,3,4,null,0,null,null,12,3,null,0,null,null,3,4,null,0,null,null,12,3,null,0,null,null,3,4,null,0,null,null,12,3,null,0,null,null,3,4,null,0,null,null,12,3,null,0,null,null,12,3,null,0,null,null,12,3,null,0,null,null,12,3,null,0,null,null,3,4,null,0,null,null,12,3,null,0,null,null,3,4,null,0,null,null,12,3,null,0]
[null,4,4,null,0,null,null,13,4,null,0,null,null,4,4,null,0,null,null,13,4,null,0,null,null,4,4,null,0,null,null,13,4,null,0,null,null,4,4,null,0,null,null,13,4,null,0,null,null,13,4,null,0,null,null,13,4,null,0,null,null,13,4,null,0,null,null,4,4,null,0,null,null,13,4,null,0,null,null,4,4,null,0,null,null,13,4,null,0]
[null,5,3,null,0,null,null,14,4,null,0,null,null,5,3,null,0,null,null,14,4,null,0,null,null,5,3,null,0,null,null,14,4,null,0,null,null,5,3,null,0,null,null,14,4,null,0,null,null,14,4,null,0,null,null,14,4,null,0,null,null,14,4,null,0,null,null,5,3,null,0,null,null,14,4,null,0,null,null,5,3,null,0,null,null,14,4,null,0]
[null,6,4,null,0,null,null,15,3,null,0,null,null,6,4,null,0,null,null,15,3,null,0,null,null,6,4,null,0,null,null,15,3,null,0,null,null,6,4,null,0,null,null,15,3,null,0,null,null,15,3,null,0,null,null,15,3,null,0,null,null,15,3,null,0,null,null,6,4,null,0,null,null,15,3,null,0,null,null,6,4,null,0,null,null,15,3,null,0]
[null,7,4,null,0,null,null,16,5,null,0,null,null,7,4,null,0,null,null,16,5,null,0,null,null,7,4,null,0,null,null,16,5,null,0,null,null,7,4,null,0,null,null,16,5,null,0,null,null,16,5,null,0,null,null,16,5,null,0,null,null,16,5,null,0,null,null,7,4,null,0,null,null,16,5,null,0,null,null,7,4,null,0,null,null,16,5,null,0]
[null,8,3,null,0,null,null,17,4,null,0,null,null,8,3,null,0,null,null,17,4,null,0,null,null,8,3,null,0,null,null,17,4,null,0,null,null,8,3,null,0,null,null,17,4,null,0,null,null,17,4,null,0,null,null,17,4,null,0,null,null,17,4,null,0,null,null,8,3,null,0,null,null,17,4,null,0,null,null,8,3,null,0,null,null,17,4,null,0]
[null,9,5,null,0,null,null,18,5,null,0,null,null,9,5,null,0,null,null,18,5,null,0,null,null,9,5,null,0,null,null,18,5,null,0,null,null,9,5,null,0,null,null,18,5,null,0,null,null,18,5,null,0,null,null,18,5,null,0,null,null,18,5,null,0,null,null,9,5,null,0,null,null,18,5,null,0,null,null,9,5,null,0,null,null,18,5,null,0]
[null,"Total",{"$f":"SUM(C7:C15)","v":35},{"$f":"SUM(D7:D15)","v":0},{"$f":"SUM(E7:E15)","v":0},{"$f":"SUM(F7:F15)","v":0},null,"Total",{"$f":"SUM(I7:I15)","v":36},{"$f":"SUM(J7:J15)","v":0},{"$f":"SUM(K7:K15)","v":0},{"$f":"SUM(L7:L15)","v":0},null,"Total",{"$f":"SUM(O7:O15)","v":35},{"$f":"SUM(P7:P15)","v":0},{"$f":"SUM(Q7:Q15)","v":0},{"$f":"SUM(R7:R15)","v":0},null,"Total",{"$f":"SUM(U7:U15)","v":36},{"$f":"SUM(V7:V15)","v":0},{"$f":"SUM(W7:W15)","v":0},{"$f":"SUM(X7:X15)","v":0},null,"Total",{"$f":"SUM(AA7:AA15)","v":35},{"$f":"SUM(AB7:AB15)","v":0},{"$f":"SUM(AC7:AC15)","v":0},{"$f":"SUM(AD7:AD15)","v":0},null,"Total",{"$f":"SUM(AG7:AG15)","v":36},{"$f":"SUM(AH7:AH15)","v":0},{"$f":"SUM(AI7:AI15)","v":0},{"$f":"SUM(AJ7:AJ15)","v":0},null,"Total",{"$f":"SUM(AM7:AM15)","v":35},{"$f":"SUM(AN7:AN15)","v":0},{"$f":"SUM(AO7:AO15)","v":0},{"$f":"SUM(AP7:AP15)","v":0},null,"Total",{"$f":"SUM(AS7:AS15)","v":36},{"$f":"SUM(AT7:AT15)","v":0},{"$f":"SUM(AU7:AU15)","v":0},{"$f":"SUM(AV7:AV15)","v":0},null,"Total",{"$f":"SUM(AY7:AY15)","v":36},{"$f":"SUM(AZ7:AZ15)","v":0},{"$f":"SUM(BA7:BA15)","v":0},{"$f":"SUM(BB7:BB15)","v":0},null,"Total",{"$f":"SUM(BE7:BE15)","v":36},{"$f":"SUM(BF7:BF15)","v":0},{"$f":"SUM(BG7:BG15)","v":0},{"$f":"SUM(BH7:BH15)","v":0},null,"Total",{"$f":"SUM(BK7:BK15)","v":36},{"$f":"SUM(BL7:BL15)","v":0},{"$f":"SUM(BM7:BM15)","v":0},{"$f":"SUM(BN7:BN15)","v":0},null,"Total",{"$f":"SUM(BQ7:BQ15)","v":35},{"$f":"SUM(BR7:BR15)","v":0},{"$f":"SUM(BS7:BS15)","v":0},{"$f":"SUM(BT7:BT15)","v":0},null,"Total",{"$f":"SUM(BW7:BW15)","v":36},{"$f":"SUM(BX7:BX15)","v":0},{"$f":"SUM(BY7:BY15)","v":0},{"$f":"SUM(BZ7:BZ15)","v":0},null,"Total",{"$f":"SUM(CC7:CC15)","v":35},{"$f":"SUM(CD7:CD15)","v":0},{"$f":"SUM(CE7:CE15)","v":0},{"$f":"SUM(CF7:CF15)","v":0},null,"Total",{"$f":"SUM(CI7:CI15)","v":36},{"$f":"SUM(CJ7:CJ15)","v":0},{"$f":"SUM(CK7:CK15)","v":0},{"$f":"SUM(CL7:CL15)","v":0}]
[]
[null,null,null,null,"Low Net",null,null,null,null,null,"Low Net",0,null,null,null,null,"Low Net",0,null,null,null,null,"Low Net",null,null,null,null,null,"Low Net",null,null,null,null,null,"Low Net",null,null,null,null,null,"Low Net",null,null,null,null,null,"Low Net",null,null,null,null,null,"Low Net",null,null,null,null,null,"Low Net",null,null,null,null,null,"Low Net",null,null,null,null,null,"Low Net",null,null,null,null,null,"Low Net",null,null,null,null,null,"Low Net",null,null,null,null,null,"Low Net"]
[]
[null,null,null,null,"Total Points",{"$f":"SUM(F16:F19)","v":0},null,null,null,null,"Total Points",{"$f":"SUM(L16:L19)","v":0},null,null,null,null,"Total Points",{"$f":"SUM(R16:R19)","v":0},null,null,null,null,"Total Points",{"$f":"SUM(X16:X19)","v":0},null,null,null,null,"Total Points",{"$f":"SUM(AD16:AD19)","v":0},null,null,null,null,"Total Points",{"$f":"SUM(AJ16:AJ19)","v":0},null,null,null,null,"Total Points",{"$f":"SUM(AP16:AP19)","v":0},null,null,null,null,"Total Points",{"$f":"SUM(AV16:AV19)","v":0},null,null,null,null,"Total Points",{"$f":"SUM(BB16:BB19)","v":0},null,null,null,null,"Total Points",{"$f":"SUM(BH16:BH19)","v":0},null,null,null,null,"Total Points",{"$f":"SUM(BN16:BN19)","v":0},null,null,null,null,"Total Points",{"$f":"SUM(BT16:BT19)","v":0},null,null,null,null,"Total Points",{"$f":"SUM(BZ16:BZ19)","v":0},null,null,null,null,"Total Points",{"$f":"SUM(CF16:CF19)","v":0},null,null,null,null,"Total Points",{"$f":"SUM(CL16:CL19)","v":0}]
[]
[null,null,null,null,"Handicap",{"$f":"IF(D16=0,0,E16-C16)","v":0},null,null,null,null,"Handicap",{"$f":"IF(J16=0,0,K16-I16)","v":0},null,null,null,null,"Handicap",{"$f":"IF(P16=0,0,Q16-O16)","v":0},null,null,null,null,"Handicap",{"$f":"IF(V16=0,0,W16-U16)","v":0},null,null,null,null,"Handicap",{"$f":"IF(AB16=0,0,AC16-AA16)","v":0},null,null,null,null,"Handicap",{"$f":"IF(AH16=0,0,AI16-AG16)","v":0},null,null,null,null,"Handicap",{"$f":"IF(AN16=0,0,AO16-AM16)","v":0},null,null,null,null,"Handicap",{"$f":"IF(AT16=0,0,AU16-AS16)","v":0},null,null,null,null,"Handicap",{"$f":"IF(AZ16=0,0,BA16-AY16)","v":0},null,null,null,null,"Handicap",{"$f":"IF(BF16=0,0,BG16-BE16)","v":0},null,null,null,null,"Handicap",{"$f":"IF(BL16=0,0,BM16-BK16)","v":0},null,null,null,null,"Handicap",{"$f":"IF(BR16=0,0,BS16-BQ16)","v":0},null,null,null,null,"Handicap",{"$f":"IF(BX16=0,0,BY16-BW16)","v":0},null,null,null,null,"Handicap",{"$f":"IF(CD16=0,0,CE16-CC16)","v":0},null,null,null,null,"Handicap",{"$f":"IF(CJ16=0,0,CK16-CI16)","v":0}]
[]
[null,null,null,null,null,{"$f":"IF(D16<>0,IF(F16>4.5,\"W\",IF(F16=4.5,\"T\",IF(F16<4.5,\"L\"))),0)","v":0},null,null,null,null,null,{"$f":"IF(J16<>0,IF(L16>4.5,\"W\",IF(L16=4.5,\"T\",IF(L16<4.5,\"L\"))),0)","v":0},null,null,null,null,null,{"$f":"IF(P16<>0,IF(R16>4.5,\"W\",IF(R16=4.5,\"T\",IF(R16<4.5,\"L\"))),0)","v":0},null,null,null,null,null,{"$f":"IF(V16<>0,IF(X16>4.5,\"W\",IF(X16=4.5,\"T\",IF(X16<4.5,\"L\"))),0)","v":0},null,null,null,null,null,{"$f":"IF(AB16<>0,IF(AD16>4.5,\"W\",IF(AD16=4.5,\"T\",IF(AD16<4.5,\"L\"))),0)","v":0},null,null,null,null,null,{"$f":"IF(AH16<>0,IF(AJ16>4.5,\"W\",IF(AJ16=4.5,\"T\",IF(AJ16<4.5,\"L\"))),0)","v":0},null,null,null,null,null,{"$f":"IF(AN16<>0,IF(AP16>4.5,\"W\",IF(AP16=4.5,\"T\",IF(AP16<4.5,\"L\"))),0)","v":0},null,null,null,null,null,{"$f":"IF(AT16<>0,IF(AV16>4.5,\"W\",IF(AV16=4.5,\"T\",IF(AV16<4.5,\"L\"))),0)","v":0},null,null,null,null,null,{"$f":"IF(AZ16<>0,IF(BB16>4.5,\"W\",IF(BB16=4.5,\"T\",IF(BB16<4.5,\"L\"))),0)","v":0},null,null,null,null,null,{"$f":"IF(BF16<>0,IF(BH16>4.5,\"W\",IF(BH16=4.5,\"T\",IF(BH16<4.5,\"L\"))),0)","v":0},null,null,null,null,null,{"$f":"IF(BL16<>0,IF(BN16>4.5,\"W\",IF(BN16=4.5,\"T\",IF(BN16<4.5,\"L\"))),0)","v":0},null,null,null,null,null,{"$f":"IF(BR16<>0,IF(BT16>4.5,\"W\",IF(BT16=4.5,\"T\",IF(BT16<4.5,\"L\"))),0)","v":0},null,null,null,null,null,{"$f":"IF(BX16<>0,IF(BZ16>4.5,\"W\",IF(BZ16=4.5,\"T\",IF(BZ16<4.5,\"L\"))),0)","v":0},null,null,null,null,null,{"$f":"IF(CD16<>0,IF(CF16>4.5,\"W\",IF(CF16=4.5,\"T\",IF(CF16<4.5,\"L\"))),0)","v":0},null,null,null,null,null,{"$f":"IF(CJ16<>0,IF(CL16>4.5,\"W\",IF(CL16=4.5,\"T\",IF(CL16<4.5,\"L\"))),0)","v":0}]
[]
[null,"Summary"]
[null,null,null,"Adj",null,"Adj",null,null,null,"Avg Score"]
[null,null,"Points","Points","Matches","Matches",null,null,"Hole #","by Hole","Best","Worst"]
[null,"Week #1",{"$f":"F20","v":0},{"$f":"C29","v":0},{"$f":"IF(D16>0,1,0)","v":0},{"$f":"E29","v":0},null,null,1,{"$f":"IFERROR(AVERAGE(D7),0)","v":0},{"$f":"IFERROR(MIN(J7,V7,AH7,AT7,BF7,BR7,BX7,CJ7),0)","v":0},{"$f":"IFERROR(MAX(J7,V7,AH7,AT7,BF7,BR7,BX7,CJ7),0)","v":0}]
[null,"Week #2",{"$f":"L20","v":0},0,{"$f":"IF(J16>0,1,0)","v":0},0,null,null,2,{"$f":"IFERROR(AVERAGE(D8),0)","v":0},{"$f":"IFERROR(MIN(J8,V8,AH8,AT8,BF8,BR8,BX8,CJ8),0)","v":0},{"$f":"IFERROR(MAX(J8,V8,AH8,AT8,BF8,BR8,BX8,CJ8),0)","v":0}]
[null,"Week #3",{"$f":"R20","v":0},0,{"$f":"IF(P16>0,1,0)","v":0},0,null,null,3,0,0,0]
[null,"Week #4",{"$f":"X20","v":0},0,{"$f":"IF(V16>0,1,0)","v":0},0,null,null,4,0,0,0]
[null,"Week #5",{"$f":"AD20","v":0},0,{"$f":"IF(AB16>0,1,0)","v":0},0,null,null,5,0,0,0]
[null,"Week #6",{"$f":"AJ20","v":0},0,{"$f":"IF(AH16>0,1,0)","v":0},0,null,null,6,0,0,0]
[null,"Week #7",{"$f":"AP20","v":0},0,{"$f":"IF(AN16>0,1,0)","v":0},0,null,null,7,0,0,0]
[null,"Week #8",{"$f":"AV20","v":0},0,{"$f":"IF(AT16>0,1,0)","v":0},0,null,null,8,0,0,0]
[null,"Week #9",{"$f":"BB20","v":0},0,{"$f":"IF(AZ16>0,1,0)","v":0},0,null,null,9,0,0,0]
[null,"Week #10",{"$f":"BH20","v":0},0,{"$f":"IF(BF16>0,1,0)","v":0},0,null,null,"Front",{"$f":"SUM(J29:J37)","v":0},{"$f":"SUM(K29:K37)","v":0},0]
[null,"Week #11",{"$f":"BN20","v":0},0,{"$f":"IF(BL16>0,1,0)","v":0},0]
[null,"Week #12",{"$f":"BT20","v":0},0,{"$f":"IF(BR16>0,1,0)","v":0},0,null,null,10,{"$f":"IFERROR(AVERAGE(J7),0)","v":0},{"$f":"IFERROR(MIN(D7,P7,AB7,AN7,AZ7,BL7,CD7),0)","v":0},{"$f":"IFERROR(MAX(D7,P7,AB7,AN7,AZ7,BL7,CD7),0)","v":0}]
[null,"Week #13",{"$f":"BZ20","v":0},0,{"$f":"IF(BX16>0,1,0)","v":0},0,null,null,11,{"$f":"IFERROR(AVERAGE(J8),0)","v":0},{"$f":"IFERROR(MIN(D8,P8,AB8,AN8,AZ8,BL8,CD8),0)","v":0},{"$f":"IFERROR(MAX(D8,P8,AB8,AN8,AZ8,BL8,CD8),0)","v":0}]
[null,"Week #14",{"$f":"CF20","v":0},0,{"$f":"IF(CD16>0,1,0)","v":0},0,null,null,12,0,0,0]
[null,"Week #15",{"$f":"CL20","v":0},0,{"$f":"IF(CJ16>0,1,0)","v":0},0,null,null,13,0,0,0]
[null,"Total",{"$f":"SUM(C29:C43)","v":0},{"$f":"SUM(D29:D43)","v":0},{"$f":"SUM(E29:E43)","v":0},{"$f":"SUM(F29:F43)","v":0},null,null,14,0,0,0]
[null,null,null,null,null,null,null,null,15,0,0,0]
[null,"Summary",null,null,null,null,null,null,16,0,0,0]
[null,"Eagles",{"$f":"I57+I68+I79+I90+I101+I112+I123+I134+I145+I156+I167+I178+I189+I200+I211","v":0},null,null,null,null,null,17,0,0,0]
[null,"Birdies",0,null,null,null,null,null,18,0,0,0]
[null,"Pars",{"$f":"I59+I70+I81+I92+I103+I114+I125+I136+I147+I158+I169+I180+I191+I202+I213","v":0},null,null,null,null,null,"Back",{"$f":"SUM(J40:J48)","v":0},{"$f":"SUM(K40:K48)","v":0},0]
[null,"bogeys",0]
[null,"Double bogeys",0]
[null,"Other",0]
[null,"Total",{"$f":"SUM(C47:C52)","v":0}]
[]
[null,{"$f":"D4","v":"2025-04-25"},"Par","Score"]
[null,{"$f":"B7","v":1},4,0,{"$f":"IF(D56<>0,IF((D56-C56)=-1,\"Birdie\",IF((D56-C56)=-2,\"Eagle\",IF((D56-C56)=0,\"Par\",IF((D56-C56)=1,\"bogey\",IF((D56-C56)=2,\"Double bogey\",\"Other\"))))),\"  \")","v":"  "},null,null,"Count"]
[null,2,4,0,"  ",null,null,"Eagle",{"$f":"COUNTIF(E56:E64,\"Eagle\")","v":0}]
[null,3,4,0,"  ",null,null,"Birdie",{"$f":"COUNTIF(E56:E64,\"Birdie\")","v":0}]
[null,4,4,0,"  ",null,null,"Par",{"$f":"COUNTIF(E56:E64,\"Par\")","v":0}]
[null,5,3,0,"  ",null,null,"bogey",{"$f":"COUNTIF(E56:E64,\"bogey\")","v":0}]
[null,6,4,0,"  ",null,null,"Double bogey",{"$f":"COUNTIF(E56:E64,\"Double bogey\")","v":0}]
[null,7,4,0,"  ",null,null,"Other",{"$f":"COUNTIF(E56:E64,\"Other\")","v":0}]
[null,8,3,0,"  "]
[null,9,5,0,"  "]
[]
[null,{"$f":"J4","v":"2025-05-02"}]
[null,{"$f":"H7","v":10},4,0,{"$f":"IF(D67<>0,IF((D67-C67)=-1,\"Birdie\",IF((D67-C67)=-2,\"Eagle\",IF((D67-C67)=0,\"Par\",IF((D67-C67)=1,\"bogey\",IF((D67-C67)=2,\"Double bogey\",\"Other\"))))),\"  \")","v":"  "},null,null,"Count"]
[null,11,4,0,"  ",null,null,"Eagle",{"$f":"COUNTIF(E67:E75,\"Eagle\")","v":0}]
[null,12,3,0,"  ",null,null,"Birdie",{"$f":"COUNTIF(E67:E75,\"Birdie\")","v":0}]
[null,13,4,0,"  ",null,null,"Par",{"$f":"COUNTIF(E67:E75,\"Par\")","v":0}]
[null,14,4,0,"  ",null,null,"bogey",{"$f":"COUNTIF(E67:E75,\"bogey\")","v":0}]
[null,15,3,0,"  ",null,null,"Double bogey",{"$f":"COUNTIF(E67:E75,\"Double bogey\")","v":0}]
[null,16,5,0,"  ",null,null,"Other",{"$f":"COUNTIF(E67:E75,\"Other\")","v":0}]
[null,17,4,0,"  "]
[null,18,5,0,"  "]
[]
[null,{"$f":"P4","v":"2025-05-09"}]
[null,{"$f":"N7","v":1},4,0,{"$f":"IF(D78<>0,IF((D78-C78)=-1,\"Birdie\",IF((D78-C78)=-2,\"Eagle\",IF((D78-C78)=0,\"Par\",IF((D78-C78)=1,\"bogey\",IF((D78-C78)=2,\"Double bogey\",\"Other\"))))),\"  \")","v":"  "},null,null,"Count"]
[null,2,4,0,"  ",null,null,"Eagle",{"$f":"COUNTIF(E78:E86,\"Eagle\")","v":0}]
[null,3,4,0,"  ",null,null,"Birdie",{"$f":"COUNTIF(E78:E86,\"Birdie\")","v":0}]
[null,4,4,0,"  ",null,null,"Par",{"$f":"COUNTIF(E78:E86,\"Par\")","v":0}]
[null,5,3,0,"  ",null,null,"bogey",{"$f":"COUNTIF(E78:E86,\"bogey\")","v":0}]
[null,6,4,0,"  ",null,null,"Double bogey",{"$f":"COUNTIF(E78:E86,\"Double bogey\")","v":0}]
[null,7,4,0,"  ",null,null,"Other",{"$f":"COUNTIF(E78:E86,\"Other\")","v":0}]
[null,8,3,0,"  "]
[null,9,5,0,"  "]
[]
[null,{"$f":"V4","v":"2025-05-16"}]
[null,{"$f":"T7","v":10},4,0,{"$f":"IF(D89<>0,IF((D89-C89)=-1,\"Birdie\",IF((D89-C89)=-2,\"Eagle\",IF((D89-C89)=0,\"Par\",IF((D89-C89)=1,\"bogey\",IF((D89-C89)=2,\"Double bogey\",\"Other\"))))),\"  \")","v":"  "},null,null,"Count"]
[null,11,4,0,"  ",null,null,"Eagle",{"$f":"COUNTIF(E89:E97,\"Eagle\")","v":0}]
[null,12,3,0,"  ",null,null,"Birdie",{"$f":"COUNTIF(E89:E97,\"Birdie\")","v":0}]
[null,13,4,0,"  ",null,null,"Par",{"$f":"COUNTIF(E89:E97,\"Par\")","v":0}]
[null,14,4,0,"  ",null,null,"bogey",{"$f":"COUNTIF(E89:E97,\"bogey\")","v":0}]
[null,15,3,0,"  ",null,null,"Double bogey",{"$f":"COUNTIF(E89:E97,\"Double bogey\")","v":0}]
[null,16,5,0,"  ",null,null,"Other",{"$f":"COUNTIF(E89:E97,\"Other\")","v":0}]
[null,17,4,0,"  "]
[null,18,5,0,"  "]
[]
[null,{"$f":"AB4","v":"2025-05-23"}]
[null,{"$f":"Z7","v":1},4,0,{"$f":"IF(D100<>0,IF((D100-C100)=-1,\"Birdie\",IF((D100-C100)=-2,\"Eagle\",IF((D100-C100)=0,\"Par\",IF((D100-C100)=1,\"bogey\",IF((D100-C100)=2,\"Double bogey\",\"Other\"))))),\"  \")","v":"  "},null,null,"Count"]
[null,2,4,0,"  ",null,null,"Eagle",{"$f":"COUNTIF(E100:E108,\"Eagle\")","v":0}]
[null,3,4,0,"  ",null,null,"Birdie",{"$f":"COUNTIF(E100:E108,\"Birdie\")","v":0}]
[null,4,4,0,"  ",null,null,"Par",{"$f":"COUNTIF(E100:E108,\"Par\")","v":0}]
[null,5,3,0,"  ",null,null,"bogey",{"$f":"COUNTIF(E100:E108,\"bogey\")","v":0}]
[null,6,4,0,"  ",null,null,"Double bogey",{"$f":"COUNTIF(E100:E108,\"Double bogey\")","v":0}]
[null,7,4,0,"  ",null,null,"Other",{"$f":"COUNTIF(E100:E108,\"Other\")","v":0}]
[null,8,3,0,"  "]
[null,9,5,0,"  "]
[]
[null,{"$f":"AH4","v":"2025-05-30"}]
[null,{"$f":"AF7","v":10},4,0,{"$f":"IF(D111<>0,IF((D111-C111)=-1,\"Birdie\",IF((D111-C111)=-2,\"Eagle\",IF((D111-C111)=0,\"Par\",IF((D111-C111)=1,\"bogey\",IF((D111-C111)=2,\"Double bogey\",\"Other\"))))),\"  \")","v":"  "},null,null,"Count"]
[null,11,4,0,"  ",null,null,"Eagle",{"$f":"COUNTIF(E111:E119,\"Eagle\")","v":0}]
[null,12,3,0,"  ",null,null,"Birdie",{"$f":"COUNTIF(E111:E119,\"Birdie\")","v":0}]
[null,13,4,0,"  ",null,null,"Par",{"$f":"COUNTIF(E111:E119,\"Par\")","v":0}]
[null,14,4,0,"  ",null,null,"bogey",{"$f":"COUNTIF(E111:E119,\"bogey\")","v":0}]
[null,15,3,0,"  ",null,null,"Double bogey",{"$f":"COUNTIF(E111:E119,\"Double bogey\")","v":0}]
[null,16,5,0,"  ",null,null,"Other",{"$f":"COUNTIF(E111:E119,\"Other\")","v":0}]
[null,17,4,0,"  "]
[null,18,5,0,"  "]
[]
[null,{"$f":"AN4","v":"2025-06-06"}]
[null,{"$f":"AL7","v":1},4,0,{"$f":"IF(D122<>0,IF((D122-C122)=-1,\"Birdie\",IF((D122-C122)=-2,\"Eagle\",IF((D122-C122)=0,\"Par\",IF((D122-C122)=1,\"bogey\",IF((D122-C122)=2,\"Double bogey\",\"Other\"))))),\"  \")","v":"  "},null,null,"Count"]
[null,2,4,0,"  ",null,null,"Eagle",{"$f":"COUNTIF(E122:E130,\"Eagle\")","v":0}]
[null,3,4,0,"  ",null,null,"Birdie",{"$f":"COUNTIF(E122:E130,\"Birdie\")","v":0}]
[null,4,4,0,"  ",null,null,"Par",{"$f":"COUNTIF(E122:E130,\"Par\")","v":0}]
[null,5,3,0,"  ",null,null,"bogey",{"$f":"COUNTIF(E122:E130,\"bogey\")","v":0}]
[null,6,4,0,"  ",null,null,"Double bogey",{"$f":"COUNTIF(E122:E130,\"Double bogey\")","v":0}]
[null,7,4,0,"  ",null,null,"Other",{"$f":"COUNTIF(E122:E130,\"Other\")","v":0}]
[null,8,3,0,"  "]
[null,9,5,0,"  "]
[]
[null,{"$f":"AT4","v":"2025-06-13"}]
[null,{"$f":"AR7","v":10},4,0,{"$f":"IF(D133<>0,IF((D133-C133)=-1,\"Birdie\",IF((D133-C133)=-2,\"Eagle\",IF((D133-C133)=0,\"Par\",IF((D133-C133)=1,\"bogey\",IF((D133-C133)=2,\"Double bogey\",\"Other\"))))),\"  \")","v":"  "},null,null,"Count"]
[null,11,4,0,"  ",null,null,"Eagle",{"$f":"COUNTIF(E133:E141,\"Eagle\")","v":0}]
[null,12,3,0,"  ",null,null,"Birdie",{"$f":"COUNTIF(E133:E141,\"Birdie\")","v":0}]
[null,13,4,0,"  ",null,null,"Par",{"$f":"COUNTIF(E133:E141,\"Par\")","v":0}]
[null,14,4,0,"  ",null,null,"bogey",{"$f":"COUNTIF(E133:E141,\"bogey\")","v":0}]
[null,15,3,0,"  ",null,null,"Double bogey",{"$f":"COUNTIF(E133:E141,\"Double bogey\")","v":0}]
[null,16,5,0,"  ",null,null,"Other",{"$f":"COUNTIF(E133:E141,\"Other\")","v":0}]
[null,17,4,0,"  "]
[null,18,5,0,"  "]
[]
[null,{"$f":"AZ4","v":"2025-06-27"}]
[null,{"$f":"AX7","v":10},4,0,{"$f":"IF(D144<>0,IF((D144-C144)=-1,\"Birdie\",IF((D144-C144)=-2,\"Eagle\",IF((D144-C144)=0,\"Par\",IF((D144-C144)=1,\"bogey\",IF((D144-C144)=2,\"Double bogey\",\"Other\"))))),\"  \")","v":"  "},null,null,"Count"]
[null,11,4,0,"  ",null,null,"Eagle",{"$f":"COUNTIF(E144:E152,\"Eagle\")","v":0}]
[null,12,3,0,"  ",null,null,"Birdie",{"$f":"COUNTIF(E144:E152,\"Birdie\")","v":0}]
[null,13,4,0,"  ",null,null,"Par",{"$f":"COUNTIF(E144:E152,\"Par\")","v":0}]
[null,14,4,0,"  ",null,null,"bogey",{"$f":"COUNTIF(E144:E152,\"bogey\")","v":0}]
[null,15,3,0,"  ",null,null,"Double bogey",{"$f":"COUNTIF(E144:E152,\"Double bogey\")","v":0}]
[null,16,5,0,"  ",null,null,"Other",{"$f":"COUNTIF(E144:E152,\"Other\")","v":0}]
[null,17,4,0,"  "]
[null,18,5,0,"  "]
[]
[null,{"$f":"BF4","v":"2025-07-04"}]
[null,{"$f":"BD7","v":10},4,0,{"$f":"IF(D155<>0,IF((D155-C155)=-1,\"Birdie\",IF((D155-C155)=-2,\"Eagle\",IF((D155-C155)=0,\"Par\",IF((D155-C155)=1,\"bogey\",IF((D155-C155)=2,\"Double bogey\",\"Other\"))))),\"  \")","v":"  "},null,null,"Count"]
[null,11,4,0,"  ",null,null,"Eagle",{"$f":"COUNTIF(E155:E163,\"Eagle\")","v":0}]
[null,12,3,0,"  ",null,null,"Birdie",{"$f":"COUNTIF(E155:E163,\"Birdie\")","v":0}]
[null,13,4,0,"  ",null,null,"Par",{"$f":"COUNTIF(E155:E163,\"Par\")","v":0}]
[null,14,4,0,"  ",null,null,"bogey",{"$f":"COUNTIF(E155:E163,\"bogey\")","v":0}]
[null,15,3,0,"  ",null,null,"Double bogey",{"$f":"COUNTIF(E155:E163,\"Double bogey\")","v":0}]
[null,16,5,0,"  ",null,null,"Other",{"$f":"COUNTIF(E155:E163,\"Other\")","v":0}]
[null,17,4,0,"  "]
[null,18,5,0,"  "]
[]
[null,{"$f":"BL4","v":"2025-07-18"}]
[null,{"$f":"BJ7","v":10},4,0,{"$f":"IF(D166<>0,IF((D166-C166)=-1,\"Birdie\",IF((D166-C166)=-2,\"Eagle\",IF((D166-C166)=0,\"Par\",IF((D166-C166)=1,\"bogey\",IF((D166-C166)=2,\"Double bogey\",\"Other\"))))),\"  \")","v":"  "},null,null,"Count"]
[null,11,4,0,"  ",null,null,"Eagle",{"$f":"COUNTIF(E166:E174,\"Eagle\")","v":0}]
[null,12,3,0,"  ",null,null,"Birdie",{"$f":"COUNTIF(E166:E174,\"Birdie\")","v":0}]
[null,13,4,0,"  ",null,null,"Par",{"$f":"COUNTIF(E166:E174,\"Par\")","v":0}]
[null,14,4,0,"  ",null,null,"bogey",{"$f":"COUNTIF(E166:E174,\"bogey\")","v":0}]
[null,15,3,0,"  ",null,null,"Double bogey",{"$f":"COUNTIF(E166:E174,\"Double bogey\")","v":0}]
[null,16,5,0,"  ",null,null,"Other",{"$f":"COUNTIF(E166:E174,\"Other\")","v":0}]
[null,17,4,0,"  "]
[null,18,5,0,"  "]
[]
[null,{"$f":"BR4","v":"2025-07-25"}]
[null,{"$f":"BP7","v":1},4,0,{"$f":"IF(D177<>0,IF((D177-C177)=-1,\"Birdie\",IF((D177-C177)=-2,\"Eagle\",IF((D177-C177)=0,\"Par\",IF((D177-C177)=1,\"bogey\",IF((D177-C177)=2,\"Double bogey\",\"Other\"))))),\"  \")","v":"  "},null,null,"Count"]
[null,2,4,0,"  ",null,null,"Eagle",{"$f":"COUNTIF(E177:E185,\"Eagle\")","v":0}]
[null,3,4,0,"  ",null,null,"Birdie",{"$f":"COUNTIF(E177:E185,\"Birdie\")","v":0}]
[null,4,4,0,"  ",null,null,"Par",{"$f":"COUNTIF(E177:E185,\"Par\")","v":0}]
[null,5,3,0,"  ",null,null,"bogey",{"$f":"COUNTIF(E177:E185,\"bogey\")","v":0}]
[null,6,4,0,"  ",null,null,"Double bogey",{"$f":"COUNTIF(E177:E185,\"Double bogey\")","v":0}]
[null,7,4,0,"  ",null,null,"Other",{"$f":"COUNTIF(E177:E185,\"Other\")","v":0}]
[null,8,3,0,"  "]
[null,9,5,0,"  "]
[]
[null,{"$f":"BX4","v":"2025-08-01"}]
[null,{"$f":"BV7","v":10},4,0,{"$f":"IF(D188<>0,IF((D188-C188)=-1,\"Birdie\",IF((D188-C188)=-2,\"Eagle\",IF((D188-C188)=0,\"Par\",IF((D188-C188)=1,\"bogey\",IF((D188-C188)=2,\"Double bogey\",\"Other\"))))),\"  \")","v":"  "},null,null,"Count"]
[null,11,4,0,"  ",null,null,"Eagle",{"$f":"COUNTIF(E188:E196,\"Eagle\")","v":0}]
[null,12,3,0,"  ",null,null,"Birdie",{"$f":"COUNTIF(E188:E196,\"Birdie\")","v":0}]
[null,13,4,0,"  ",null,null,"Par",{"$f":"COUNTIF(E188:E196,\"Par\")","v":0}]
[null,14,4,0,"  ",null,null,"bogey",{"$f":"COUNTIF(E188:E196,\"bogey\")","v":0}]
[null,15,3,0,"  ",null,null,"Double bogey",{"$f":"COUNTIF(E188:E196,\"Double bogey\")","v":0}]
[null,16,5,0,"  ",null,null,"Other",{"$f":"COUNTIF(E188:E196,\"Other\")","v":0}]
[null,17,4,0,"  "]
[null,18,5,0,"  "]
[]
[null,{"$f":"CD4","v":"2025-08-08"}]
[null,{"$f":"CB7","v":1},4,0,{"$f":"IF(D199<>0,IF((D199-C199)=-1,\"Birdie\",IF((D199-C199)=-2,\"Eagle\",IF((D199-C199)=0,\"Par\",IF((D199-C199)=1,\"bogey\",IF((D199-C199)=2,\"Double bogey\",\"Other\"))))),\"  \")","v":"  "},null,null,"Count"]
[null,2,4,0,"  ",null,null,"Eagle",{"$f":"COUNTIF(E199:E207,\"Eagle\")","v":0}]
[null,3,4,0,"  ",null,null,"Birdie",{"$f":"COUNTIF(E199:E207,\"Birdie\")","v":0}]
[null,4,4,0,"  ",null,null,"Par",{"$f":"COUNTIF(E199:E207,\"Par\")","v":0}]
[null,5,3,0,"  ",null,null,"bogey",{"$f":"COUNTIF(E199:E207,\"bogey\")","v":0}]
[null,6,4,0,"  ",null,null,"Double bogey",{"$f":"COUNTIF(E199:E207,\"Double bogey\")","v":0}]
[null,7,4,0,"  ",null,null,"Other",{"$f":"COUNTIF(E199:E207,\"Other\")","v":0}]
[null,8,3,0,"  "]
[null,9,5,0,"  "]
[]
[null,{"$f":"CJ4","v":"2025-08-15"}]
[null,{"$f":"CH7","v":10},4,0,{"$f":"IF(D210<>0,IF((D210-C210)=-1,\"Birdie\",IF((D210-C210)=-2,\"Eagle\",IF((D210-C210)=0,\"Par\",IF((D210-C210)=1,\"bogey\",IF((D210-C210)=2,\"Double bogey\",\"Other\"))))),\"  \")","v":"  "},null,null,"Count"]
[null,11,4,0,"  ",null,null,"Eagle",{"$f":"COUNTIF(E210:E218,\"Eagle\")","v":0}]
[null,12,3,0,"  ",null,null,"Birdie",{"$f":"COUNTIF(E210:E218,\"Birdie\")","v":0}]
[null,13,4,0,"  ",null,null,"Par",{"$f":"COUNTIF(E210:E218,\"Par\")","v":0}]
[null,14,4,0,"  ",null,null,"bogey",{"$f":"COUNTIF(E210:E218,\"bogey\")","v":0}]
[null,15,3,0,"  ",null,null,"Double bogey",{"$f":"COUNTIF(E210:E218,\"Double bogey\")","v":0}]
[null,16,5,0,"  ",null,null,"Other",{"$f":"COUNTIF(E210:E218,\"Other\")","v":0}]
[null,17,4,0,"  "]
[null,18,5,0,"  "]

{"sheet":"Taylor","index":19,"n_rows":218,"n_cols":90,"rows_kept":218,"cut":false,"hidden":false,"merged":[]}
["Dave Taylor"]
[]
[]
[null,null,"Date:",{"$f":"VLOOKUP(C5,Week,2)","v":"2025-04-25"},null,null,null,null,"Date:",{"$f":"VLOOKUP(I5,Week,2)","v":"2025-05-02"},null,null,null,null,"Date:",{"$f":"VLOOKUP(O5,Week,2)","v":"2025-05-09"},null,null,null,null,"Date:",{"$f":"VLOOKUP(U5,Week,2)","v":"2025-05-16"},null,null,null,null,"Date:",{"$f":"VLOOKUP(AA5,Week,2)","v":"2025-05-23"},null,null,null,null,"Date:",{"$f":"VLOOKUP(AG5,Week,2)","v":"2025-05-30"},null,null,null,null,"Date:",{"$f":"VLOOKUP(AM5,Week,2)","v":"2025-06-06"},null,null,null,null,"Date:",{"$f":"VLOOKUP(AS5,Week,2)","v":"2025-06-13"},null,null,null,null,"Date:",{"$f":"VLOOKUP(AY5,Week,2)","v":"2025-06-27"},null,null,null,null,"Date:",{"$f":"VLOOKUP(BE5,Week,2)","v":"2025-07-04"},null,null,null,null,"Date:",{"$f":"VLOOKUP(BK5,Week,2)","v":"2025-07-18"},null,null,null,null,"Date:",{"$f":"VLOOKUP(BQ5,Week,2)","v":"2025-07-25"},null,null,null,null,"Date:",{"$f":"VLOOKUP(BW5,Week,2)","v":"2025-08-01"},null,null,null,null,"Date:",{"$f":"VLOOKUP(CC5,Week,2)","v":"2025-08-08"},null,null,null,null,"Date:",{"$f":"VLOOKUP(CI5,Week,2)","v":"2025-08-15"}]
[null,"Week",1,null,null,null,null,"Week",2,null,null,null,null,"Week",3,null,null,null,null,"Week",4,null,null,null,null,"Week",5,null,null,null,null,"Week",6,null,null,null,null,"Week",7,null,null,null,null,"Week",8,null,null,null,null,"Week",9,null,null,null,null,"Week",10,null,null,null,null,"Week",11,null,null,null,null,"Week",12,null,null,null,null,"Week",13,null,null,null,null,"Week",14,null,null,null,null,"Week",15]
[null,"Hole #","Par","Score","Net","Win Hole",null,"Hole #","Par","Score","Net","Win Hole",null,"Hole #","Par","Score","Net","Win Hole",null,"Hole #","Par","Score","Net","Win Hole",null,"Hole #","Par","Score","Net","Win Hole",null,"Hole #","Par","Score","Net","Win Hole",null,"Hole #","Par","Score","Net","Win Hole",null,"Hole #","Par","Score","Net","Win Hole",null,"Hole #","Par","Score","Net","Win Hole",null,"Hole #","Par","Score","Net","Win Hole",null,"Hole #","Par","Score","Net","Win Hole",null,"Hole #","Par","Score","Net","Win Hole",null,"Hole #","Par","Score","Net","Win Hole",null,"Hole #","Par","Score","Net","Win Hole",null,"Hole #","Par","Score","Net","Win Hole"]
[null,{"$f":"VLOOKUP(C5,Week,6)","v":1},{"$f":"VLOOKUP(B7,Holes,2)","v":4},null,{"$f":"IF((D7-C7)>3,C7+3,D7)","v":0},null,null,{"$f":"VLOOKUP(I5,Week,6)","v":10},{"$f":"VLOOKUP(H7,Holes,2)","v":4},null,{"$f":"IF((J7-I7)>3,I7+3,J7)","v":0},null,null,{"$f":"VLOOKUP(O5,Week,6)","v":1},{"$f":"VLOOKUP(N7,Holes,2)","v":4},null,{"$f":"IF((P7-O7)>3,O7+3,P7)","v":0},null,null,{"$f":"VLOOKUP(U5,Week,6)","v":10},{"$f":"VLOOKUP(T7,Holes,2)","v":4},null,{"$f":"IF((V7-U7)>3,U7+3,V7)","v":0},null,null,{"$f":"VLOOKUP(AA5,Week,6)","v":1},{"$f":"VLOOKUP(Z7,Holes,2)","v":4},null,{"$f":"IF((AB7-AA7)>3,AA7+3,AB7)","v":0},null,null,{"$f":"VLOOKUP(AG5,Week,6)","v":10},{"$f":"VLOOKUP(AF7,Holes,2)","v":4},null,{"$f":"IF((AH7-AG7)>3,AG7+3,AH7)","v":0},null,null,{"$f":"VLOOKUP(AM5,Week,6)","v":1},{"$f":"VLOOKUP(AL7,Holes,2)","v":4},null,{"$f":"IF((AN7-AM7)>3,AM7+3,AN7)","v":0},null,null,{"$f":"VLOOKUP(AS5,Week,6)","v":10},{"$f":"VLOOKUP(AR7,Holes,2)","v":4},null,{"$f":"IF((AT7-AS7)>3,AS7+3,AT7)","v":0},null,null,{"$f":"VLOOKUP(AY5,Week,6)","v":10},{"$f":"VLOOKUP(AX7,Holes,2)","v":4},null,{"$f":"IF((AZ7-AY7)>3,AY7+3,AZ7)","v":0},null,null,{"$f":"VLOOKUP(BE5,Week,6)","v":10},{"$f":"VLOOKUP(BD7,Holes,2)","v":4},null,{"$f":"IF((BF7-BE7)>3,BE7+3,BF7)","v":0},null,null,{"$f":"VLOOKUP(BK5,Week,6)","v":10},{"$f":"VLOOKUP(BJ7,Holes,2)","v":4},null,{"$f":"IF((BL7-BK7)>3,BK7+3,BL7)","v":0},null,null,{"$f":"VLOOKUP(BQ5,Week,6)","v":1},{"$f":"VLOOKUP(BP7,Holes,2)","v":4},null,{"$f":"IF((BR7-BQ7)>3,BQ7+3,BR7)","v":0},null,null,{"$f":"VLOOKUP(BW5,Week,6)","v":10},{"$f":"VLOOKUP(BV7,Holes,2)","v":4},null,{"$f":"IF((BX7-BW7)>3,BW7+3,BX7)","v":0},null,null,{"$f":"VLOOKUP(CC5,Week,6)","v":1},{"$f":"VLOOKUP(CB7,Holes,2)","v":4},null,{"$f":"IF((CD7-CC7)>3,CC7+3,CD7)","v":0},null,null,{"$f":"VLOOKUP(CI5,Week,6)","v":10},{"$f":"VLOOKUP(CH7,Holes,2)","v":4},null,{"$f":"IF((CJ7-CI7)>3,CI7+3,CJ7)","v":0}]
[null,{"$f":"+B7+1","v":2},4,null,0,null,null,{"$f":"+H7+1","v":11},4,null,0,null,null,{"$f":"+N7+1","v":2},4,null,0,null,null,{"$f":"+T7+1","v":11},4,null,0,null,null,{"$f":"+Z7+1","v":2},4,null,0,null,null,{"$f":"+AF7+1","v":11},4,null,0,null,null,{"$f":"+AL7+1","v":2},4,null,0,null,null,{"$f":"+AR7+1","v":11},4,null,0,null,null,{"$f":"+AX7+1","v":11},4,null,0,null,null,{"$f":"+BD7+1","v":11},4,null,0,null,null,{"$f":"+BJ7+1","v":11},4,null,0,null,null,{"$f":"+BP7+1","v":2},4,null,0,null,null,{"$f":"+BV7+1","v":11},4,null,0,null,null,{"$f":"+CB7+1","v":2},4,null,0,null,null,{"$f":"+CH7+1","v":11},4,null,0]
[null,3,4,null,0,null,null,12,3,null,0,null,null,3,4,null,0,null,null,12,3,null,0,null,null,3,4,null,0,null,null,12,3,null,0,null,null,3,4,null,0,null,null,12,3,null,0,null,null,12,3,null,0,null,null,12,3,null,0,null,null,12,3,null,0,null,null,3,4,null,0,null,null,12,3,null,0,null,null,3,4,null,0,null,null,12,3,null,0]
[null,4,4,null,0,null,null,13,4,null,0,null,null,4,4,null,0,null,null,13,4,null,0,null,null,4,4,null,0,null,null,13,4,null,0,null,null,4,4,null,0,null,null,13,4,null,0,null,null,13,4,null,0,null,null,13,4,null,0,null,null,13,4,null,0,null,null,4,4,null,0,null,null,13,4,null,0,null,null,4,4,null,0,null,null,13,4,null,0]
[null,5,3,null,0,null,null,14,4,null,0,null,null,5,3,null,0,null,null,14,4,null,0,null,null,5,3,null,0,null,null,14,4,null,0,null,null,5,3,null,0,null,null,14,4,null,0,null,null,14,4,null,0,null,null,14,4,null,0,null,null,14,4,null,0,null,null,5,3,null,0,null,null,14,4,null,0,null,null,5,3,null,0,null,null,14,4,null,0]
[null,6,4,null,0,null,null,15,3,null,0,null,null,6,4,null,0,null,null,15,3,null,0,null,null,6,4,null,0,null,null,15,3,null,0,null,null,6,4,null,0,null,null,15,3,null,0,null,null,15,3,null,0,null,null,15,3,null,0,null,null,15,3,null,0,null,null,6,4,null,0,null,null,15,3,null,0,null,null,6,4,null,0,null,null,15,3,null,0]
[null,7,4,null,0,null,null,16,5,null,0,null,null,7,4,null,0,null,null,16,5,null,0,null,null,7,4,null,0,null,null,16,5,null,0,null,null,7,4,null,0,null,null,16,5,null,0,null,null,16,5,null,0,null,null,16,5,null,0,null,null,16,5,null,0,null,null,7,4,null,0,null,null,16,5,null,0,null,null,7,4,null,0,null,null,16,5,null,0]
[null,8,3,null,0,null,null,17,4,null,0,null,null,8,3,null,0,null,null,17,4,null,0,null,null,8,3,null,0,null,null,17,4,null,0,null,null,8,3,null,0,null,null,17,4,null,0,null,null,17,4,null,0,null,null,17,4,null,0,null,null,17,4,null,0,null,null,8,3,null,0,null,null,17,4,null,0,null,null,8,3,null,0,null,null,17,4,null,0]
[null,9,5,null,0,null,null,18,5,null,0,null,null,9,5,null,0,null,null,18,5,null,0,null,null,9,5,null,0,null,null,18,5,null,0,null,null,9,5,null,0,null,null,18,5,null,0,null,null,18,5,null,0,null,null,18,5,null,0,null,null,18,5,null,0,null,null,9,5,null,0,null,null,18,5,null,0,null,null,9,5,null,0,null,null,18,5,null,0]
[null,"Total",{"$f":"SUM(C7:C15)","v":35},{"$f":"SUM(D7:D15)","v":0},{"$f":"SUM(E7:E15)","v":0},{"$f":"SUM(F7:F15)","v":0},null,"Total",{"$f":"SUM(I7:I15)","v":36},{"$f":"SUM(J7:J15)","v":0},{"$f":"SUM(K7:K15)","v":0},{"$f":"SUM(L7:L15)","v":0},null,"Total",{"$f":"SUM(O7:O15)","v":35},{"$f":"SUM(P7:P15)","v":0},{"$f":"SUM(Q7:Q15)","v":0},{"$f":"SUM(R7:R15)","v":0},null,"Total",{"$f":"SUM(U7:U15)","v":36},{"$f":"SUM(V7:V15)","v":0},{"$f":"SUM(W7:W15)","v":0},{"$f":"SUM(X7:X15)","v":0},null,"Total",{"$f":"SUM(AA7:AA15)","v":35},{"$f":"SUM(AB7:AB15)","v":0},{"$f":"SUM(AC7:AC15)","v":0},{"$f":"SUM(AD7:AD15)","v":0},null,"Total",{"$f":"SUM(AG7:AG15)","v":36},{"$f":"SUM(AH7:AH15)","v":0},{"$f":"SUM(AI7:AI15)","v":0},{"$f":"SUM(AJ7:AJ15)","v":0},null,"Total",{"$f":"SUM(AM7:AM15)","v":35},{"$f":"SUM(AN7:AN15)","v":0},{"$f":"SUM(AO7:AO15)","v":0},{"$f":"SUM(AP7:AP15)","v":0},null,"Total",{"$f":"SUM(AS7:AS15)","v":36},{"$f":"SUM(AT7:AT15)","v":0},{"$f":"SUM(AU7:AU15)","v":0},{"$f":"SUM(AV7:AV15)","v":0},null,"Total",{"$f":"SUM(AY7:AY15)","v":36},{"$f":"SUM(AZ7:AZ15)","v":0},{"$f":"SUM(BA7:BA15)","v":0},{"$f":"SUM(BB7:BB15)","v":0},null,"Total",{"$f":"SUM(BE7:BE15)","v":36},{"$f":"SUM(BF7:BF15)","v":0},{"$f":"SUM(BG7:BG15)","v":0},{"$f":"SUM(BH7:BH15)","v":0},null,"Total",{"$f":"SUM(BK7:BK15)","v":36},{"$f":"SUM(BL7:BL15)","v":0},{"$f":"SUM(BM7:BM15)","v":0},{"$f":"SUM(BN7:BN15)","v":0},null,"Total",{"$f":"SUM(BQ7:BQ15)","v":35},{"$f":"SUM(BR7:BR15)","v":0},{"$f":"SUM(BS7:BS15)","v":0},{"$f":"SUM(BT7:BT15)","v":0},null,"Total",{"$f":"SUM(BW7:BW15)","v":36},{"$f":"SUM(BX7:BX15)","v":0},{"$f":"SUM(BY7:BY15)","v":0},{"$f":"SUM(BZ7:BZ15)","v":0},null,"Total",{"$f":"SUM(CC7:CC15)","v":35},{"$f":"SUM(CD7:CD15)","v":0},{"$f":"SUM(CE7:CE15)","v":0},{"$f":"SUM(CF7:CF15)","v":0},null,"Total",{"$f":"SUM(CI7:CI15)","v":36},{"$f":"SUM(CJ7:CJ15)","v":0},{"$f":"SUM(CK7:CK15)","v":0},{"$f":"SUM(CL7:CL15)","v":0}]
[]
[null,null,null,null,"Low Net",null,null,null,null,null,"Low Net",0,null,null,null,null,"Low Net",0,null,null,null,null,"Low Net",null,null,null,null,null,"Low Net",null,null,null,null,null,"Low Net",null,null,null,null,null,"Low Net",null,null,null,null,null,"Low Net",null,null,null,null,null,"Low Net",null,null,null,null,null,"Low Net",null,null,null,null,null,"Low Net",null,null,null,null,null,"Low Net",null,null,null,null,null,"Low Net",null,null,null,null,null,"Low Net",null,null,null,null,null,"Low Net"]
[]
[null,null,null,null,"Total Points",{"$f":"SUM(F16:F19)","v":0},null,null,null,null,"Total Points",{"$f":"SUM(L16:L19)","v":0},null,null,null,null,"Total Points",{"$f":"SUM(R16:R19)","v":0},null,null,null,null,"Total Points",{"$f":"SUM(X16:X19)","v":0},null,null,null,null,"Total Points",{"$f":"SUM(AD16:AD19)","v":0},null,null,null,null,"Total Points",{"$f":"SUM(AJ16:AJ19)","v":0},null,null,null,null,"Total Points",{"$f":"SUM(AP16:AP19)","v":0},null,null,null,null,"Total Points",{"$f":"SUM(AV16:AV19)","v":0},null,null,null,null,"Total Points",{"$f":"SUM(BB16:BB19)","v":0},null,null,null,null,"Total Points",{"$f":"SUM(BH16:BH19)","v":0},null,null,null,null,"Total Points",{"$f":"SUM(BN16:BN19)","v":0},null,null,null,null,"Total Points",{"$f":"SUM(BT16:BT19)","v":0},null,null,null,null,"Total Points",{"$f":"SUM(BZ16:BZ19)","v":0},null,null,null,null,"Total Points",{"$f":"SUM(CF16:CF19)","v":0},null,null,null,null,"Total Points",{"$f":"SUM(CL16:CL19)","v":0}]
[]
[null,null,null,null,"Handicap",{"$f":"IF(D16=0,0,E16-C16)","v":0},null,null,null,null,"Handicap",{"$f":"IF(J16=0,0,K16-I16)","v":0},null,null,null,null,"Handicap",{"$f":"IF(P16=0,0,Q16-O16)","v":0},null,null,null,null,"Handicap",{"$f":"IF(V16=0,0,W16-U16)","v":0},null,null,null,null,"Handicap",{"$f":"IF(AB16=0,0,AC16-AA16)","v":0},null,null,null,null,"Handicap",{"$f":"IF(AH16=0,0,AI16-AG16)","v":0},null,null,null,null,"Handicap",{"$f":"IF(AN16=0,0,AO16-AM16)","v":0},null,null,null,null,"Handicap",{"$f":"IF(AT16=0,0,AU16-AS16)","v":0},null,null,null,null,"Handicap",{"$f":"IF(AZ16=0,0,BA16-AY16)","v":0},null,null,null,null,"Handicap",{"$f":"IF(BF16=0,0,BG16-BE16)","v":0},null,null,null,null,"Handicap",{"$f":"IF(BL16=0,0,BM16-BK16)","v":0},null,null,null,null,"Handicap",{"$f":"IF(BR16=0,0,BS16-BQ16)","v":0},null,null,null,null,"Handicap",{"$f":"IF(BX16=0,0,BY16-BW16)","v":0},null,null,null,null,"Handicap",{"$f":"IF(CD16=0,0,CE16-CC16)","v":0},null,null,null,null,"Handicap",{"$f":"IF(CJ16=0,0,CK16-CI16)","v":0}]
[]
[null,null,null,null,null,{"$f":"IF(D16<>0,IF(F16>4.5,\"W\",IF(F16=4.5,\"T\",IF(F16<4.5,\"L\"))),0)","v":0},null,null,null,null,null,{"$f":"IF(J16<>0,IF(L16>4.5,\"W\",IF(L16=4.5,\"T\",IF(L16<4.5,\"L\"))),0)","v":0},null,null,null,null,null,{"$f":"IF(P16<>0,IF(R16>4.5,\"W\",IF(R16=4.5,\"T\",IF(R16<4.5,\"L\"))),0)","v":0},null,null,null,null,null,{"$f":"IF(V16<>0,IF(X16>4.5,\"W\",IF(X16=4.5,\"T\",IF(X16<4.5,\"L\"))),0)","v":0},null,null,null,null,null,{"$f":"IF(AB16<>0,IF(AD16>4.5,\"W\",IF(AD16=4.5,\"T\",IF(AD16<4.5,\"L\"))),0)","v":0},null,null,null,null,null,{"$f":"IF(AH16<>0,IF(AJ16>4.5,\"W\",IF(AJ16=4.5,\"T\",IF(AJ16<4.5,\"L\"))),0)","v":0},null,null,null,null,null,{"$f":"IF(AN16<>0,IF(AP16>4.5,\"W\",IF(AP16=4.5,\"T\",IF(AP16<4.5,\"L\"))),0)","v":0},null,null,null,null,null,{"$f":"IF(AT16<>0,IF(AV16>4.5,\"W\",IF(AV16=4.5,\"T\",IF(AV16<4.5,\"L\"))),0)","v":0},null,null,null,null,null,{"$f":"IF(AZ16<>0,IF(BB16>4.5,\"W\",IF(BB16=4.5,\"T\",IF(BB16<4.5,\"L\"))),0)","v":0},null,null,null,null,null,{"$f":"IF(BF16<>0,IF(BH16>4.5,\"W\",IF(BH16=4.5,\"T\",IF(BH16<4.5,\"L\"))),0)","v":0},null,null,null,null,null,{"$f":"IF(BL16<>0,IF(BN16>4.5,\"W\",IF(BN16=4.5,\"T\",IF(BN16<4.5,\"L\"))),0)","v":0},null,null,null,null,null,{"$f":"IF(BR16<>0,IF(BT16>4.5,\"W\",IF(BT16=4.5,\"T\",IF(BT16<4.5,\"L\"))),0)","v":0},null,null,null,null,null,{"$f":"IF(BX16<>0,IF(BZ16>4.5,\"W\",IF(BZ16=4.5,\"T\",IF(BZ16<4.5,\"L\"))),0)","v":0},null,null,null,null,null,{"$f":"IF(CD16<>0,IF(CF16>4.5,\"W\",IF(CF16=4.5,\"T\",IF(CF16<4.5,\"L\"))),0)","v":0},null,null,null,null,null,{"$f":"IF(CJ16<>0,IF(CL16>4.5,\"W\",IF(CL16=4.5,\"T\",IF(CL16<4.5,\"L\"))),0)","v":0}]
[]
[null,"Summary"]
[null,null,null,"Adj",null,"Adj",null,null,null,"Avg Score"]
[null,null,"Points","Points","Matches","Matches",null,null,"Hole #","by Hole","Best","Worst"]
[null,"Week #1",{"$f":"F20","v":0},{"$f":"C29","v":0},{"$f":"IF(D16>0,1,0)","v":0},{"$f":"E29","v":0},null,null,1,{"$f":"IFERROR(AVERAGE(D7),0)","v":0},{"$f":"IFERROR(MIN(J7,V7,AH7,AT7,BF7,BR7,BX7,CJ7),0)","v":0},{"$f":"IFERROR(MAX(J7,V7,AH7,AT7,BF7,BR7,BX7,CJ7),0)","v":0}]
[null,"Week #2",{"$f":"L20","v":0},0,{"$f":"IF(J16>0,1,0)","v":0},0,null,null,2,{"$f":"IFERROR(AVERAGE(D8),0)","v":0},{"$f":"IFERROR(MIN(J8,V8,AH8,AT8,BF8,BR8,BX8,CJ8),0)","v":0},{"$f":"IFERROR(MAX(J8,V8,AH8,AT8,BF8,BR8,BX8,CJ8),0)","v":0}]
[null,"Week #3",{"$f":"R20","v":0},0,{"$f":"IF(P16>0,1,0)","v":0},0,null,null,3,0,0,0]
[null,"Week #4",{"$f":"X20","v":0},0,{"$f":"IF(V16>0,1,0)","v":0},0,null,null,4,0,0,0]
[null,"Week #5",{"$f":"AD20","v":0},0,{"$f":"IF(AB16>0,1,0)","v":0},0,null,null,5,0,0,0]
[null,"Week #6",{"$f":"AJ20","v":0},0,{"$f":"IF(AH16>0,1,0)","v":0},0,null,null,6,0,0,0]
[null,"Week #7",{"$f":"AP20","v":0},0,{"$f":"IF(AN16>0,1,0)","v":0},0,null,null,7,0,0,0]
[null,"Week #8",{"$f":"AV20","v":0},0,{"$f":"IF(AT16>0,1,0)","v":0},0,null,null,8,0,0,0]
[null,"Week #9",{"$f":"BB20","v":0},0,{"$f":"IF(AZ16>0,1,0)","v":0},0,null,null,9,0,0,0]
[null,"Week #10",{"$f":"BH20","v":0},0,{"$f":"IF(BF16>0,1,0)","v":0},0,null,null,"Front",{"$f":"SUM(J29:J37)","v":0},{"$f":"SUM(K29:K37)","v":0},0]
[null,"Week #11",{"$f":"BN20","v":0},0,{"$f":"IF(BL16>0,1,0)","v":0},0]
[null,"Week #12",{"$f":"BT20","v":0},0,{"$f":"IF(BR16>0,1,0)","v":0},0,null,null,10,{"$f":"IFERROR(AVERAGE(J7),0)","v":0},{"$f":"IFERROR(MIN(D7,P7,AB7,AN7,AZ7,BL7,CD7),0)","v":0},{"$f":"IFERROR(MAX(D7,P7,AB7,AN7,AZ7,BL7,CD7),0)","v":0}]
[null,"Week #13",{"$f":"BZ20","v":0},0,{"$f":"IF(BX16>0,1,0)","v":0},0,null,null,11,{"$f":"IFERROR(AVERAGE(J8),0)","v":0},{"$f":"IFERROR(MIN(D8,P8,AB8,AN8,AZ8,BL8,CD8),0)","v":0},{"$f":"IFERROR(MAX(D8,P8,AB8,AN8,AZ8,BL8,CD8),0)","v":0}]
[null,"Week #14",{"$f":"CF20","v":0},0,{"$f":"IF(CD16>0,1,0)","v":0},0,null,null,12,0,0,0]
[null,"Week #15",{"$f":"CL20","v":0},0,{"$f":"IF(CJ16>0,1,0)","v":0},0,null,null,13,0,0,0]
[null,"Total",{"$f":"SUM(C29:C43)","v":0},{"$f":"SUM(D29:D43)","v":0},{"$f":"SUM(E29:E43)","v":0},{"$f":"SUM(F29:F43)","v":0},null,null,14,0,0,0]
[null,null,null,null,null,null,null,null,15,0,0,0]
[null,"Summary",null,null,null,null,null,null,16,0,0,0]
[null,"Eagles",{"$f":"I57+I68+I79+I90+I101+I112+I123+I134+I145+I156+I167+I178+I189+I200+I211","v":0},null,null,null,null,null,17,0,0,0]
[null,"Birdies",0,null,null,null,null,null,18,0,0,0]
[null,"Pars",{"$f":"I59+I70+I81+I92+I103+I114+I125+I136+I147+I158+I169+I180+I191+I202+I213","v":0},null,null,null,null,null,"Back",{"$f":"SUM(J40:J48)","v":0},{"$f":"SUM(K40:K48)","v":0},0]
[null,"bogeys",0]
[null,"Double bogeys",0]
[null,"Other",0]
[null,"Total",{"$f":"SUM(C47:C52)","v":0}]
[]
[null,{"$f":"D4","v":"2025-04-25"},"Par","Score"]
[null,{"$f":"B7","v":1},4,0,{"$f":"IF(D56<>0,IF((D56-C56)=-1,\"Birdie\",IF((D56-C56)=-2,\"Eagle\",IF((D56-C56)=0,\"Par\",IF((D56-C56)=1,\"bogey\",IF((D56-C56)=2,\"Double bogey\",\"Other\"))))),\"  \")","v":"  "},null,null,"Count"]
[null,2,4,0,"  ",null,null,"Eagle",{"$f":"COUNTIF(E56:E64,\"Eagle\")","v":0}]
[null,3,4,0,"  ",null,null,"Birdie",{"$f":"COUNTIF(E56:E64,\"Birdie\")","v":0}]
[null,4,4,0,"  ",null,null,"Par",{"$f":"COUNTIF(E56:E64,\"Par\")","v":0}]
[null,5,3,0,"  ",null,null,"bogey",{"$f":"COUNTIF(E56:E64,\"bogey\")","v":0}]
[null,6,4,0,"  ",null,null,"Double bogey",{"$f":"COUNTIF(E56:E64,\"Double bogey\")","v":0}]
[null,7,4,0,"  ",null,null,"Other",{"$f":"COUNTIF(E56:E64,\"Other\")","v":0}]
[null,8,3,0,"  "]
[null,9,5,0,"  "]
[]
[null,{"$f":"J4","v":"2025-05-02"}]
[null,{"$f":"H7","v":10},4,0,{"$f":"IF(D67<>0,IF((D67-C67)=-1,\"Birdie\",IF((D67-C67)=-2,\"Eagle\",IF((D67-C67)=0,\"Par\",IF((D67-C67)=1,\"bogey\",IF((D67-C67)=2,\"Double bogey\",\"Other\"))))),\"  \")","v":"  "},null,null,"Count"]
[null,11,4,0,"  ",null,null,"Eagle",{"$f":"COUNTIF(E67:E75,\"Eagle\")","v":0}]
[null,12,3,0,"  ",null,null,"Birdie",{"$f":"COUNTIF(E67:E75,\"Birdie\")","v":0}]
[null,13,4,0,"  ",null,null,"Par",{"$f":"COUNTIF(E67:E75,\"Par\")","v":0}]
[null,14,4,0,"  ",null,null,"bogey",{"$f":"COUNTIF(E67:E75,\"bogey\")","v":0}]
[null,15,3,0,"  ",null,null,"Double bogey",{"$f":"COUNTIF(E67:E75,\"Double bogey\")","v":0}]
[null,16,5,0,"  ",null,null,"Other",{"$f":"COUNTIF(E67:E75,\"Other\")","v":0}]
[null,17,4,0,"  "]
[null,18,5,0,"  "]
[]
[null,{"$f":"P4","v":"2025-05-09"}]
[null,{"$f":"N7","v":1},4,0,{"$f":"IF(D78<>0,IF((D78-C78)=-1,\"Birdie\",IF((D78-C78)=-2,\"Eagle\",IF((D78-C78)=0,\"Par\",IF((D78-C78)=1,\"bogey\",IF((D78-C78)=2,\"Double bogey\",\"Other\"))))),\"  \")","v":"  "},null,null,"Count"]
[null,2,4,0,"  ",null,null,"Eagle",{"$f":"COUNTIF(E78:E86,\"Eagle\")","v":0}]
[null,3,4,0,"  ",null,null,"Birdie",{"$f":"COUNTIF(E78:E86,\"Birdie\")","v":0}]
[null,4,4,0,"  ",null,null,"Par",{"$f":"COUNTIF(E78:E86,\"Par\")","v":0}]
[null,5,3,0,"  ",null,null,"bogey",{"$f":"COUNTIF(E78:E86,\"bogey\")","v":0}]
[null,6,4,0,"  ",null,null,"Double bogey",{"$f":"COUNTIF(E78:E86,\"Double bogey\")","v":0}]
[null,7,4,0,"  ",null,null,"Other",{"$f":"COUNTIF(E78:E86,\"Other\")","v":0}]
[null,8,3,0,"  "]
[null,9,5,0,"  "]
[]
[null,{"$f":"V4","v":"2025-05-16"}]
[null,{"$f":"T7","v":10},4,0,{"$f":"IF(D89<>0,IF((D89-C89)=-1,\"Birdie\",IF((D89-C89)=-2,\"Eagle\",IF((D89-C89)=0,\"Par\",IF((D89-C89)=1,\"bogey\",IF((D89-C89)=2,\"Double bogey\",\"Other\"))))),\"  \")","v":"  "},null,null,"Count"]
[null,11,4,0,"  ",null,null,"Eagle",{"$f":"COUNTIF(E89:E97,\"Eagle\")","v":0}]
[null,12,3,0,"  ",null,null,"Birdie",{"$f":"COUNTIF(E89:E97,\"Birdie\")","v":0}]
[null,13,4,0,"  ",null,null,"Par",{"$f":"COUNTIF(E89:E97,\"Par\")","v":0}]
[null,14,4,0,"  ",null,null,"bogey",{"$f":"COUNTIF(E89:E97,\"bogey\")","v":0}]
[null,15,3,0,"  ",null,null,"Double bogey",{"$f":"COUNTIF(E89:E97,\"Double bogey\")","v":0}]
[null,16,5,0,"  ",null,null,"Other",{"$f":"COUNTIF(E89:E97,\"Other\")","v":0}]
[null,17,4,0,"  "]
[null,18,5,0,"  "]
[]
[null,{"$f":"AB4","v":"2025-05-23"}]
[null,{"$f":"Z7","v":1},4,0,{"$f":"IF(D100<>0,IF((D100-C100)=-1,\"Birdie\",IF((D100-C100)=-2,\"Eagle\",IF((D100-C100)=0,\"Par\",IF((D100-C100)=1,\"bogey\",IF((D100-C100)=2,\"Double bogey\",\"Other\"))))),\"  \")","v":"  "},null,null,"Count"]
[null,2,4,0,"  ",null,null,"Eagle",{"$f":"COUNTIF(E100:E108,\"Eagle\")","v":0}]
[null,3,4,0,"  ",null,null,"Birdie",{"$f":"COUNTIF(E100:E108,\"Birdie\")","v":0}]
[null,4,4,0,"  ",null,null,"Par",{"$f":"COUNTIF(E100:E108,\"Par\")","v":0}]
[null,5,3,0,"  ",null,null,"bogey",{"$f":"COUNTIF(E100:E108,\"bogey\")","v":0}]
[null,6,4,0,"  ",null,null,"Double bogey",{"$f":"COUNTIF(E100:E108,\"Double bogey\")","v":0}]
[null,7,4,0,"  ",null,null,"Other",{"$f":"COUNTIF(E100:E108,\"Other\")","v":0}]
[null,8,3,0,"  "]
[null,9,5,0,"  "]
[]
[null,{"$f":"AH4","v":"2025-05-30"}]
[null,{"$f":"AF7","v":10},4,0,{"$f":"IF(D111<>0,IF((D111-C111)=-1,\"Birdie\",IF((D111-C111)=-2,\"Eagle\",IF((D111-C111)=0,\"Par\",IF((D111-C111)=1,\"bogey\",IF((D111-C111)=2,\"Double bogey\",\"Other\"))))),\"  \")","v":"  "},null,null,"Count"]
[null,11,4,0,"  ",null,null,"Eagle",{"$f":"COUNTIF(E111:E119,\"Eagle\")","v":0}]
[null,12,3,0,"  ",null,null,"Birdie",{"$f":"COUNTIF(E111:E119,\"Birdie\")","v":0}]
[null,13,4,0,"  ",null,null,"Par",{"$f":"COUNTIF(E111:E119,\"Par\")","v":0}]
[null,14,4,0,"  ",null,null,"bogey",{"$f":"COUNTIF(E111:E119,\"bogey\")","v":0}]
[null,15,3,0,"  ",null,null,"Double bogey",{"$f":"COUNTIF(E111:E119,\"Double bogey\")","v":0}]
[null,16,5,0,"  ",null,null,"Other",{"$f":"COUNTIF(E111:E119,\"Other\")","v":0}]
[null,17,4,0,"  "]
[null,18,5,0,"  "]
[]
[null,{"$f":"AN4","v":"2025-06-06"}]
[null,{"$f":"AL7","v":1},4,0,{"$f":"IF(D122<>0,IF((D122-C122)=-1,\"Birdie\",IF((D122-C122)=-2,\"Eagle\",IF((D122-C122)=0,\"Par\",IF((D122-C122)=1,\"bogey\",IF((D122-C122)=2,\"Double bogey\",\"Other\"))))),\"  \")","v":"  "},null,null,"Count"]
[null,2,4,0,"  ",null,null,"Eagle",{"$f":"COUNTIF(E122:E130,\"Eagle\")","v":0}]
[null,3,4,0,"  ",null,null,"Birdie",{"$f":"COUNTIF(E122:E130,\"Birdie\")","v":0}]
[null,4,4,0,"  ",null,null,"Par",{"$f":"COUNTIF(E122:E130,\"Par\")","v":0}]
[null,5,3,0,"  ",null,null,"bogey",{"$f":"COUNTIF(E122:E130,\"bogey\")","v":0}]
[null,6,4,0,"  ",null,null,"Double bogey",{"$f":"COUNTIF(E122:E130,\"Double bogey\")","v":0}]
[null,7,4,0,"  ",null,null,"Other",{"$f":"COUNTIF(E122:E130,\"Other\")","v":0}]
[null,8,3,0,"  "]
[null,9,5,0,"  "]
[]
[null,{"$f":"AT4","v":"2025-06-13"}]
[null,{"$f":"AR7","v":10},4,0,{"$f":"IF(D133<>0,IF((D133-C133)=-1,\"Birdie\",IF((D133-C133)=-2,\"Eagle\",IF((D133-C133)=0,\"Par\",IF((D133-C133)=1,\"bogey\",IF((D133-C133)=2,\"Double bogey\",\"Other\"))))),\"  \")","v":"  "},null,null,"Count"]
[null,11,4,0,"  ",null,null,"Eagle",{"$f":"COUNTIF(E133:E141,\"Eagle\")","v":0}]
[null,12,3,0,"  ",null,null,"Birdie",{"$f":"COUNTIF(E133:E141,\"Birdie\")","v":0}]
[null,13,4,0,"  ",null,null,"Par",{"$f":"COUNTIF(E133:E141,\"Par\")","v":0}]
[null,14,4,0,"  ",null,null,"bogey",{"$f":"COUNTIF(E133:E141,\"bogey\")","v":0}]
[null,15,3,0,"  ",null,null,"Double bogey",{"$f":"COUNTIF(E133:E141,\"Double bogey\")","v":0}]
[null,16,5,0,"  ",null,null,"Other",{"$f":"COUNTIF(E133:E141,\"Other\")","v":0}]
[null,17,4,0,"  "]
[null,18,5,0,"  "]
[]
[null,{"$f":"AZ4","v":"2025-06-27"}]
[null,{"$f":"AX7","v":10},4,0,{"$f":"IF(D144<>0,IF((D144-C144)=-1,\"Birdie\",IF((D144-C144)=-2,\"Eagle\",IF((D144-C144)=0,\"Par\",IF((D144-C144)=1,\"bogey\",IF((D144-C144)=2,\"Double bogey\",\"Other\"))))),\"  \")","v":"  "},null,null,"Count"]
[null,11,4,0,"  ",null,null,"Eagle",{"$f":"COUNTIF(E144:E152,\"Eagle\")","v":0}]
[null,12,3,0,"  ",null,null,"Birdie",{"$f":"COUNTIF(E144:E152,\"Birdie\")","v":0}]
[null,13,4,0,"  ",null,null,"Par",{"$f":"COUNTIF(E144:E152,\"Par\")","v":0}]
[null,14,4,0,"  ",null,null,"bogey",{"$f":"COUNTIF(E144:E152,\"bogey\")","v":0}]
[null,15,3,0,"  ",null,null,"Double bogey",{"$f":"COUNTIF(E144:E152,\"Double bogey\")","v":0}]
[null,16,5,0,"  ",null,null,"Other",{"$f":"COUNTIF(E144:E152,\"Other\")","v":0}]
[null,17,4,0,"  "]
[null,18,5,0,"  "]
[]
[null,{"$f":"BF4","v":"2025-07-04"}]
[null,{"$f":"BD7","v":10},4,0,{"$f":"IF(D155<>0,IF((D155-C155)=-1,\"Birdie\",IF((D155-C155)=-2,\"Eagle\",IF((D155-C155)=0,\"Par\",IF((D155-C155)=1,\"bogey\",IF((D155-C155)=2,\"Double bogey\",\"Other\"))))),\"  \")","v":"  "},null,null,"Count"]
[null,11,4,0,"  ",null,null,"Eagle",{"$f":"COUNTIF(E155:E163,\"Eagle\")","v":0}]
[null,12,3,0,"  ",null,null,"Birdie",{"$f":"COUNTIF(E155:E163,\"Birdie\")","v":0}]
[null,13,4,0,"  ",null,null,"Par",{"$f":"COUNTIF(E155:E163,\"Par\")","v":0}]
[null,14,4,0,"  ",null,null,"bogey",{"$f":"COUNTIF(E155:E163,\"bogey\")","v":0}]
[null,15,3,0,"  ",null,null,"Double bogey",{"$f":"COUNTIF(E155:E163,\"Double bogey\")","v":0}]
[null,16,5,0,"  ",null,null,"Other",{"$f":"COUNTIF(E155:E163,\"Other\")","v":0}]
[null,17,4,0,"  "]
[null,18,5,0,"  "]
[]
[null,{"$f":"BL4","v":"2025-07-18"}]
[null,{"$f":"BJ7","v":10},4,0,{"$f":"IF(D166<>0,IF((D166-C166)=-1,\"Birdie\",IF((D166-C166)=-2,\"Eagle\",IF((D166-C166)=0,\"Par\",IF((D166-C166)=1,\"bogey\",IF((D166-C166)=2,\"Double bogey\",\"Other\"))))),\"  \")","v":"  "},null,null,"Count"]
[null,11,4,0,"  ",null,null,"Eagle",{"$f":"COUNTIF(E166:E174,\"Eagle\")","v":0}]
[null,12,3,0,"  ",null,null,"Birdie",{"$f":"COUNTIF(E166:E174,\"Birdie\")","v":0}]
[null,13,4,0,"  ",null,null,"Par",{"$f":"COUNTIF(E166:E174,\"Par\")","v":0}]
[null,14,4,0,"  ",null,null,"bogey",{"$f":"COUNTIF(E166:E174,\"bogey\")","v":0}]
[null,15,3,0,"  ",null,null,"Double bogey",{"$f":"COUNTIF(E166:E174,\"Double bogey\")","v":0}]
[null,16,5,0,"  ",null,null,"Other",{"$f":"COUNTIF(E166:E174,\"Other\")","v":0}]
[null,17,4,0,"  "]
[null,18,5,0,"  "]
[]
[null,{"$f":"BR4","v":"2025-07-25"}]
[null,{"$f":"BP7","v":1},4,0,{"$f":"IF(D177<>0,IF((D177-C177)=-1,\"Birdie\",IF((D177-C177)=-2,\"Eagle\",IF((D177-C177)=0,\"Par\",IF((D177-C177)=1,\"bogey\",IF((D177-C177)=2,\"Double bogey\",\"Other\"))))),\"  \")","v":"  "},null,null,"Count"]
[null,2,4,0,"  ",null,null,"Eagle",{"$f":"COUNTIF(E177:E185,\"Eagle\")","v":0}]
[null,3,4,0,"  ",null,null,"Birdie",{"$f":"COUNTIF(E177:E185,\"Birdie\")","v":0}]
[null,4,4,0,"  ",null,null,"Par",{"$f":"COUNTIF(E177:E185,\"Par\")","v":0}]
[null,5,3,0,"  ",null,null,"bogey",{"$f":"COUNTIF(E177:E185,\"bogey\")","v":0}]
[null,6,4,0,"  ",null,null,"Double bogey",{"$f":"COUNTIF(E177:E185,\"Double bogey\")","v":0}]
[null,7,4,0,"  ",null,null,"Other",{"$f":"COUNTIF(E177:E185,\"Other\")","v":0}]
[null,8,3,0,"  "]
[null,9,5,0,"  "]
[]
[null,{"$f":"BX4","v":"2025-08-01"}]
[null,{"$f":"BV7","v":10},4,0,{"$f":"IF(D188<>0,IF((D188-C188)=-1,\"Birdie\",IF((D188-C188)=-2,\"Eagle\",IF((D188-C188)=0,\"Par\",IF((D188-C188)=1,\"bogey\",IF((D188-C188)=2,\"Double bogey\",\"Other\"))))),\"  \")","v":"  "},null,null,"Count"]
[null,11,4,0,"  ",null,null,"Eagle",{"$f":"COUNTIF(E188:E196,\"Eagle\")","v":0}]
[null,12,3,0,"  ",null,null,"Birdie",{"$f":"COUNTIF(E188:E196,\"Birdie\")","v":0}]
[null,13,4,0,"  ",null,null,"Par",{"$f":"COUNTIF(E188:E196,\"Par\")","v":0}]
[null,14,4,0,"  ",null,null,"bogey",{"$f":"COUNTIF(E188:E196,\"bogey\")","v":0}]
[null,15,3,0,"  ",null,null,"Double bogey",{"$f":"COUNTIF(E188:E196,\"Double bogey\")","v":0}]
[null,16,5,0,"  ",null,null,"Other",{"$f":"COUNTIF(E188:E196,\"Other\")","v":0}]
[null,17,4,0,"  "]
[null,18,5,0,"  "]
[]
[null,{"$f":"CD4","v":"2025-08-08"}]
[null,{"$f":"CB7","v":1},4,0,{"$f":"IF(D199<>0,IF((D199-C199)=-1,\"Birdie\",IF((D199-C199)=-2,\"Eagle\",IF((D199-C199)=0,\"Par\",IF((D199-C199)=1,\"bogey\",IF((D199-C199)=2,\"Double bogey\",\"Other\"))))),\"  \")","v":"  "},null,null,"Count"]
[null,2,4,0,"  ",null,null,"Eagle",{"$f":"COUNTIF(E199:E207,\"Eagle\")","v":0}]
[null,3,4,0,"  ",null,null,"Birdie",{"$f":"COUNTIF(E199:E207,\"Birdie\")","v":0}]
[null,4,4,0,"  ",null,null,"Par",{"$f":"COUNTIF(E199:E207,\"Par\")","v":0}]
[null,5,3,0,"  ",null,null,"bogey",{"$f":"COUNTIF(E199:E207,\"bogey\")","v":0}]
[null,6,4,0,"  ",null,null,"Double bogey",{"$f":"COUNTIF(E199:E207,\"Double bogey\")","v":0}]
[null,7,4,0,"  ",null,null,"Other",{"$f":"COUNTIF(E199:E207,\"Other\")","v":0}]
[null,8,3,0,"  "]
[null,9,5,0,"  "]
[]
[null,{"$f":"CJ4","v":"2025-08-15"}]
[null,{"$f":"CH7","v":10},4,0,{"$f":"IF(D210<>0,IF((D210-C210)=-1,\"Birdie\",IF((D210-C210)=-2,\"Eagle\",IF((D210-C210)=0,\"Par\",IF((D210-C210)=1,\"bogey\",IF((D210-C210)=2,\"Double bogey\",\"Other\"))))),\"  \")","v":"  "},null,null,"Count"]
[null,11,4,0,"  ",null,null,"Eagle",{"$f":"COUNTIF(E210:E218,\"Eagle\")","v":0}]
[null,12,3,0,"  ",null,null,"Birdie",{"$f":"COUNTIF(E210:E218,\"Birdie\")","v":0}]
[null,13,4,0,"  ",null,null,"Par",{"$f":"COUNTIF(E210:E218,\"Par\")","v":0}]
[null,14,4,0,"  ",null,null,"bogey",{"$f":"COUNTIF(E210:E218,\"bogey\")","v":0}]
[null,15,3,0,"  ",null,null,"Double bogey",{"$f":"COUNTIF(E210:E218,\"Double bogey\")","v":0}]
[null,16,5,0,"  ",null,null,"Other",{"$f":"COUNTIF(E210:E218,\"Other\")","v":0}]
[null,17,4,0,"  "]
[null,18,5,0,"  "]

{"sheet":"Templeton","index":20,"n_rows":218,"n_cols":90,"rows_kept":218,"cut":false,"hidden":false,"merged":[]}
["Bob Templeton"]
[]
[]
[null,null,"Date:",{"$f":"VLOOKUP(C5,Week,2)","v":"2025-04-25"},null,null,null,null,"Date:",{"$f":"VLOOKUP(I5,Week,2)","v":"2025-05-02"},null,null,null,null,"Date:",{"$f":"VLOOKUP(O5,Week,2)","v":"2025-05-09"},null,null,null,null,"Date:",{"$f":"VLOOKUP(U5,Week,2)","v":"2025-05-16"},null,null,null,null,"Date:",{"$f":"VLOOKUP(AA5,Week,2)","v":"2025-05-23"},null,null,null,null,"Date:",{"$f":"VLOOKUP(AG5,Week,2)","v":"2025-05-30"},null,null,null,null,"Date:",{"$f":"VLOOKUP(AM5,Week,2)","v":"2025-06-06"},null,null,null,null,"Date:",{"$f":"VLOOKUP(AS5,Week,2)","v":"2025-06-13"},null,null,null,null,"Date:",{"$f":"VLOOKUP(AY5,Week,2)","v":"2025-06-27"},null,null,null,null,"Date:",{"$f":"VLOOKUP(BE5,Week,2)","v":"2025-07-04"},null,null,null,null,"Date:",{"$f":"VLOOKUP(BK5,Week,2)","v":"2025-07-18"},null,null,null,null,"Date:",{"$f":"VLOOKUP(BQ5,Week,2)","v":"2025-07-25"},null,null,null,null,"Date:",{"$f":"VLOOKUP(BW5,Week,2)","v":"2025-08-01"},null,null,null,null,"Date:",{"$f":"VLOOKUP(CC5,Week,2)","v":"2025-08-08"},null,null,null,null,"Date:",{"$f":"VLOOKUP(CI5,Week,2)","v":"2025-08-15"}]
[null,"Week",1,null,null,null,null,"Week",2,null,null,null,null,"Week",3,null,null,null,null,"Week",4,null,null,null,null,"Week",5,null,null,null,null,"Week",6,null,null,null,null,"Week",7,null,null,null,null,"Week",8,null,null,null,null,"Week",9,null,null,null,null,"Week",10,null,null,null,null,"Week",11,null,null,null,null,"Week",12,null,null,null,null,"Week",13,null,null,null,null,"Week",14,null,null,null,null,"Week",15]
[null,"Hole #","Par","Score","Net","Win Hole",null,"Hole #","Par","Score","Net","Win Hole",null,"Hole #","Par","Score","Net","Win Hole",null,"Hole #","Par","Score","Net","Win Hole",null,"Hole #","Par","Score","Net","Win Hole",null,"Hole #","Par","Score","Net","Win Hole",null,"Hole #","Par","Score","Net","Win Hole",null,"Hole #","Par","Score","Net","Win Hole",null,"Hole #","Par","Score","Net","Win Hole",null,"Hole #","Par","Score","Net","Win Hole",null,"Hole #","Par","Score","Net","Win Hole",null,"Hole #","Par","Score","Net","Win Hole",null,"Hole #","Par","Score","Net","Win Hole",null,"Hole #","Par","Score","Net","Win Hole",null,"Hole #","Par","Score","Net","Win Hole"]
[null,{"$f":"VLOOKUP(C5,Week,6)","v":1},{"$f":"VLOOKUP(B7,Holes,2)","v":4},null,{"$f":"IF((D7-C7)>3,C7+3,D7)","v":0},null,null,{"$f":"VLOOKUP(I5,Week,6)","v":10},{"$f":"VLOOKUP(H7,Holes,2)","v":4},null,{"$f":"IF((J7-I7)>3,I7+3,J7)","v":0},null,null,{"$f":"VLOOKUP(O5,Week,6)","v":1},{"$f":"VLOOKUP(N7,Holes,2)","v":4},null,{"$f":"IF((P7-O7)>3,O7+3,P7)","v":0},null,null,{"$f":"VLOOKUP(U5,Week,6)","v":10},{"$f":"VLOOKUP(T7,Holes,2)","v":4},null,{"$f":"IF((V7-U7)>3,U7+3,V7)","v":0},null,null,{"$f":"VLOOKUP(AA5,Week,6)","v":1},{"$f":"VLOOKUP(Z7,Holes,2)","v":4},null,{"$f":"IF((AB7-AA7)>3,AA7+3,AB7)","v":0},null,null,{"$f":"VLOOKUP(AG5,Week,6)","v":10},{"$f":"VLOOKUP(AF7,Holes,2)","v":4},null,{"$f":"IF((AH7-AG7)>3,AG7+3,AH7)","v":0},null,null,{"$f":"VLOOKUP(AM5,Week,6)","v":1},{"$f":"VLOOKUP(AL7,Holes,2)","v":4},null,{"$f":"IF((AN7-AM7)>3,AM7+3,AN7)","v":0},null,null,{"$f":"VLOOKUP(AS5,Week,6)","v":10},{"$f":"VLOOKUP(AR7,Holes,2)","v":4},null,{"$f":"IF((AT7-AS7)>3,AS7+3,AT7)","v":0},null,null,{"$f":"VLOOKUP(AY5,Week,6)","v":10},{"$f":"VLOOKUP(AX7,Holes,2)","v":4},null,{"$f":"IF((AZ7-AY7)>3,AY7+3,AZ7)","v":0},null,null,{"$f":"VLOOKUP(BE5,Week,6)","v":10},{"$f":"VLOOKUP(BD7,Holes,2)","v":4},null,{"$f":"IF((BF7-BE7)>3,BE7+3,BF7)","v":0},null,null,{"$f":"VLOOKUP(BK5,Week,6)","v":10},{"$f":"VLOOKUP(BJ7,Holes,2)","v":4},null,{"$f":"IF((BL7-BK7)>3,BK7+3,BL7)","v":0},null,null,{"$f":"VLOOKUP(BQ5,Week,6)","v":1},{"$f":"VLOOKUP(BP7,Holes,2)","v":4},null,{"$f":"IF((BR7-BQ7)>3,BQ7+3,BR7)","v":0},null,null,{"$f":"VLOOKUP(BW5,Week,6)","v":10},{"$f":"VLOOKUP(BV7,Holes,2)","v":4},null,{"$f":"IF((BX7-BW7)>3,BW7+3,BX7)","v":0},null,null,{"$f":"VLOOKUP(CC5,Week,6)","v":1},{"$f":"VLOOKUP(CB7,Holes,2)","v":4},null,{"$f":"IF((CD7-CC7)>3,CC7+3,CD7)","v":0},null,null,{"$f":"VLOOKUP(CI5,Week,6)","v":10},{"$f":"VLOOKUP(CH7,Holes,2)","v":4},null,{"$f":"IF((CJ7-CI7)>3,CI7+3,CJ7)","v":0}]
[null,{"$f":"+B7+1","v":2},4,null,0,null,null,{"$f":"+H7+1","v":11},4,null,0,null,null,{"$f":"+N7+1","v":2},4,null,0,null,null,{"$f":"+T7+1","v":11},4,null,0,null,null,{"$f":"+Z7+1","v":2},4,null,0,null,null,{"$f":"+AF7+1","v":11},4,null,0,null,null,{"$f":"+AL7+1","v":2},4,null,0,null,null,{"$f":"+AR7+1","v":11},4,null,0,null,null,{"$f":"+AX7+1","v":11},4,null,0,null,null,{"$f":"+BD7+1","v":11},4,null,0,null,null,{"$f":"+BJ7+1","v":11},4,null,0,null,null,{"$f":"+BP7+1","v":2},4,null,0,null,null,{"$f":"+BV7+1","v":11},4,null,0,null,null,{"$f":"+CB7+1","v":2},4,null,0,null,null,{"$f":"+CH7+1","v":11},4,null,0]
[null,3,4,null,0,null,null,12,3,null,0,null,null,3,4,null,0,null,null,12,3,null,0,null,null,3,4,null,0,null,null,12,3,null,0,null,null,3,4,null,0,null,null,12,3,null,0,null,null,12,3,null,0,null,null,12,3,null,0,null,null,12,3,null,0,null,null,3,4,null,0,null,null,12,3,null,0,null,null,3,4,null,0,null,null,12,3,null,0]
[null,4,4,null,0,null,null,13,4,null,0,null,null,4,4,null,0,null,null,13,4,null,0,null,null,4,4,null,0,null,null,13,4,null,0,null,null,4,4,null,0,null,null,13,4,null,0,null,null,13,4,null,0,null,null,13,4,null,0,null,null,13,4,null,0,null,null,4,4,null,0,null,null,13,4,null,0,null,null,4,4,null,0,null,null,13,4,null,0]
[null,5,3,null,0,null,null,14,4,null,0,null,null,5,3,null,0,null,null,14,4,null,0,null,null,5,3,null,0,null,null,14,4,null,0,null,null,5,3,null,0,null,null,14,4,null,0,null,null,14,4,null,0,null,null,14,4,null,0,null,null,14,4,null,0,null,null,5,3,null,0,null,null,14,4,null,0,null,null,5,3,null,0,null,null,14,4,null,0]
[null,6,4,null,0,null,null,15,3,null,0,null,null,6,4,null,0,null,null,15,3,null,0,null,null,6,4,null,0,null,null,15,3,null,0,null,null,6,4,null,0,null,null,15,3,null,0,null,null,15,3,null,0,null,null,15,3,null,0,null,null,15,3,null,0,null,null,6,4,null,0,null,null,15,3,null,0,null,null,6,4,null,0,null,null,15,3,null,0]
[null,7,4,null,0,null,null,16,5,null,0,null,null,7,4,null,0,null,null,16,5,null,0,null,null,7,4,null,0,null,null,16,5,null,0,null,null,7,4,null,0,null,null,16,5,null,0,null,null,16,5,null,0,null,null,16,5,null,0,null,null,16,5,null,0,null,null,7,4,null,0,null,null,16,5,null,0,null,null,7,4,null,0,null,null,16,5,null,0]
[null,8,3,null,0,null,null,17,4,null,0,null,null,8,3,null,0,null,null,17,4,null,0,null,null,8,3,null,0,null,null,17,4,null,0,null,null,8,3,null,0,null,null,17,4,null,0,null,null,17,4,null,0,null,null,17,4,null,0,null,null,17,4,null,0,null,null,8,3,null,0,null,null,17,4,null,0,null,null,8,3,null,0,null,null,17,4,null,0]
[null,9,5,null,0,null,null,18,5,null,0,null,null,9,5,null,0,null,null,18,5,null,0,null,null,9,5,null,0,null,null,18,5,null,0,null,null,9,5,null,0,null,null,18,5,null,0,null,null,18,5,null,0,null,null,18,5,null,0,null,null,18,5,null,0,null,null,9,5,null,0,null,null,18,5,null,0,null,null,9,5,null,0,null,null,18,5,null,0]
[null,"Total",{"$f":"SUM(C7:C15)","v":35},{"$f":"SUM(D7:D15)","v":0},{"$f":"SUM(E7:E15)","v":0},{"$f":"SUM(F7:F15)","v":0},null,"Total",{"$f":"SUM(I7:I15)","v":36},{"$f":"SUM(J7:J15)","v":0},{"$f":"SUM(K7:K15)","v":0},{"$f":"SUM(L7:L15)","v":0},null,"Total",{"$f":"SUM(O7:O15)","v":35},{"$f":"SUM(P7:P15)","v":0},{"$f":"SUM(Q7:Q15)","v":0},{"$f":"SUM(R7:R15)","v":0},null,"Total",{"$f":"SUM(U7:U15)","v":36},{"$f":"SUM(V7:V15)","v":0},{"$f":"SUM(W7:W15)","v":0},{"$f":"SUM(X7:X15)","v":0},null,"Total",{"$f":"SUM(AA7:AA15)","v":35},{"$f":"SUM(AB7:AB15)","v":0},{"$f":"SUM(AC7:AC15)","v":0},{"$f":"SUM(AD7:AD15)","v":0},null,"Total",{"$f":"SUM(AG7:AG15)","v":36},{"$f":"SUM(AH7:AH15)","v":0},{"$f":"SUM(AI7:AI15)","v":0},{"$f":"SUM(AJ7:AJ15)","v":0},null,"Total",{"$f":"SUM(AM7:AM15)","v":35},{"$f":"SUM(AN7:AN15)","v":0},{"$f":"SUM(AO7:AO15)","v":0},{"$f":"SUM(AP7:AP15)","v":0},null,"Total",{"$f":"SUM(AS7:AS15)","v":36},{"$f":"SUM(AT7:AT15)","v":0},{"$f":"SUM(AU7:AU15)","v":0},{"$f":"SUM(AV7:AV15)","v":0},null,"Total",{"$f":"SUM(AY7:AY15)","v":36},{"$f":"SUM(AZ7:AZ15)","v":0},{"$f":"SUM(BA7:BA15)","v":0},{"$f":"SUM(BB7:BB15)","v":0},null,"Total",{"$f":"SUM(BE7:BE15)","v":36},{"$f":"SUM(BF7:BF15)","v":0},{"$f":"SUM(BG7:BG15)","v":0},{"$f":"SUM(BH7:BH15)","v":0},null,"Total",{"$f":"SUM(BK7:BK15)","v":36},{"$f":"SUM(BL7:BL15)","v":0},{"$f":"SUM(BM7:BM15)","v":0},{"$f":"SUM(BN7:BN15)","v":0},null,"Total",{"$f":"SUM(BQ7:BQ15)","v":35},{"$f":"SUM(BR7:BR15)","v":0},{"$f":"SUM(BS7:BS15)","v":0},{"$f":"SUM(BT7:BT15)","v":0},null,"Total",{"$f":"SUM(BW7:BW15)","v":36},{"$f":"SUM(BX7:BX15)","v":0},{"$f":"SUM(BY7:BY15)","v":0},{"$f":"SUM(BZ7:BZ15)","v":0},null,"Total",{"$f":"SUM(CC7:CC15)","v":35},{"$f":"SUM(CD7:CD15)","v":0},{"$f":"SUM(CE7:CE15)","v":0},{"$f":"SUM(CF7:CF15)","v":0},null,"Total",{"$f":"SUM(CI7:CI15)","v":36},{"$f":"SUM(CJ7:CJ15)","v":0},{"$f":"SUM(CK7:CK15)","v":0},{"$f":"SUM(CL7:CL15)","v":0}]
[]
[null,null,null,null,"Low Net",null,null,null,null,null,"Low Net",0,null,null,null,null,"Low Net",0,null,null,null,null,"Low Net",null,null,null,null,null,"Low Net",null,null,null,null,null,"Low Net",null,null,null,null,null,"Low Net",null,null,null,null,null,"Low Net",null,null,null,null,null,"Low Net",null,null,null,null,null,"Low Net",null,null,null,null,null,"Low Net",null,null,null,null,null,"Low Net",null,null,null,null,null,"Low Net",null,null,null,null,null,"Low Net",null,null,null,null,null,"Low Net"]
[]
[null,null,null,null,"Total Points",{"$f":"SUM(F16:F19)","v":0},null,null,null,null,"Total Points",{"$f":"SUM(L16:L19)","v":0},null,null,null,null,"Total Points",{"$f":"SUM(R16:R19)","v":0},null,null,null,null,"Total Points",{"$f":"SUM(X16:X19)","v":0},null,null,null,null,"Total Points",{"$f":"SUM(AD16:AD19)","v":0},null,null,null,null,"Total Points",{"$f":"SUM(AJ16:AJ19)","v":0},null,null,null,null,"Total Points",{"$f":"SUM(AP16:AP19)","v":0},null,null,null,null,"Total Points",{"$f":"SUM(AV16:AV19)","v":0},null,null,null,null,"Total Points",{"$f":"SUM(BB16:BB19)","v":0},null,null,null,null,"Total Points",{"$f":"SUM(BH16:BH19)","v":0},null,null,null,null,"Total Points",{"$f":"SUM(BN16:BN19)","v":0},null,null,null,null,"Total Points",{"$f":"SUM(BT16:BT19)","v":0},null,null,null,null,"Total Points",{"$f":"SUM(BZ16:BZ19)","v":0},null,null,null,null,"Total Points",{"$f":"SUM(CF16:CF19)","v":0},null,null,null,null,"Total Points",{"$f":"SUM(CL16:CL19)","v":0}]
[]
[null,null,null,null,"Handicap",{"$f":"IF(D16=0,0,E16-C16)","v":0},null,null,null,null,"Handicap",{"$f":"IF(J16=0,0,K16-I16)","v":0},null,null,null,null,"Handicap",{"$f":"IF(P16=0,0,Q16-O16)","v":0},null,null,null,null,"Handicap",{"$f":"IF(V16=0,0,W16-U16)","v":0},null,null,null,null,"Handicap",{"$f":"IF(AB16=0,0,AC16-AA16)","v":0},null,null,null,null,"Handicap",{"$f":"IF(AH16=0,0,AI16-AG16)","v":0},null,null,null,null,"Handicap",{"$f":"IF(AN16=0,0,AO16-AM16)","v":0},null,null,null,null,"Handicap",{"$f":"IF(AT16=0,0,AU16-AS16)","v":0},null,null,null,null,"Handicap",{"$f":"IF(AZ16=0,0,BA16-AY16)","v":0},null,null,null,null,"Handicap",{"$f":"IF(BF16=0,0,BG16-BE16)","v":0},null,null,null,null,"Handicap",{"$f":"IF(BL16=0,0,BM16-BK16)","v":0},null,null,null,null,"Handicap",{"$f":"IF(BR16=0,0,BS16-BQ16)","v":0},null,null,null,null,"Handicap",{"$f":"IF(BX16=0,0,BY16-BW16)","v":0},null,null,null,null,"Handicap",{"$f":"IF(CD16=0,0,CE16-CC16)","v":0},null,null,null,null,"Handicap",{"$f":"IF(CJ16=0,0,CK16-CI16)","v":0}]
[]
[null,null,null,null,null,{"$f":"IF(D16<>0,IF(F16>4.5,\"W\",IF(F16=4.5,\"T\",IF(F16<4.5,\"L\"))),0)","v":0},null,null,null,null,null,{"$f":"IF(J16<>0,IF(L16>4.5,\"W\",IF(L16=4.5,\"T\",IF(L16<4.5,\"L\"))),0)","v":0},null,null,null,null,null,{"$f":"IF(P16<>0,IF(R16>4.5,\"W\",IF(R16=4.5,\"T\",IF(R16<4.5,\"L\"))),0)","v":0},null,null,null,null,null,{"$f":"IF(V16<>0,IF(X16>4.5,\"W\",IF(X16=4.5,\"T\",IF(X16<4.5,\"L\"))),0)","v":0},null,null,null,null,null,{"$f":"IF(AB16<>0,IF(AD16>4.5,\"W\",IF(AD16=4.5,\"T\",IF(AD16<4.5,\"L\"))),0)","v":0},null,null,null,null,null,{"$f":"IF(AH16<>0,IF(AJ16>4.5,\"W\",IF(AJ16=4.5,\"T\",IF(AJ16<4.5,\"L\"))),0)","v":0},null,null,null,null,null,{"$f":"IF(AN16<>0,IF(AP16>4.5,\"W\",IF(AP16=4.5,\"T\",IF(AP16<4.5,\"L\"))),0)","v":0},null,null,null,null,null,{"$f":"IF(AT16<>0,IF(AV16>4.5,\"W\",IF(AV16=4.5,\"T\",IF(AV16<4.5,\"L\"))),0)","v":0},null,null,null,null,null,{"$f":"IF(AZ16<>0,IF(BB16>4.5,\"W\",IF(BB16=4.5,\"T\",IF(BB16<4.5,\"L\"))),0)","v":0},null,null,null,null,null,{"$f":"IF(BF16<>0,IF(BH16>4.5,\"W\",IF(BH16=4.5,\"T\",IF(BH16<4.5,\"L\"))),0)","v":0},null,null,null,null,null,{"$f":"IF(BL16<>0,IF(BN16>4.5,\"W\",IF(BN16=4.5,\"T\",IF(BN16<4.5,\"L\"))),0)","v":0},null,null,null,null,null,{"$f":"IF(BR16<>0,IF(BT16>4.5,\"W\",IF(BT16=4.5,\"T\",IF(BT16<4.5,\"L\"))),0)","v":0},null,null,null,null,null,{"$f":"IF(BX16<>0,IF(BZ16>4.5,\"W\",IF(BZ16=4.5,\"T\",IF(BZ16<4.5,\"L\"))),0)","v":0},null,null,null,null,null,{"$f":"IF(CD16<>0,IF(CF16>4.5,\"W\",IF(CF16=4.5,\"T\",IF(CF16<4.5,\"L\"))),0)","v":0},null,null,null,null,null,{"$f":"IF(CJ16<>0,IF(CL16>4.5,\"W\",IF(CL16=4.5,\"T\",IF(CL16<4.5,\"L\"))),0)","v":0}]
[]
[null,"Summary"]
[null,null,null,"Adj",null,"Adj",null,null,null,"Avg Score"]
[null,null,"Points","Points","Matches","Matches",null,null,"Hole #","by Hole","Best","Worst"]
[null,"Week #1",{"$f":"F20","v":0},{"$f":"C29","v":0},{"$f":"IF(D16>0,1,0)","v":0},{"$f":"E29","v":0},null,null,1,{"$f":"IFERROR(AVERAGE(D7),0)","v":0},{"$f":"IFERROR(MIN(J7,V7,AH7,AT7,BF7,BR7,BX7,CJ7),0)","v":0},{"$f":"IFERROR(MAX(J7,V7,AH7,AT7,BF7,BR7,BX7,CJ7),0)","v":0}]
[null,"Week #2",{"$f":"L20","v":0},0,{"$f":"IF(J16>0,1,0)","v":0},0,null,null,2,{"$f":"IFERROR(AVERAGE(D8),0)","v":0},{"$f":"IFERROR(MIN(J8,V8,AH8,AT8,BF8,BR8,BX8,CJ8),0)","v":0},{"$f":"IFERROR(MAX(J8,V8,AH8,AT8,BF8,BR8,BX8,CJ8),0)","v":0}]
[null,"Week #3",{"$f":"R20","v":0},0,{"$f":"IF(P16>0,1,0)","v":0},0,null,null,3,0,0,0]
[null,"Week #4",{"$f":"X20","v":0},0,{"$f":"IF(V16>0,1,0)","v":0},0,null,null,4,0,0,0]
[null,"Week #5",{"$f":"AD20","v":0},0,{"$f":"IF(AB16>0,1,0)","v":0},0,null,null,5,0,0,0]
[null,"Week #6",{"$f":"AJ20","v":0},0,{"$f":"IF(AH16>0,1,0)","v":0},0,null,null,6,0,0,0]
[null,"Week #7",{"$f":"AP20","v":0},0,{"$f":"IF(AN16>0,1,0)","v":0},0,null,null,7,0,0,0]
[null,"Week #8",{"$f":"AV20","v":0},0,{"$f":"IF(AT16>0,1,0)","v":0},0,null,null,8,0,0,0]
[null,"Week #9",{"$f":"BB20","v":0},0,{"$f":"IF(AZ16>0,1,0)","v":0},0,null,null,9,0,0,0]
[null,"Week #10",{"$f":"BH20","v":0},0,{"$f":"IF(BF16>0,1,0)","v":0},0,null,null,"Front",{"$f":"SUM(J29:J37)","v":0},{"$f":"SUM(K29:K37)","v":0},0]
[null,"Week #11",{"$f":"BN20","v":0},0,{"$f":"IF(BL16>0,1,0)","v":0},0]
[null,"Week #12",{"$f":"BT20","v":0},0,{"$f":"IF(BR16>0,1,0)","v":0},0,null,null,10,{"$f":"IFERROR(AVERAGE(J7),0)","v":0},{"$f":"IFERROR(MIN(D7,P7,AB7,AN7,AZ7,BL7,CD7),0)","v":0},{"$f":"IFERROR(MAX(D7,P7,AB7,AN7,AZ7,BL7,CD7),0)","v":0}]
[null,"Week #13",{"$f":"BZ20","v":0},0,{"$f":"IF(BX16>0,1,0)","v":0},0,null,null,11,{"$f":"IFERROR(AVERAGE(J8),0)","v":0},{"$f":"IFERROR(MIN(D8,P8,AB8,AN8,AZ8,BL8,CD8),0)","v":0},{"$f":"IFERROR(MAX(D8,P8,AB8,AN8,AZ8,BL8,CD8),0)","v":0}]
[null,"Week #14",{"$f":"CF20","v":0},0,{"$f":"IF(CD16>0,1,0)","v":0},0,null,null,12,0,0,0]
[null,"Week #15",{"$f":"CL20","v":0},0,{"$f":"IF(CJ16>0,1,0)","v":0},0,null,null,13,0,0,0]
[null,"Total",{"$f":"SUM(C29:C43)","v":0},{"$f":"SUM(D29:D43)","v":0},{"$f":"SUM(E29:E43)","v":0},{"$f":"SUM(F29:F43)","v":0},null,null,14,0,0,0]
[null,null,null,null,null,null,null,null,15,0,0,0]
[null,"Summary",null,null,null,null,null,null,16,0,0,0]
[null,"Eagles",{"$f":"I57+I68+I79+I90+I101+I112+I123+I134+I145+I156+I167+I178+I189+I200+I211","v":0},null,null,null,null,null,17,0,0,0]
[null,"Birdies",0,null,null,null,null,null,18,0,0,0]
[null,"Pars",{"$f":"I59+I70+I81+I92+I103+I114+I125+I136+I147+I158+I169+I180+I191+I202+I213","v":0},null,null,null,null,null,"Back",{"$f":"SUM(J40:J48)","v":0},{"$f":"SUM(K40:K48)","v":0},0]
[null,"bogeys",0]
[null,"Double bogeys",0]
[null,"Other",0]
[null,"Total",{"$f":"SUM(C47:C52)","v":0}]
[]
[null,{"$f":"D4","v":"2025-04-25"},"Par","Score"]
[null,{"$f":"B7","v":1},4,0,{"$f":"IF(D56<>0,IF((D56-C56)=-1,\"Birdie\",IF((D56-C56)=-2,\"Eagle\",IF((D56-C56)=0,\"Par\",IF((D56-C56)=1,\"bogey\",IF((D56-C56)=2,\"Double bogey\",\"Other\"))))),\"  \")","v":"  "},null,null,"Count"]
[null,2,4,0,"  ",null,null,"Eagle",{"$f":"COUNTIF(E56:E64,\"Eagle\")","v":0}]
[null,3,4,0,"  ",null,null,"Birdie",{"$f":"COUNTIF(E56:E64,\"Birdie\")","v":0}]
[null,4,4,0,"  ",null,null,"Par",{"$f":"COUNTIF(E56:E64,\"Par\")","v":0}]
[null,5,3,0,"  ",null,null,"bogey",{"$f":"COUNTIF(E56:E64,\"bogey\")","v":0}]
[null,6,4,0,"  ",null,null,"Double bogey",{"$f":"COUNTIF(E56:E64,\"Double bogey\")","v":0}]
[null,7,4,0,"  ",null,null,"Other",{"$f":"COUNTIF(E56:E64,\"Other\")","v":0}]
[null,8,3,0,"  "]
[null,9,5,0,"  "]
[]
[null,{"$f":"J4","v":"2025-05-02"}]
[null,{"$f":"H7","v":10},4,0,{"$f":"IF(D67<>0,IF((D67-C67)=-1,\"Birdie\",IF((D67-C67)=-2,\"Eagle\",IF((D67-C67)=0,\"Par\",IF((D67-C67)=1,\"bogey\",IF((D67-C67)=2,\"Double bogey\",\"Other\"))))),\"  \")","v":"  "},null,null,"Count"]
[null,11,4,0,"  ",null,null,"Eagle",{"$f":"COUNTIF(E67:E75,\"Eagle\")","v":0}]
[null,12,3,0,"  ",null,null,"Birdie",{"$f":"COUNTIF(E67:E75,\"Birdie\")","v":0}]
[null,13,4,0,"  ",null,null,"Par",{"$f":"COUNTIF(E67:E75,\"Par\")","v":0}]
[null,14,4,0,"  ",null,null,"bogey",{"$f":"COUNTIF(E67:E75,\"bogey\")","v":0}]
[null,15,3,0,"  ",null,null,"Double bogey",{"$f":"COUNTIF(E67:E75,\"Double bogey\")","v":0}]
[null,16,5,0,"  ",null,null,"Other",{"$f":"COUNTIF(E67:E75,\"Other\")","v":0}]
[null,17,4,0,"  "]
[null,18,5,0,"  "]
[]
[null,{"$f":"P4","v":"2025-05-09"}]
[null,{"$f":"N7","v":1},4,0,{"$f":"IF(D78<>0,IF((D78-C78)=-1,\"Birdie\",IF((D78-C78)=-2,\"Eagle\",IF((D78-C78)=0,\"Par\",IF((D78-C78)=1,\"bogey\",IF((D78-C78)=2,\"Double bogey\",\"Other\"))))),\"  \")","v":"  "},null,null,"Count"]
[null,2,4,0,"  ",null,null,"Eagle",{"$f":"COUNTIF(E78:E86,\"Eagle\")","v":0}]
[null,3,4,0,"  ",null,null,"Birdie",{"$f":"COUNTIF(E78:E86,\"Birdie\")","v":0}]
[null,4,4,0,"  ",null,null,"Par",{"$f":"COUNTIF(E78:E86,\"Par\")","v":0}]
[null,5,3,0,"  ",null,null,"bogey",{"$f":"COUNTIF(E78:E86,\"bogey\")","v":0}]
[null,6,4,0,"  ",null,null,"Double bogey",{"$f":"COUNTIF(E78:E86,\"Double bogey\")","v":0}]
[null,7,4,0,"  ",null,null,"Other",{"$f":"COUNTIF(E78:E86,\"Other\")","v":0}]
[null,8,3,0,"  "]
[null,9,5,0,"  "]
[]
[null,{"$f":"V4","v":"2025-05-16"}]
[null,{"$f":"T7","v":10},4,0,{"$f":"IF(D89<>0,IF((D89-C89)=-1,\"Birdie\",IF((D89-C89)=-2,\"Eagle\",IF((D89-C89)=0,\"Par\",IF((D89-C89)=1,\"bogey\",IF((D89-C89)=2,\"Double bogey\",\"Other\"))))),\"  \")","v":"  "},null,null,"Count"]
[null,11,4,0,"  ",null,null,"Eagle",{"$f":"COUNTIF(E89:E97,\"Eagle\")","v":0}]
[null,12,3,0,"  ",null,null,"Birdie",{"$f":"COUNTIF(E89:E97,\"Birdie\")","v":0}]
[null,13,4,0,"  ",null,null,"Par",{"$f":"COUNTIF(E89:E97,\"Par\")","v":0}]
[null,14,4,0,"  ",null,null,"bogey",{"$f":"COUNTIF(E89:E97,\"bogey\")","v":0}]
[null,15,3,0,"  ",null,null,"Double bogey",{"$f":"COUNTIF(E89:E97,\"Double bogey\")","v":0}]
[null,16,5,0,"  ",null,null,"Other",{"$f":"COUNTIF(E89:E97,\"Other\")","v":0}]
[null,17,4,0,"  "]
[null,18,5,0,"  "]
[]
[null,{"$f":"AB4","v":"2025-05-23"}]
[null,{"$f":"Z7","v":1},4,0,{"$f":"IF(D100<>0,IF((D100-C100)=-1,\"Birdie\",IF((D100-C100)=-2,\"Eagle\",IF((D100-C100)=0,\"Par\",IF((D100-C100)=1,\"bogey\",IF((D100-C100)=2,\"Double bogey\",\"Other\"))))),\"  \")","v":"  "},null,null,"Count"]
[null,2,4,0,"  ",null,null,"Eagle",{"$f":"COUNTIF(E100:E108,\"Eagle\")","v":0}]
[null,3,4,0,"  ",null,null,"Birdie",{"$f":"COUNTIF(E100:E108,\"Birdie\")","v":0}]
[null,4,4,0,"  ",null,null,"Par",{"$f":"COUNTIF(E100:E108,\"Par\")","v":0}]
[null,5,3,0,"  ",null,null,"bogey",{"$f":"COUNTIF(E100:E108,\"bogey\")","v":0}]
[null,6,4,0,"  ",null,null,"Double bogey",{"$f":"COUNTIF(E100:E108,\"Double bogey\")","v":0}]
[null,7,4,0,"  ",null,null,"Other",{"$f":"COUNTIF(E100:E108,\"Other\")","v":0}]
[null,8,3,0,"  "]
[null,9,5,0,"  "]
[]
[null,{"$f":"AH4","v":"2025-05-30"}]
[null,{"$f":"AF7","v":10},4,0,{"$f":"IF(D111<>0,IF((D111-C111)=-1,\"Birdie\",IF((D111-C111)=-2,\"Eagle\",IF((D111-C111)=0,\"Par\",IF((D111-C111)=1,\"bogey\",IF((D111-C111)=2,\"Double bogey\",\"Other\"))))),\"  \")","v":"  "},null,null,"Count"]
[null,11,4,0,"  ",null,null,"Eagle",{"$f":"COUNTIF(E111:E119,\"Eagle\")","v":0}]
[null,12,3,0,"  ",null,null,"Birdie",{"$f":"COUNTIF(E111:E119,\"Birdie\")","v":0}]
[null,13,4,0,"  ",null,null,"Par",{"$f":"COUNTIF(E111:E119,\"Par\")","v":0}]
[null,14,4,0,"  ",null,null,"bogey",{"$f":"COUNTIF(E111:E119,\"bogey\")","v":0}]
[null,15,3,0,"  ",null,null,"Double bogey",{"$f":"COUNTIF(E111:E119,\"Double bogey\")","v":0}]
[null,16,5,0,"  ",null,null,"Other",{"$f":"COUNTIF(E111:E119,\"Other\")","v":0}]
[null,17,4,0,"  "]
[null,18,5,0,"  "]
[]
[null,{"$f":"AN4","v":"2025-06-06"}]
[null,{"$f":"AL7","v":1},4,0,{"$f":"IF(D122<>0,IF((D122-C122)=-1,\"Birdie\",IF((D122-C122)=-2,\"Eagle\",IF((D122-C122)=0,\"Par\",IF((D122-C122)=1,\"bogey\",IF((D122-C122)=2,\"Double bogey\",\"Other\"))))),\"  \")","v":"  "},null,null,"Count"]
[null,2,4,0,"  ",null,null,"Eagle",{"$f":"COUNTIF(E122:E130,\"Eagle\")","v":0}]
[null,3,4,0,"  ",null,null,"Birdie",{"$f":"COUNTIF(E122:E130,\"Birdie\")","v":0}]
[null,4,4,0,"  ",null,null,"Par",{"$f":"COUNTIF(E122:E130,\"Par\")","v":0}]
[null,5,3,0,"  ",null,null,"bogey",{"$f":"COUNTIF(E122:E130,\"bogey\")","v":0}]
[null,6,4,0,"  ",null,null,"Double bogey",{"$f":"COUNTIF(E122:E130,\"Double bogey\")","v":0}]
[null,7,4,0,"  ",null,null,"Other",{"$f":"COUNTIF(E122:E130,\"Other\")","v":0}]
[null,8,3,0,"  "]
[null,9,5,0,"  "]
[]
[null,{"$f":"AT4","v":"2025-06-13"}]
[null,{"$f":"AR7","v":10},4,0,{"$f":"IF(D133<>0,IF((D133-C133)=-1,\"Birdie\",IF((D133-C133)=-2,\"Eagle\",IF((D133-C133)=0,\"Par\",IF((D133-C133)=1,\"bogey\",IF((D133-C133)=2,\"Double bogey\",\"Other\"))))),\"  \")","v":"  "},null,null,"Count"]
[null,11,4,0,"  ",null,null,"Eagle",{"$f":"COUNTIF(E133:E141,\"Eagle\")","v":0}]
[null,12,3,0,"  ",null,null,"Birdie",{"$f":"COUNTIF(E133:E141,\"Birdie\")","v":0}]
[null,13,4,0,"  ",null,null,"Par",{"$f":"COUNTIF(E133:E141,\"Par\")","v":0}]
[null,14,4,0,"  ",null,null,"bogey",{"$f":"COUNTIF(E133:E141,\"bogey\")","v":0}]
[null,15,3,0,"  ",null,null,"Double bogey",{"$f":"COUNTIF(E133:E141,\"Double bogey\")","v":0}]
[null,16,5,0,"  ",null,null,"Other",{"$f":"COUNTIF(E133:E141,\"Other\")","v":0}]
[null,17,4,0,"  "]
[null,18,5,0,"  "]
[]
[null,{"$f":"AZ4","v":"2025-06-27"}]
[null,{"$f":"AX7","v":10},4,0,{"$f":"IF(D144<>0,IF((D144-C144)=-1,\"Birdie\",IF((D144-C144)=-2,\"Eagle\",IF((D144-C144)=0,\"Par\",IF((D144-C144)=1,\"bogey\",IF((D144-C144)=2,\"Double bogey\",\"Other\"))))),\"  \")","v":"  "},null,null,"Count"]
[null,11,4,0,"  ",null,null,"Eagle",{"$f":"COUNTIF(E144:E152,\"Eagle\")","v":0}]
[null,12,3,0,"  ",null,null,"Birdie",{"$f":"COUNTIF(E144:E152,\"Birdie\")","v":0}]
[null,13,4,0,"  ",null,null,"Par",{"$f":"COUNTIF(E144:E152,\"Par\")","v":0}]
[null,14,4,0,"  ",null,null,"bogey",{"$f":"COUNTIF(E144:E152,\"bogey\")","v":0}]
[null,15,3,0,"  ",null,null,"Double bogey",{"$f":"COUNTIF(E144:E152,\"Double bogey\")","v":0}]
[null,16,5,0,"  ",null,null,"Other",{"$f":"COUNTIF(E144:E152,\"Other\")","v":0}]
[null,17,4,0,"  "]
[null,18,5,0,"  "]
[]
[null,{"$f":"BF4","v":"2025-07-04"}]
[null,{"$f":"BD7","v":10},4,0,{"$f":"IF(D155<>0,IF((D155-C155)=-1,\"Birdie\",IF((D155-C155)=-2,\"Eagle\",IF((D155-C155)=0,\"Par\",IF((D155-C155)=1,\"bogey\",IF((D155-C155)=2,\"Double bogey\",\"Other\"))))),\"  \")","v":"  "},null,null,"Count"]
[null,11,4,0,"  ",null,null,"Eagle",{"$f":"COUNTIF(E155:E163,\"Eagle\")","v":0}]
[null,12,3,0,"  ",null,null,"Birdie",{"$f":"COUNTIF(E155:E163,\"Birdie\")","v":0}]
[null,13,4,0,"  ",null,null,"Par",{"$f":"COUNTIF(E155:E163,\"Par\")","v":0}]
[null,14,4,0,"  ",null,null,"bogey",{"$f":"COUNTIF(E155:E163,\"bogey\")","v":0}]
[null,15,3,0,"  ",null,null,"Double bogey",{"$f":"COUNTIF(E155:E163,\"Double bogey\")","v":0}]
[null,16,5,0,"  ",null,null,"Other",{"$f":"COUNTIF(E155:E163,\"Other\")","v":0}]
[null,17,4,0,"  "]
[null,18,5,0,"  "]
[]
[null,{"$f":"BL4","v":"2025-07-18"}]
[null,{"$f":"BJ7","v":10},4,0,{"$f":"IF(D166<>0,IF((D166-C166)=-1,\"Birdie\",IF((D166-C166)=-2,\"Eagle\",IF((D166-C166)=0,\"Par\",IF((D166-C166)=1,\"bogey\",IF((D166-C166)=2,\"Double bogey\",\"Other\"))))),\"  \")","v":"  "},null,null,"Count"]
[null,11,4,0,"  ",null,null,"Eagle",{"$f":"COUNTIF(E166:E174,\"Eagle\")","v":0}]
[null,12,3,0,"  ",null,null,"Birdie",{"$f":"COUNTIF(E166:E174,\"Birdie\")","v":0}]
[null,13,4,0,"  ",null,null,"Par",{"$f":"COUNTIF(E166:E174,\"Par\")","v":0}]
[null,14,4,0,"  ",null,null,"bogey",{"$f":"COUNTIF(E166:E174,\"bogey\")","v":0}]
[null,15,3,0,"  ",null,null,"Double bogey",{"$f":"COUNTIF(E166:E174,\"Double bogey\")","v":0}]
[null,16,5,0,"  ",null,null,"Other",{"$f":"COUNTIF(E166:E174,\"Other\")","v":0}]
[null,17,4,0,"  "]
[null,18,5,0,"  "]
[]
[null,{"$f":"BR4","v":"2025-07-25"}]
[null,{"$f":"BP7","v":1},4,0,{"$f":"IF(D177<>0,IF((D177-C177)=-1,\"Birdie\",IF((D177-C177)=-2,\"Eagle\",IF((D177-C177)=0,\"Par\",IF((D177-C177)=1,\"bogey\",IF((D177-C177)=2,\"Double bogey\",\"Other\"))))),\"  \")","v":"  "},null,null,"Count"]
[null,2,4,0,"  ",null,null,"Eagle",{"$f":"COUNTIF(E177:E185,\"Eagle\")","v":0}]
[null,3,4,0,"  ",null,null,"Birdie",{"$f":"COUNTIF(E177:E185,\"Birdie\")","v":0}]
[null,4,4,0,"  ",null,null,"Par",{"$f":"COUNTIF(E177:E185,\"Par\")","v":0}]
[null,5,3,0,"  ",null,null,"bogey",{"$f":"COUNTIF(E177:E185,\"bogey\")","v":0}]
[null,6,4,0,"  ",null,null,"Double bogey",{"$f":"COUNTIF(E177:E185,\"Double bogey\")","v":0}]
[null,7,4,0,"  ",null,null,"Other",{"$f":"COUNTIF(E177:E185,\"Other\")","v":0}]
[null,8,3,0,"  "]
[null,9,5,0,"  "]
[]
[null,{"$f":"BX4","v":"2025-08-01"}]
[null,{"$f":"BV7","v":10},4,0,{"$f":"IF(D188<>0,IF((D188-C188)=-1,\"Birdie\",IF((D188-C188)=-2,\"Eagle\",IF((D188-C188)=0,\"Par\",IF((D188-C188)=1,\"bogey\",IF((D188-C188)=2,\"Double bogey\",\"Other\"))))),\"  \")","v":"  "},null,null,"Count"]
[null,11,4,0,"  ",null,null,"Eagle",{"$f":"COUNTIF(E188:E196,\"Eagle\")","v":0}]
[null,12,3,0,"  ",null,null,"Birdie",{"$f":"COUNTIF(E188:E196,\"Birdie\")","v":0}]
[null,13,4,0,"  ",null,null,"Par",{"$f":"COUNTIF(E188:E196,\"Par\")","v":0}]
[null,14,4,0,"  ",null,null,"bogey",{"$f":"COUNTIF(E188:E196,\"bogey\")","v":0}]
[null,15,3,0,"  ",null,null,"Double bogey",{"$f":"COUNTIF(E188:E196,\"Double bogey\")","v":0}]
[null,16,5,0,"  ",null,null,"Other",{"$f":"COUNTIF(E188:E196,\"Other\")","v":0}]
[null,17,4,0,"  "]
[null,18,5,0,"  "]
[]
[null,{"$f":"CD4","v":"2025-08-08"}]
[null,{"$f":"CB7","v":1},4,0,{"$f":"IF(D199<>0,IF((D199-C199)=-1,\"Birdie\",IF((D199-C199)=-2,\"Eagle\",IF((D199-C199)=0,\"Par\",IF((D199-C199)=1,\"bogey\",IF((D199-C199)=2,\"Double bogey\",\"Other\"))))),\"  \")","v":"  "},null,null,"Count"]
[null,2,4,0,"  ",null,null,"Eagle",{"$f":"COUNTIF(E199:E207,\"Eagle\")","v":0}]
[null,3,4,0,"  ",null,null,"Birdie",{"$f":"COUNTIF(E199:E207,\"Birdie\")","v":0}]
[null,4,4,0,"  ",null,null,"Par",{"$f":"COUNTIF(E199:E207,\"Par\")","v":0}]
[null,5,3,0,"  ",null,null,"bogey",{"$f":"COUNTIF(E199:E207,\"bogey\")","v":0}]
[null,6,4,0,"  ",null,null,"Double bogey",{"$f":"COUNTIF(E199:E207,\"Double bogey\")","v":0}]
[null,7,4,0,"  ",null,null,"Other",{"$f":"COUNTIF(E199:E207,\"Other\")","v":0}]
[null,8,3,0,"  "]
[null,9,5,0,"  "]
[]
[null,{"$f":"CJ4","v":"2025-08-15"}]
[null,{"$f":"CH7","v":10},4,0,{"$f":"IF(D210<>0,IF((D210-C210)=-1,\"Birdie\",IF((D210-C210)=-2,\"Eagle\",IF((D210-C210)=0,\"Par\",IF((D210-C210)=1,\"bogey\",IF((D210-C210)=2,\"Double bogey\",\"Other\"))))),\"  \")","v":"  "},null,null,"Count"]
[null,11,4,0,"  ",null,null,"Eagle",{"$f":"COUNTIF(E210:E218,\"Eagle\")","v":0}]
[null,12,3,0,"  ",null,null,"Birdie",{"$f":"COUNTIF(E210:E218,\"Birdie\")","v":0}]
[null,13,4,0,"  ",null,null,"Par",{"$f":"COUNTIF(E210:E218,\"Par\")","v":0}]
[null,14,4,0,"  ",null,null,"bogey",{"$f":"COUNTIF(E210:E218,\"bogey\")","v":0}]
[null,15,3,0,"  ",null,null,"Double bogey",{"$f":"COUNTIF(E210:E218,\"Double bogey\")","v":0}]
[null,16,5,0,"  ",null,null,"Other",{"$f":"COUNTIF(E210:E218,\"Other\")","v":0}]
[null,17,4,0,"  "]
[null,18,5,0,"  "]

{"sheet":"SUBx","index":21,"n_rows":218,"n_cols":90,"rows_kept":218,"cut":false,"hidden":false,"merged":[]}
["SUB5"]
[]
[]
[null,null,"Date:",{"$f":"VLOOKUP(C5,Week,2)","v":"2025-04-25"},null,null,null,null,"Date:",{"$f":"VLOOKUP(I5,Week,2)","v":"2025-05-02"},null,null,null,null,"Date:",{"$f":"VLOOKUP(O5,Week,2)","v":"2025-05-09"},null,null,null,null,"Date:",{"$f":"VLOOKUP(U5,Week,2)","v":"2025-05-16"},null,null,null,null,"Date:",{"$f":"VLOOKUP(AA5,Week,2)","v":"2025-05-23"},null,null,null,null,"Date:",{"$f":"VLOOKUP(AG5,Week,2)","v":"2025-05-30"},null,null,null,null,"Date:",{"$f":"VLOOKUP(AM5,Week,2)","v":"2025-06-06"},null,null,null,null,"Date:",{"$f":"VLOOKUP(AS5,Week,2)","v":"2025-06-13"},null,null,null,null,"Date:",{"$f":"VLOOKUP(AY5,Week,2)","v":"2025-06-27"},null,null,null,null,"Date:",{"$f":"VLOOKUP(BE5,Week,2)","v":"2025-07-04"},null,null,null,null,"Date:",{"$f":"VLOOKUP(BK5,Week,2)","v":"2025-07-18"},null,null,null,null,"Date:",{"$f":"VLOOKUP(BQ5,Week,2)","v":"2025-07-25"},null,null,null,null,"Date:",{"$f":"VLOOKUP(BW5,Week,2)","v":"2025-08-01"},null,null,null,null,"Date:",{"$f":"VLOOKUP(CC5,Week,2)","v":"2025-08-08"},null,null,null,null,"Date:",{"$f":"VLOOKUP(CI5,Week,2)","v":"2025-08-15"}]
[null,"Week",1,null,null,null,null,"Week",2,null,null,null,null,"Week",3,null,null,null,null,"Week",4,null,null,null,null,"Week",5,null,null,null,null,"Week",6,null,null,null,null,"Week",7,null,null,null,null,"Week",8,null,null,null,null,"Week",9,null,null,null,null,"Week",10,null,null,null,null,"Week",11,null,null,null,null,"Week",12,null,null,null,null,"Week",13,null,null,null,null,"Week",14,null,null,null,null,"Week",15]
[null,"Hole #","Par","Score","Net","Win Hole",null,"Hole #","Par","Score","Net","Win Hole",null,"Hole #","Par","Score","Net","Win Hole",null,"Hole #","Par","Score","Net","Win Hole",null,"Hole #","Par","Score","Net","Win Hole",null,"Hole #","Par","Score","Net","Win Hole",null,"Hole #","Par","Score","Net","Win Hole",null,"Hole #","Par","Score","Net","Win Hole",null,"Hole #","Par","Score","Net","Win Hole",null,"Hole #","Par","Score","Net","Win Hole",null,"Hole #","Par","Score","Net","Win Hole",null,"Hole #","Par","Score","Net","Win Hole",null,"Hole #","Par","Score","Net","Win Hole",null,"Hole #","Par","Score","Net","Win Hole",null,"Hole #","Par","Score","Net","Win Hole"]
[null,{"$f":"VLOOKUP(C5,Week,6)","v":1},{"$f":"VLOOKUP(B7,Holes,2)","v":4},null,{"$f":"IF((D7-C7)>3,C7+3,D7)","v":0},null,null,{"$f":"VLOOKUP(I5,Week,6)","v":10},{"$f":"VLOOKUP(H7,Holes,2)","v":4},null,{"$f":"IF((J7-I7)>3,I7+3,J7)","v":0},null,null,{"$f":"VLOOKUP(O5,Week,6)","v":1},{"$f":"VLOOKUP(N7,Holes,2)","v":4},null,{"$f":"IF((P7-O7)>3,O7+3,P7)","v":0},null,null,{"$f":"VLOOKUP(U5,Week,6)","v":10},{"$f":"VLOOKUP(T7,Holes,2)","v":4},null,{"$f":"IF((V7-U7)>3,U7+3,V7)","v":0},null,null,{"$f":"VLOOKUP(AA5,Week,6)","v":1},{"$f":"VLOOKUP(Z7,Holes,2)","v":4},null,{"$f":"IF((AB7-AA7)>3,AA7+3,AB7)","v":0},null,null,{"$f":"VLOOKUP(AG5,Week,6)","v":10},{"$f":"VLOOKUP(AF7,Holes,2)","v":4},null,{"$f":"IF((AH7-AG7)>3,AG7+3,AH7)","v":0},null,null,{"$f":"VLOOKUP(AM5,Week,6)","v":1},{"$f":"VLOOKUP(AL7,Holes,2)","v":4},null,{"$f":"IF((AN7-AM7)>3,AM7+3,AN7)","v":0},null,null,{"$f":"VLOOKUP(AS5,Week,6)","v":10},{"$f":"VLOOKUP(AR7,Holes,2)","v":4},null,{"$f":"IF((AT7-AS7)>3,AS7+3,AT7)","v":0},null,null,{"$f":"VLOOKUP(AY5,Week,6)","v":10},{"$f":"VLOOKUP(AX7,Holes,2)","v":4},null,{"$f":"IF((AZ7-AY7)>3,AY7+3,AZ7)","v":0},null,null,{"$f":"VLOOKUP(BE5,Week,6)","v":10},{"$f":"VLOOKUP(BD7,Holes,2)","v":4},null,{"$f":"IF((BF7-BE7)>3,BE7+3,BF7)","v":0},null,null,{"$f":"VLOOKUP(BK5,Week,6)","v":10},{"$f":"VLOOKUP(BJ7,Holes,2)","v":4},null,{"$f":"IF((BL7-BK7)>3,BK7+3,BL7)","v":0},null,null,{"$f":"VLOOKUP(BQ5,Week,6)","v":1},{"$f":"VLOOKUP(BP7,Holes,2)","v":4},null,{"$f":"IF((BR7-BQ7)>3,BQ7+3,BR7)","v":0},null,null,{"$f":"VLOOKUP(BW5,Week,6)","v":10},{"$f":"VLOOKUP(BV7,Holes,2)","v":4},null,{"$f":"IF((BX7-BW7)>3,BW7+3,BX7)","v":0},null,null,{"$f":"VLOOKUP(CC5,Week,6)","v":1},{"$f":"VLOOKUP(CB7,Holes,2)","v":4},null,{"$f":"IF((CD7-CC7)>3,CC7+3,CD7)","v":0},null,null,{"$f":"VLOOKUP(CI5,Week,6)","v":10},{"$f":"VLOOKUP(CH7,Holes,2)","v":4},null,{"$f":"IF((CJ7-CI7)>3,CI7+3,CJ7)","v":0}]
[null,{"$f":"+B7+1","v":2},4,null,0,null,null,{"$f":"+H7+1","v":11},4,null,0,null,null,{"$f":"+N7+1","v":2},4,null,0,null,null,{"$f":"+T7+1","v":11},4,null,0,null,null,{"$f":"+Z7+1","v":2},4,null,0,null,null,{"$f":"+AF7+1","v":11},4,null,0,null,null,{"$f":"+AL7+1","v":2},4,null,0,null,null,{"$f":"+AR7+1","v":11},4,null,0,null,null,{"$f":"+AX7+1","v":11},4,null,0,null,null,{"$f":"+BD7+1","v":11},4,null,0,null,null,{"$f":"+BJ7+1","v":11},4,null,0,null,null,{"$f":"+BP7+1","v":2},4,null,0,null,null,{"$f":"+BV7+1","v":11},4,null,0,null,null,{"$f":"+CB7+1","v":2},4,null,0,null,null,{"$f":"+CH7+1","v":11},4,null,0]
[null,3,4,null,0,null,null,12,3,null,0,null,null,3,4,null,0,null,null,12,3,null,0,null,null,3,4,null,0,null,null,12,3,null,0,null,null,3,4,null,0,null,null,12,3,null,0,null,null,12,3,null,0,null,null,12,3,null,0,null,null,12,3,null,0,null,null,3,4,null,0,null,null,12,3,null,0,null,null,3,4,null,0,null,null,12,3,null,0]
[null,4,4,null,0,null,null,13,4,null,0,null,null,4,4,null,0,null,null,13,4,null,0,null,null,4,4,null,0,null,null,13,4,null,0,null,null,4,4,null,0,null,null,13,4,null,0,null,null,13,4,null,0,null,null,13,4,null,0,null,null,13,4,null,0,null,null,4,4,null,0,null,null,13,4,null,0,null,null,4,4,null,0,null,null,13,4,null,0]
[null,5,3,null,0,null,null,14,4,null,0,null,null,5,3,null,0,null,null,14,4,null,0,null,null,5,3,null,0,null,null,14,4,null,0,null,null,5,3,null,0,null,null,14,4,null,0,null,null,14,4,null,0,null,null,14,4,null,0,null,null,14,4,null,0,null,null,5,3,null,0,null,null,14,4,null,0,null,null,5,3,null,0,null,null,14,4,null,0]
[null,6,4,null,0,null,null,15,3,null,0,null,null,6,4,null,0,null,null,15,3,null,0,null,null,6,4,null,0,null,null,15,3,null,0,null,null,6,4,null,0,null,null,15,3,null,0,null,null,15,3,null,0,null,null,15,3,null,0,null,null,15,3,null,0,null,null,6,4,null,0,null,null,15,3,null,0,null,null,6,4,null,0,null,null,15,3,null,0]
[null,7,4,null,0,null,null,16,5,null,0,null,null,7,4,null,0,null,null,16,5,null,0,null,null,7,4,null,0,null,null,16,5,null,0,null,null,7,4,null,0,null,null,16,5,null,0,null,null,16,5,null,0,null,null,16,5,null,0,null,null,16,5,null,0,null,null,7,4,null,0,null,null,16,5,null,0,null,null,7,4,null,0,null,null,16,5,null,0]
[null,8,3,null,0,null,null,17,4,null,0,null,null,8,3,null,0,null,null,17,4,null,0,null,null,8,3,null,0,null,null,17,4,null,0,null,null,8,3,null,0,null,null,17,4,null,0,null,null,17,4,null,0,null,null,17,4,null,0,null,null,17,4,null,0,null,null,8,3,null,0,null,null,17,4,null,0,null,null,8,3,null,0,null,null,17,4,null,0]
[null,9,5,null,0,null,null,18,5,null,0,null,null,9,5,null,0,null,null,18,5,null,0,null,null,9,5,null,0,null,null,18,5,null,0,null,null,9,5,null,0,null,null,18,5,null,0,null,null,18,5,null,0,null,null,18,5,null,0,null,null,18,5,null,0,null,null,9,5,null,0,null,null,18,5,null,0,null,null,9,5,null,0,null,null,18,5,null,0]
[null,"Total",{"$f":"SUM(C7:C15)","v":35},{"$f":"SUM(D7:D15)","v":0},{"$f":"SUM(E7:E15)","v":0},null,null,"Total",{"$f":"SUM(I7:I15)","v":36},{"$f":"SUM(J7:J15)","v":0},{"$f":"SUM(K7:K15)","v":0},{"$f":"SUM(L7:L15)","v":0},null,"Total",{"$f":"SUM(O7:O15)","v":35},{"$f":"SUM(P7:P15)","v":0},{"$f":"SUM(Q7:Q15)","v":0},{"$f":"SUM(R7:R15)","v":0},null,"Total",{"$f":"SUM(U7:U15)","v":36},{"$f":"SUM(V7:V15)","v":0},{"$f":"SUM(W7:W15)","v":0},{"$f":"SUM(X7:X15)","v":0},null,"Total",{"$f":"SUM(AA7:AA15)","v":35},{"$f":"SUM(AB7:AB15)","v":0},{"$f":"SUM(AC7:AC15)","v":0},{"$f":"SUM(AD7:AD15)","v":0},null,"Total",{"$f":"SUM(AG7:AG15)","v":36},{"$f":"SUM(AH7:AH15)","v":0},{"$f":"SUM(AI7:AI15)","v":0},{"$f":"SUM(AJ7:AJ15)","v":0},null,"Total",{"$f":"SUM(AM7:AM15)","v":35},{"$f":"SUM(AN7:AN15)","v":0},{"$f":"SUM(AO7:AO15)","v":0},{"$f":"SUM(AP7:AP15)","v":0},null,"Total",{"$f":"SUM(AS7:AS15)","v":36},{"$f":"SUM(AT7:AT15)","v":0},{"$f":"SUM(AU7:AU15)","v":0},{"$f":"SUM(AV7:AV15)","v":0},null,"Total",{"$f":"SUM(AY7:AY15)","v":36},{"$f":"SUM(AZ7:AZ15)","v":0},{"$f":"SUM(BA7:BA15)","v":0},{"$f":"SUM(BB7:BB15)","v":0},null,"Total",{"$f":"SUM(BE7:BE15)","v":36},{"$f":"SUM(BF7:BF15)","v":0},{"$f":"SUM(BG7:BG15)","v":0},{"$f":"SUM(BH7:BH15)","v":0},null,"Total",{"$f":"SUM(BK7:BK15)","v":36},{"$f":"SUM(BL7:BL15)","v":0},{"$f":"SUM(BM7:BM15)","v":0},{"$f":"SUM(BN7:BN15)","v":0},null,"Total",{"$f":"SUM(BQ7:BQ15)","v":35},{"$f":"SUM(BR7:BR15)","v":0},{"$f":"SUM(BS7:BS15)","v":0},{"$f":"SUM(BT7:BT15)","v":0},null,"Total",{"$f":"SUM(BW7:BW15)","v":36},{"$f":"SUM(BX7:BX15)","v":0},{"$f":"SUM(BY7:BY15)","v":0},{"$f":"SUM(BZ7:BZ15)","v":0},null,"Total",{"$f":"SUM(CC7:CC15)","v":35},{"$f":"SUM(CD7:CD15)","v":0},{"$f":"SUM(CE7:CE15)","v":0},{"$f":"SUM(CF7:CF15)","v":0},null,"Total",{"$f":"SUM(CI7:CI15)","v":36},{"$f":"SUM(CJ7:CJ15)","v":0},{"$f":"SUM(CK7:CK15)","v":0},{"$f":"SUM(CL7:CL15)","v":0}]
[]
[null,null,null,null,"Low Net",null,null,null,null,null,"Low Net",0,null,null,null,null,"Low Net",0,null,null,null,null,"Low Net",null,null,null,null,null,"Low Net",null,null,null,null,null,"Low Net",null,null,null,null,null,"Low Net",null,null,null,null,null,"Low Net",null,null,null,null,null,"Low Net",null,null,null,null,null,"Low Net",null,null,null,null,null,"Low Net",null,null,null,null,null,"Low Net",null,null,null,null,null,"Low Net",null,null,null,null,null,"Low Net",null,null,null,null,null,"Low Net"]
[]
[null,null,null,null,"Total Points",{"$f":"SUM(F16:F19)","v":0},null,null,null,null,"Total Points",{"$f":"SUM(L16:L19)","v":0},null,null,null,null,"Total Points",{"$f":"SUM(R16:R19)","v":0},null,null,null,null,"Total Points",{"$f":"SUM(X16:X19)","v":0},null,null,null,null,"Total Points",{"$f":"SUM(AD16:AD19)","v":0},null,null,null,null,"Total Points",{"$f":"SUM(AJ16:AJ19)","v":0},null,null,null,null,"Total Points",{"$f":"SUM(AP16:AP19)","v":0},null,null,null,null,"Total Points",{"$f":"SUM(AV16:AV19)","v":0},null,null,null,null,"Total Points",{"$f":"SUM(BB16:BB19)","v":0},null,null,null,null,"Total Points",{"$f":"SUM(BH16:BH19)","v":0},null,null,null,null,"Total Points",{"$f":"SUM(BN16:BN19)","v":0},null,null,null,null,"Total Points",{"$f":"SUM(BT16:BT19)","v":0},null,null,null,null,"Total Points",{"$f":"SUM(BZ16:BZ19)","v":0},null,null,null,null,"Total Points",{"$f":"SUM(CF16:CF19)","v":0},null,null,null,null,"Total Points",{"$f":"SUM(CL16:CL19)","v":0}]
[]
[null,null,null,null,"Handicap",{"$f":"IF(D16=0,0,E16-C16)","v":0},null,null,null,null,"Handicap",{"$f":"IF(J16=0,0,K16-I16)","v":0},null,null,null,null,"Handicap",{"$f":"IF(P16=0,0,Q16-O16)","v":0},null,null,null,null,"Handicap",{"$f":"IF(V16=0,0,W16-U16)","v":0},null,null,null,null,"Handicap",{"$f":"IF(AB16=0,0,AC16-AA16)","v":0},null,null,null,null,"Handicap",{"$f":"IF(AH16=0,0,AI16-AG16)","v":0},null,null,null,null,"Handicap",{"$f":"IF(AN16=0,0,AO16-AM16)","v":0},null,null,null,null,"Handicap",{"$f":"IF(AT16=0,0,AU16-AS16)","v":0},null,null,null,null,"Handicap",{"$f":"IF(AZ16=0,0,BA16-AY16)","v":0},null,null,null,null,"Handicap",{"$f":"IF(BF16=0,0,BG16-BE16)","v":0},null,null,null,null,"Handicap",{"$f":"IF(BL16=0,0,BM16-BK16)","v":0},null,null,null,null,"Handicap",{"$f":"IF(BR16=0,0,BS16-BQ16)","v":0},null,null,null,null,"Handicap",{"$f":"IF(BX16=0,0,BY16-BW16)","v":0},null,null,null,null,"Handicap",{"$f":"IF(CD16=0,0,CE16-CC16)","v":0},null,null,null,null,"Handicap",{"$f":"IF(CJ16=0,0,CK16-CI16)","v":0}]
[]
[null,null,null,null,null,{"$f":"IF(D16<>0,IF(F16>4.5,\"W\",IF(F16=4.5,\"T\",IF(F16<4.5,\"L\"))),0)","v":0},null,null,null,null,null,{"$f":"IF(J16<>0,IF(L16>4.5,\"W\",IF(L16=4.5,\"T\",IF(L16<4.5,\"L\"))),0)","v":0},null,null,null,null,null,{"$f":"IF(P16<>0,IF(R16>4.5,\"W\",IF(R16=4.5,\"T\",IF(R16<4.5,\"L\"))),0)","v":0},null,null,null,null,null,{"$f":"IF(V16<>0,IF(X16>4.5,\"W\",IF(X16=4.5,\"T\",IF(X16<4.5,\"L\"))),0)","v":0},null,null,null,null,null,{"$f":"IF(AB16<>0,IF(AD16>4.5,\"W\",IF(AD16=4.5,\"T\",IF(AD16<4.5,\"L\"))),0)","v":0},null,null,null,null,null,{"$f":"IF(AH16<>0,IF(AJ16>4.5,\"W\",IF(AJ16=4.5,\"T\",IF(AJ16<4.5,\"L\"))),0)","v":0},null,null,null,null,null,{"$f":"IF(AN16<>0,IF(AP16>4.5,\"W\",IF(AP16=4.5,\"T\",IF(AP16<4.5,\"L\"))),0)","v":0},null,null,null,null,null,{"$f":"IF(AT16<>0,IF(AV16>4.5,\"W\",IF(AV16=4.5,\"T\",IF(AV16<4.5,\"L\"))),0)","v":0},null,null,null,null,null,{"$f":"IF(AZ16<>0,IF(BB16>4.5,\"W\",IF(BB16=4.5,\"T\",IF(BB16<4.5,\"L\"))),0)","v":0},null,null,null,null,null,{"$f":"IF(BF16<>0,IF(BH16>4.5,\"W\",IF(BH16=4.5,\"T\",IF(BH16<4.5,\"L\"))),0)","v":0},null,null,null,null,null,{"$f":"IF(BL16<>0,IF(BN16>4.5,\"W\",IF(BN16=4.5,\"T\",IF(BN16<4.5,\"L\"))),0)","v":0},null,null,null,null,null,{"$f":"IF(BR16<>0,IF(BT16>4.5,\"W\",IF(BT16=4.5,\"T\",IF(BT16<4.5,\"L\"))),0)","v":0},null,null,null,null,null,{"$f":"IF(BX16<>0,IF(BZ16>4.5,\"W\",IF(BZ16=4.5,\"T\",IF(BZ16<4.5,\"L\"))),0)","v":0},null,null,null,null,null,{"$f":"IF(CD16<>0,IF(CF16>4.5,\"W\",IF(CF16=4.5,\"T\",IF(CF16<4.5,\"L\"))),0)","v":0},null,null,null,null,null,{"$f":"IF(CJ16<>0,IF(CL16>4.5,\"W\",IF(CL16=4.5,\"T\",IF(CL16<4.5,\"L\"))),0)","v":0}]
[]
[null,"Summary"]
[null,null,null,"Adj",null,"Adj",null,null,null,"Avg Score"]
[null,null,"Points","Points","Matches","Matches",null,null,"Hole #","by Hole","Best","Worst"]
[null,"Week #1",{"$f":"F20","v":0},{"$f":"C29","v":0},{"$f":"IF(D16>0,1,0)","v":0},{"$f":"E29","v":0},null,null,1,{"$f":"IFERROR(AVERAGE(D7),0)","v":0},{"$f":"IFERROR(MIN(J7,V7,AH7,AT7,BF7,BR7,BX7,CJ7),0)","v":0},{"$f":"IFERROR(MAX(J7,V7,AH7,AT7,BF7,BR7,BX7,CJ7),0)","v":0}]
[null,"Week #2",{"$f":"L20","v":0},0,{"$f":"IF(J16>0,1,0)","v":0},0,null,null,2,{"$f":"IFERROR(AVERAGE(D8),0)","v":0},{"$f":"IFERROR(MIN(J8,V8,AH8,AT8,BF8,BR8,BX8,CJ8),0)","v":0},{"$f":"IFERROR(MAX(J8,V8,AH8,AT8,BF8,BR8,BX8,CJ8),0)","v":0}]
[null,"Week #3",{"$f":"R20","v":0},0,{"$f":"IF(P16>0,1,0)","v":0},0,null,null,3,0,0,0]
[null,"Week #4",{"$f":"X20","v":0},0,{"$f":"IF(V16>0,1,0)","v":0},0,null,null,4,0,0,0]
[null,"Week #5",{"$f":"AD20","v":0},0,{"$f":"IF(AB16>0,1,0)","v":0},0,null,null,5,0,0,0]
[null,"Week #6",{"$f":"AJ20","v":0},0,{"$f":"IF(AH16>0,1,0)","v":0},0,null,null,6,0,0,0]
[null,"Week #7",{"$f":"AP20","v":0},0,{"$f":"IF(AN16>0,1,0)","v":0},0,null,null,7,0,0,0]
[null,"Week #8",{"$f":"AV20","v":0},0,{"$f":"IF(AT16>0,1,0)","v":0},0,null,null,8,0,0,0]
[null,"Week #9",{"$f":"BB20","v":0},0,{"$f":"IF(AZ16>0,1,0)","v":0},0,null,null,9,0,0,0]
[null,"Week #10",{"$f":"BH20","v":0},0,{"$f":"IF(BF16>0,1,0)","v":0},0,null,null,"Front",{"$f":"SUM(J29:J37)","v":0},{"$f":"SUM(K29:K37)","v":0},0]
[null,"Week #11",{"$f":"BN20","v":0},0,{"$f":"IF(BL16>0,1,0)","v":0},0]
[null,"Week #12",{"$f":"BT20","v":0},0,{"$f":"IF(BR16>0,1,0)","v":0},0,null,null,10,{"$f":"IFERROR(AVERAGE(J7),0)","v":0},{"$f":"IFERROR(MIN(D7,P7,AB7,AN7,AZ7,BL7,CD7),0)","v":0},{"$f":"IFERROR(MAX(D7,P7,AB7,AN7,AZ7,BL7,CD7),0)","v":0}]
[null,"Week #13",{"$f":"BZ20","v":0},0,{"$f":"IF(BX16>0,1,0)","v":0},0,null,null,11,{"$f":"IFERROR(AVERAGE(J8),0)","v":0},{"$f":"IFERROR(MIN(D8,P8,AB8,AN8,AZ8,BL8,CD8),0)","v":0},{"$f":"IFERROR(MAX(D8,P8,AB8,AN8,AZ8,BL8,CD8),0)","v":0}]
[null,"Week #14",{"$f":"CF20","v":0},0,{"$f":"IF(CD16>0,1,0)","v":0},0,null,null,12,0,0,0]
[null,"Week #15",{"$f":"CL20","v":0},0,{"$f":"IF(CJ16>0,1,0)","v":0},0,null,null,13,0,0,0]
[null,"Total",{"$f":"SUM(C29:C43)","v":0},{"$f":"SUM(D29:D43)","v":0},{"$f":"SUM(E29:E43)","v":0},{"$f":"SUM(F29:F43)","v":0},null,null,14,0,0,0]
[null,null,null,null,null,null,null,null,15,0,0,0]
[null,"Summary",null,null,null,null,null,null,16,0,0,0]
[null,"Eagles",{"$f":"I57+I68+I79+I90+I101+I112+I123+I134+I145+I156+I167+I178+I189+I200+I211","v":0},null,null,null,null,null,17,0,0,0]
[null,"Birdies",0,null,null,null,null,null,18,0,0,0]
[null,"Pars",{"$f":"I59+I70+I81+I92+I103+I114+I125+I136+I147+I158+I169+I180+I191+I202+I213","v":0},null,null,null,null,null,"Back",{"$f":"SUM(J40:J48)","v":0},{"$f":"SUM(K40:K48)","v":0},0]
[null,"bogeys",0]
[null,"Double bogeys",0]
[null,"Other",0]
[null,"Total",{"$f":"SUM(C47:C52)","v":0}]
[]
[null,{"$f":"D4","v":"2025-04-25"},"Par","Score"]
[null,{"$f":"B7","v":1},4,0,{"$f":"IF(D56<>0,IF((D56-C56)=-1,\"Birdie\",IF((D56-C56)=-2,\"Eagle\",IF((D56-C56)=0,\"Par\",IF((D56-C56)=1,\"bogey\",IF((D56-C56)=2,\"Double bogey\",\"Other\"))))),\"  \")","v":"  "},null,null,"Count"]
[null,2,4,0,"  ",null,null,"Eagle",{"$f":"COUNTIF(E56:E64,\"Eagle\")","v":0}]
[null,3,4,0,"  ",null,null,"Birdie",{"$f":"COUNTIF(E56:E64,\"Birdie\")","v":0}]
[null,4,4,0,"  ",null,null,"Par",{"$f":"COUNTIF(E56:E64,\"Par\")","v":0}]
[null,5,3,0,"  ",null,null,"bogey",{"$f":"COUNTIF(E56:E64,\"bogey\")","v":0}]
[null,6,4,0,"  ",null,null,"Double bogey",{"$f":"COUNTIF(E56:E64,\"Double bogey\")","v":0}]
[null,7,4,0,"  ",null,null,"Other",{"$f":"COUNTIF(E56:E64,\"Other\")","v":0}]
[null,8,3,0,"  "]
[null,9,5,0,"  "]
[]
[null,{"$f":"J4","v":"2025-05-02"}]
[null,{"$f":"H7","v":10},4,0,{"$f":"IF(D67<>0,IF((D67-C67)=-1,\"Birdie\",IF((D67-C67)=-2,\"Eagle\",IF((D67-C67)=0,\"Par\",IF((D67-C67)=1,\"bogey\",IF((D67-C67)=2,\"Double bogey\",\"Other\"))))),\"  \")","v":"  "},null,null,"Count"]
[null,11,4,0,"  ",null,null,"Eagle",{"$f":"COUNTIF(E67:E75,\"Eagle\")","v":0}]
[null,12,3,0,"  ",null,null,"Birdie",{"$f":"COUNTIF(E67:E75,\"Birdie\")","v":0}]
[null,13,4,0,"  ",null,null,"Par",{"$f":"COUNTIF(E67:E75,\"Par\")","v":0}]
[null,14,4,0,"  ",null,null,"bogey",{"$f":"COUNTIF(E67:E75,\"bogey\")","v":0}]
[null,15,3,0,"  ",null,null,"Double bogey",{"$f":"COUNTIF(E67:E75,\"Double bogey\")","v":0}]
[null,16,5,0,"  ",null,null,"Other",{"$f":"COUNTIF(E67:E75,\"Other\")","v":0}]
[null,17,4,0,"  "]
[null,18,5,0,"  "]
[]
[null,{"$f":"P4","v":"2025-05-09"}]
[null,{"$f":"N7","v":1},4,0,{"$f":"IF(D78<>0,IF((D78-C78)=-1,\"Birdie\",IF((D78-C78)=-2,\"Eagle\",IF((D78-C78)=0,\"Par\",IF((D78-C78)=1,\"bogey\",IF((D78-C78)=2,\"Double bogey\",\"Other\"))))),\"  \")","v":"  "},null,null,"Count"]
[null,2,4,0,"  ",null,null,"Eagle",{"$f":"COUNTIF(E78:E86,\"Eagle\")","v":0}]
[null,3,4,0,"  ",null,null,"Birdie",{"$f":"COUNTIF(E78:E86,\"Birdie\")","v":0}]
[null,4,4,0,"  ",null,null,"Par",{"$f":"COUNTIF(E78:E86,\"Par\")","v":0}]
[null,5,3,0,"  ",null,null,"bogey",{"$f":"COUNTIF(E78:E86,\"bogey\")","v":0}]
[null,6,4,0,"  ",null,null,"Double bogey",{"$f":"COUNTIF(E78:E86,\"Double bogey\")","v":0}]
[null,7,4,0,"  ",null,null,"Other",{"$f":"COUNTIF(E78:E86,\"Other\")","v":0}]
[null,8,3,0,"  "]
[null,9,5,0,"  "]
[]
[null,{"$f":"V4","v":"2025-05-16"}]
[null,{"$f":"T7","v":10},4,0,{"$f":"IF(D89<>0,IF((D89-C89)=-1,\"Birdie\",IF((D89-C89)=-2,\"Eagle\",IF((D89-C89)=0,\"Par\",IF((D89-C89)=1,\"bogey\",IF((D89-C89)=2,\"Double bogey\",\"Other\"))))),\"  \")","v":"  "},null,null,"Count"]
[null,11,4,0,"  ",null,null,"Eagle",{"$f":"COUNTIF(E89:E97,\"Eagle\")","v":0}]
[null,12,3,0,"  ",null,null,"Birdie",{"$f":"COUNTIF(E89:E97,\"Birdie\")","v":0}]
[null,13,4,0,"  ",null,null,"Par",{"$f":"COUNTIF(E89:E97,\"Par\")","v":0}]
[null,14,4,0,"  ",null,null,"bogey",{"$f":"COUNTIF(E89:E97,\"bogey\")","v":0}]
[null,15,3,0,"  ",null,null,"Double bogey",{"$f":"COUNTIF(E89:E97,\"Double bogey\")","v":0}]
[null,16,5,0,"  ",null,null,"Other",{"$f":"COUNTIF(E89:E97,\"Other\")","v":0}]
[null,17,4,0,"  "]
[null,18,5,0,"  "]
[]
[null,{"$f":"AB4","v":"2025-05-23"}]
[null,{"$f":"Z7","v":1},4,0,{"$f":"IF(D100<>0,IF((D100-C100)=-1,\"Birdie\",IF((D100-C100)=-2,\"Eagle\",IF((D100-C100)=0,\"Par\",IF((D100-C100)=1,\"bogey\",IF((D100-C100)=2,\"Double bogey\",\"Other\"))))),\"  \")","v":"  "},null,null,"Count"]
[null,2,4,0,"  ",null,null,"Eagle",{"$f":"COUNTIF(E100:E108,\"Eagle\")","v":0}]
[null,3,4,0,"  ",null,null,"Birdie",{"$f":"COUNTIF(E100:E108,\"Birdie\")","v":0}]
[null,4,4,0,"  ",null,null,"Par",{"$f":"COUNTIF(E100:E108,\"Par\")","v":0}]
[null,5,3,0,"  ",null,null,"bogey",{"$f":"COUNTIF(E100:E108,\"bogey\")","v":0}]
[null,6,4,0,"  ",null,null,"Double bogey",{"$f":"COUNTIF(E100:E108,\"Double bogey\")","v":0}]
[null,7,4,0,"  ",null,null,"Other",{"$f":"COUNTIF(E100:E108,\"Other\")","v":0}]
[null,8,3,0,"  "]
[null,9,5,0,"  "]
[]
[null,{"$f":"AH4","v":"2025-05-30"}]
[null,{"$f":"AF7","v":10},4,0,{"$f":"IF(D111<>0,IF((D111-C111)=-1,\"Birdie\",IF((D111-C111)=-2,\"Eagle\",IF((D111-C111)=0,\"Par\",IF((D111-C111)=1,\"bogey\",IF((D111-C111)=2,\"Double bogey\",\"Other\"))))),\"  \")","v":"  "},null,null,"Count"]
[null,11,4,0,"  ",null,null,"Eagle",{"$f":"COUNTIF(E111:E119,\"Eagle\")","v":0}]
[null,12,3,0,"  ",null,null,"Birdie",{"$f":"COUNTIF(E111:E119,\"Birdie\")","v":0}]
[null,13,4,0,"  ",null,null,"Par",{"$f":"COUNTIF(E111:E119,\"Par\")","v":0}]
[null,14,4,0,"  ",null,null,"bogey",{"$f":"COUNTIF(E111:E119,\"bogey\")","v":0}]
[null,15,3,0,"  ",null,null,"Double bogey",{"$f":"COUNTIF(E111:E119,\"Double bogey\")","v":0}]
[null,16,5,0,"  ",null,null,"Other",{"$f":"COUNTIF(E111:E119,\"Other\")","v":0}]
[null,17,4,0,"  "]
[null,18,5,0,"  "]
[]
[null,{"$f":"AN4","v":"2025-06-06"}]
[null,{"$f":"AL7","v":1},4,0,{"$f":"IF(D122<>0,IF((D122-C122)=-1,\"Birdie\",IF((D122-C122)=-2,\"Eagle\",IF((D122-C122)=0,\"Par\",IF((D122-C122)=1,\"bogey\",IF((D122-C122)=2,\"Double bogey\",\"Other\"))))),\"  \")","v":"  "},null,null,"Count"]
[null,2,4,0,"  ",null,null,"Eagle",{"$f":"COUNTIF(E122:E130,\"Eagle\")","v":0}]
[null,3,4,0,"  ",null,null,"Birdie",{"$f":"COUNTIF(E122:E130,\"Birdie\")","v":0}]
[null,4,4,0,"  ",null,null,"Par",{"$f":"COUNTIF(E122:E130,\"Par\")","v":0}]
[null,5,3,0,"  ",null,null,"bogey",{"$f":"COUNTIF(E122:E130,\"bogey\")","v":0}]
[null,6,4,0,"  ",null,null,"Double bogey",{"$f":"COUNTIF(E122:E130,\"Double bogey\")","v":0}]
[null,7,4,0,"  ",null,null,"Other",{"$f":"COUNTIF(E122:E130,\"Other\")","v":0}]
[null,8,3,0,"  "]
[null,9,5,0,"  "]
[]
[null,{"$f":"AT4","v":"2025-06-13"}]
[null,{"$f":"AR7","v":10},4,0,{"$f":"IF(D133<>0,IF((D133-C133)=-1,\"Birdie\",IF((D133-C133)=-2,\"Eagle\",IF((D133-C133)=0,\"Par\",IF((D133-C133)=1,\"bogey\",IF((D133-C133)=2,\"Double bogey\",\"Other\"))))),\"  \")","v":"  "},null,null,"Count"]
[null,11,4,0,"  ",null,null,"Eagle",{"$f":"COUNTIF(E133:E141,\"Eagle\")","v":0}]
[null,12,3,0,"  ",null,null,"Birdie",{"$f":"COUNTIF(E133:E141,\"Birdie\")","v":0}]
[null,13,4,0,"  ",null,null,"Par",{"$f":"COUNTIF(E133:E141,\"Par\")","v":0}]
[null,14,4,0,"  ",null,null,"bogey",{"$f":"COUNTIF(E133:E141,\"bogey\")","v":0}]
[null,15,3,0,"  ",null,null,"Double bogey",{"$f":"COUNTIF(E133:E141,\"Double bogey\")","v":0}]
[null,16,5,0,"  ",null,null,"Other",{"$f":"COUNTIF(E133:E141,\"Other\")","v":0}]
[null,17,4,0,"  "]
[null,18,5,0,"  "]
[]
[null,{"$f":"AZ4","v":"2025-06-27"}]
[null,{"$f":"AX7","v":10},4,0,{"$f":"IF(D144<>0,IF((D144-C144)=-1,\"Birdie\",IF((D144-C144)=-2,\"Eagle\",IF((D144-C144)=0,\"Par\",IF((D144-C144)=1,\"bogey\",IF((D144-C144)=2,\"Double bogey\",\"Other\"))))),\"  \")","v":"  "},null,null,"Count"]
[null,11,4,0,"  ",null,null,"Eagle",{"$f":"COUNTIF(E144:E152,\"Eagle\")","v":0}]
[null,12,3,0,"  ",null,null,"Birdie",{"$f":"COUNTIF(E144:E152,\"Birdie\")","v":0}]
[null,13,4,0,"  ",null,null,"Par",{"$f":"COUNTIF(E144:E152,\"Par\")","v":0}]
[null,14,4,0,"  ",null,null,"bogey",{"$f":"COUNTIF(E144:E152,\"bogey\")","v":0}]
[null,15,3,0,"  ",null,null,"Double bogey",{"$f":"COUNTIF(E144:E152,\"Double bogey\")","v":0}]
[null,16,5,0,"  ",null,null,"Other",{"$f":"COUNTIF(E144:E152,\"Other\")","v":0}]
[null,17,4,0,"  "]
[null,18,5,0,"  "]
[]
[null,{"$f":"BF4","v":"2025-07-04"}]
[null,{"$f":"BD7","v":10},4,0,{"$f":"IF(D155<>0,IF((D155-C155)=-1,\"Birdie\",IF((D155-C155)=-2,\"Eagle\",IF((D155-C155)=0,\"Par\",IF((D155-C155)=1,\"bogey\",IF((D155-C155)=2,\"Double bogey\",\"Other\"))))),\"  \")","v":"  "},null,null,"Count"]
[null,11,4,0,"  ",null,null,"Eagle",{"$f":"COUNTIF(E155:E163,\"Eagle\")","v":0}]
[null,12,3,0,"  ",null,null,"Birdie",{"$f":"COUNTIF(E155:E163,\"Birdie\")","v":0}]
[null,13,4,0,"  ",null,null,"Par",{"$f":"COUNTIF(E155:E163,\"Par\")","v":0}]
[null,14,4,0,"  ",null,null,"bogey",{"$f":"COUNTIF(E155:E163,\"bogey\")","v":0}]
[null,15,3,0,"  ",null,null,"Double bogey",{"$f":"COUNTIF(E155:E163,\"Double bogey\")","v":0}]
[null,16,5,0,"  ",null,null,"Other",{"$f":"COUNTIF(E155:E163,\"Other\")","v":0}]
[null,17,4,0,"  "]
[null,18,5,0,"  "]
[]
[null,{"$f":"BL4","v":"2025-07-18"}]
[null,{"$f":"BJ7","v":10},4,0,{"$f":"IF(D166<>0,IF((D166-C166)=-1,\"Birdie\",IF((D166-C166)=-2,\"Eagle\",IF((D166-C166)=0,\"Par\",IF((D166-C166)=1,\"bogey\",IF((D166-C166)=2,\"Double bogey\",\"Other\"))))),\"  \")","v":"  "},null,null,"Count"]
[null,11,4,0,"  ",null,null,"Eagle",{"$f":"COUNTIF(E166:E174,\"Eagle\")","v":0}]
[null,12,3,0,"  ",null,null,"Birdie",{"$f":"COUNTIF(E166:E174,\"Birdie\")","v":0}]
[null,13,4,0,"  ",null,null,"Par",{"$f":"COUNTIF(E166:E174,\"Par\")","v":0}]
[null,14,4,0,"  ",null,null,"bogey",{"$f":"COUNTIF(E166:E174,\"bogey\")","v":0}]
[null,15,3,0,"  ",null,null,"Double bogey",{"$f":"COUNTIF(E166:E174,\"Double bogey\")","v":0}]
[null,16,5,0,"  ",null,null,"Other",{"$f":"COUNTIF(E166:E174,\"Other\")","v":0}]
[null,17,4,0,"  "]
[null,18,5,0,"  "]
[]
[null,{"$f":"BR4","v":"2025-07-25"}]
[null,{"$f":"BP7","v":1},4,0,{"$f":"IF(D177<>0,IF((D177-C177)=-1,\"Birdie\",IF((D177-C177)=-2,\"Eagle\",IF((D177-C177)=0,\"Par\",IF((D177-C177)=1,\"bogey\",IF((D177-C177)=2,\"Double bogey\",\"Other\"))))),\"  \")","v":"  "},null,null,"Count"]
[null,2,4,0,"  ",null,null,"Eagle",{"$f":"COUNTIF(E177:E185,\"Eagle\")","v":0}]
[null,3,4,0,"  ",null,null,"Birdie",{"$f":"COUNTIF(E177:E185,\"Birdie\")","v":0}]
[null,4,4,0,"  ",null,null,"Par",{"$f":"COUNTIF(E177:E185,\"Par\")","v":0}]
[null,5,3,0,"  ",null,null,"bogey",{"$f":"COUNTIF(E177:E185,\"bogey\")","v":0}]
[null,6,4,0,"  ",null,null,"Double bogey",{"$f":"COUNTIF(E177:E185,\"Double bogey\")","v":0}]
[null,7,4,0,"  ",null,null,"Other",{"$f":"COUNTIF(E177:E185,\"Other\")","v":0}]
[null,8,3,0,"  "]
[null,9,5,0,"  "]
[]
[null,{"$f":"BX4","v":"2025-08-01"}]
[null,{"$f":"BV7","v":10},4,0,{"$f":"IF(D188<>0,IF((D188-C188)=-1,\"Birdie\",IF((D188-C188)=-2,\"Eagle\",IF((D188-C188)=0,\"Par\",IF((D188-C188)=1,\"bogey\",IF((D188-C188)=2,\"Double bogey\",\"Other\"))))),\"  \")","v":"  "},null,null,"Count"]
[null,11,4,0,"  ",null,null,"Eagle",{"$f":"COUNTIF(E188:E196,\"Eagle\")","v":0}]
[null,12,3,0,"  ",null,null,"Birdie",{"$f":"COUNTIF(E188:E196,\"Birdie\")","v":0}]
[null,13,4,0,"  ",null,null,"Par",{"$f":"COUNTIF(E188:E196,\"Par\")","v":0}]
[null,14,4,0,"  ",null,null,"bogey",{"$f":"COUNTIF(E188:E196,\"bogey\")","v":0}]
[null,15,3,0,"  ",null,null,"Double bogey",{"$f":"COUNTIF(E188:E196,\"Double bogey\")","v":0}]
[null,16,5,0,"  ",null,null,"Other",{"$f":"COUNTIF(E188:E196,\"Other\")","v":0}]
[null,17,4,0,"  "]
[null,18,5,0,"  "]
[]
[null,{"$f":"CD4","v":"2025-08-08"}]
[null,{"$f":"CB7","v":1},4,0,{"$f":"IF(D199<>0,IF((D199-C199)=-1,\"Birdie\",IF((D199-C199)=-2,\"Eagle\",IF((D199-C199)=0,\"Par\",IF((D199-C199)=1,\"bogey\",IF((D199-C199)=2,\"Double bogey\",\"Other\"))))),\"  \")","v":"  "},null,null,"Count"]
[null,2,4,0,"  ",null,null,"Eagle",{"$f":"COUNTIF(E199:E207,\"Eagle\")","v":0}]
[null,3,4,0,"  ",null,null,"Birdie",{"$f":"COUNTIF(E199:E207,\"Birdie\")","v":0}]
[null,4,4,0,"  ",null,null,"Par",{"$f":"COUNTIF(E199:E207,\"Par\")","v":0}]
[null,5,3,0,"  ",null,null,"bogey",{"$f":"COUNTIF(E199:E207,\"bogey\")","v":0}]
[null,6,4,0,"  ",null,null,"Double bogey",{"$f":"COUNTIF(E199:E207,\"Double bogey\")","v":0}]
[null,7,4,0,"  ",null,null,"Other",{"$f":"COUNTIF(E199:E207,\"Other\")","v":0}]
[null,8,3,0,"  "]
[null,9,5,0,"  "]
[]
[null,{"$f":"CJ4","v":"2025-08-15"}]
[null,{"$f":"CH7","v":10},4,0,{"$f":"IF(D210<>0,IF((D210-C210)=-1,\"Birdie\",IF((D210-C210)=-2,\"Eagle\",IF((D210-C210)=0,\"Par\",IF((D210-C210)=1,\"bogey\",IF((D210-C210)=2,\"Double bogey\",\"Other\"))))),\"  \")","v":"  "},null,null,"Count"]
[null,11,4,0,"  ",null,null,"Eagle",{"$f":"COUNTIF(E210:E218,\"Eagle\")","v":0}]
[null,12,3,0,"  ",null,null,"Birdie",{"$f":"COUNTIF(E210:E218,\"Birdie\")","v":0}]
[null,13,4,0,"  ",null,null,"Par",{"$f":"COUNTIF(E210:E218,\"Par\")","v":0}]
[null,14,4,0,"  ",null,null,"bogey",{"$f":"COUNTIF(E210:E218,\"bogey\")","v":0}]
[null,15,3,0,"  ",null,null,"Double bogey",{"$f":"COUNTIF(E210:E218,\"Double bogey\")","v":0}]
[null,16,5,0,"  ",null,null,"Other",{"$f":"COUNTIF(E210:E218,\"Other\")","v":0}]
[null,17,4,0,"  "]
[null,18,5,0,"  "]

{"sheet":"Set Up Template","index":22,"n_rows":22,"n_cols":7,"rows_kept":22,"cut":false,"hidden":false,"merged":[]}
[null,"Week",null,"Holes",null,null,"Starting hole for the week"]
[null,1,"2025-04-25",1,4,null,1]
[null,2,{"$f":"+C2+7","v":"2025-05-02"},2,4,null,10]
[null,3,{"$f":"+C3+7","v":"2025-05-09"},3,4,null,1]
[null,4,"2025-05-16",4,4,null,10]
[null,5,"2025-05-23",5,3,null,1]
[3000,6,"2025-05-30",6,4,null,10]
[2500,7,"2025-06-06",7,4,null,1]
[2000,8,"2025-06-13",8,3,null,10]
[1500,9,{"$f":"+C9+14","v":"2025-06-27"},9,5,{"$f":"SUM(E2:E10)","v":35},10]
[1000,10,"2025-07-04",10,4,null,10]
[900,11,{"$f":"+C11+14","v":"2025-07-18"},11,4,null,10]
[800,12,"2025-07-25",12,3,null,1]
[700,13,"2025-08-01",13,4,null,10]
[600,14,"2025-08-08",14,4,null,1]
[500,15,"2025-08-15",15,3,null,10]
[450,null,null,16,5]
[400,null,null,17,4]
[350,null,null,18,5,{"$f":"SUM(E11:E19)","v":36}]
[300]
[250]
[200]

{"sheet":"Player_Template","index":23,"n_rows":218,"n_cols":90,"rows_kept":218,"cut":false,"hidden":false,"merged":[]}
["Player Name goes here"]
[]
[]
[null,null,"Date:",{"$f":"VLOOKUP(C5,Week,2)","v":"2025-04-25"},null,null,null,null,"Date:",{"$f":"VLOOKUP(I5,Week,2)","v":"2025-05-02"},null,null,null,null,"Date:",{"$f":"VLOOKUP(O5,Week,2)","v":"2025-05-09"},null,null,null,null,"Date:",{"$f":"VLOOKUP(U5,Week,2)","v":"2025-05-16"},null,null,null,null,"Date:",{"$f":"VLOOKUP(AA5,Week,2)","v":"2025-05-23"},null,null,null,null,"Date:",{"$f":"VLOOKUP(AG5,Week,2)","v":"2025-05-30"},null,null,null,null,"Date:",{"$f":"VLOOKUP(AM5,Week,2)","v":"2025-06-06"},null,null,null,null,"Date:",{"$f":"VLOOKUP(AS5,Week,2)","v":"2025-06-13"},null,null,null,null,"Date:",{"$f":"VLOOKUP(AY5,Week,2)","v":"2025-06-27"},null,null,null,null,"Date:",{"$f":"VLOOKUP(BE5,Week,2)","v":"2025-07-04"},null,null,null,null,"Date:",{"$f":"VLOOKUP(BK5,Week,2)","v":"2025-07-18"},null,null,null,null,"Date:",{"$f":"VLOOKUP(BQ5,Week,2)","v":"2025-07-25"},null,null,null,null,"Date:",{"$f":"VLOOKUP(BW5,Week,2)","v":"2025-08-01"},null,null,null,null,"Date:",{"$f":"VLOOKUP(CC5,Week,2)","v":"2025-08-08"},null,null,null,null,"Date:",{"$f":"VLOOKUP(CI5,Week,2)","v":"2025-08-15"}]
[null,"Week",1,null,null,null,null,"Week",2,null,null,null,null,"Week",3,null,null,null,null,"Week",4,null,null,null,null,"Week",5,null,null,null,null,"Week",6,null,null,null,null,"Week",7,null,null,null,null,"Week",8,null,null,null,null,"Week",9,null,null,null,null,"Week",10,null,null,null,null,"Week",11,null,null,null,null,"Week",12,null,null,null,null,"Week",13,null,null,null,null,"Week",14,null,null,null,null,"Week",15]
[null,"Hole #","Par","Score","Net","Win Hole",null,"Hole #","Par","Score","Net","Win Hole",null,"Hole #","Par","Score","Net","Win Hole",null,"Hole #","Par","Score","Net","Win Hole",null,"Hole #","Par","Score","Net","Win Hole",null,"Hole #","Par","Score","Net","Win Hole",null,"Hole #","Par","Score","Net","Win Hole",null,"Hole #","Par","Score","Net","Win Hole",null,"Hole #","Par","Score","Net","Win Hole",null,"Hole #","Par","Score","Net","Win Hole",null,"Hole #","Par","Score","Net","Win Hole",null,"Hole #","Par","Score","Net","Win Hole",null,"Hole #","Par","Score","Net","Win Hole",null,"Hole #","Par","Score","Net","Win Hole",null,"Hole #","Par","Score","Net","Win Hole"]
[null,{"$f":"VLOOKUP(C5,Week,6)","v":1},{"$f":"VLOOKUP(B7,Holes,2)","v":4},null,{"$f":"IF((D7-C7)>3,C7+3,D7)","v":0},null,null,{"$f":"VLOOKUP(I5,Week,6)","v":10},{"$f":"VLOOKUP(H7,Holes,2)","v":4},null,{"$f":"IF((J7-I7)>3,I7+3,J7)","v":0},null,null,{"$f":"VLOOKUP(O5,Week,6)","v":1},{"$f":"VLOOKUP(N7,Holes,2)","v":4},null,{"$f":"IF((P7-O7)>3,O7+3,P7)","v":0},null,null,{"$f":"VLOOKUP(U5,Week,6)","v":10},{"$f":"VLOOKUP(T7,Holes,2)","v":4},null,{"$f":"IF((V7-U7)>3,U7+3,V7)","v":0},null,null,{"$f":"VLOOKUP(AA5,Week,6)","v":1},{"$f":"VLOOKUP(Z7,Holes,2)","v":4},null,{"$f":"IF((AB7-AA7)>3,AA7+3,AB7)","v":0},null,null,{"$f":"VLOOKUP(AG5,Week,6)","v":10},{"$f":"VLOOKUP(AF7,Holes,2)","v":4},null,{"$f":"IF((AH7-AG7)>3,AG7+3,AH7)","v":0},null,null,{"$f":"VLOOKUP(AM5,Week,6)","v":1},{"$f":"VLOOKUP(AL7,Holes,2)","v":4},null,{"$f":"IF((AN7-AM7)>3,AM7+3,AN7)","v":0},null,null,{"$f":"VLOOKUP(AS5,Week,6)","v":10},{"$f":"VLOOKUP(AR7,Holes,2)","v":4},null,{"$f":"IF((AT7-AS7)>3,AS7+3,AT7)","v":0},null,null,{"$f":"VLOOKUP(AY5,Week,6)","v":10},{"$f":"VLOOKUP(AX7,Holes,2)","v":4},null,{"$f":"IF((AZ7-AY7)>3,AY7+3,AZ7)","v":0},null,null,{"$f":"VLOOKUP(BE5,Week,6)","v":10},{"$f":"VLOOKUP(BD7,Holes,2)","v":4},null,{"$f":"IF((BF7-BE7)>3,BE7+3,BF7)","v":0},null,null,{"$f":"VLOOKUP(BK5,Week,6)","v":10},{"$f":"VLOOKUP(BJ7,Holes,2)","v":4},null,{"$f":"IF((BL7-BK7)>3,BK7+3,BL7)","v":0},null,null,{"$f":"VLOOKUP(BQ5,Week,6)","v":1},{"$f":"VLOOKUP(BP7,Holes,2)","v":4},null,{"$f":"IF((BR7-BQ7)>3,BQ7+3,BR7)","v":0},null,null,{"$f":"VLOOKUP(BW5,Week,6)","v":10},{"$f":"VLOOKUP(BV7,Holes,2)","v":4},null,{"$f":"IF((BX7-BW7)>3,BW7+3,BX7)","v":0},null,null,{"$f":"VLOOKUP(CC5,Week,6)","v":1},{"$f":"VLOOKUP(CB7,Holes,2)","v":4},null,{"$f":"IF((CD7-CC7)>3,CC7+3,CD7)","v":0},null,null,{"$f":"VLOOKUP(CI5,Week,6)","v":10},{"$f":"VLOOKUP(CH7,Holes,2)","v":4},null,{"$f":"IF((CJ7-CI7)>3,CI7+3,CJ7)","v":0}]
[null,{"$f":"+B7+1","v":2},4,null,0,null,null,{"$f":"+H7+1","v":11},4,null,0,null,null,{"$f":"+N7+1","v":2},4,null,0,null,null,{"$f":"+T7+1","v":11},4,null,0,null,null,{"$f":"+Z7+1","v":2},4,null,0,null,null,{"$f":"+AF7+1","v":11},4,null,0,null,null,{"$f":"+AL7+1","v":2},4,null,0,null,null,{"$f":"+AR7+1","v":11},4,null,0,null,null,{"$f":"+AX7+1","v":11},4,null,0,null,null,{"$f":"+BD7+1","v":11},4,null,0,null,null,{"$f":"+BJ7+1","v":11},4,null,0,null,null,{"$f":"+BP7+1","v":2},4,null,0,null,null,{"$f":"+BV7+1","v":11},4,null,0,null,null,{"$f":"+CB7+1","v":2},4,null,0,null,null,{"$f":"+CH7+1","v":11},4,null,0]
[null,{"$f":"+B8+1","v":3},4,null,0,null,null,12,3,null,0,null,null,3,4,null,0,null,null,12,3,null,0,null,null,3,4,null,0,null,null,12,3,null,0,null,null,3,4,null,0,null,null,12,3,null,0,null,null,12,3,null,0,null,null,12,3,null,0,null,null,12,3,null,0,null,null,3,4,null,0,null,null,12,3,null,0,null,null,3,4,null,0,null,null,12,3,null,0]
[null,4,4,null,0,null,null,13,4,null,0,null,null,4,4,null,0,null,null,13,4,null,0,null,null,4,4,null,0,null,null,13,4,null,0,null,null,4,4,null,0,null,null,13,4,null,0,null,null,13,4,null,0,null,null,13,4,null,0,null,null,13,4,null,0,null,null,4,4,null,0,null,null,13,4,null,0,null,null,4,4,null,0,null,null,13,4,null,0]
[null,5,3,null,0,null,null,14,4,null,0,null,null,5,3,null,0,null,null,14,4,null,0,null,null,5,3,null,0,null,null,14,4,null,0,null,null,5,3,null,0,null,null,14,4,null,0,null,null,14,4,null,0,null,null,14,4,null,0,null,null,14,4,null,0,null,null,5,3,null,0,null,null,14,4,null,0,null,null,5,3,null,0,null,null,14,4,null,0]
[null,6,4,null,0,null,null,15,3,null,0,null,null,6,4,null,0,null,null,15,3,null,0,null,null,6,4,null,0,null,null,15,3,null,0,null,null,6,4,null,0,null,null,15,3,null,0,null,null,15,3,null,0,null,null,15,3,null,0,null,null,15,3,null,0,null,null,6,4,null,0,null,null,15,3,null,0,null,null,6,4,null,0,null,null,15,3,null,0]
[null,7,4,null,0,null,null,16,5,null,0,null,null,7,4,null,0,null,null,16,5,null,0,null,null,7,4,null,0,null,null,16,5,null,0,null,null,7,4,null,0,null,null,16,5,null,0,null,null,16,5,null,0,null,null,16,5,null,0,null,null,16,5,null,0,null,null,7,4,null,0,null,null,16,5,null,0,null,null,7,4,null,0,null,null,16,5,null,0]
[null,8,3,null,0,null,null,17,4,null,0,null,null,8,3,null,0,null,null,17,4,null,0,null,null,8,3,null,0,null,null,17,4,null,0,null,null,8,3,null,0,null,null,17,4,null,0,null,null,17,4,null,0,null,null,17,4,null,0,null,null,17,4,null,0,null,null,8,3,null,0,null,null,17,4,null,0,null,null,8,3,null,0,null,null,17,4,null,0]
[null,9,5,null,0,null,null,18,5,null,0,null,null,9,5,null,0,null,null,18,5,null,0,null,null,9,5,null,0,null,null,18,5,null,0,null,null,9,5,null,0,null,null,18,5,null,0,null,null,18,5,null,0,null,null,18,5,null,0,null,null,18,5,null,0,null,null,9,5,null,0,null,null,18,5,null,0,null,null,9,5,null,0,null,null,18,5,null,0]
[null,"Total",{"$f":"SUM(C7:C15)","v":35},{"$f":"SUM(D7:D15)","v":0},{"$f":"SUM(E7:E15)","v":0},{"$f":"SUM(F7:F15)","v":0},null,"Total",{"$f":"SUM(I7:I15)","v":36},{"$f":"SUM(J7:J15)","v":0},{"$f":"SUM(K7:K15)","v":0},{"$f":"SUM(L7:L15)","v":0},null,"Total",{"$f":"SUM(O7:O15)","v":35},{"$f":"SUM(P7:P15)","v":0},{"$f":"SUM(Q7:Q15)","v":0},{"$f":"SUM(R7:R15)","v":0},null,"Total",{"$f":"SUM(U7:U15)","v":36},{"$f":"SUM(V7:V15)","v":0},{"$f":"SUM(W7:W15)","v":0},{"$f":"SUM(X7:X15)","v":0},null,"Total",{"$f":"SUM(AA7:AA15)","v":35},{"$f":"SUM(AB7:AB15)","v":0},{"$f":"SUM(AC7:AC15)","v":0},{"$f":"SUM(AD7:AD15)","v":0},null,"Total",{"$f":"SUM(AG7:AG15)","v":36},{"$f":"SUM(AH7:AH15)","v":0},{"$f":"SUM(AI7:AI15)","v":0},{"$f":"SUM(AJ7:AJ15)","v":0},null,"Total",{"$f":"SUM(AM7:AM15)","v":35},{"$f":"SUM(AN7:AN15)","v":0},{"$f":"SUM(AO7:AO15)","v":0},{"$f":"SUM(AP7:AP15)","v":0},null,"Total",{"$f":"SUM(AS7:AS15)","v":36},{"$f":"SUM(AT7:AT15)","v":0},{"$f":"SUM(AU7:AU15)","v":0},{"$f":"SUM(AV7:AV15)","v":0},null,"Total",{"$f":"SUM(AY7:AY15)","v":36},{"$f":"SUM(AZ7:AZ15)","v":0},{"$f":"SUM(BA7:BA15)","v":0},{"$f":"SUM(BB7:BB15)","v":0},null,"Total",{"$f":"SUM(BE7:BE15)","v":36},{"$f":"SUM(BF7:BF15)","v":0},{"$f":"SUM(BG7:BG15)","v":0},{"$f":"SUM(BH7:BH15)","v":0},null,"Total",{"$f":"SUM(BK7:BK15)","v":36},{"$f":"SUM(BL7:BL15)","v":0},{"$f":"SUM(BM7:BM15)","v":0},{"$f":"SUM(BN7:BN15)","v":0},null,"Total",{"$f":"SUM(BQ7:BQ15)","v":35},{"$f":"SUM(BR7:BR15)","v":0},{"$f":"SUM(BS7:BS15)","v":0},{"$f":"SUM(BT7:BT15)","v":0},null,"Total",{"$f":"SUM(BW7:BW15)","v":36},{"$f":"SUM(BX7:BX15)","v":0},{"$f":"SUM(BY7:BY15)","v":0},{"$f":"SUM(BZ7:BZ15)","v":0},null,"Total",{"$f":"SUM(CC7:CC15)","v":35},{"$f":"SUM(CD7:CD15)","v":0},{"$f":"SUM(CE7:CE15)","v":0},{"$f":"SUM(CF7:CF15)","v":0},null,"Total",{"$f":"SUM(CI7:CI15)","v":36},{"$f":"SUM(CJ7:CJ15)","v":0},{"$f":"SUM(CK7:CK15)","v":0},{"$f":"SUM(CL7:CL15)","v":0}]
[]
[null,null,null,null,"Low Net",null,null,null,null,null,"Low Net",0,null,null,null,null,"Low Net",0,null,null,null,null,"Low Net",null,null,null,null,null,"Low Net",null,null,null,null,null,"Low Net",null,null,null,null,null,"Low Net",null,null,null,null,null,"Low Net",null,null,null,null,null,"Low Net",null,null,null,null,null,"Low Net",null,null,null,null,null,"Low Net",null,null,null,null,null,"Low Net",null,null,null,null,null,"Low Net",null,null,null,null,null,"Low Net",null,null,null,null,null,"Low Net"]
[]
[null,null,null,null,"Total Points",{"$f":"SUM(F16:F19)","v":0},null,null,null,null,"Total Points",{"$f":"SUM(L16:L19)","v":0},null,null,null,null,"Total Points",{"$f":"SUM(R16:R19)","v":0},null,null,null,null,"Total Points",{"$f":"SUM(X16:X19)","v":0},null,null,null,null,"Total Points",{"$f":"SUM(AD16:AD19)","v":0},null,null,null,null,"Total Points",{"$f":"SUM(AJ16:AJ19)","v":0},null,null,null,null,"Total Points",{"$f":"SUM(AP16:AP19)","v":0},null,null,null,null,"Total Points",{"$f":"SUM(AV16:AV19)","v":0},null,null,null,null,"Total Points",{"$f":"SUM(BB16:BB19)","v":0},null,null,null,null,"Total Points",{"$f":"SUM(BH16:BH19)","v":0},null,null,null,null,"Total Points",{"$f":"SUM(BN16:BN19)","v":0},null,null,null,null,"Total Points",{"$f":"SUM(BT16:BT19)","v":0},null,null,null,null,"Total Points",{"$f":"SUM(BZ16:BZ19)","v":0},null,null,null,null,"Total Points",{"$f":"SUM(CF16:CF19)","v":0},null,null,null,null,"Total Points",{"$f":"SUM(CL16:CL19)","v":0}]
[]
[null,null,null,null,"Handicap",{"$f":"IF(D16=0,0,E16-C16)","v":0},null,null,null,null,"Handicap",{"$f":"IF(J16=0,0,K16-I16)","v":0},null,null,null,null,"Handicap",{"$f":"IF(P16=0,0,Q16-O16)","v":0},null,null,null,null,"Handicap",{"$f":"IF(V16=0,0,W16-U16)","v":0},null,null,null,null,"Handicap",{"$f":"IF(AB16=0,0,AC16-AA16)","v":0},null,null,null,null,"Handicap",{"$f":"IF(AH16=0,0,AI16-AG16)","v":0},null,null,null,null,"Handicap",{"$f":"IF(AN16=0,0,AO16-AM16)","v":0},null,null,null,null,"Handicap",{"$f":"IF(AT16=0,0,AU16-AS16)","v":0},null,null,null,null,"Handicap",{"$f":"IF(AZ16=0,0,BA16-AY16)","v":0},null,null,null,null,"Handicap",{"$f":"IF(BF16=0,0,BG16-BE16)","v":0},null,null,null,null,"Handicap",{"$f":"IF(BL16=0,0,BM16-BK16)","v":0},null,null,null,null,"Handicap",{"$f":"IF(BR16=0,0,BS16-BQ16)","v":0},null,null,null,null,"Handicap",{"$f":"IF(BX16=0,0,BY16-BW16)","v":0},null,null,null,null,"Handicap",{"$f":"IF(CD16=0,0,CE16-CC16)","v":0},null,null,null,null,"Handicap",{"$f":"IF(CJ16=0,0,CK16-CI16)","v":0}]
[]
[null,null,null,null,null,{"$f":"IF(D16<>0,IF(F16>4.5,\"W\",IF(F16=4.5,\"T\",IF(F16<4.5,\"L\"))),0)","v":0},null,null,null,null,null,{"$f":"IF(J16<>0,IF(L16>4.5,\"W\",IF(L16=4.5,\"T\",IF(L16<4.5,\"L\"))),0)","v":0},null,null,null,null,null,{"$f":"IF(P16<>0,IF(R16>4.5,\"W\",IF(R16=4.5,\"T\",IF(R16<4.5,\"L\"))),0)","v":0},null,null,null,null,null,{"$f":"IF(V16<>0,IF(X16>4.5,\"W\",IF(X16=4.5,\"T\",IF(X16<4.5,\"L\"))),0)","v":0},null,null,null,null,null,{"$f":"IF(AB16<>0,IF(AD16>4.5,\"W\",IF(AD16=4.5,\"T\",IF(AD16<4.5,\"L\"))),0)","v":0},null,null,null,null,null,{"$f":"IF(AH16<>0,IF(AJ16>4.5,\"W\",IF(AJ16=4.5,\"T\",IF(AJ16<4.5,\"L\"))),0)","v":0},null,null,null,null,null,{"$f":"IF(AN16<>0,IF(AP16>4.5,\"W\",IF(AP16=4.5,\"T\",IF(AP16<4.5,\"L\"))),0)","v":0},null,null,null,null,null,{"$f":"IF(AT16<>0,IF(AV16>4.5,\"W\",IF(AV16=4.5,\"T\",IF(AV16<4.5,\"L\"))),0)","v":0},null,null,null,null,null,{"$f":"IF(AZ16<>0,IF(BB16>4.5,\"W\",IF(BB16=4.5,\"T\",IF(BB16<4.5,\"L\"))),0)","v":0},null,null,null,null,null,{"$f":"IF(BF16<>0,IF(BH16>4.5,\"W\",IF(BH16=4.5,\"T\",IF(BH16<4.5,\"L\"))),0)","v":0},null,null,null,null,null,{"$f":"IF(BL16<>0,IF(BN16>4.5,\"W\",IF(BN16=4.5,\"T\",IF(BN16<4.5,\"L\"))),0)","v":0},null,null,null,null,null,{"$f":"IF(BR16<>0,IF(BT16>4.5,\"W\",IF(BT16=4.5,\"T\",IF(BT16<4.5,\"L\"))),0)","v":0},null,null,null,null,null,{"$f":"IF(BX16<>0,IF(BZ16>4.5,\"W\",IF(BZ16=4.5,\"T\",IF(BZ16<4.5,\"L\"))),0)","v":0},null,null,null,null,null,{"$f":"IF(CD16<>0,IF(CF16>4.5,\"W\",IF(CF16=4.5,\"T\",IF(CF16<4.5,\"L\"))),0)","v":0},null,null,null,null,null,{"$f":"IF(CJ16<>0,IF(CL16>4.5,\"W\",IF(CL16=4.5,\"T\",IF(CL16<4.5,\"L\"))),0)","v":0}]
[]
[null,"Summary"]
[null,null,null,"Adj",null,"Adj",null,null,null,"Avg Score"]
[null,null,"Points","Points","Matches","Matches",null,null,"Hole #","by Hole","Best","Worst"]
[null,"Week #1",{"$f":"F20","v":0},{"$f":"C29","v":0},{"$f":"IF(D16>0,1,0)","v":0},{"$f":"E29","v":0},null,null,1,{"$f":"IFERROR(AVERAGE(D7),0)","v":0},{"$f":"IFERROR(MIN(J7,V7,AH7,AT7,BF7,BR7,BX7,CJ7),0)","v":0},{"$f":"IFERROR(MAX(J7,V7,AH7,AT7,BF7,BR7,BX7,CJ7),0)","v":0}]
[null,"Week #2",{"$f":"L20","v":0},0,{"$f":"IF(J16>0,1,0)","v":0},0,null,null,2,{"$f":"IFERROR(AVERAGE(D8),0)","v":0},{"$f":"IFERROR(MIN(J8,V8,AH8,AT8,BF8,BR8,BX8,CJ8),0)","v":0},{"$f":"IFERROR(MAX(J8,V8,AH8,AT8,BF8,BR8,BX8,CJ8),0)","v":0}]
[null,"Week #3",{"$f":"R20","v":0},0,{"$f":"IF(P16>0,1,0)","v":0},0,null,null,3,0,0,0]
[null,"Week #4",{"$f":"X20","v":0},0,{"$f":"IF(V16>0,1,0)","v":0},0,null,null,4,0,0,0]
[null,"Week #5",{"$f":"AD20","v":0},0,{"$f":"IF(AB16>0,1,0)","v":0},0,null,null,5,0,0,0]
[null,"Week #6",{"$f":"AJ20","v":0},0,{"$f":"IF(AH16>0,1,0)","v":0},0,null,null,6,0,0,0]
[null,"Week #7",{"$f":"AP20","v":0},0,{"$f":"IF(AN16>0,1,0)","v":0},0,null,null,7,0,0,0]
[null,"Week #8",{"$f":"AV20","v":0},0,{"$f":"IF(AT16>0,1,0)","v":0},0,null,null,8,0,0,0]
[null,"Week #9",{"$f":"BB20","v":0},0,{"$f":"IF(AZ16>0,1,0)","v":0},0,null,null,9,0,0,0]
[null,"Week #10",{"$f":"BH20","v":0},0,{"$f":"IF(BF16>0,1,0)","v":0},0,null,null,"Front",{"$f":"SUM(J29:J37)","v":0},{"$f":"SUM(K29:K37)","v":0},0]
[null,"Week #11",{"$f":"BN20","v":0},0,{"$f":"IF(BL16>0,1,0)","v":0},0]
[null,"Week #12",{"$f":"BT20","v":0},0,{"$f":"IF(BR16>0,1,0)","v":0},0,null,null,10,{"$f":"IFERROR(AVERAGE(J7),0)","v":0},{"$f":"IFERROR(MIN(D7,P7,AB7,AN7,AZ7,BL7,CD7),0)","v":0},{"$f":"IFERROR(MAX(D7,P7,AB7,AN7,AZ7,BL7,CD7),0)","v":0}]
[null,"Week #13",{"$f":"BZ20","v":0},0,{"$f":"IF(BX16>0,1,0)","v":0},0,null,null,11,{"$f":"IFERROR(AVERAGE(J8),0)","v":0},{"$f":"IFERROR(MIN(D8,P8,AB8,AN8,AZ8,BL8,CD8),0)","v":0},{"$f":"IFERROR(MAX(D8,P8,AB8,AN8,AZ8,BL8,CD8),0)","v":0}]
[null,"Week #14",{"$f":"CF20","v":0},0,{"$f":"IF(CD16>0,1,0)","v":0},0,null,null,12,0,0,0]
[null,"Week #15",{"$f":"CL20","v":0},0,{"$f":"IF(CJ16>0,1,0)","v":0},0,null,null,13,0,0,0]
[null,"Total",{"$f":"SUM(C29:C43)","v":0},{"$f":"SUM(D29:D43)","v":0},{"$f":"SUM(E29:E43)","v":0},{"$f":"SUM(F29:F43)","v":0},null,null,14,0,0,0]
[null,null,null,null,null,null,null,null,15,0,0,0]
[null,"Summary",null,null,null,null,null,null,16,0,0,0]
[null,"Eagles",{"$f":"I57+I68+I79+I90+I101+I112+I123+I134+I145+I156+I167+I178+I189+I200+I211","v":0},null,null,null,null,null,17,0,0,0]
[null,"Birdies",0,null,null,null,null,null,18,0,0,0]
[null,"Pars",{"$f":"I59+I70+I81+I92+I103+I114+I125+I136+I147+I158+I169+I180+I191+I202+I213","v":0},null,null,null,null,null,"Back",{"$f":"SUM(J40:J48)","v":0},{"$f":"SUM(K40:K48)","v":0},0]
[null,"bogeys",0]
[null,"Double bogeys",0]
[null,"Other",0]
[null,"Total",{"$f":"SUM(C47:C52)","v":0}]
[]
[null,{"$f":"D4","v":"2025-04-25"},"Par","Score"]
[null,{"$f":"B7","v":1},4,0,{"$f":"IF(D56<>0,IF((D56-C56)=-1,\"Birdie\",IF((D56-C56)=-2,\"Eagle\",IF((D56-C56)=0,\"Par\",IF((D56-C56)=1,\"bogey\",IF((D56-C56)=2,\"Double bogey\",\"Other\"))))),\"  \")","v":"  "},null,null,"Count"]
[null,2,4,0,"  ",null,null,"Eagle",{"$f":"COUNTIF(E56:E64,\"Eagle\")","v":0}]
[null,3,4,0,"  ",null,null,"Birdie",{"$f":"COUNTIF(E56:E64,\"Birdie\")","v":0}]
[null,4,4,0,"  ",null,null,"Par",{"$f":"COUNTIF(E56:E64,\"Par\")","v":0}]
[null,5,3,0,"  ",null,null,"bogey",{"$f":"COUNTIF(E56:E64,\"bogey\")","v":0}]
[null,6,4,0,"  ",null,null,"Double bogey",{"$f":"COUNTIF(E56:E64,\"Double bogey\")","v":0}]
[null,7,4,0,"  ",null,null,"Other",{"$f":"COUNTIF(E56:E64,\"Other\")","v":0}]
[null,8,3,0,"  "]
[null,9,5,0,"  "]
[]
[null,{"$f":"J4","v":"2025-05-02"}]
[null,{"$f":"H7","v":10},{"$f":"I7","v":4},{"$f":"J7","v":0},{"$f":"IF(D67<>0,IF((D67-C67)=-1,\"Birdie\",IF((D67-C67)=-2,\"Eagle\",IF((D67-C67)=0,\"Par\",IF((D67-C67)=1,\"bogey\",IF((D67-C67)=2,\"Double bogey\",\"Other\"))))),\"  \")","v":"  "},null,null,"Count"]
[null,11,4,0,"  ",null,null,"Eagle",{"$f":"COUNTIF(E67:E75,\"Eagle\")","v":0}]
[null,12,3,0,"  ",null,null,"Birdie",{"$f":"COUNTIF(E67:E75,\"Birdie\")","v":0}]
[null,13,4,0,"  ",null,null,"Par",{"$f":"COUNTIF(E67:E75,\"Par\")","v":0}]
[null,14,4,0,"  ",null,null,"bogey",{"$f":"COUNTIF(E67:E75,\"bogey\")","v":0}]
[null,15,3,0,"  ",null,null,"Double bogey",{"$f":"COUNTIF(E67:E75,\"Double bogey\")","v":0}]
[null,16,5,0,"  ",null,null,"Other",{"$f":"COUNTIF(E67:E75,\"Other\")","v":0}]
[null,17,4,0,"  "]
[null,18,5,0,"  "]
[]
[null,{"$f":"P4","v":"2025-05-09"}]
[null,{"$f":"N7","v":1},{"$f":"O7","v":4},{"$f":"P7","v":0},{"$f":"IF(D78<>0,IF((D78-C78)=-1,\"Birdie\",IF((D78-C78)=-2,\"Eagle\",IF((D78-C78)=0,\"Par\",IF((D78-C78)=1,\"bogey\",IF((D78-C78)=2,\"Double bogey\",\"Other\"))))),\"  \")","v":"  "},null,null,"Count"]
[null,2,4,0,"  ",null,null,"Eagle",{"$f":"COUNTIF(E78:E86,\"Eagle\")","v":0}]
[null,3,4,0,"  ",null,null,"Birdie",{"$f":"COUNTIF(E78:E86,\"Birdie\")","v":0}]
[null,4,4,0,"  ",null,null,"Par",{"$f":"COUNTIF(E78:E86,\"Par\")","v":0}]
[null,5,3,0,"  ",null,null,"bogey",{"$f":"COUNTIF(E78:E86,\"bogey\")","v":0}]
[null,6,4,0,"  ",null,null,"Double bogey",{"$f":"COUNTIF(E78:E86,\"Double bogey\")","v":0}]
[null,7,4,0,"  ",null,null,"Other",{"$f":"COUNTIF(E78:E86,\"Other\")","v":0}]
[null,8,3,0,"  "]
[null,9,5,0,"  "]
[]
[null,{"$f":"V4","v":"2025-05-16"}]
[null,{"$f":"T7","v":10},{"$f":"U7","v":4},{"$f":"V7","v":0},{"$f":"IF(D89<>0,IF((D89-C89)=-1,\"Birdie\",IF((D89-C89)=-2,\"Eagle\",IF((D89-C89)=0,\"Par\",IF((D89-C89)=1,\"bogey\",IF((D89-C89)=2,\"Double bogey\",\"Other\"))))),\"  \")","v":"  "},null,null,"Count"]
[null,11,4,0,"  ",null,null,"Eagle",{"$f":"COUNTIF(E89:E97,\"Eagle\")","v":0}]
[null,12,3,0,"  ",null,null,"Birdie",{"$f":"COUNTIF(E89:E97,\"Birdie\")","v":0}]
[null,13,4,0,"  ",null,null,"Par",{"$f":"COUNTIF(E89:E97,\"Par\")","v":0}]
[null,14,4,0,"  ",null,null,"bogey",{"$f":"COUNTIF(E89:E97,\"bogey\")","v":0}]
[null,15,3,0,"  ",null,null,"Double bogey",{"$f":"COUNTIF(E89:E97,\"Double bogey\")","v":0}]
[null,16,5,0,"  ",null,null,"Other",{"$f":"COUNTIF(E89:E97,\"Other\")","v":0}]
[null,17,4,0,"  "]
[null,18,5,0,"  "]
[]
[null,{"$f":"AB4","v":"2025-05-23"}]
[null,{"$f":"Z7","v":1},{"$f":"AA7","v":4},{"$f":"AB7","v":0},{"$f":"IF(D100<>0,IF((D100-C100)=-1,\"Birdie\",IF((D100-C100)=-2,\"Eagle\",IF((D100-C100)=0,\"Par\",IF((D100-C100)=1,\"bogey\",IF((D100-C100)=2,\"Double bogey\",\"Other\"))))),\"  \")","v":"  "},null,null,"Count"]
[null,2,4,0,"  ",null,null,"Eagle",{"$f":"COUNTIF(E100:E108,\"Eagle\")","v":0}]
[null,3,4,0,"  ",null,null,"Birdie",{"$f":"COUNTIF(E100:E108,\"Birdie\")","v":0}]
[null,4,4,0,"  ",null,null,"Par",{"$f":"COUNTIF(E100:E108,\"Par\")","v":0}]
[null,5,3,0,"  ",null,null,"bogey",{"$f":"COUNTIF(E100:E108,\"bogey\")","v":0}]
[null,6,4,0,"  ",null,null,"Double bogey",{"$f":"COUNTIF(E100:E108,\"Double bogey\")","v":0}]
[null,7,4,0,"  ",null,null,"Other",{"$f":"COUNTIF(E100:E108,\"Other\")","v":0}]
[null,8,3,0,"  "]
[null,9,5,0,"  "]
[]
[null,{"$f":"AH4","v":"2025-05-30"}]
[null,{"$f":"AF7","v":10},{"$f":"AG7","v":4},{"$f":"AH7","v":0},{"$f":"IF(D111<>0,IF((D111-C111)=-1,\"Birdie\",IF((D111-C111)=-2,\"Eagle\",IF((D111-C111)=0,\"Par\",IF((D111-C111)=1,\"bogey\",IF((D111-C111)=2,\"Double bogey\",\"Other\"))))),\"  \")","v":"  "},null,null,"Count"]
[null,11,4,0,"  ",null,null,"Eagle",{"$f":"COUNTIF(E111:E119,\"Eagle\")","v":0}]
[null,12,3,0,"  ",null,null,"Birdie",{"$f":"COUNTIF(E111:E119,\"Birdie\")","v":0}]
[null,13,4,0,"  ",null,null,"Par",{"$f":"COUNTIF(E111:E119,\"Par\")","v":0}]
[null,14,4,0,"  ",null,null,"bogey",{"$f":"COUNTIF(E111:E119,\"bogey\")","v":0}]
[null,15,3,0,"  ",null,null,"Double bogey",{"$f":"COUNTIF(E111:E119,\"Double bogey\")","v":0}]
[null,16,5,0,"  ",null,null,"Other",{"$f":"COUNTIF(E111:E119,\"Other\")","v":0}]
[null,17,4,0,"  "]
[null,18,5,0,"  "]
[]
[null,{"$f":"AN4","v":"2025-06-06"}]
[null,{"$f":"AL7","v":1},{"$f":"AM7","v":4},{"$f":"AN7","v":0},{"$f":"IF(D122<>0,IF((D122-C122)=-1,\"Birdie\",IF((D122-C122)=-2,\"Eagle\",IF((D122-C122)=0,\"Par\",IF((D122-C122)=1,\"bogey\",IF((D122-C122)=2,\"Double bogey\",\"Other\"))))),\"  \")","v":"  "},null,null,"Count"]
[null,2,4,0,"  ",null,null,"Eagle",{"$f":"COUNTIF(E122:E130,\"Eagle\")","v":0}]
[null,3,4,0,"  ",null,null,"Birdie",{"$f":"COUNTIF(E122:E130,\"Birdie\")","v":0}]
[null,4,4,0,"  ",null,null,"Par",{"$f":"COUNTIF(E122:E130,\"Par\")","v":0}]
[null,5,3,0,"  ",null,null,"bogey",{"$f":"COUNTIF(E122:E130,\"bogey\")","v":0}]
[null,6,4,0,"  ",null,null,"Double bogey",{"$f":"COUNTIF(E122:E130,\"Double bogey\")","v":0}]
[null,7,4,0,"  ",null,null,"Other",{"$f":"COUNTIF(E122:E130,\"Other\")","v":0}]
[null,8,3,0,"  "]
[null,9,5,0,"  "]
[]
[null,{"$f":"AT4","v":"2025-06-13"}]
[null,{"$f":"AR7","v":10},{"$f":"AS7","v":4},{"$f":"AT7","v":0},{"$f":"IF(D133<>0,IF((D133-C133)=-1,\"Birdie\",IF((D133-C133)=-2,\"Eagle\",IF((D133-C133)=0,\"Par\",IF((D133-C133)=1,\"bogey\",IF((D133-C133)=2,\"Double bogey\",\"Other\"))))),\"  \")","v":"  "},null,null,"Count"]
[null,11,4,0,"  ",null,null,"Eagle",{"$f":"COUNTIF(E133:E141,\"Eagle\")","v":0}]
[null,12,3,0,"  ",null,null,"Birdie",{"$f":"COUNTIF(E133:E141,\"Birdie\")","v":0}]
[null,13,4,0,"  ",null,null,"Par",{"$f":"COUNTIF(E133:E141,\"Par\")","v":0}]
[null,14,4,0,"  ",null,null,"bogey",{"$f":"COUNTIF(E133:E141,\"bogey\")","v":0}]
[null,15,3,0,"  ",null,null,"Double bogey",{"$f":"COUNTIF(E133:E141,\"Double bogey\")","v":0}]
[null,16,5,0,"  ",null,null,"Other",{"$f":"COUNTIF(E133:E141,\"Other\")","v":0}]
[null,17,4,0,"  "]
[null,18,5,0,"  "]
[]
[null,{"$f":"AZ4","v":"2025-06-27"}]
[null,{"$f":"AX7","v":10},{"$f":"AY7","v":4},{"$f":"AZ7","v":0},{"$f":"IF(D144<>0,IF((D144-C144)=-1,\"Birdie\",IF((D144-C144)=-2,\"Eagle\",IF((D144-C144)=0,\"Par\",IF((D144-C144)=1,\"bogey\",IF((D144-C144)=2,\"Double bogey\",\"Other\"))))),\"  \")","v":"  "},null,null,"Count"]
[null,11,4,0,"  ",null,null,"Eagle",{"$f":"COUNTIF(E144:E152,\"Eagle\")","v":0}]
[null,12,3,0,"  ",null,null,"Birdie",{"$f":"COUNTIF(E144:E152,\"Birdie\")","v":0}]
[null,13,4,0,"  ",null,null,"Par",{"$f":"COUNTIF(E144:E152,\"Par\")","v":0}]
[null,14,4,0,"  ",null,null,"bogey",{"$f":"COUNTIF(E144:E152,\"bogey\")","v":0}]
[null,15,3,0,"  ",null,null,"Double bogey",{"$f":"COUNTIF(E144:E152,\"Double bogey\")","v":0}]
[null,16,5,0,"  ",null,null,"Other",{"$f":"COUNTIF(E144:E152,\"Other\")","v":0}]
[null,17,4,0,"  "]
[null,18,5,0,"  "]
[]
[null,{"$f":"BF4","v":"2025-07-04"}]
[null,{"$f":"BD7","v":10},{"$f":"BE7","v":4},{"$f":"BF7","v":0},{"$f":"IF(D155<>0,IF((D155-C155)=-1,\"Birdie\",IF((D155-C155)=-2,\"Eagle\",IF((D155-C155)=0,\"Par\",IF((D155-C155)=1,\"bogey\",IF((D155-C155)=2,\"Double bogey\",\"Other\"))))),\"  \")","v":"  "},null,null,"Count"]
[null,11,4,0,"  ",null,null,"Eagle",{"$f":"COUNTIF(E155:E163,\"Eagle\")","v":0}]
[null,12,3,0,"  ",null,null,"Birdie",{"$f":"COUNTIF(E155:E163,\"Birdie\")","v":0}]
[null,13,4,0,"  ",null,null,"Par",{"$f":"COUNTIF(E155:E163,\"Par\")","v":0}]
[null,14,4,0,"  ",null,null,"bogey",{"$f":"COUNTIF(E155:E163,\"bogey\")","v":0}]
[null,15,3,0,"  ",null,null,"Double bogey",{"$f":"COUNTIF(E155:E163,\"Double bogey\")","v":0}]
[null,16,5,0,"  ",null,null,"Other",{"$f":"COUNTIF(E155:E163,\"Other\")","v":0}]
[null,17,4,0,"  "]
[null,18,5,0,"  "]
[]
[null,{"$f":"BL4","v":"2025-07-18"}]
[null,{"$f":"BJ7","v":10},{"$f":"BK7","v":4},{"$f":"BL7","v":0},{"$f":"IF(D166<>0,IF((D166-C166)=-1,\"Birdie\",IF((D166-C166)=-2,\"Eagle\",IF((D166-C166)=0,\"Par\",IF((D166-C166)=1,\"bogey\",IF((D166-C166)=2,\"Double bogey\",\"Other\"))))),\"  \")","v":"  "},null,null,"Count"]
[null,11,4,0,"  ",null,null,"Eagle",{"$f":"COUNTIF(E166:E174,\"Eagle\")","v":0}]
[null,12,3,0,"  ",null,null,"Birdie",{"$f":"COUNTIF(E166:E174,\"Birdie\")","v":0}]
[null,13,4,0,"  ",null,null,"Par",{"$f":"COUNTIF(E166:E174,\"Par\")","v":0}]
[null,14,4,0,"  ",null,null,"bogey",{"$f":"COUNTIF(E166:E174,\"bogey\")","v":0}]
[null,15,3,0,"  ",null,null,"Double bogey",{"$f":"COUNTIF(E166:E174,\"Double bogey\")","v":0}]
[null,16,5,0,"  ",null,null,"Other",{"$f":"COUNTIF(E166:E174,\"Other\")","v":0}]
[null,17,4,0,"  "]
[null,18,5,0,"  "]
[]
[null,{"$f":"BR4","v":"2025-07-25"}]
[null,{"$f":"BP7","v":1},{"$f":"BQ7","v":4},{"$f":"BR7","v":0},{"$f":"IF(D177<>0,IF((D177-C177)=-1,\"Birdie\",IF((D177-C177)=-2,\"Eagle\",IF((D177-C177)=0,\"Par\",IF((D177-C177)=1,\"bogey\",IF((D177-C177)=2,\"Double bogey\",\"Other\"))))),\"  \")","v":"  "},null,null,"Count"]
[null,2,4,0,"  ",null,null,"Eagle",{"$f":"COUNTIF(E177:E185,\"Eagle\")","v":0}]
[null,3,4,0,"  ",null,null,"Birdie",{"$f":"COUNTIF(E177:E185,\"Birdie\")","v":0}]
[null,4,4,0,"  ",null,null,"Par",{"$f":"COUNTIF(E177:E185,\"Par\")","v":0}]
[null,5,3,0,"  ",null,null,"bogey",{"$f":"COUNTIF(E177:E185,\"bogey\")","v":0}]
[null,6,4,0,"  ",null,null,"Double bogey",{"$f":"COUNTIF(E177:E185,\"Double bogey\")","v":0}]
[null,7,4,0,"  ",null,null,"Other",{"$f":"COUNTIF(E177:E185,\"Other\")","v":0}]
[null,8,3,0,"  "]
[null,9,5,0,"  "]
[]
[null,{"$f":"BX4","v":"2025-08-01"}]
[null,{"$f":"BV7","v":10},{"$f":"BW7","v":4},{"$f":"BX7","v":0},{"$f":"IF(D188<>0,IF((D188-C188)=-1,\"Birdie\",IF((D188-C188)=-2,\"Eagle\",IF((D188-C188)=0,\"Par\",IF((D188-C188)=1,\"bogey\",IF((D188-C188)=2,\"Double bogey\",\"Other\"))))),\"  \")","v":"  "},null,null,"Count"]
[null,11,4,0,"  ",null,null,"Eagle",{"$f":"COUNTIF(E188:E196,\"Eagle\")","v":0}]
[null,12,3,0,"  ",null,null,"Birdie",{"$f":"COUNTIF(E188:E196,\"Birdie\")","v":0}]
[null,13,4,0,"  ",null,null,"Par",{"$f":"COUNTIF(E188:E196,\"Par\")","v":0}]
[null,14,4,0,"  ",null,null,"bogey",{"$f":"COUNTIF(E188:E196,\"bogey\")","v":0}]
[null,15,3,0,"  ",null,null,"Double bogey",{"$f":"COUNTIF(E188:E196,\"Double bogey\")","v":0}]
[null,16,5,0,"  ",null,null,"Other",{"$f":"COUNTIF(E188:E196,\"Other\")","v":0}]
[null,17,4,0,"  "]
[null,18,5,0,"  "]
[]
[null,{"$f":"CD4","v":"2025-08-08"}]
[null,{"$f":"CB7","v":1},{"$f":"CC7","v":4},{"$f":"CD7","v":0},{"$f":"IF(D199<>0,IF((D199-C199)=-1,\"Birdie\",IF((D199-C199)=-2,\"Eagle\",IF((D199-C199)=0,\"Par\",IF((D199-C199)=1,\"bogey\",IF((D199-C199)=2,\"Double bogey\",\"Other\"))))),\"  \")","v":"  "},null,null,"Count"]
[null,2,4,0,"  ",null,null,"Eagle",{"$f":"COUNTIF(E199:E207,\"Eagle\")","v":0}]
[null,3,4,0,"  ",null,null,"Birdie",{"$f":"COUNTIF(E199:E207,\"Birdie\")","v":0}]
[null,4,4,0,"  ",null,null,"Par",{"$f":"COUNTIF(E199:E207,\"Par\")","v":0}]
[null,5,3,0,"  ",null,null,"bogey",{"$f":"COUNTIF(E199:E207,\"bogey\")","v":0}]
[null,6,4,0,"  ",null,null,"Double bogey",{"$f":"COUNTIF(E199:E207,\"Double bogey\")","v":0}]
[null,7,4,0,"  ",null,null,"Other",{"$f":"COUNTIF(E199:E207,\"Other\")","v":0}]
[null,8,3,0,"  "]
[null,9,5,0,"  "]
[]
[null,{"$f":"CJ4","v":"2025-08-15"}]
[null,{"$f":"CH7","v":10},{"$f":"CI7","v":4},{"$f":"CJ7","v":0},{"$f":"IF(D210<>0,IF((D210-C210)=-1,\"Birdie\",IF((D210-C210)=-2,\"Eagle\",IF((D210-C210)=0,\"Par\",IF((D210-C210)=1,\"bogey\",IF((D210-C210)=2,\"Double bogey\",\"Other\"))))),\"  \")","v":"  "},null,null,"Count"]
[null,11,4,0,"  ",null,null,"Eagle",{"$f":"COUNTIF(E210:E218,\"Eagle\")","v":0}]
[null,12,3,0,"  ",null,null,"Birdie",{"$f":"COUNTIF(E210:E218,\"Birdie\")","v":0}]
[null,13,4,0,"  ",null,null,"Par",{"$f":"COUNTIF(E210:E218,\"Par\")","v":0}]
[null,14,4,0,"  ",null,null,"bogey",{"$f":"COUNTIF(E210:E218,\"bogey\")","v":0}]
[null,15,3,0,"  ",null,null,"Double bogey",{"$f":"COUNTIF(E210:E218,\"Double bogey\")","v":0}]
[null,16,5,0,"  ",null,null,"Other",{"$f":"COUNTIF(E210:E218,\"Other\")","v":0}]
[null,17,4,0,"  "]
[null,18,5,0,"  "]